{"text_format":"1","workbook":"xlsx","n_sheets":11,"sheets":["AVERAGES","TESTS","TESTS2","TESTS3","TESTS4","TESTS5","TESTS6","TESTS7","TESTS8","TESTS9","TESTS10"],"not_rendered":{"charts":0,"images":0,"macros":1,"external_links":1,"defined_names":0,"comments":0,"pivot_tables":0},"unopened":[],"bounds":{"document_bytes":16777216,"sheet_cells":100000,"rows_first":2000,"rows_last":500,"rows_between":2000,"halvings":0,"cell_chars":16384,"cell_head_chars":4096},"cells_cut":0,"cells_raw":0,"read":"whole","date_system":"1900"}

{"sheet":"AVERAGES","index":0,"n_rows":35,"n_cols":5,"rows_kept":35,"cut":false,"hidden":false,"merged":[[31,0,31,1],[32,0,32,1],[33,0,33,1],[33,2,33,4],[34,0,34,1],[27,0,27,1],[27,2,27,4],[28,0,28,1],[29,0,29,4],[30,0,30,1],[22,1,22,4],[23,0,23,4],[24,0,24,1],[25,0,25,1],[26,0,26,1],[8,3,20,3],[8,4,20,4],[0,0,0,5],[2,0,2,2],[4,0,4,2],[2,3,2,5],[4,3,4,5],[5,1,5,5],[3,3,3,5]]}
["RAP Stockpile Averages"]
[]
["Plant Location Number"]
["Asphalt Producer Number"]
["Stockpile Identification Number"]
["Gradation"]
[]
["Sieve Size","Avg Grad","Std Dev of Grad","Average % AC","Std Dev of AC"]
["2 \"",{"$f":"IFERROR(AVERAGE(TESTS!D7,TESTS!G7,TESTS!J7,TESTS!M7,TESTS!P7,TESTS2!D7,TESTS2!G7,TESTS2!J7,TESTS2!M7,TESTS2!P7,TESTS3!D7,TESTS3!G7,TESTS3!J7,TESTS3!M7,TESTS3!P7,TESTS4!D7,TESTS4!G7,TESTS4!J7,TESTS4!M7,TESTS4!P7,TESTS5!D7,TESTS5!G7,TESTS5!J7,TESTS5!M7,TESTS5!P7,TESTS6!D7,TESTS6!G7,TESTS6!J7,TESTS6!M7,TESTS6!P7,TESTS7!D7,TESTS7!G7,TESTS7!J7,TESTS7!M7,TESTS7!P7,TESTS8!D7,TESTS8!G7,TESTS8!J7,TESTS8!M7,TESTS8!P7,TESTS9!D7,TESTS9!G7,TESTS9!J7,TESTS9!M7,TESTS9!P7,TESTS10!D7,TESTS10!G7,TESTS10!J7,TESTS10!M7,TESTS10!P7),\"\")","v":""},{"$f":"IFERROR(_xlfn.STDEV.P(TESTS!D7,TESTS!G7,TESTS!J7,TESTS!M7,TESTS!P7,TESTS2!D7,TESTS2!G7,TESTS2!J7,TESTS2!M7,TESTS2!P7,TESTS3!D7,TESTS3!G7,TESTS3!J7,TESTS3!M7,TESTS3!P7,TESTS4!D7,TESTS4!G7,TESTS4!J7,TESTS4!M7,TESTS4!P7,TESTS5!D7,TESTS5!G7,TESTS5!J7,TESTS5!M7,TESTS5!P7,TESTS6!D7,TESTS6!G7,TESTS6!J7,TESTS6!M7,TESTS6!P7,TESTS7!D7,TESTS7!G7,TESTS7!J7,TESTS7!M7,TESTS7!P7,TESTS8!D7,TESTS8!G7,TESTS8!J7,TESTS8!M7,TESTS8!P7,TESTS9!D7,TESTS9!G7,TESTS9!J7,TESTS9!M7,TESTS9!P7,TESTS10!D7,TESTS10!G7,TESTS10!J7,TESTS10!M7,TESTS10!P7),\"\")","v":""},{"$f":"IFERROR(AVERAGE(TESTS!D23,TESTS!G23,TESTS!J23,TESTS!M23,TESTS!P23,TESTS2!D23,TESTS2!G23,TESTS2!J23,TESTS2!M23,TESTS2!P23,TESTS3!D23,TESTS3!G23,TESTS3!J23,TESTS3!M23,TESTS3!P23,TESTS4!D23,TESTS4!G23,TESTS4!J23,TESTS4!M23,TESTS4!P23,TESTS5!D23,TESTS5!G23,TESTS5!J23,TESTS5!M23,TESTS5!P23,TESTS6!D23,TESTS6!G23,TESTS6!J23,TESTS6!M23,TESTS6!P23,TESTS7!D23,TESTS7!G23,TESTS7!J23,TESTS7!M23,TESTS7!P23,TESTS8!D23,TESTS8!G23,TESTS8!J23,TESTS8!M23,TESTS8!P23,TESTS9!D23,TESTS9!G23,TESTS9!J23,TESTS9!M23,TESTS9!P23,TESTS10!D23,TESTS10!G23,TESTS10!J23,TESTS10!M23,TESTS10!P23),\"\")","v":""},{"$f":"IFERROR(_xlfn.STDEV.P(TESTS!D23,TESTS!G23,TESTS!J23,TESTS!M23,TESTS!P23,TESTS2!D23,TESTS2!G23,TESTS2!J23,TESTS2!M23,TESTS2!P23,TESTS3!D23,TESTS3!G23,TESTS3!J23,TESTS3!M23,TESTS3!P23,TESTS4!D23,TESTS4!G23,TESTS4!J23,TESTS4!M23,TESTS4!P23,TESTS5!D23,TESTS5!G23,TESTS5!J23,TESTS5!M23,TESTS5!P23,TESTS6!D23,TESTS6!G23,TESTS6!J23,TESTS6!M23,TESTS6!P23,TESTS7!D23,TESTS7!G23,TESTS7!J23,TESTS7!M23,TESTS7!P23,TESTS8!D23,TESTS8!G23,TESTS8!J23,TESTS8!M23,TESTS8!P23,TESTS9!D23,TESTS9!G23,TESTS9!J23,TESTS9!M23,TESTS9!P23,TESTS10!D23,TESTS10!G23,TESTS10!J23,TESTS10!M23,TESTS10!P23),\"\")","v":""}]
["1 1/2 \"",{"$f":"IFERROR(AVERAGE(TESTS!D8,TESTS!G8,TESTS!J8,TESTS!M8,TESTS!P8,TESTS2!D8,TESTS2!G8,TESTS2!J8,TESTS2!M8,TESTS2!P8,TESTS3!D8,TESTS3!G8,TESTS3!J8,TESTS3!M8,TESTS3!P8,TESTS4!D8,TESTS4!G8,TESTS4!J8,TESTS4!M8,TESTS4!P8,TESTS5!D8,TESTS5!G8,TESTS5!J8,TESTS5!M8,TESTS5!P8,TESTS6!D8,TESTS6!G8,TESTS6!J8,TESTS6!M8,TESTS6!P8,TESTS7!D8,TESTS7!G8,TESTS7!J8,TESTS7!M8,TESTS7!P8,TESTS8!D8,TESTS8!G8,TESTS8!J8,TESTS8!M8,TESTS8!P8,TESTS9!D8,TESTS9!G8,TESTS9!J8,TESTS9!M8,TESTS9!P8,TESTS10!D8,TESTS10!G8,TESTS10!J8,TESTS10!M8,TESTS10!P8),\"\")","v":""},{"$f":"IFERROR(_xlfn.STDEV.P(TESTS!D8,TESTS!G8,TESTS!J8,TESTS!M8,TESTS!P8,TESTS2!D8,TESTS2!G8,TESTS2!J8,TESTS2!M8,TESTS2!P8,TESTS3!D8,TESTS3!G8,TESTS3!J8,TESTS3!M8,TESTS3!P8,TESTS4!D8,TESTS4!G8,TESTS4!J8,TESTS4!M8,TESTS4!P8,TESTS5!D8,TESTS5!G8,TESTS5!J8,TESTS5!M8,TESTS5!P8,TESTS6!D8,TESTS6!G8,TESTS6!J8,TESTS6!M8,TESTS6!P8,TESTS7!D8,TESTS7!G8,TESTS7!J8,TESTS7!M8,TESTS7!P8,TESTS8!D8,TESTS8!G8,TESTS8!J8,TESTS8!M8,TESTS8!P8,TESTS9!D8,TESTS9!G8,TESTS9!J8,TESTS9!M8,TESTS9!P8,TESTS10!D8,TESTS10!G8,TESTS10!J8,TESTS10!M8,TESTS10!P8),\"\")","v":""}]
["1 \"",{"$f":"IFERROR(AVERAGE(TESTS!D9,TESTS!G9,TESTS!J9,TESTS!M9,TESTS!P9,TESTS2!D9,TESTS2!G9,TESTS2!J9,TESTS2!M9,TESTS2!P9,TESTS3!D9,TESTS3!G9,TESTS3!J9,TESTS3!M9,TESTS3!P9,TESTS4!D9,TESTS4!G9,TESTS4!J9,TESTS4!M9,TESTS4!P9,TESTS5!D9,TESTS5!G9,TESTS5!J9,TESTS5!M9,TESTS5!P9,TESTS6!D9,TESTS6!G9,TESTS6!J9,TESTS6!M9,TESTS6!P9,TESTS7!D9,TESTS7!G9,TESTS7!J9,TESTS7!M9,TESTS7!P9,TESTS8!D9,TESTS8!G9,TESTS8!J9,TESTS8!M9,TESTS8!P9,TESTS9!D9,TESTS9!G9,TESTS9!J9,TESTS9!M9,TESTS9!P9,TESTS10!D9,TESTS10!G9,TESTS10!J9,TESTS10!M9,TESTS10!P9),\"\")","v":""},{"$f":"IFERROR(_xlfn.STDEV.P(TESTS!D9,TESTS!G9,TESTS!J9,TESTS!M9,TESTS!P9,TESTS2!D9,TESTS2!G9,TESTS2!J9,TESTS2!M9,TESTS2!P9,TESTS3!D9,TESTS3!G9,TESTS3!J9,TESTS3!M9,TESTS3!P9,TESTS4!D9,TESTS4!G9,TESTS4!J9,TESTS4!M9,TESTS4!P9,TESTS5!D9,TESTS5!G9,TESTS5!J9,TESTS5!M9,TESTS5!P9,TESTS6!D9,TESTS6!G9,TESTS6!J9,TESTS6!M9,TESTS6!P9,TESTS7!D9,TESTS7!G9,TESTS7!J9,TESTS7!M9,TESTS7!P9,TESTS8!D9,TESTS8!G9,TESTS8!J9,TESTS8!M9,TESTS8!P9,TESTS9!D9,TESTS9!G9,TESTS9!J9,TESTS9!M9,TESTS9!P9,TESTS10!D9,TESTS10!G9,TESTS10!J9,TESTS10!M9,TESTS10!P9),\"\")","v":""}]
["3/4 \"",{"$f":"IFERROR(AVERAGE(TESTS!D10,TESTS!G10,TESTS!J10,TESTS!M10,TESTS!P10,TESTS2!D10,TESTS2!G10,TESTS2!J10,TESTS2!M10,TESTS2!P10,TESTS3!D10,TESTS3!G10,TESTS3!J10,TESTS3!M10,TESTS3!P10,TESTS4!D10,TESTS4!G10,TESTS4!J10,TESTS4!M10,TESTS4!P10,TESTS5!D10,TESTS5!G10,TESTS5!J10,TESTS5!M10,TESTS5!P10,TESTS6!D10,TESTS6!G10,TESTS6!J10,TESTS6!M10,TESTS6!P10,TESTS7!D10,TESTS7!G10,TESTS7!J10,TESTS7!M10,TESTS7!P10,TESTS8!D10,TESTS8!G10,TESTS8!J10,TESTS8!M10,TESTS8!P10,TESTS9!D10,TESTS9!G10,TESTS9!J10,TESTS9!M10,TESTS9!P10,TESTS10!D10,TESTS10!G10,TESTS10!J10,TESTS10!M10,TESTS10!P10),\"\")","v":""},{"$f":"IFERROR(_xlfn.STDEV.P(TESTS!D10,TESTS!G10,TESTS!J10,TESTS!M10,TESTS!P10,TESTS2!D10,TESTS2!G10,TESTS2!J10,TESTS2!M10,TESTS2!P10,TESTS3!D10,TESTS3!G10,TESTS3!J10,TESTS3!M10,TESTS3!P10,TESTS4!D10,TESTS4!G10,TESTS4!J10,TESTS4!M10,TESTS4!P10,TESTS5!D10,TESTS5!G10,TESTS5!J10,TESTS5!M10,TESTS5!P10,TESTS6!D10,TESTS6!G10,TESTS6!J10,TESTS6!M10,TESTS6!P10,TESTS7!D10,TESTS7!G10,TESTS7!J10,TESTS7!M10,TESTS7!P10,TESTS8!D10,TESTS8!G10,TESTS8!J10,TESTS8!M10,TESTS8!P10,TESTS9!D10,TESTS9!G10,TESTS9!J10,TESTS9!M10,TESTS9!P10,TESTS10!D10,TESTS10!G10,TESTS10!J10,TESTS10!M10,TESTS10!P10),\"\")","v":""}]
["1/2 \"",{"$f":"IFERROR(AVERAGE(TESTS!D11,TESTS!G11,TESTS!J11,TESTS!M11,TESTS!P11,TESTS2!D11,TESTS2!G11,TESTS2!J11,TESTS2!M11,TESTS2!P11,TESTS3!D11,TESTS3!G11,TESTS3!J11,TESTS3!M11,TESTS3!P11,TESTS4!D11,TESTS4!G11,TESTS4!J11,TESTS4!M11,TESTS4!P11,TESTS5!D11,TESTS5!G11,TESTS5!J11,TESTS5!M11,TESTS5!P11,TESTS6!D11,TESTS6!G11,TESTS6!J11,TESTS6!M11,TESTS6!P11,TESTS7!D11,TESTS7!G11,TESTS7!J11,TESTS7!M11,TESTS7!P11,TESTS8!D11,TESTS8!G11,TESTS8!J11,TESTS8!M11,TESTS8!P11,TESTS9!D11,TESTS9!G11,TESTS9!J11,TESTS9!M11,TESTS9!P11,TESTS10!D11,TESTS10!G11,TESTS10!J11,TESTS10!M11,TESTS10!P11),\"\")","v":""},{"$f":"IFERROR(_xlfn.STDEV.P(TESTS!D11,TESTS!G11,TESTS!J11,TESTS!M11,TESTS!P11,TESTS2!D11,TESTS2!G11,TESTS2!J11,TESTS2!M11,TESTS2!P11,TESTS3!D11,TESTS3!G11,TESTS3!J11,TESTS3!M11,TESTS3!P11,TESTS4!D11,TESTS4!G11,TESTS4!J11,TESTS4!M11,TESTS4!P11,TESTS5!D11,TESTS5!G11,TESTS5!J11,TESTS5!M11,TESTS5!P11,TESTS6!D11,TESTS6!G11,TESTS6!J11,TESTS6!M11,TESTS6!P11,TESTS7!D11,TESTS7!G11,TESTS7!J11,TESTS7!M11,TESTS7!P11,TESTS8!D11,TESTS8!G11,TESTS8!J11,TESTS8!M11,TESTS8!P11,TESTS9!D11,TESTS9!G11,TESTS9!J11,TESTS9!M11,TESTS9!P11,TESTS10!D11,TESTS10!G11,TESTS10!J11,TESTS10!M11,TESTS10!P11),\"\")","v":""}]
["3/8 \"",{"$f":"IFERROR(AVERAGE(TESTS!D12,TESTS!G12,TESTS!J12,TESTS!M12,TESTS!P12,TESTS2!D12,TESTS2!G12,TESTS2!J12,TESTS2!M12,TESTS2!P12,TESTS3!D12,TESTS3!G12,TESTS3!J12,TESTS3!M12,TESTS3!P12,TESTS4!D12,TESTS4!G12,TESTS4!J12,TESTS4!M12,TESTS4!P12,TESTS5!D12,TESTS5!G12,TESTS5!J12,TESTS5!M12,TESTS5!P12,TESTS6!D12,TESTS6!G12,TESTS6!J12,TESTS6!M12,TESTS6!P12,TESTS7!D12,TESTS7!G12,TESTS7!J12,TESTS7!M12,TESTS7!P12,TESTS8!D12,TESTS8!G12,TESTS8!J12,TESTS8!M12,TESTS8!P12,TESTS9!D12,TESTS9!G12,TESTS9!J12,TESTS9!M12,TESTS9!P12,TESTS10!D12,TESTS10!G12,TESTS10!J12,TESTS10!M12,TESTS10!P12),\"\")","v":""},{"$f":"IFERROR(_xlfn.STDEV.P(TESTS!D12,TESTS!G12,TESTS!J12,TESTS!M12,TESTS!P12,TESTS2!D12,TESTS2!G12,TESTS2!J12,TESTS2!M12,TESTS2!P12,TESTS3!D12,TESTS3!G12,TESTS3!J12,TESTS3!M12,TESTS3!P12,TESTS4!D12,TESTS4!G12,TESTS4!J12,TESTS4!M12,TESTS4!P12,TESTS5!D12,TESTS5!G12,TESTS5!J12,TESTS5!M12,TESTS5!P12,TESTS6!D12,TESTS6!G12,TESTS6!J12,TESTS6!M12,TESTS6!P12,TESTS7!D12,TESTS7!G12,TESTS7!J12,TESTS7!M12,TESTS7!P12,TESTS8!D12,TESTS8!G12,TESTS8!J12,TESTS8!M12,TESTS8!P12,TESTS9!D12,TESTS9!G12,TESTS9!J12,TESTS9!M12,TESTS9!P12,TESTS10!D12,TESTS10!G12,TESTS10!J12,TESTS10!M12,TESTS10!P12),\"\")","v":""}]
["# 4",{"$f":"IFERROR(AVERAGE(TESTS!D13,TESTS!G13,TESTS!J13,TESTS!M13,TESTS!P13,TESTS2!D13,TESTS2!G13,TESTS2!J13,TESTS2!M13,TESTS2!P13,TESTS3!D13,TESTS3!G13,TESTS3!J13,TESTS3!M13,TESTS3!P13,TESTS4!D13,TESTS4!G13,TESTS4!J13,TESTS4!M13,TESTS4!P13,TESTS5!D13,TESTS5!G13,TESTS5!J13,TESTS5!M13,TESTS5!P13,TESTS6!D13,TESTS6!G13,TESTS6!J13,TESTS6!M13,TESTS6!P13,TESTS7!D13,TESTS7!G13,TESTS7!J13,TESTS7!M13,TESTS7!P13,TESTS8!D13,TESTS8!G13,TESTS8!J13,TESTS8!M13,TESTS8!P13,TESTS9!D13,TESTS9!G13,TESTS9!J13,TESTS9!M13,TESTS9!P13,TESTS10!D13,TESTS10!G13,TESTS10!J13,TESTS10!M13,TESTS10!P13),\"\")","v":""},{"$f":"IFERROR(_xlfn.STDEV.P(TESTS!D13,TESTS!G13,TESTS!J13,TESTS!M13,TESTS!P13,TESTS2!D13,TESTS2!G13,TESTS2!J13,TESTS2!M13,TESTS2!P13,TESTS3!D13,TESTS3!G13,TESTS3!J13,TESTS3!M13,TESTS3!P13,TESTS4!D13,TESTS4!G13,TESTS4!J13,TESTS4!M13,TESTS4!P13,TESTS5!D13,TESTS5!G13,TESTS5!J13,TESTS5!M13,TESTS5!P13,TESTS6!D13,TESTS6!G13,TESTS6!J13,TESTS6!M13,TESTS6!P13,TESTS7!D13,TESTS7!G13,TESTS7!J13,TESTS7!M13,TESTS7!P13,TESTS8!D13,TESTS8!G13,TESTS8!J13,TESTS8!M13,TESTS8!P13,TESTS9!D13,TESTS9!G13,TESTS9!J13,TESTS9!M13,TESTS9!P13,TESTS10!D13,TESTS10!G13,TESTS10!J13,TESTS10!M13,TESTS10!P13),\"\")","v":""}]
["# 8",{"$f":"IFERROR(AVERAGE(TESTS!D14,TESTS!G14,TESTS!J14,TESTS!M14,TESTS!P14,TESTS2!D14,TESTS2!G14,TESTS2!J14,TESTS2!M14,TESTS2!P14,TESTS3!D14,TESTS3!G14,TESTS3!J14,TESTS3!M14,TESTS3!P14,TESTS4!D14,TESTS4!G14,TESTS4!J14,TESTS4!M14,TESTS4!P14,TESTS5!D14,TESTS5!G14,TESTS5!J14,TESTS5!M14,TESTS5!P14,TESTS6!D14,TESTS6!G14,TESTS6!J14,TESTS6!M14,TESTS6!P14,TESTS7!D14,TESTS7!G14,TESTS7!J14,TESTS7!M14,TESTS7!P14,TESTS8!D14,TESTS8!G14,TESTS8!J14,TESTS8!M14,TESTS8!P14,TESTS9!D14,TESTS9!G14,TESTS9!J14,TESTS9!M14,TESTS9!P14,TESTS10!D14,TESTS10!G14,TESTS10!J14,TESTS10!M14,TESTS10!P14),\"\")","v":""},{"$f":"IFERROR(_xlfn.STDEV.P(TESTS!D14,TESTS!G14,TESTS!J14,TESTS!M14,TESTS!P14,TESTS2!D14,TESTS2!G14,TESTS2!J14,TESTS2!M14,TESTS2!P14,TESTS3!D14,TESTS3!G14,TESTS3!J14,TESTS3!M14,TESTS3!P14,TESTS4!D14,TESTS4!G14,TESTS4!J14,TESTS4!M14,TESTS4!P14,TESTS5!D14,TESTS5!G14,TESTS5!J14,TESTS5!M14,TESTS5!P14,TESTS6!D14,TESTS6!G14,TESTS6!J14,TESTS6!M14,TESTS6!P14,TESTS7!D14,TESTS7!G14,TESTS7!J14,TESTS7!M14,TESTS7!P14,TESTS8!D14,TESTS8!G14,TESTS8!J14,TESTS8!M14,TESTS8!P14,TESTS9!D14,TESTS9!G14,TESTS9!J14,TESTS9!M14,TESTS9!P14,TESTS10!D14,TESTS10!G14,TESTS10!J14,TESTS10!M14,TESTS10!P14),\"\")","v":""}]
["# 16",{"$f":"IFERROR(AVERAGE(TESTS!D15,TESTS!G15,TESTS!J15,TESTS!M15,TESTS!P15,TESTS2!D15,TESTS2!G15,TESTS2!J15,TESTS2!M15,TESTS2!P15,TESTS3!D15,TESTS3!G15,TESTS3!J15,TESTS3!M15,TESTS3!P15,TESTS4!D15,TESTS4!G15,TESTS4!J15,TESTS4!M15,TESTS4!P15,TESTS5!D15,TESTS5!G15,TESTS5!J15,TESTS5!M15,TESTS5!P15,TESTS6!D15,TESTS6!G15,TESTS6!J15,TESTS6!M15,TESTS6!P15,TESTS7!D15,TESTS7!G15,TESTS7!J15,TESTS7!M15,TESTS7!P15,TESTS8!D15,TESTS8!G15,TESTS8!J15,TESTS8!M15,TESTS8!P15,TESTS9!D15,TESTS9!G15,TESTS9!J15,TESTS9!M15,TESTS9!P15,TESTS10!D15,TESTS10!G15,TESTS10!J15,TESTS10!M15,TESTS10!P15),\"\")","v":""},{"$f":"IFERROR(_xlfn.STDEV.P(TESTS!D15,TESTS!G15,TESTS!J15,TESTS!M15,TESTS!P15,TESTS2!D15,TESTS2!G15,TESTS2!J15,TESTS2!M15,TESTS2!P15,TESTS3!D15,TESTS3!G15,TESTS3!J15,TESTS3!M15,TESTS3!P15,TESTS4!D15,TESTS4!G15,TESTS4!J15,TESTS4!M15,TESTS4!P15,TESTS5!D15,TESTS5!G15,TESTS5!J15,TESTS5!M15,TESTS5!P15,TESTS6!D15,TESTS6!G15,TESTS6!J15,TESTS6!M15,TESTS6!P15,TESTS7!D15,TESTS7!G15,TESTS7!J15,TESTS7!M15,TESTS7!P15,TESTS8!D15,TESTS8!G15,TESTS8!J15,TESTS8!M15,TESTS8!P15,TESTS9!D15,TESTS9!G15,TESTS9!J15,TESTS9!M15,TESTS9!P15,TESTS10!D15,TESTS10!G15,TESTS10!J15,TESTS10!M15,TESTS10!P15),\"\")","v":""}]
["# 30",{"$f":"IFERROR(AVERAGE(TESTS!D16,TESTS!G16,TESTS!J16,TESTS!M16,TESTS!P16,TESTS2!D16,TESTS2!G16,TESTS2!J16,TESTS2!M16,TESTS2!P16,TESTS3!D16,TESTS3!G16,TESTS3!J16,TESTS3!M16,TESTS3!P16,TESTS4!D16,TESTS4!G16,TESTS4!J16,TESTS4!M16,TESTS4!P16,TESTS5!D16,TESTS5!G16,TESTS5!J16,TESTS5!M16,TESTS5!P16,TESTS6!D16,TESTS6!G16,TESTS6!J16,TESTS6!M16,TESTS6!P16,TESTS7!D16,TESTS7!G16,TESTS7!J16,TESTS7!M16,TESTS7!P16,TESTS8!D16,TESTS8!G16,TESTS8!J16,TESTS8!M16,TESTS8!P16,TESTS9!D16,TESTS9!G16,TESTS9!J16,TESTS9!M16,TESTS9!P16,TESTS10!D16,TESTS10!G16,TESTS10!J16,TESTS10!M16,TESTS10!P16),\"\")","v":""},{"$f":"IFERROR(_xlfn.STDEV.P(TESTS!D16,TESTS!G16,TESTS!J16,TESTS!M16,TESTS!P16,TESTS2!D16,TESTS2!G16,TESTS2!J16,TESTS2!M16,TESTS2!P16,TESTS3!D16,TESTS3!G16,TESTS3!J16,TESTS3!M16,TESTS3!P16,TESTS4!D16,TESTS4!G16,TESTS4!J16,TESTS4!M16,TESTS4!P16,TESTS5!D16,TESTS5!G16,TESTS5!J16,TESTS5!M16,TESTS5!P16,TESTS6!D16,TESTS6!G16,TESTS6!J16,TESTS6!M16,TESTS6!P16,TESTS7!D16,TESTS7!G16,TESTS7!J16,TESTS7!M16,TESTS7!P16,TESTS8!D16,TESTS8!G16,TESTS8!J16,TESTS8!M16,TESTS8!P16,TESTS9!D16,TESTS9!G16,TESTS9!J16,TESTS9!M16,TESTS9!P16,TESTS10!D16,TESTS10!G16,TESTS10!J16,TESTS10!M16,TESTS10!P16),\"\")","v":""}]
["# 50",{"$f":"IFERROR(AVERAGE(TESTS!D17,TESTS!G17,TESTS!J17,TESTS!M17,TESTS!P17,TESTS2!D17,TESTS2!G17,TESTS2!J17,TESTS2!M17,TESTS2!P17,TESTS3!D17,TESTS3!G17,TESTS3!J17,TESTS3!M17,TESTS3!P17,TESTS4!D17,TESTS4!G17,TESTS4!J17,TESTS4!M17,TESTS4!P17,TESTS5!D17,TESTS5!G17,TESTS5!J17,TESTS5!M17,TESTS5!P17,TESTS6!D17,TESTS6!G17,TESTS6!J17,TESTS6!M17,TESTS6!P17,TESTS7!D17,TESTS7!G17,TESTS7!J17,TESTS7!M17,TESTS7!P17,TESTS8!D17,TESTS8!G17,TESTS8!J17,TESTS8!M17,TESTS8!P17,TESTS9!D17,TESTS9!G17,TESTS9!J17,TESTS9!M17,TESTS9!P17,TESTS10!D17,TESTS10!G17,TESTS10!J17,TESTS10!M17,TESTS10!P17),\"\")","v":""},{"$f":"IFERROR(_xlfn.STDEV.P(TESTS!D17,TESTS!G17,TESTS!J17,TESTS!M17,TESTS!P17,TESTS2!D17,TESTS2!G17,TESTS2!J17,TESTS2!M17,TESTS2!P17,TESTS3!D17,TESTS3!G17,TESTS3!J17,TESTS3!M17,TESTS3!P17,TESTS4!D17,TESTS4!G17,TESTS4!J17,TESTS4!M17,TESTS4!P17,TESTS5!D17,TESTS5!G17,TESTS5!J17,TESTS5!M17,TESTS5!P17,TESTS6!D17,TESTS6!G17,TESTS6!J17,TESTS6!M17,TESTS6!P17,TESTS7!D17,TESTS7!G17,TESTS7!J17,TESTS7!M17,TESTS7!P17,TESTS8!D17,TESTS8!G17,TESTS8!J17,TESTS8!M17,TESTS8!P17,TESTS9!D17,TESTS9!G17,TESTS9!J17,TESTS9!M17,TESTS9!P17,TESTS10!D17,TESTS10!G17,TESTS10!J17,TESTS10!M17,TESTS10!P17),\"\")","v":""}]
["# 100",{"$f":"IFERROR(AVERAGE(TESTS!D18,TESTS!G18,TESTS!J18,TESTS!M18,TESTS!P18,TESTS2!D18,TESTS2!G18,TESTS2!J18,TESTS2!M18,TESTS2!P18,TESTS3!D18,TESTS3!G18,TESTS3!J18,TESTS3!M18,TESTS3!P18,TESTS4!D18,TESTS4!G18,TESTS4!J18,TESTS4!M18,TESTS4!P18,TESTS5!D18,TESTS5!G18,TESTS5!J18,TESTS5!M18,TESTS5!P18,TESTS6!D18,TESTS6!G18,TESTS6!J18,TESTS6!M18,TESTS6!P18,TESTS7!D18,TESTS7!G18,TESTS7!J18,TESTS7!M18,TESTS7!P18,TESTS8!D18,TESTS8!G18,TESTS8!J18,TESTS8!M18,TESTS8!P18,TESTS9!D18,TESTS9!G18,TESTS9!J18,TESTS9!M18,TESTS9!P18,TESTS10!D18,TESTS10!G18,TESTS10!J18,TESTS10!M18,TESTS10!P18),\"\")","v":""},{"$f":"IFERROR(_xlfn.STDEV.P(TESTS!D18,TESTS!G18,TESTS!J18,TESTS!M18,TESTS!P18,TESTS2!D18,TESTS2!G18,TESTS2!J18,TESTS2!M18,TESTS2!P18,TESTS3!D18,TESTS3!G18,TESTS3!J18,TESTS3!M18,TESTS3!P18,TESTS4!D18,TESTS4!G18,TESTS4!J18,TESTS4!M18,TESTS4!P18,TESTS5!D18,TESTS5!G18,TESTS5!J18,TESTS5!M18,TESTS5!P18,TESTS6!D18,TESTS6!G18,TESTS6!J18,TESTS6!M18,TESTS6!P18,TESTS7!D18,TESTS7!G18,TESTS7!J18,TESTS7!M18,TESTS7!P18,TESTS8!D18,TESTS8!G18,TESTS8!J18,TESTS8!M18,TESTS8!P18,TESTS9!D18,TESTS9!G18,TESTS9!J18,TESTS9!M18,TESTS9!P18,TESTS10!D18,TESTS10!G18,TESTS10!J18,TESTS10!M18,TESTS10!P18),\"\")","v":""}]
["# 200",{"$f":"IFERROR(AVERAGE(TESTS!D19,TESTS!G19,TESTS!J19,TESTS!M19,TESTS!P19,TESTS2!D19,TESTS2!G19,TESTS2!J19,TESTS2!M19,TESTS2!P19,TESTS3!D19,TESTS3!G19,TESTS3!J19,TESTS3!M19,TESTS3!P19,TESTS4!D19,TESTS4!G19,TESTS4!J19,TESTS4!M19,TESTS4!P19,TESTS5!D19,TESTS5!G19,TESTS5!J19,TESTS5!M19,TESTS5!P19,TESTS6!D19,TESTS6!G19,TESTS6!J19,TESTS6!M19,TESTS6!P19,TESTS7!D19,TESTS7!G19,TESTS7!J19,TESTS7!M19,TESTS7!P19,TESTS8!D19,TESTS8!G19,TESTS8!J19,TESTS8!M19,TESTS8!P19,TESTS9!D19,TESTS9!G19,TESTS9!J19,TESTS9!M19,TESTS9!P19,TESTS10!D19,TESTS10!G19,TESTS10!J19,TESTS10!M19,TESTS10!P19),\"\")","v":""},{"$f":"IFERROR(_xlfn.STDEV.P(TESTS!D19,TESTS!G19,TESTS!J19,TESTS!M19,TESTS!P19,TESTS2!D19,TESTS2!G19,TESTS2!J19,TESTS2!M19,TESTS2!P19,TESTS3!D19,TESTS3!G19,TESTS3!J19,TESTS3!M19,TESTS3!P19,TESTS4!D19,TESTS4!G19,TESTS4!J19,TESTS4!M19,TESTS4!P19,TESTS5!D19,TESTS5!G19,TESTS5!J19,TESTS5!M19,TESTS5!P19,TESTS6!D19,TESTS6!G19,TESTS6!J19,TESTS6!M19,TESTS6!P19,TESTS7!D19,TESTS7!G19,TESTS7!J19,TESTS7!M19,TESTS7!P19,TESTS8!D19,TESTS8!G19,TESTS8!J19,TESTS8!M19,TESTS8!P19,TESTS9!D19,TESTS9!G19,TESTS9!J19,TESTS9!M19,TESTS9!P19,TESTS10!D19,TESTS10!G19,TESTS10!J19,TESTS10!M19,TESTS10!P19),\"\")","v":""}]
[]
[null,"Standard Deviation as calculated above:"]
["Surface"]
["% asphalt content",null,"< 0.4","< 0.5"]
["% passing No. 200 sieve",null,"< 1.25","< 1.5"]
["% passing Median Sieve",null,"< 4.0","< 5.0"]
[null,null,"Allowable RAP Cold Feed %"]
[null,null,"Tier 3 - 20%-30%","Tier 2 - 12%-20%","Tier 1 - 0%-12%"]
["Base"]
["% asphalt content",null,"< 0.5","< 0.75"]
["% passing No. 200 sieve",null,"< 1.5","< 2.25"]
["% passing Median sieve",null,"< 5.0","< 7.0"]
[null,null,"Allowable RAP Cold Feed %"]
[null,null,"Tier 3 - 20%-35%","Tier 2 - 12%-20%","Tier 1 - 0%-12%"]

{"sheet":"TESTS","index":1,"n_rows":24,"n_cols":18,"rows_kept":24,"cut":false,"hidden":false,"merged":[]}
[]
[]
[null,"Date Tested:",null,null,"Date Tested:",null,null,"Date Tested:",null,null,"Date Tested:",null,null,"Date Tested:"]
[null,"TEST # 1",null,null,"TEST # 2",null,null,"TEST # 3",null,null,"TEST # 4",null,null,"TEST # 5"]
["Sieve","Grams","Percent","Percent","Grams","Percent","Percent","Grams","Percent","Percent","Grams","Percent","Percent","Grams","Percent","Percent"]
["Size","Retained","Retained","Passing","Retained","Retained","Passing","Retained","Retained","Passing","Retained","Retained","Passing","Retained","Retained","Passing"]
["2 \"",null,{"$f":"IFERROR(ROUND(B7/$B$20,2),\"\")","v":""},{"$f":"IFERROR(1-C7,\"\")","v":""},null,{"$f":"IFERROR(ROUND(E7/$E$20,2),\"\")","v":""},{"$f":"IFERROR(1-F7,\"\")","v":""},null,{"$f":"IFERROR(ROUND(H7/$H$20,2),\"\")","v":""},{"$f":"IFERROR(1-I7,\"\")","v":""},null,{"$f":"IFERROR(ROUND(K7/$K$20,2),\"\")","v":""},{"$f":"IFERROR(1-L7,\"\")","v":""},null,{"$f":"IFERROR(ROUND(N7/$N$20,2),\"\")","v":""},{"$f":"IFERROR(1-O7,\"\")","v":""}]
["1 1/2 \"",null,{"$f":"IFERROR(ROUND(B8/$B$20,2),\"\")","v":""},{"$f":"IFERROR(1-C8,\"\")","v":""},null,{"$f":"IFERROR(ROUND(E8/$E$20,2),\"\")","v":""},{"$f":"IFERROR(1-F8,\"\")","v":""},null,{"$f":"IFERROR(ROUND(H8/$H$20,2),\"\")","v":""},{"$f":"IFERROR(1-I8,\"\")","v":""},null,{"$f":"IFERROR(ROUND(K8/$K$20,2),\"\")","v":""},{"$f":"IFERROR(1-L8,\"\")","v":""},null,{"$f":"IFERROR(ROUND(N8/$N$20,2),\"\")","v":""},{"$f":"IFERROR(1-O8,\"\")","v":""},null,"Extraction"]
["1 \"",null,"","",null,"","",null,"","",null,"","",null,"","",null,"Ignition Furnace"]
["3/4 \"",null,"","",null,"","",null,"","",null,"","",null,"",""]
["1/2 \"",null,"","",null,"","",null,"","",null,"","",null,"",""]
["3/8 \"",null,"","",null,"","",null,"","",null,"","",null,"",""]
["# 4",null,"","",null,"","",null,"","",null,"","",null,"",""]
["# 8",null,"","",null,"","",null,"","",null,"","",null,"",""]
["# 16",null,"","",null,"","",null,"","",null,"","",null,"",""]
["# 30",null,"","",null,"","",null,"","",null,"","",null,"",""]
["# 50",null,"","",null,"","",null,"","",null,"","",null,"",""]
["# 100",null,"","",null,"","",null,"","",null,"","",null,"",""]
["# 200",null,"","",null,"","",null,"","",null,"","",null,"",""]
["Total"]
[]
[]
[null,"% AC of Recycled Material",null,null,"% AC of Recycled Material",null,null,"% AC of Recycled Material",null,null,"% AC of Recycled Material",null,null,"% AC of Recycled Material"]
[null,"",null,"","",null,"","",null,"","",null,"","",null,""]

{"sheet":"TESTS2","index":2,"n_rows":24,"n_cols":18,"rows_kept":24,"cut":false,"hidden":true,"merged":[]}
[]
[]
[null,"Date Tested:",null,null,"Date Tested:",null,null,"Date Tested:",null,null,"Date Tested:",null,null,"Date Tested:"]
[null,"TEST # 1",null,null,"TEST # 2",null,null,"TEST # 3",null,null,"TEST # 4",null,null,"TEST # 5"]
["Sieve","Grams","Percent","Percent","Grams","Percent","Percent","Grams","Percent","Percent","Grams","Percent","Percent","Grams","Percent","Percent"]
["Size","Retained","Retained","Passing","Retained","Retained","Passing","Retained","Retained","Passing","Retained","Retained","Passing","Retained","Retained","Passing"]
["2 \"",null,{"$f":"IFERROR(ROUND(B7/$B$20,2),\"\")","v":""},{"$f":"IFERROR(1-C7,\"\")","v":""},null,{"$f":"IFERROR(ROUND(E7/$E$20,2),\"\")","v":""},{"$f":"IFERROR(1-F7,\"\")","v":""},null,{"$f":"IFERROR(ROUND(H7/$H$20,2),\"\")","v":""},{"$f":"IFERROR(1-I7,\"\")","v":""},null,{"$f":"IFERROR(ROUND(K7/$K$20,2),\"\")","v":""},{"$f":"IFERROR(1-L7,\"\")","v":""},null,{"$f":"IFERROR(ROUND(N7/$N$20,2),\"\")","v":""},{"$f":"IFERROR(1-O7,\"\")","v":""}]
["1 1/2 \"",null,{"$f":"IFERROR(ROUND(B8/$B$20,2),\"\")","v":""},{"$f":"IFERROR(1-C8,\"\")","v":""},null,{"$f":"IFERROR(ROUND(E8/$E$20,2),\"\")","v":""},{"$f":"IFERROR(1-F8,\"\")","v":""},null,{"$f":"IFERROR(ROUND(H8/$H$20,2),\"\")","v":""},{"$f":"IFERROR(1-I8,\"\")","v":""},null,{"$f":"IFERROR(ROUND(K8/$K$20,2),\"\")","v":""},{"$f":"IFERROR(1-L8,\"\")","v":""},null,{"$f":"IFERROR(ROUND(N8/$N$20,2),\"\")","v":""},{"$f":"IFERROR(1-O8,\"\")","v":""},null,"Extraction"]
["1 \"",null,"","",null,"","",null,"","",null,"","",null,"","",null,"Ignition Furnace"]
["3/4 \"",null,"","",null,"","",null,"","",null,"","",null,"",""]
["1/2 \"",null,"","",null,"","",null,"","",null,"","",null,"",""]
["3/8 \"",null,"","",null,"","",null,"","",null,"","",null,"",""]
["# 4",null,"","",null,"","",null,"","",null,"","",null,"",""]
["# 8",null,"","",null,"","",null,"","",null,"","",null,"",""]
["# 16",null,"","",null,"","",null,"","",null,"","",null,"",""]
["# 30",null,"","",null,"","",null,"","",null,"","",null,"",""]
["# 50",null,"","",null,"","",null,"","",null,"","",null,"",""]
["# 100",null,"","",null,"","",null,"","",null,"","",null,"",""]
["# 200",null,"","",null,"","",null,"","",null,"","",null,"",""]
["Total"]
[]
[]
[null,"% AC of Recycled Material",null,null,"% AC of Recycled Material",null,null,"% AC of Recycled Material",null,null,"% AC of Recycled Material",null,null,"% AC of Recycled Material"]
[null,"",null,"","",null,"","",null,"","",null,"","",null,""]

{"sheet":"TESTS3","index":3,"n_rows":24,"n_cols":18,"rows_kept":24,"cut":false,"hidden":true,"merged":[]}
[]
[]
[null,"Date Tested:",null,null,"Date Tested:",null,null,"Date Tested:",null,null,"Date Tested:",null,null,"Date Tested:"]
[null,"TEST # 1",null,null,"TEST # 2",null,null,"TEST # 3",null,null,"TEST # 4",null,null,"TEST # 5"]
["Sieve","Grams","Percent","Percent","Grams","Percent","Percent","Grams","Percent","Percent","Grams","Percent","Percent","Grams","Percent","Percent"]
["Size","Retained","Retained","Passing","Retained","Retained","Passing","Retained","Retained","Passing","Retained","Retained","Passing","Retained","Retained","Passing"]
["2 \"",null,{"$f":"IFERROR(ROUND(B7/$B$20,2),\"\")","v":""},{"$f":"IFERROR(1-C7,\"\")","v":""},null,{"$f":"IFERROR(ROUND(E7/$E$20,2),\"\")","v":""},{"$f":"IFERROR(1-F7,\"\")","v":""},null,{"$f":"IFERROR(ROUND(H7/$H$20,2),\"\")","v":""},{"$f":"IFERROR(1-I7,\"\")","v":""},null,{"$f":"IFERROR(ROUND(K7/$K$20,2),\"\")","v":""},{"$f":"IFERROR(1-L7,\"\")","v":""},null,{"$f":"IFERROR(ROUND(N7/$N$20,2),\"\")","v":""},{"$f":"IFERROR(1-O7,\"\")","v":""}]
["1 1/2 \"",null,{"$f":"IFERROR(ROUND(B8/$B$20,2),\"\")","v":""},{"$f":"IFERROR(1-C8,\"\")","v":""},null,{"$f":"IFERROR(ROUND(E8/$E$20,2),\"\")","v":""},{"$f":"IFERROR(1-F8,\"\")","v":""},null,{"$f":"IFERROR(ROUND(H8/$H$20,2),\"\")","v":""},{"$f":"IFERROR(1-I8,\"\")","v":""},null,{"$f":"IFERROR(ROUND(K8/$K$20,2),\"\")","v":""},{"$f":"IFERROR(1-L8,\"\")","v":""},null,{"$f":"IFERROR(ROUND(N8/$N$20,2),\"\")","v":""},{"$f":"IFERROR(1-O8,\"\")","v":""},null,"Extraction"]
["1 \"",null,"","",null,"","",null,"","",null,"","",null,"","",null,"Ignition Furnace"]
["3/4 \"",null,"","",null,"","",null,"","",null,"","",null,"",""]
["1/2 \"",null,"","",null,"","",null,"","",null,"","",null,"",""]
["3/8 \"",null,"","",null,"","",null,"","",null,"","",null,"",""]
["# 4",null,"","",null,"","",null,"","",null,"","",null,"",""]
["# 8",null,"","",null,"","",null,"","",null,"","",null,"",""]
["# 16",null,"","",null,"","",null,"","",null,"","",null,"",""]
["# 30",null,"","",null,"","",null,"","",null,"","",null,"",""]
["# 50",null,"","",null,"","",null,"","",null,"","",null,"",""]
["# 100",null,"","",null,"","",null,"","",null,"","",null,"",""]
["# 200",null,"","",null,"","",null,"","",null,"","",null,"",""]
["Total"]
[]
[]
[null,"% AC of Recycled Material",null,null,"% AC of Recycled Material",null,null,"% AC of Recycled Material",null,null,"% AC of Recycled Material",null,null,"% AC of Recycled Material"]
[null,"",null,"","",null,"","",null,"","",null,"","",null,""]

{"sheet":"TESTS4","index":4,"n_rows":24,"n_cols":18,"rows_kept":24,"cut":false,"hidden":true,"merged":[]}
[]
[]
[null,"Date Tested:",null,null,"Date Tested:",null,null,"Date Tested:",null,null,"Date Tested:",null,null,"Date Tested:"]
[null,"TEST # 1",null,null,"TEST # 2",null,null,"TEST # 3",null,null,"TEST # 4",null,null,"TEST # 5"]
["Sieve","Grams","Percent","Percent","Grams","Percent","Percent","Grams","Percent","Percent","Grams","Percent","Percent","Grams","Percent","Percent"]
["Size","Retained","Retained","Passing","Retained","Retained","Passing","Retained","Retained","Passing","Retained","Retained","Passing","Retained","Retained","Passing"]
["2 \"",null,{"$f":"IFERROR(ROUND(B7/$B$20,2),\"\")","v":""},{"$f":"IFERROR(1-C7,\"\")","v":""},null,{"$f":"IFERROR(ROUND(E7/$E$20,2),\"\")","v":""},{"$f":"IFERROR(1-F7,\"\")","v":""},null,{"$f":"IFERROR(ROUND(H7/$H$20,2),\"\")","v":""},{"$f":"IFERROR(1-I7,\"\")","v":""},null,{"$f":"IFERROR(ROUND(K7/$K$20,2),\"\")","v":""},{"$f":"IFERROR(1-L7,\"\")","v":""},null,{"$f":"IFERROR(ROUND(N7/$N$20,2),\"\")","v":""},{"$f":"IFERROR(1-O7,\"\")","v":""}]
["1 1/2 \"",null,{"$f":"IFERROR(ROUND(B8/$B$20,2),\"\")","v":""},{"$f":"IFERROR(1-C8,\"\")","v":""},null,{"$f":"IFERROR(ROUND(E8/$E$20,2),\"\")","v":""},{"$f":"IFERROR(1-F8,\"\")","v":""},null,{"$f":"IFERROR(ROUND(H8/$H$20,2),\"\")","v":""},{"$f":"IFERROR(1-I8,\"\")","v":""},null,{"$f":"IFERROR(ROUND(K8/$K$20,2),\"\")","v":""},{"$f":"IFERROR(1-L8,\"\")","v":""},null,{"$f":"IFERROR(ROUND(N8/$N$20,2),\"\")","v":""},{"$f":"IFERROR(1-O8,\"\")","v":""},null,"Extraction"]
["1 \"",null,"","",null,"","",null,"","",null,"","",null,"","",null,"Ignition Furnace"]
["3/4 \"",null,"","",null,"","",null,"","",null,"","",null,"",""]
["1/2 \"",null,"","",null,"","",null,"","",null,"","",null,"",""]
["3/8 \"",null,"","",null,"","",null,"","",null,"","",null,"",""]
["# 4",null,"","",null,"","",null,"","",null,"","",null,"",""]
["# 8",null,"","",null,"","",null,"","",null,"","",null,"",""]
["# 16",null,"","",null,"","",null,"","",null,"","",null,"",""]
["# 30",null,"","",null,"","",null,"","",null,"","",null,"",""]
["# 50",null,"","",null,"","",null,"","",null,"","",null,"",""]
["# 100",null,"","",null,"","",null,"","",null,"","",null,"",""]
["# 200",null,"","",null,"","",null,"","",null,"","",null,"",""]
["Total"]
[]
[]
[null,"% AC of Recycled Material",null,null,"% AC of Recycled Material",null,null,"% AC of Recycled Material",null,null,"% AC of Recycled Material",null,null,"% AC of Recycled Material"]
[null,"",null,"","",null,"","",null,"","",null,"","",null,""]

{"sheet":"TESTS5","index":5,"n_rows":24,"n_cols":18,"rows_kept":24,"cut":false,"hidden":true,"merged":[]}
[]
[]
[null,"Date Tested:",null,null,"Date Tested:",null,null,"Date Tested:",null,null,"Date Tested:",null,null,"Date Tested:"]
[null,"TEST # 1",null,null,"TEST # 2",null,null,"TEST # 3",null,null,"TEST # 4",null,null,"TEST # 5"]
["Sieve","Grams","Percent","Percent","Grams","Percent","Percent","Grams","Percent","Percent","Grams","Percent","Percent","Grams","Percent","Percent"]
["Size","Retained","Retained","Passing","Retained","Retained","Passing","Retained","Retained","Passing","Retained","Retained","Passing","Retained","Retained","Passing"]
["2 \"",null,{"$f":"IFERROR(ROUND(B7/$B$20,2),\"\")","v":""},{"$f":"IFERROR(1-C7,\"\")","v":""},null,{"$f":"IFERROR(ROUND(E7/$E$20,2),\"\")","v":""},{"$f":"IFERROR(1-F7,\"\")","v":""},null,{"$f":"IFERROR(ROUND(H7/$H$20,2),\"\")","v":""},{"$f":"IFERROR(1-I7,\"\")","v":""},null,{"$f":"IFERROR(ROUND(K7/$K$20,2),\"\")","v":""},{"$f":"IFERROR(1-L7,\"\")","v":""},null,{"$f":"IFERROR(ROUND(N7/$N$20,2),\"\")","v":""},{"$f":"IFERROR(1-O7,\"\")","v":""}]
["1 1/2 \"",null,{"$f":"IFERROR(ROUND(B8/$B$20,2),\"\")","v":""},{"$f":"IFERROR(1-C8,\"\")","v":""},null,{"$f":"IFERROR(ROUND(E8/$E$20,2),\"\")","v":""},{"$f":"IFERROR(1-F8,\"\")","v":""},null,{"$f":"IFERROR(ROUND(H8/$H$20,2),\"\")","v":""},{"$f":"IFERROR(1-I8,\"\")","v":""},null,{"$f":"IFERROR(ROUND(K8/$K$20,2),\"\")","v":""},{"$f":"IFERROR(1-L8,\"\")","v":""},null,{"$f":"IFERROR(ROUND(N8/$N$20,2),\"\")","v":""},{"$f":"IFERROR(1-O8,\"\")","v":""},null,"Extraction"]
["1 \"",null,"","",null,"","",null,"","",null,"","",null,"","",null,"Ignition Furnace"]
["3/4 \"",null,"","",null,"","",null,"","",null,"","",null,"",""]
["1/2 \"",null,"","",null,"","",null,"","",null,"","",null,"",""]
["3/8 \"",null,"","",null,"","",null,"","",null,"","",null,"",""]
["# 4",null,"","",null,"","",null,"","",null,"","",null,"",""]
["# 8",null,"","",null,"","",null,"","",null,"","",null,"",""]
["# 16",null,"","",null,"","",null,"","",null,"","",null,"",""]
["# 30",null,"","",null,"","",null,"","",null,"","",null,"",""]
["# 50",null,"","",null,"","",null,"","",null,"","",null,"",""]
["# 100",null,"","",null,"","",null,"","",null,"","",null,"",""]
["# 200",null,"","",null,"","",null,"","",null,"","",null,"",""]
["Total"]
[]
[]
[null,"% AC of Recycled Material",null,null,"% AC of Recycled Material",null,null,"% AC of Recycled Material",null,null,"% AC of Recycled Material",null,null,"% AC of Recycled Material"]
[null,"",null,"","",null,"","",null,"","",null,"","",null,""]

{"sheet":"TESTS6","index":6,"n_rows":24,"n_cols":18,"rows_kept":24,"cut":false,"hidden":true,"merged":[]}
[]
[]
[null,"Date Tested:",null,null,"Date Tested:",null,null,"Date Tested:",null,null,"Date Tested:",null,null,"Date Tested:"]
[null,"TEST # 1",null,null,"TEST # 2",null,null,"TEST # 3",null,null,"TEST # 4",null,null,"TEST # 5"]
["Sieve","Grams","Percent","Percent","Grams","Percent","Percent","Grams","Percent","Percent","Grams","Percent","Percent","Grams","Percent","Percent"]
["Size","Retained","Retained","Passing","Retained","Retained","Passing","Retained","Retained","Passing","Retained","Retained","Passing","Retained","Retained","Passing"]
["2 \"",null,{"$f":"IFERROR(ROUND(B7/$B$20,2),\"\")","v":""},{"$f":"IFERROR(1-C7,\"\")","v":""},null,{"$f":"IFERROR(ROUND(E7/$E$20,2),\"\")","v":""},{"$f":"IFERROR(1-F7,\"\")","v":""},null,{"$f":"IFERROR(ROUND(H7/$H$20,2),\"\")","v":""},{"$f":"IFERROR(1-I7,\"\")","v":""},null,{"$f":"IFERROR(ROUND(K7/$K$20,2),\"\")","v":""},{"$f":"IFERROR(1-L7,\"\")","v":""},null,{"$f":"IFERROR(ROUND(N7/$N$20,2),\"\")","v":""},{"$f":"IFERROR(1-O7,\"\")","v":""}]
["1 1/2 \"",null,{"$f":"IFERROR(ROUND(B8/$B$20,2),\"\")","v":""},{"$f":"IFERROR(1-C8,\"\")","v":""},null,{"$f":"IFERROR(ROUND(E8/$E$20,2),\"\")","v":""},{"$f":"IFERROR(1-F8,\"\")","v":""},null,{"$f":"IFERROR(ROUND(H8/$H$20,2),\"\")","v":""},{"$f":"IFERROR(1-I8,\"\")","v":""},null,{"$f":"IFERROR(ROUND(K8/$K$20,2),\"\")","v":""},{"$f":"IFERROR(1-L8,\"\")","v":""},null,{"$f":"IFERROR(ROUND(N8/$N$20,2),\"\")","v":""},{"$f":"IFERROR(1-O8,\"\")","v":""},null,"Extraction"]
["1 \"",null,"","",null,"","",null,"","",null,"","",null,"","",null,"Ignition Furnace"]
["3/4 \"",null,"","",null,"","",null,"","",null,"","",null,"",""]
["1/2 \"",null,"","",null,"","",null,"","",null,"","",null,"",""]
["3/8 \"",null,"","",null,"","",null,"","",null,"","",null,"",""]
["# 4",null,"","",null,"","",null,"","",null,"","",null,"",""]
["# 8",null,"","",null,"","",null,"","",null,"","",null,"",""]
["# 16",null,"","",null,"","",null,"","",null,"","",null,"",""]
["# 30",null,"","",null,"","",null,"","",null,"","",null,"",""]
["# 50",null,"","",null,"","",null,"","",null,"","",null,"",""]
["# 100",null,"","",null,"","",null,"","",null,"","",null,"",""]
["# 200",null,"","",null,"","",null,"","",null,"","",null,"",""]
["Total"]
[]
[]
[null,"% AC of Recycled Material",null,null,"% AC of Recycled Material",null,null,"% AC of Recycled Material",null,null,"% AC of Recycled Material",null,null,"% AC of Recycled Material"]
[null,"",null,"","",null,"","",null,"","",null,"","",null,""]

{"sheet":"TESTS7","index":7,"n_rows":24,"n_cols":18,"rows_kept":24,"cut":false,"hidden":true,"merged":[]}
[]
[]
[null,"Date Tested:",null,null,"Date Tested:",null,null,"Date Tested:",null,null,"Date Tested:",null,null,"Date Tested:"]
[null,"TEST # 1",null,null,"TEST # 2",null,null,"TEST # 3",null,null,"TEST # 4",null,null,"TEST # 5"]
["Sieve","Grams","Percent","Percent","Grams","Percent","Percent","Grams","Percent","Percent","Grams","Percent","Percent","Grams","Percent","Percent"]
["Size","Retained","Retained","Passing","Retained","Retained","Passing","Retained","Retained","Passing","Retained","Retained","Passing","Retained","Retained","Passing"]
["2 \"",null,{"$f":"IFERROR(ROUND(B7/$B$20,2),\"\")","v":""},{"$f":"IFERROR(1-C7,\"\")","v":""},null,{"$f":"IFERROR(ROUND(E7/$E$20,2),\"\")","v":""},{"$f":"IFERROR(1-F7,\"\")","v":""},null,{"$f":"IFERROR(ROUND(H7/$H$20,2),\"\")","v":""},{"$f":"IFERROR(1-I7,\"\")","v":""},null,{"$f":"IFERROR(ROUND(K7/$K$20,2),\"\")","v":""},{"$f":"IFERROR(1-L7,\"\")","v":""},null,{"$f":"IFERROR(ROUND(N7/$N$20,2),\"\")","v":""},{"$f":"IFERROR(1-O7,\"\")","v":""}]
["1 1/2 \"",null,{"$f":"IFERROR(ROUND(B8/$B$20,2),\"\")","v":""},{"$f":"IFERROR(1-C8,\"\")","v":""},null,{"$f":"IFERROR(ROUND(E8/$E$20,2),\"\")","v":""},{"$f":"IFERROR(1-F8,\"\")","v":""},null,{"$f":"IFERROR(ROUND(H8/$H$20,2),\"\")","v":""},{"$f":"IFERROR(1-I8,\"\")","v":""},null,{"$f":"IFERROR(ROUND(K8/$K$20,2),\"\")","v":""},{"$f":"IFERROR(1-L8,\"\")","v":""},null,{"$f":"IFERROR(ROUND(N8/$N$20,2),\"\")","v":""},{"$f":"IFERROR(1-O8,\"\")","v":""},null,"Extraction"]
["1 \"",null,"","",null,"","",null,"","",null,"","",null,"","",null,"Ignition Furnace"]
["3/4 \"",null,"","",null,"","",null,"","",null,"","",null,"",""]
["1/2 \"",null,"","",null,"","",null,"","",null,"","",null,"",""]
["3/8 \"",null,"","",null,"","",null,"","",null,"","",null,"",""]
["# 4",null,"","",null,"","",null,"","",null,"","",null,"",""]
["# 8",null,"","",null,"","",null,"","",null,"","",null,"",""]
["# 16",null,"","",null,"","",null,"","",null,"","",null,"",""]
["# 30",null,"","",null,"","",null,"","",null,"","",null,"",""]
["# 50",null,"","",null,"","",null,"","",null,"","",null,"",""]
["# 100",null,"","",null,"","",null,"","",null,"","",null,"",""]
["# 200",null,"","",null,"","",null,"","",null,"","",null,"",""]
["Total"]
[]
[]
[null,"% AC of Recycled Material",null,null,"% AC of Recycled Material",null,null,"% AC of Recycled Material",null,null,"% AC of Recycled Material",null,null,"% AC of Recycled Material"]
[null,"",null,"","",null,"","",null,"","",null,"","",null,""]

{"sheet":"TESTS8","index":8,"n_rows":24,"n_cols":18,"rows_kept":24,"cut":false,"hidden":true,"merged":[]}
[]
[]
[null,"Date Tested:",null,null,"Date Tested:",null,null,"Date Tested:",null,null,"Date Tested:",null,null,"Date Tested:"]
[null,"TEST # 1",null,null,"TEST # 2",null,null,"TEST # 3",null,null,"TEST # 4",null,null,"TEST # 5"]
["Sieve","Grams","Percent","Percent","Grams","Percent","Percent","Grams","Percent","Percent","Grams","Percent","Percent","Grams","Percent","Percent"]
["Size","Retained","Retained","Passing","Retained","Retained","Passing","Retained","Retained","Passing","Retained","Retained","Passing","Retained","Retained","Passing"]
["2 \"",null,{"$f":"IFERROR(ROUND(B7/$B$20,2),\"\")","v":""},{"$f":"IFERROR(1-C7,\"\")","v":""},null,{"$f":"IFERROR(ROUND(E7/$E$20,2),\"\")","v":""},{"$f":"IFERROR(1-F7,\"\")","v":""},null,{"$f":"IFERROR(ROUND(H7/$H$20,2),\"\")","v":""},{"$f":"IFERROR(1-I7,\"\")","v":""},null,{"$f":"IFERROR(ROUND(K7/$K$20,2),\"\")","v":""},{"$f":"IFERROR(1-L7,\"\")","v":""},null,{"$f":"IFERROR(ROUND(N7/$N$20,2),\"\")","v":""},{"$f":"IFERROR(1-O7,\"\")","v":""}]
["1 1/2 \"",null,{"$f":"IFERROR(ROUND(B8/$B$20,2),\"\")","v":""},{"$f":"IFERROR(1-C8,\"\")","v":""},null,{"$f":"IFERROR(ROUND(E8/$E$20,2),\"\")","v":""},{"$f":"IFERROR(1-F8,\"\")","v":""},null,{"$f":"IFERROR(ROUND(H8/$H$20,2),\"\")","v":""},{"$f":"IFERROR(1-I8,\"\")","v":""},null,{"$f":"IFERROR(ROUND(K8/$K$20,2),\"\")","v":""},{"$f":"IFERROR(1-L8,\"\")","v":""},null,{"$f":"IFERROR(ROUND(N8/$N$20,2),\"\")","v":""},{"$f":"IFERROR(1-O8,\"\")","v":""},null,"Extraction"]
["1 \"",null,"","",null,"","",null,"","",null,"","",null,"","",null,"Ignition Furnace"]
["3/4 \"",null,"","",null,"","",null,"","",null,"","",null,"",""]
["1/2 \"",null,"","",null,"","",null,"","",null,"","",null,"",""]
["3/8 \"",null,"","",null,"","",null,"","",null,"","",null,"",""]
["# 4",null,"","",null,"","",null,"","",null,"","",null,"",""]
["# 8",null,"","",null,"","",null,"","",null,"","",null,"",""]
["# 16",null,"","",null,"","",null,"","",null,"","",null,"",""]
["# 30",null,"","",null,"","",null,"","",null,"","",null,"",""]
["# 50",null,"","",null,"","",null,"","",null,"","",null,"",""]
["# 100",null,"","",null,"","",null,"","",null,"","",null,"",""]
["# 200",null,"","",null,"","",null,"","",null,"","",null,"",""]
["Total"]
[]
[]
[null,"% AC of Recycled Material",null,null,"% AC of Recycled Material",null,null,"% AC of Recycled Material",null,null,"% AC of Recycled Material",null,null,"% AC of Recycled Material"]
[null,"",null,"","",null,"","",null,"","",null,"","",null,""]

{"sheet":"TESTS9","index":9,"n_rows":24,"n_cols":18,"rows_kept":24,"cut":false,"hidden":true,"merged":[]}
[]
[]
[null,"Date Tested:",null,null,"Date Tested:",null,null,"Date Tested:",null,null,"Date Tested:",null,null,"Date Tested:"]
[null,"TEST # 1",null,null,"TEST # 2",null,null,"TEST # 3",null,null,"TEST # 4",null,null,"TEST # 5"]
["Sieve","Grams","Percent","Percent","Grams","Percent","Percent","Grams","Percent","Percent","Grams","Percent","Percent","Grams","Percent","Percent"]
["Size","Retained","Retained","Passing","Retained","Retained","Passing","Retained","Retained","Passing","Retained","Retained","Passing","Retained","Retained","Passing"]
["2 \"",null,{"$f":"IFERROR(ROUND(B7/$B$20,2),\"\")","v":""},{"$f":"IFERROR(1-C7,\"\")","v":""},null,{"$f":"IFERROR(ROUND(E7/$E$20,2),\"\")","v":""},{"$f":"IFERROR(1-F7,\"\")","v":""},null,{"$f":"IFERROR(ROUND(H7/$H$20,2),\"\")","v":""},{"$f":"IFERROR(1-I7,\"\")","v":""},null,{"$f":"IFERROR(ROUND(K7/$K$20,2),\"\")","v":""},{"$f":"IFERROR(1-L7,\"\")","v":""},null,{"$f":"IFERROR(ROUND(N7/$N$20,2),\"\")","v":""},{"$f":"IFERROR(1-O7,\"\")","v":""}]
["1 1/2 \"",null,{"$f":"IFERROR(ROUND(B8/$B$20,2),\"\")","v":""},{"$f":"IFERROR(1-C8,\"\")","v":""},null,{"$f":"IFERROR(ROUND(E8/$E$20,2),\"\")","v":""},{"$f":"IFERROR(1-F8,\"\")","v":""},null,{"$f":"IFERROR(ROUND(H8/$H$20,2),\"\")","v":""},{"$f":"IFERROR(1-I8,\"\")","v":""},null,{"$f":"IFERROR(ROUND(K8/$K$20,2),\"\")","v":""},{"$f":"IFERROR(1-L8,\"\")","v":""},null,{"$f":"IFERROR(ROUND(N8/$N$20,2),\"\")","v":""},{"$f":"IFERROR(1-O8,\"\")","v":""},null,"Extraction"]
["1 \"",null,"","",null,"","",null,"","",null,"","",null,"","",null,"Ignition Furnace"]
["3/4 \"",null,"","",null,"","",null,"","",null,"","",null,"",""]
["1/2 \"",null,"","",null,"","",null,"","",null,"","",null,"",""]
["3/8 \"",null,"","",null,"","",null,"","",null,"","",null,"",""]
["# 4",null,"","",null,"","",null,"","",null,"","",null,"",""]
["# 8",null,"","",null,"","",null,"","",null,"","",null,"",""]
["# 16",null,"","",null,"","",null,"","",null,"","",null,"",""]
["# 30",null,"","",null,"","",null,"","",null,"","",null,"",""]
["# 50",null,"","",null,"","",null,"","",null,"","",null,"",""]
["# 100",null,"","",null,"","",null,"","",null,"","",null,"",""]
["# 200",null,"","",null,"","",null,"","",null,"","",null,"",""]
["Total"]
[]
[]
[null,"% AC of Recycled Material",null,null,"% AC of Recycled Material",null,null,"% AC of Recycled Material",null,null,"% AC of Recycled Material",null,null,"% AC of Recycled Material"]
[null,"",null,"","",null,"","",null,"","",null,"","",null,""]

{"sheet":"TESTS10","index":10,"n_rows":24,"n_cols":18,"rows_kept":24,"cut":false,"hidden":true,"merged":[]}
[]
[]
[null,"Date Tested:",null,null,"Date Tested:",null,null,"Date Tested:",null,null,"Date Tested:",null,null,"Date Tested:"]
[null,"TEST # 1",null,null,"TEST # 2",null,null,"TEST # 3",null,null,"TEST # 4",null,null,"TEST # 5"]
["Sieve","Grams","Percent","Percent","Grams","Percent","Percent","Grams","Percent","Percent","Grams","Percent","Percent","Grams","Percent","Percent"]
["Size","Retained","Retained","Passing","Retained","Retained","Passing","Retained","Retained","Passing","Retained","Retained","Passing","Retained","Retained","Passing"]
["2 \"",null,{"$f":"IFERROR(ROUND(B7/$B$20,2),\"\")","v":""},{"$f":"IFERROR(1-C7,\"\")","v":""},null,{"$f":"IFERROR(ROUND(E7/$E$20,2),\"\")","v":""},{"$f":"IFERROR(1-F7,\"\")","v":""},null,{"$f":"IFERROR(ROUND(H7/$H$20,2),\"\")","v":""},{"$f":"IFERROR(1-I7,\"\")","v":""},null,{"$f":"IFERROR(ROUND(K7/$K$20,2),\"\")","v":""},{"$f":"IFERROR(1-L7,\"\")","v":""},null,{"$f":"IFERROR(ROUND(N7/$N$20,2),\"\")","v":""},{"$f":"IFERROR(1-O7,\"\")","v":""}]
["1 1/2 \"",null,{"$f":"IFERROR(ROUND(B8/$B$20,2),\"\")","v":""},{"$f":"IFERROR(1-C8,\"\")","v":""},null,{"$f":"IFERROR(ROUND(E8/$E$20,2),\"\")","v":""},{"$f":"IFERROR(1-F8,\"\")","v":""},null,{"$f":"IFERROR(ROUND(H8/$H$20,2),\"\")","v":""},{"$f":"IFERROR(1-I8,\"\")","v":""},null,{"$f":"IFERROR(ROUND(K8/$K$20,2),\"\")","v":""},{"$f":"IFERROR(1-L8,\"\")","v":""},null,{"$f":"IFERROR(ROUND(N8/$N$20,2),\"\")","v":""},{"$f":"IFERROR(1-O8,\"\")","v":""},null,"Extraction"]
["1 \"",null,"","",null,"","",null,"","",null,"","",null,"","",null,"Ignition Furnace"]
["3/4 \"",null,"","",null,"","",null,"","",null,"","",null,"",""]
["1/2 \"",null,"","",null,"","",null,"","",null,"","",null,"",""]
["3/8 \"",null,"","",null,"","",null,"","",null,"","",null,"",""]
["# 4",null,"","",null,"","",null,"","",null,"","",null,"",""]
["# 8",null,"","",null,"","",null,"","",null,"","",null,"",""]
["# 16",null,"","",null,"","",null,"","",null,"","",null,"",""]
["# 30",null,"","",null,"","",null,"","",null,"","",null,"",""]
["# 50",null,"","",null,"","",null,"","",null,"","",null,"",""]
["# 100",null,"","",null,"","",null,"","",null,"","",null,"",""]
["# 200",null,"","",null,"","",null,"","",null,"","",null,"",""]
["Total"]
[]
[]
[null,"% AC of Recycled Material",null,null,"% AC of Recycled Material",null,null,"% AC of Recycled Material",null,null,"% AC of Recycled Material",null,null,"% AC of Recycled Material"]
[null,"",null,"","",null,"","",null,"","",null,"","",null,""]