{"text_format":"1","workbook":"xlsx","n_sheets":6,"sheets":["DSR Template","Random Testing Locations","Sheet2","Values","Full Report","Short Report for Printing"],"not_rendered":{"charts":0,"images":0,"macros":1,"external_links":0,"defined_names":6,"comments":2,"pivot_tables":0},"unopened":[],"bounds":{"document_bytes":16777216,"sheet_cells":100000,"rows_first":2000,"rows_last":500,"rows_between":2000,"halvings":0,"cell_chars":16384,"cell_head_chars":4096},"cells_cut":0,"cells_raw":0,"read":"whole","date_system":"1900"}

{"sheet":"DSR Template","index":0,"n_rows":49,"n_cols":14,"rows_kept":49,"cut":false,"hidden":false,"merged":[[28,1,28,2],[29,1,29,2],[23,1,23,2],[24,1,24,2],[25,1,25,2],[26,1,26,2],[27,1,27,2],[18,1,18,2],[19,1,19,2],[20,1,20,2],[21,1,21,2],[22,1,22,2],[48,0,48,13],[43,4,43,13],[44,10,45,10],[44,13,45,13],[44,1,44,3],[45,1,45,3],[43,1,43,2],[44,4,47,5],[46,0,47,0],[46,1,47,3],[46,10,47,13],[0,0,0,13],[1,0,1,13],[2,2,11,3],[2,4,2,13],[3,4,3,13],[4,4,4,13],[5,4,5,13],[6,4,6,13],[10,4,10,13],[11,4,11,13],[42,1,42,2],[13,1,13,2],[7,4,7,13],[8,4,8,13],[9,4,9,13],[12,0,12,13],[14,1,14,2],[30,1,30,2],[31,1,31,2],[32,1,32,2],[33,1,33,2],[40,1,40,2],[41,1,41,2],[15,1,15,2],[16,1,16,2],[17,1,17,2]]}
["Daily Striping Report"]
["Contractor & District Information"]
["DISTRICT",null,"CONTRACTOR"]
["CONTACT"]
["PROJECT TYPE:"]
["FUNDING STRIP:"]
["CONTRACT ID:"]
["APPLICATION DATE:"]
["APPLICATION TYPE:"]
["FIRST DAY TO TEST:",{"$f":"IF(B8=\"\",\"\",B8+30)","v":""}]
["LAST DAY TO TEST:",{"$f":"IF(B8=\"\",\"\",B8+60)","v":""}]
["SECTION STATUS:"]
["Route Information"]
["County","Route",null,"Direction","Color","Width","Line Type","Starting Milepoint","Ending Milepoint","Striped Line Length (Miles)","Route Length (Miles)","Route Type","Mobile (KM 203)?","Corrective Restripe?"]
[null,null,null,null,null,null,null,null,null,null,{"$f":"IF(H15=\"\",\"\",ABS(I15-H15))","v":""}]
[null,null,null,null,null,null,null,null,null,null,{"$f":"IF(H16=\"\",\"\",ABS(I16-H16))","v":""}]
[null,null,null,null,null,null,null,null,null,null,""]
[null,null,null,null,null,null,null,null,null,null,""]
[null,null,null,null,null,null,null,null,null,null,""]
[null,null,null,null,null,null,null,null,null,null,""]
[null,null,null,null,null,null,null,null,null,null,""]
[null,null,null,null,null,null,null,null,null,null,""]
[null,null,null,null,null,null,null,null,null,null,""]
[null,null,null,null,null,null,null,null,null,null,""]
[null,null,null,null,null,null,null,null,null,null,""]
[null,null,null,null,null,null,null,null,null,null,""]
[null,null,null,null,null,null,null,null,null,null,""]
[null,null,null,null,null,null,null,null,null,null,""]
[null,null,null,null,null,null,null,null,null,null,""]
[null,null,null,null,null,null,null,null,null,null,""]
[null,null,null,null,null,null,null,null,null,null,""]
[null,null,null,null,null,null,null,null,null,null,""]
[null,null,null,null,null,null,null,null,null,null,""]
[null,null,null,null,null,null,null,null,null,null,""]
[null,null,null,null,null,null,null,null,null,null,""]
[null,null,null,null,null,null,null,null,null,null,""]
[null,null,null,null,null,null,null,null,null,null,""]
[null,null,null,null,null,null,null,null,null,null,""]
[null,null,null,null,null,null,null,null,null,null,""]
[null,null,null,null,null,null,null,null,null,null,""]
[null,null,null,null,null,null,null,null,null,null,""]
[null,null,null,null,null,null,null,null,null,null,""]
[null,null,null,null,null,null,null,null,null,null,""]
["Materials","Comments",null,null,"Totals Summary"]
["Yellow WB Traffic Paint",null,null,null,"Striped Line Length (Miles)",null,"MP 4\" W","MP 4\" Y","MP 6\" W","MP 6\" Y",null,"RS 4\" W","RS 4\" Y"]
["White WB Traffic Paint",null,null,null,null,null,{"$f":"SUMIFS($J$15:$J$43,$E$15:$E$43,\"White\",$F$15:$F$43,4,$L$15:$L$43,\"MP\")","v":0},{"$f":"SUMIFS($J$15:$J$43,$E$15:$E$43,\"Yellow\",$F$15:$F$43,4,$L$15:$L$43,\"MP\")","v":0},{"$f":"SUMIFS($J$15:$J$43,$E$15:$E$43,\"White\",$F$15:$F$43,6,$L$15:$L$43,\"MP\")","v":0},{"$f":"SUMIFS($J$15:$J$43,$E$15:$E$43,\"Yellow\",$F$15:$F$43,6,$L$15:$L$43,\"MP\")","v":0},null,{"$f":"SUMIFS($J$15:$J$43,$E$15:$E$43,\"White\",$F$15:$F$43,4,$L$15:$L$43,\"RS\")","v":0},{"$f":"SUMIFS($J$15:$J$43,$E$15:$E$43,\"Yellow\",$F$15:$F$43,4,$L$15:$L$43,\"RS\")","v":0}]
["Beads",null,null,null,null,null,"MP 8\" W","MP 8\" Y","MP 12\" W","MP 12\" Y"]
[null,null,null,null,null,null,{"$f":"SUMIFS($J$15:$J$43,$E$15:$E$43,\"White\",$F$15:$F$43,8,$L$15:$L$43,\"MP\")","v":0},{"$f":"SUMIFS($J$15:$J$43,$E$15:$E$43,\"Yellow\",$F$15:$F$43,8,$L$15:$L$43,\"MP\")","v":0},{"$f":"SUMIFS($J$15:$J$43,$E$15:$E$43,\"White\",$F$15:$F$43,12,$L$15:$L$43,\"MP\")","v":0},{"$f":"SUMIFS($J$15:$J$43,$E$15:$E$43,\"Yellow\",$F$15:$F$43,12,$L$15:$L$43,\"MP\")","v":0}]
["To request measurement of retroreflectivity in accordance with KM203, please email all correspondence to brandi.mitchell@ky.gov. Please notify Central Office at least two (2) weeks in advance of when mobile testing is needed."]

{"sheet":"Random Testing Locations","index":1,"n_rows":48,"n_cols":102,"rows_kept":48,"cut":false,"hidden":false,"merged":[[39,19,39,23],[41,0,41,5],[41,18,41,25],[4,0,4,6],[4,83,4,101],[4,64,4,82],[4,45,4,63],[4,26,4,44],[4,7,4,25],[44,1,44,2],[43,1,43,2],[42,1,42,2],[42,18,42,19],[41,37,41,44],[44,18,44,19],[43,18,43,19],[42,37,42,38],[43,37,43,38],[44,37,44,38],[47,1,47,2],[46,1,46,2],[45,1,45,2],[46,37,46,38],[47,37,47,38],[47,18,47,19],[46,18,46,19],[45,18,45,19],[45,37,45,38]]}
["Striped Line Length",{"$f":"SUM('DSR Template'!J15:J43)","v":0}]
["Number of Segments",{"$f":"IF(B1<10,1,IF(B1<30,3,5))","v":1}]
["Segment Length (Striped)",{"$f":"B1/B2","v":0}]
[]
["Route Information",null,null,null,null,null,null,"Segment 1",null,null,null,null,null,null,null,null,null,null,null,null,null,null,null,null,null,null,"Segment 2",null,null,null,null,null,null,null,null,null,null,null,null,null,null,null,null,null,null,"Segment 3",null,null,null,null,null,null,null,null,null,null,null,null,null,null,null,null,null,null,"Segment 4",null,null,null,null,null,null,null,null,null,null,null,null,null,null,null,null,null,null,"Segment 5"]
["Route","Route\nLength","Striped\nLength","Percent\nStriped","Begin\nMP","End\nMP","Dir","Length\n(Striped)","Length\n(Total)","Route1","R1 Name","Dir1","Route2","R2 Name","Dir2","Route3","R3 Name","Dir3","Begin MP","End MP","Zone 1\n(Striped)","Zone 1\n(Actual)","Zone 2\n(Striped)","Zone 2\n(Actual)","Zone 3\n(Striped)","Zone 3\n(Actual)","Length\n(Striped)","Length\n(Total)","Route1","R1 Name","Dir1","Route2","R2 Name","Dir2","Route3","R3 Name","Dir3","Begin MP","End MP","Zone 1\n(Striped)","Zone 1\n(Actual)","Zone 2\n(Striped)","Zone 2\n(Actual)","Zone 3\n(Striped)","Zone 3\n(Actual)","Length\n(Striped)","Length\n(Total)","Route1","R1 Name","Dir1","Route2","R2 Name","Dir2","Route3","R3 Name","Dir3","Begin MP","End MP","Zone 1\n(Striped)","Zone 1\n(Actual)","Zone 2\n(Striped)","Zone 2\n(Actual)","Zone 3\n(Striped)","Zone 3\n(Actual)","Length\n(Striped)","Length\n(Total)","Route1","R1 Name","Dir1","Route2","R2 Name","Dir2","Route3","R3 Name","Dir3","Begin MP","End MP","Zone 1\n(Striped)","Zone 1\n(Actual)","Zone 2\n(Striped)","Zone 2\n(Actual)","Zone 3\n(Striped)","Zone 3\n(Actual)","Length\n(Striped)","Length\n(Total)","Route1","R1 Name","Dir1","Route2","R2 Name","Dir2","Route3","R3 Name","Dir3","Begin MP","End MP","Zone 1\n(Striped)","Zone 1\n(Actual)","Zone 2\n(Striped)","Zone 2\n(Actual)","Zone 3\n(Striped)","Zone 3\n(Actual)"]
[{"$f":"IF('DSR Template'!$B15=\"\",\"\",'DSR Template'!$B15)","v":""},{"$f":"'DSR Template'!$K15","v":""},{"$f":"'DSR Template'!J15","v":0},{"$f":"C7/B7","v":{"$error":"#VALUE!"}},{"$f":"IF('DSR Template'!H15=\"\",\"\",'DSR Template'!H15)","v":""},{"$f":"IF('DSR Template'!I15=\"\",\"\",'DSR Template'!I15)","v":""},{"$f":"IF('DSR Template'!D15=\"\",\"\",'DSR Template'!D15)","v":""},{"$f":"IFERROR(IF(($B$3-$C7)>0,$C7,$B$3),\"\")","v":0},{"$f":"IFERROR(H7/$D7,\"\")","v":""},{"$f":"IF(U7=\"\",\"\",\"Yes\")","v":{"$error":"#VALUE!"}},{"$f":"IF(U7=\"\",\"\",$A7)","v":{"$error":"#VALUE!"}},{"$f":"IF(J7=\"\",\"\",$G7)","v":{"$error":"#VALUE!"}},{"$f":"IF(W7=\"\",\"\",\"Yes\")","v":{"$error":"#VALUE!"}},{"$f":"IF(W7=\"\",\"\",$A7)","v":{"$error":"#VALUE!"}},{"$f":"IF(M7=\"\",\"\",$G7)","v":{"$error":"#VALUE!"}},{"$f":"IF(Y7=\"\",\"\",\"Yes\")","v":{"$error":"#VALUE!"}},{"$f":"IF(Y7=\"\",\"\",$A7)","v":{"$error":"#VALUE!"}},{"$f":"IF(P7=\"\",\"\",$G7)","v":{"$error":"#VALUE!"}},{"$f":"E7","v":""},{"$f":"IF(S7=\"\",\"\",IF($F7>$E7,S7+I7,S7-I7))","v":""},{"$f":"IF($B$38>SUM(H$7:H7),\"\",IF($F7>$E7,S7+$B$38,S7-$B$38))","v":{"$error":"#VALUE!"}},{"$f":"IFERROR(((U7-$S7)*(1/$D7))+$S7,\"\")","v":""},{"$f":"IF($B$39>SUM(H$7:H7),\"\",IF($F7>$E7,S7+$B$39,S7-$B$39))","v":{"$error":"#VALUE!"}},{"$f":"IFERROR(((W7-$S7)*(1/$D7))+$S7,\"\")","v":""},{"$f":"IF($B$40>SUM(H$7:H7),\"\",IF($F7>$E7,S7+$B$40,S7-$B$40))","v":{"$error":"#VALUE!"}},{"$f":"IFERROR(((Y7-$S7)*(1/$D7))+$S7,\"\")","v":""},{"$f":"IFERROR(IF($C7=H7,0,IF(($B$3+H7)>$C7,$C7-H7,$B$3)),\"\")","v":0},{"$f":"IFERROR(AA7/$D7,\"\")","v":""},{"$f":"IF(AN7=\"\",\"\",\"Yes\")","v":{"$error":"#VALUE!"}},{"$f":"IF(AN7=\"\",\"\",$A7)","v":{"$error":"#VALUE!"}},{"$f":"IF(AC7=\"\",\"\",$G7)","v":{"$error":"#VALUE!"}},{"$f":"IF(AP7=\"\",\"\",\"Yes\")","v":{"$error":"#VALUE!"}},{"$f":"IF(AP7=\"\",\"\",$A7)","v":{"$error":"#VALUE!"}},{"$f":"IF(AF7=\"\",\"\",$G7)","v":{"$error":"#VALUE!"}},{"$f":"IF(AR7=\"\",\"\",\"Yes\")","v":{"$error":"#VALUE!"}},{"$f":"IF(AR7=\"\",\"\",$A7)","v":{"$error":"#VALUE!"}},{"$f":"IF(AI7=\"\",\"\",$G7)","v":{"$error":"#VALUE!"}},{"$f":"IF(AA7=0,\"\",IF(T7=\"\",$E7,T7))","v":""},{"$f":"IF(AL7=\"\",\"\",IF($F7>$E7,AL7+AB7,AL7-AB7))","v":""},{"$f":"IF($B$38>SUM(AA$7:AA7),\"\",IF($F7>$E7,AL7+$B$38,AL7-$B$38))","v":{"$error":"#VALUE!"}},{"$f":"IFERROR(((AN7-$AL7)*(1/$D7))+$AL7,\"\")","v":""},{"$f":"IF($B$39>SUM(AA$7:AA7),\"\",IF($F7>$E7,AL7+$B$39,AL7-$B$39))","v":{"$error":"#VALUE!"}},{"$f":"IFERROR(((AP7-$AL7)*(1/$D7))+$AL7,\"\")","v":""},{"$f":"IF($B$40>SUM(AA$7:AA7),\"\",IF($F7>$E7,AL7+$B$40,AL7-$B$40))","v":{"$error":"#VALUE!"}},{"$f":"IFERROR(((AR7-$AL7)*(1/$D7))+$AL7,\"\")","v":""},{"$f":"IFERROR(IF($C7=(H7+AA7),0,IF(($B$3+(H7+AA7))>$C7,$C7-(H7+AA7),$B$3)),\"\")","v":0},{"$f":"IFERROR(AT7/$D7,\"\")","v":""},{"$f":"IF(BG7=\"\",\"\",\"Yes\")","v":{"$error":"#VALUE!"}},{"$f":"IF(BG7=\"\",\"\",$A7)","v":{"$error":"#VALUE!"}},{"$f":"IF(AV7=\"\",\"\",$G7)","v":{"$error":"#VALUE!"}},{"$f":"IF(BI7=\"\",\"\",\"Yes\")","v":{"$error":"#VALUE!"}},{"$f":"IF(BI7=\"\",\"\",$A7)","v":{"$error":"#VALUE!"}},{"$f":"IF(AY7=\"\",\"\",$G7)","v":{"$error":"#VALUE!"}},{"$f":"IF(BK7=\"\",\"\",\"Yes\")","v":{"$error":"#VALUE!"}},{"$f":"IF(BK7=\"\",\"\",$A7)","v":{"$error":"#VALUE!"}},{"$f":"IF(BB7=\"\",\"\",$G7)","v":{"$error":"#VALUE!"}},{"$f":"IF(AT7=0,\"\",IF(AM7=\"\",$E7,AM7))","v":""},{"$f":"IF(BE7=\"\",\"\",IF($F7>$E7,BE7+AU7,BE7-AU7))","v":""},{"$f":"IF($B$38>SUM(AT$7:AT7),\"\",IF($F7>$E7,BE7+$B$38,BE7-$B$38))","v":{"$error":"#VALUE!"}},{"$f":"IFERROR(((BG7-$BE7)*(1/$D7))+$BE7,\"\")","v":""},{"$f":"IF($B$39>SUM(AT$7:AT7),\"\",IF($F7>$E7,BE7+$B$39,BE7-$B$39))","v":{"$error":"#VALUE!"}},{"$f":"IFERROR(((BI7-$BE7)*(1/$D7))+$BE7,\"\")","v":""},{"$f":"IF($B$40>SUM(AT$7:AT7),\"\",IF($F7>$E7,BE7+$B$40,BE7-$B$40))","v":{"$error":"#VALUE!"}},{"$f":"IFERROR(((BK7-$BE7)*(1/$D7))+$BE7,\"\")","v":""},{"$f":"IFERROR(IF($C7=(H7+AA7+AT7),0,IF(($B$3+(H7+AA7+AT7))>$C7,$C7-(H7+AA7+AT7),$B$3)),\"\")","v":0},{"$f":"IFERROR(BM7/$D7,\"\")","v":""},{"$f":"IF(BZ7=\"\",\"\",\"Yes\")","v":{"$error":"#VALUE!"}},{"$f":"IF(BZ7=\"\",\"\",$A7)","v":{"$error":"#VALUE!"}},{"$f":"IF(BO7=\"\",\"\",$G7)","v":{"$error":"#VALUE!"}},{"$f":"IF(CB7=\"\",\"\",\"Yes\")","v":{"$error":"#VALUE!"}},{"$f":"IF(CB7=\"\",\"\",$A7)","v":{"$error":"#VALUE!"}},{"$f":"IF(BR7=\"\",\"\",$G7)","v":{"$error":"#VALUE!"}},{"$f":"IF(CD7=\"\",\"\",\"Yes\")","v":{"$error":"#VALUE!"}},{"$f":"IF(CD7=\"\",\"\",$A7)","v":{"$error":"#VALUE!"}},{"$f":"IF(BU7=\"\",\"\",$G7)","v":{"$error":"#VALUE!"}},{"$f":"IF(BM7=0,\"\",IF(BF7=\"\",$E7,BF7))","v":""},{"$f":"IF(BX7=\"\",\"\",IF($F7>$E7,BX7+BN7,BX7-BN7))","v":""},{"$f":"IF($B$38>SUM(BM$7:BM7),\"\",IF($F7>$E7,BX7+$B$38,BX7-$B$38))","v":{"$error":"#VALUE!"}},{"$f":"IFERROR(((BZ7-$BX7)*(1/$D7))+$BX7,\"\")","v":""},{"$f":"IF($B$39>SUM(BM$7:BM7),\"\",IF($F7>$E7,BX7+$B$39,BX7-$B$39))","v":{"$error":"#VALUE!"}},{"$f":"IFERROR(((CB7-$BX7)*(1/$D7))+$BX7,\"\")","v":""},{"$f":"IF($B$40>SUM(BM$7:BM7),\"\",IF($F7>$E7,BX7+$B$40,BX7-$B$40))","v":{"$error":"#VALUE!"}},{"$f":"IFERROR(((CD7-$BX7)*(1/$D7))+$BX7,\"\")","v":""},{"$f":"IFERROR(IF($C7=(H7+AA7+AT7+BM7),0,IF(($B$3+(H7+AA7+AT7+BM7))>$C7,$C7-(H7+AA7+AT7+BM7),$B$3)),\"\")","v":0},{"$f":"IFERROR(CF7/$D7,\"\")","v":""},{"$f":"IF(CS7=\"\",\"\",\"Yes\")","v":{"$error":"#VALUE!"}},{"$f":"IF(CS7=\"\",\"\",$A7)","v":{"$error":"#VALUE!"}},{"$f":"IF(CH7=\"\",\"\",$G7)","v":{"$error":"#VALUE!"}},{"$f":"IF(CU7=\"\",\"\",\"Yes\")","v":{"$error":"#VALUE!"}},{"$f":"IF(CU7=\"\",\"\",$A7)","v":{"$error":"#VALUE!"}},{"$f":"IF(CK7=\"\",\"\",$G7)","v":{"$error":"#VALUE!"}},{"$f":"IF(CW7=\"\",\"\",\"Yes\")","v":{"$error":"#VALUE!"}},{"$f":"IF(CW7=\"\",\"\",$A7)","v":{"$error":"#VALUE!"}},{"$f":"IF(CN7=\"\",\"\",$G7)","v":{"$error":"#VALUE!"}},{"$f":"IF(CF7=0,\"\",IF(BY7=\"\",$E7,BY7))","v":""},{"$f":"IF(CQ7=\"\",\"\",IF($F7>$E7,CQ7+CG7,CQ7-CG7))","v":""},{"$f":"IF($B$38>SUM(CF$7:CF7),\"\",IF($F7>$E7,CQ7+$B$38,CQ7-$B$38))","v":{"$error":"#VALUE!"}},{"$f":"IFERROR(((CS7-$CQ7)*(1/$D7))+$CQ7,\"\")","v":""},{"$f":"IF($B$39>SUM(CF$7:CF7),\"\",IF($F7>$E7,CQ7+$B$39,CQ7-$B$39))","v":{"$error":"#VALUE!"}},{"$f":"IFERROR(((CU7-$CQ7)*(1/$D7))+$CQ7,\"\")","v":""},{"$f":"IF($B$40>SUM(CF$7:CF7),\"\",IF($F7>$E7,CQ7+$B$40,CQ7-$B$40))","v":{"$error":"#VALUE!"}},{"$f":"IFERROR(((CW7-$CQ7)*(1/$D7))+$CQ7,\"\")","v":""}]
[{"$f":"IF('DSR Template'!$B16=\"\",\"\",'DSR Template'!$B16)","v":""},{"$f":"'DSR Template'!$K16","v":""},{"$f":"'DSR Template'!J16","v":0},{"$f":"C8/B8","v":{"$error":"#VALUE!"}},{"$f":"IF('DSR Template'!H16=\"\",\"\",'DSR Template'!H16)","v":""},{"$f":"IF('DSR Template'!I16=\"\",\"\",'DSR Template'!I16)","v":""},{"$f":"IF('DSR Template'!D16=\"\",\"\",'DSR Template'!D16)","v":""},{"$f":"IFERROR(IF(($B$3-$C8-SUM(H$7:H7))>0,$C8,$B$3-SUM(H$7:H7)),\"\")","v":0},{"$f":"IFERROR(H8/$D8,\"\")","v":""},{"$error":"#VALUE!"},{"$error":"#VALUE!"},{"$f":"IF(J8=\"\",\"\",$G8)","v":{"$error":"#VALUE!"}},{"$f":"IF(W8=\"\",\"\",\"Yes\")","v":{"$error":"#VALUE!"}},{"$f":"IF(W8=\"\",\"\",$A8)","v":{"$error":"#VALUE!"}},{"$f":"IF(M8=\"\",\"\",$G8)","v":{"$error":"#VALUE!"}},{"$f":"IF(Y8=\"\",\"\",\"Yes\")","v":{"$error":"#VALUE!"}},{"$f":"IF(Y8=\"\",\"\",$A8)","v":{"$error":"#VALUE!"}},{"$f":"IF(P8=\"\",\"\",$G8)","v":{"$error":"#VALUE!"}},{"$f":"IF(H8=0,\"\",$E8)","v":""},{"$f":"IF(S8=\"\",\"\",IF($F8>$E8,S8+I8,S8-I8))","v":""},{"$f":"IF(SUM(U$7:U7)>0,\"\",IF($B$38>SUM(H$7:H8),\"\",IF($F8>$E8,(S8+($B$38-SUM(H$7:H7))),(S8-($B$38-SUM(H$7:H7))))))","v":{"$error":"#VALUE!"}},{"$f":"IFERROR(((U8-$S8)*(1/$D8))+$S8,\"\")","v":""},{"$f":"IF(SUM(W$7:W7)>0,\"\",IF($B$39>SUM(H$7:H8),\"\",IF($F8>$E8,(S8+($B$39-SUM(H$7:H7))),(S8-($B$39-SUM(H$7:H7))))))","v":{"$error":"#VALUE!"}},{"$f":"IFERROR(((W8-$S8)*(1/$D8))+$S8,\"\")","v":""},{"$f":"IF(SUM(Y$7:Y7)>0,\"\",IF($B$40>SUM(H$7:H8),\"\",IF($F8>$E8,(S8+($B$40-SUM(H$7:H7))),(S8-($B$40-SUM(H$7:H7))))))","v":{"$error":"#VALUE!"}},{"$f":"IFERROR(((Y8-$S8)*(1/$D8))+$S8,\"\")","v":""},{"$f":"IFERROR(IF($C8=SUM($H8:H8),0,IF(($C8-SUM($H8:H8))>($B$3-SUM(AA$7:AA7)),($B$3-SUM(AA$7:AA7)),($C8-SUM($H8:H8)))),\"\")","v":0},{"$f":"IFERROR(AA8/$D8,\"\")","v":""},{"$f":"IF(AN8=\"\",\"\",\"Yes\")","v":{"$error":"#VALUE!"}},{"$f":"IF(AN8=\"\",\"\",$A8)","v":{"$error":"#VALUE!"}},{"$f":"IF(AC8=\"\",\"\",$G8)","v":{"$error":"#VALUE!"}},{"$f":"IF(AP8=\"\",\"\",\"Yes\")","v":{"$error":"#VALUE!"}},{"$f":"IF(AP8=\"\",\"\",$A8)","v":{"$error":"#VALUE!"}},{"$f":"IF(AF8=\"\",\"\",$G8)","v":{"$error":"#VALUE!"}},{"$f":"IF(AR8=\"\",\"\",\"Yes\")","v":{"$error":"#VALUE!"}},{"$f":"IF(AR8=\"\",\"\",$A8)","v":{"$error":"#VALUE!"}},{"$f":"IF(AI8=\"\",\"\",$G8)","v":{"$error":"#VALUE!"}},{"$f":"IF(AA8=0,\"\",IF(T8=\"\",$E8,T8))","v":""},{"$f":"IF(AL8=\"\",\"\",IF($F8>$E8,AL8+AB8,AL8-AB8))","v":""},{"$f":"IF(SUM(AN$7:AN7)>0,\"\",IF($B$38>SUM(AA$7:AA8),\"\",IF($F8>$E8,(AL8+($B$38-SUM(AA$7:AA7))),(AL8-($B$38-SUM(AA$7:AA7))))))","v":{"$error":"#VALUE!"}},{"$f":"IFERROR(((AN8-$AL8)*(1/$D8))+$AL8,\"\")","v":""},{"$f":"IF(SUM(AP$7:AP7)>0,\"\",IF($B$39>SUM(AA$7:AA8),\"\",IF($F8>$E8,(AL8+($B$39-SUM(AA$7:AA7))),(AL8-($B$39-SUM(AA$7:AA7))))))","v":{"$error":"#VALUE!"}},{"$f":"IFERROR(((AP8-$AL8)*(1/$D8))+$AL8,\"\")","v":""},{"$f":"IF(SUM(AR$7:AR7)>0,\"\",IF($B$40>SUM(AA$7:AA8),\"\",IF($F8>$E8,(AL8+($B$40-SUM(AA$7:AA7))),(AL8-($B$40-SUM(AA$7:AA7))))))","v":{"$error":"#VALUE!"}},{"$f":"IFERROR(((AR8-$AL8)*(1/$D8))+$AL8,\"\")","v":""},{"$f":"IFERROR(IF($C8=SUM($H8+AA8),0,IF(($C8-SUM($H8+AA8))>($B$3-SUM(AT$7:AT7)),($B$3-SUM(AT$7:AT7)),($C8-SUM($H8+AA8)))),\"\")","v":0},{"$f":"IFERROR(AT8/$D8,\"\")","v":""},{"$f":"IF(BG8=\"\",\"\",\"Yes\")","v":{"$error":"#VALUE!"}},{"$f":"IF(BG8=\"\",\"\",$A8)","v":{"$error":"#VALUE!"}},{"$f":"IF(AV8=\"\",\"\",$G8)","v":{"$error":"#VALUE!"}},{"$f":"IF(BI8=\"\",\"\",\"Yes\")","v":{"$error":"#VALUE!"}},{"$f":"IF(BI8=\"\",\"\",$A8)","v":{"$error":"#VALUE!"}},{"$f":"IF(AY8=\"\",\"\",$G8)","v":{"$error":"#VALUE!"}},{"$f":"IF(BK8=\"\",\"\",\"Yes\")","v":{"$error":"#VALUE!"}},{"$f":"IF(BK8=\"\",\"\",$A8)","v":{"$error":"#VALUE!"}},{"$f":"IF(BB8=\"\",\"\",$G8)","v":{"$error":"#VALUE!"}},{"$f":"IF(AT8=0,\"\",IF(AM8=\"\",$E8,AM8))","v":""},{"$f":"IF(BE8=\"\",\"\",IF($F8>$E8,BE8+AU8,BE8-AU8))","v":""},{"$f":"IF(SUM(BG$7:BG7)>0,\"\",IF($B$38>SUM(AT$7:AT8),\"\",IF($F8>$E8,(BE8+($B$38-SUM(AT$7:AT7))),(BE8-($B$38-SUM(AT$7:AT7))))))","v":{"$error":"#VALUE!"}},{"$f":"IFERROR(((BG8-$BE8)*(1/$D8))+$BE8,\"\")","v":""},{"$f":"IF(SUM(BI$7:BI7)>0,\"\",IF($B$39>SUM(AT$7:AT8),\"\",IF($F8>$E8,(BE8+($B$39-SUM(AT$7:AT7))),(BE8-($B$39-SUM(AT$7:AT7))))))","v":{"$error":"#VALUE!"}},{"$f":"IFERROR(((BI8-$BE8)*(1/$D8))+$BE8,\"\")","v":""},{"$f":"IF(SUM(BK$7:BK7)>0,\"\",IF($B$40>SUM(AT$7:AT8),\"\",IF($F8>$E8,(BE8+($B$40-SUM(AT$7:AT7))),(BE8-($B$40-SUM(AT$7:AT7))))))","v":{"$error":"#VALUE!"}},{"$f":"IFERROR(((BK8-$BE8)*(1/$D8))+$BE8,\"\")","v":""},{"$f":"IFERROR(IF($C8=SUM($H8+AA8+AT8),0,IF(($C8-SUM($H8+AA8+AT8))>($B$3-SUM(BM$7:BM7)),($B$3-SUM(BM$7:BM7)),($C8-SUM($H8+AA8+AT8)))),\"\")","v":0},{"$f":"IFERROR(BM8/$D8,\"\")","v":""},{"$f":"IF(BZ8=\"\",\"\",\"Yes\")","v":{"$error":"#VALUE!"}},{"$f":"IF(BZ8=\"\",\"\",$A8)","v":{"$error":"#VALUE!"}},{"$f":"IF(BO8=\"\",\"\",$G8)","v":{"$error":"#VALUE!"}},{"$f":"IF(CB8=\"\",\"\",\"Yes\")","v":{"$error":"#VALUE!"}},{"$f":"IF(CB8=\"\",\"\",$A8)","v":{"$error":"#VALUE!"}},{"$f":"IF(BR8=\"\",\"\",$G8)","v":{"$error":"#VALUE!"}},{"$f":"IF(CD8=\"\",\"\",\"Yes\")","v":{"$error":"#VALUE!"}},{"$f":"IF(CD8=\"\",\"\",$A8)","v":{"$error":"#VALUE!"}},{"$f":"IF(BU8=\"\",\"\",$G8)","v":{"$error":"#VALUE!"}},{"$f":"IF(BM8=0,\"\",IF(BF8=\"\",$E8,BF8))","v":""},{"$f":"IF(BX8=\"\",\"\",IF($F8>$E8,BX8+BN8,BX8-BN8))","v":""},{"$f":"IF(SUM(BZ$7:BZ7)>0,\"\",IF($B$38>SUM(BM$7:BM8),\"\",IF($F8>$E8,(BX8+($B$38-SUM(BM$7:BM7))),(BX8-($B$38-SUM(BM$7:BM7))))))","v":{"$error":"#VALUE!"}},{"$f":"IFERROR(((BZ8-$BX8)*(1/$D8))+$BX8,\"\")","v":""},{"$f":"IF(SUM(CB$7:CB7)>0,\"\",IF($B$39>SUM(BM$7:BM8),\"\",IF($F8>$E8,(BX8+($B$39-SUM(BM$7:BM7))),(BX8-($B$39-SUM(BM$7:BM7))))))","v":{"$error":"#VALUE!"}},{"$f":"IFERROR(((CB8-$BX8)*(1/$D8))+$BX8,\"\")","v":""},{"$f":"IF(SUM(CD$7:CD7)>0,\"\",IF($B$40>SUM(BM$7:BM8),\"\",IF($F8>$E8,(BX8+($B$40-SUM(BM$7:BM7))),(BX8-($B$40-SUM(BM$7:BM7))))))","v":{"$error":"#VALUE!"}},{"$f":"IFERROR(((CD8-$BX8)*(1/$D8))+$BX8,\"\")","v":""},{"$f":"IFERROR(IF($C8=SUM($H8+AA8+AT8+BM8),0,IF(($C8-SUM($H8+AA8+AT8+BM8))>($B$3-SUM(CF$7:CF7)),($B$3-SUM(CF$7:CF7)),($C8-SUM($H8+AA8+AT8+BM8)))),\"\")","v":0},{"$f":"IFERROR(CF8/$D8,\"\")","v":""},{"$f":"IF(CS8=\"\",\"\",\"Yes\")","v":{"$error":"#VALUE!"}},{"$f":"IF(CS8=\"\",\"\",$A8)","v":{"$error":"#VALUE!"}},{"$f":"IF(CH8=\"\",\"\",$G8)","v":{"$error":"#VALUE!"}},{"$f":"IF(CU8=\"\",\"\",\"Yes\")","v":{"$error":"#VALUE!"}},{"$f":"IF(CU8=\"\",\"\",$A8)","v":{"$error":"#VALUE!"}},{"$f":"IF(CK8=\"\",\"\",$G8)","v":{"$error":"#VALUE!"}},{"$f":"IF(CW8=\"\",\"\",\"Yes\")","v":{"$error":"#VALUE!"}},{"$f":"IF(CW8=\"\",\"\",$A8)","v":{"$error":"#VALUE!"}},{"$f":"IF(CN8=\"\",\"\",$G8)","v":{"$error":"#VALUE!"}},{"$f":"IF(CF8=0,\"\",IF(BY8=\"\",$E8,BY8))","v":""},{"$f":"IF(CQ8=\"\",\"\",IF($F8>$E8,CQ8+CG8,CQ8-CG8))","v":""},{"$f":"IF(SUM(CS$7:CS7)>0,\"\",IF($B$38>SUM(CF$7:CF8),\"\",IF($F8>$E8,(CQ8+($B$38-SUM(CF$7:CF7))),(CQ8-($B$38-SUM(CF$7:CF7))))))","v":{"$error":"#VALUE!"}},{"$f":"IFERROR(((CS8-$CQ8)*(1/$D8))+$CQ8,\"\")","v":""},{"$f":"IF(SUM(CU$7:CU7)>0,\"\",IF($B$39>SUM(CF$7:CF8),\"\",IF($F8>$E8,(CQ8+($B$39-SUM(CF$7:CF7))),(CQ8-($B$39-SUM(CF$7:CF7))))))","v":{"$error":"#VALUE!"}},{"$f":"IFERROR(((CU8-$CQ8)*(1/$D8))+$CQ8,\"\")","v":""},{"$f":"IF(SUM(CW$7:CW7)>0,\"\",IF($B$40>SUM(CF$7:CF8),\"\",IF($F8>$E8,(CQ8+($B$40-SUM(CF$7:CF7))),(CQ8-($B$40-SUM(CF$7:CF7))))))","v":{"$error":"#VALUE!"}},{"$f":"IFERROR(((CW8-$CQ8)*(1/$D8))+$CQ8,\"\")","v":""}]
[{"$f":"IF('DSR Template'!$B17=\"\",\"\",'DSR Template'!$B17)","v":""},{"$f":"'DSR Template'!$K17","v":""},{"$f":"'DSR Template'!J17","v":0},{"$error":"#VALUE!"},{"$f":"IF('DSR Template'!H17=\"\",\"\",'DSR Template'!H17)","v":""},{"$f":"IF('DSR Template'!I17=\"\",\"\",'DSR Template'!I17)","v":""},{"$f":"IF('DSR Template'!D17=\"\",\"\",'DSR Template'!D17)","v":""},{"$f":"IFERROR(IF(($B$3-$C9-SUM(H$7:H8))>0,$C9,$B$3-SUM(H$7:H8)),\"\")","v":0},"",{"$error":"#VALUE!"},{"$error":"#VALUE!"},{"$error":"#VALUE!"},{"$error":"#VALUE!"},{"$error":"#VALUE!"},{"$error":"#VALUE!"},{"$error":"#VALUE!"},{"$error":"#VALUE!"},{"$error":"#VALUE!"},"","",{"$f":"IF(SUM(U$7:U8)>0,\"\",IF($B$38>SUM(H$7:H9),\"\",IF($F9>$E9,(S9+($B$38-SUM(H$7:H8))),(S9-($B$38-SUM(H$7:H8))))))","v":{"$error":"#VALUE!"}},"",{"$f":"IF(SUM(W$7:W8)>0,\"\",IF($B$39>SUM(H$7:H9),\"\",IF($F9>$E9,(S9+($B$39-SUM(H$7:H8))),(S9-($B$39-SUM(H$7:H8))))))","v":{"$error":"#VALUE!"}},"",{"$f":"IF(SUM(Y$7:Y8)>0,\"\",IF($B$40>SUM(H$7:H9),\"\",IF($F9>$E9,(S9+($B$40-SUM(H$7:H8))),(S9-($B$40-SUM(H$7:H8))))))","v":{"$error":"#VALUE!"}},"",{"$f":"IFERROR(IF($C9=SUM($H9:H9),0,IF(($C9-SUM($H9:H9))>($B$3-SUM(AA$7:AA8)),($B$3-SUM(AA$7:AA8)),($C9-SUM($H9:H9)))),\"\")","v":0},"",{"$error":"#VALUE!"},{"$error":"#VALUE!"},{"$error":"#VALUE!"},{"$error":"#VALUE!"},{"$error":"#VALUE!"},{"$error":"#VALUE!"},{"$error":"#VALUE!"},{"$error":"#VALUE!"},{"$error":"#VALUE!"},"","",{"$f":"IF(SUM(AN$7:AN8)>0,\"\",IF($B$38>SUM(AA$7:AA9),\"\",IF($F9>$E9,(AL9+($B$38-SUM(AA$7:AA8))),(AL9-($B$38-SUM(AA$7:AA8))))))","v":{"$error":"#VALUE!"}},"",{"$f":"IF(SUM(AP$7:AP8)>0,\"\",IF($B$39>SUM(AA$7:AA9),\"\",IF($F9>$E9,(AL9+($B$39-SUM(AA$7:AA8))),(AL9-($B$39-SUM(AA$7:AA8))))))","v":{"$error":"#VALUE!"}},"",{"$f":"IF(SUM(AR$7:AR8)>0,\"\",IF($B$40>SUM(AA$7:AA9),\"\",IF($F9>$E9,(AL9+($B$40-SUM(AA$7:AA8))),(AL9-($B$40-SUM(AA$7:AA8))))))","v":{"$error":"#VALUE!"}},"",{"$f":"IFERROR(IF($C9=SUM($H9+AA9),0,IF(($C9-SUM($H9+AA9))>($B$3-SUM(AT$7:AT8)),($B$3-SUM(AT$7:AT8)),($C9-SUM($H9+AA9)))),\"\")","v":0},"",{"$error":"#VALUE!"},{"$error":"#VALUE!"},{"$error":"#VALUE!"},{"$error":"#VALUE!"},{"$error":"#VALUE!"},{"$error":"#VALUE!"},{"$error":"#VALUE!"},{"$error":"#VALUE!"},{"$error":"#VALUE!"},"","",{"$f":"IF(SUM(BG$7:BG8)>0,\"\",IF($B$38>SUM(AT$7:AT9),\"\",IF($F9>$E9,(BE9+($B$38-SUM(AT$7:AT8))),(BE9-($B$38-SUM(AT$7:AT8))))))","v":{"$error":"#VALUE!"}},"",{"$f":"IF(SUM(BI$7:BI8)>0,\"\",IF($B$39>SUM(AT$7:AT9),\"\",IF($F9>$E9,(BE9+($B$39-SUM(AT$7:AT8))),(BE9-($B$39-SUM(AT$7:AT8))))))","v":{"$error":"#VALUE!"}},"",{"$f":"IF(SUM(BK$7:BK8)>0,\"\",IF($B$40>SUM(AT$7:AT9),\"\",IF($F9>$E9,(BE9+($B$40-SUM(AT$7:AT8))),(BE9-($B$40-SUM(AT$7:AT8))))))","v":{"$error":"#VALUE!"}},"",{"$f":"IFERROR(IF($C9=SUM($H9+AA9+AT9),0,IF(($C9-SUM($H9+AA9+AT9))>($B$3-SUM(BM$7:BM8)),($B$3-SUM(BM$7:BM8)),($C9-SUM($H9+AA9+AT9)))),\"\")","v":0},"",{"$error":"#VALUE!"},{"$error":"#VALUE!"},{"$error":"#VALUE!"},{"$error":"#VALUE!"},{"$error":"#VALUE!"},{"$error":"#VALUE!"},{"$error":"#VALUE!"},{"$error":"#VALUE!"},{"$error":"#VALUE!"},"","",{"$f":"IF(SUM(BZ$7:BZ8)>0,\"\",IF($B$38>SUM(BM$7:BM9),\"\",IF($F9>$E9,(BX9+($B$38-SUM(BM$7:BM8))),(BX9-($B$38-SUM(BM$7:BM8))))))","v":{"$error":"#VALUE!"}},"",{"$f":"IF(SUM(CB$7:CB8)>0,\"\",IF($B$39>SUM(BM$7:BM9),\"\",IF($F9>$E9,(BX9+($B$39-SUM(BM$7:BM8))),(BX9-($B$39-SUM(BM$7:BM8))))))","v":{"$error":"#VALUE!"}},"",{"$f":"IF(SUM(CD$7:CD8)>0,\"\",IF($B$40>SUM(BM$7:BM9),\"\",IF($F9>$E9,(BX9+($B$40-SUM(BM$7:BM8))),(BX9-($B$40-SUM(BM$7:BM8))))))","v":{"$error":"#VALUE!"}},"",{"$f":"IFERROR(IF($C9=SUM($H9+AA9+AT9+BM9),0,IF(($C9-SUM($H9+AA9+AT9+BM9))>($B$3-SUM(CF$7:CF8)),($B$3-SUM(CF$7:CF8)),($C9-SUM($H9+AA9+AT9+BM9)))),\"\")","v":0},"",{"$error":"#VALUE!"},{"$error":"#VALUE!"},{"$error":"#VALUE!"},{"$error":"#VALUE!"},{"$error":"#VALUE!"},{"$error":"#VALUE!"},{"$error":"#VALUE!"},{"$error":"#VALUE!"},{"$error":"#VALUE!"},"","",{"$f":"IF(SUM(CS$7:CS8)>0,\"\",IF($B$38>SUM(CF$7:CF9),\"\",IF($F9>$E9,(CQ9+($B$38-SUM(CF$7:CF8))),(CQ9-($B$38-SUM(CF$7:CF8))))))","v":{"$error":"#VALUE!"}},"",{"$f":"IF(SUM(CU$7:CU8)>0,\"\",IF($B$39>SUM(CF$7:CF9),\"\",IF($F9>$E9,(CQ9+($B$39-SUM(CF$7:CF8))),(CQ9-($B$39-SUM(CF$7:CF8))))))","v":{"$error":"#VALUE!"}},"",{"$f":"IF(SUM(CW$7:CW8)>0,\"\",IF($B$40>SUM(CF$7:CF9),\"\",IF($F9>$E9,(CQ9+($B$40-SUM(CF$7:CF8))),(CQ9-($B$40-SUM(CF$7:CF8))))))","v":{"$error":"#VALUE!"}},""]
[{"$f":"IF('DSR Template'!$B18=\"\",\"\",'DSR Template'!$B18)","v":""},{"$f":"'DSR Template'!$K18","v":""},{"$f":"'DSR Template'!J18","v":0},{"$error":"#VALUE!"},{"$f":"IF('DSR Template'!H18=\"\",\"\",'DSR Template'!H18)","v":""},{"$f":"IF('DSR Template'!I18=\"\",\"\",'DSR Template'!I18)","v":""},{"$f":"IF('DSR Template'!D18=\"\",\"\",'DSR Template'!D18)","v":""},{"$f":"IFERROR(IF(($B$3-$C10-SUM(H$7:H9))>0,$C10,$B$3-SUM(H$7:H9)),\"\")","v":0},"",{"$error":"#VALUE!"},{"$error":"#VALUE!"},{"$error":"#VALUE!"},{"$error":"#VALUE!"},{"$error":"#VALUE!"},{"$error":"#VALUE!"},{"$error":"#VALUE!"},{"$error":"#VALUE!"},{"$error":"#VALUE!"},"","",{"$f":"IF(SUM(U$7:U9)>0,\"\",IF($B$38>SUM(H$7:H10),\"\",IF($F10>$E10,(S10+($B$38-SUM(H$7:H9))),(S10-($B$38-SUM(H$7:H9))))))","v":{"$error":"#VALUE!"}},"",{"$f":"IF(SUM(W$7:W9)>0,\"\",IF($B$39>SUM(H$7:H10),\"\",IF($F10>$E10,(S10+($B$39-SUM(H$7:H9))),(S10-($B$39-SUM(H$7:H9))))))","v":{"$error":"#VALUE!"}},"",{"$f":"IF(SUM(Y$7:Y9)>0,\"\",IF($B$40>SUM(H$7:H10),\"\",IF($F10>$E10,(S10+($B$40-SUM(H$7:H9))),(S10-($B$40-SUM(H$7:H9))))))","v":{"$error":"#VALUE!"}},"",{"$f":"IFERROR(IF($C10=SUM($H10:H10),0,IF(($C10-SUM($H10:H10))>($B$3-SUM(AA$7:AA9)),($B$3-SUM(AA$7:AA9)),($C10-SUM($H10:H10)))),\"\")","v":0},"",{"$error":"#VALUE!"},{"$error":"#VALUE!"},{"$error":"#VALUE!"},{"$error":"#VALUE!"},{"$error":"#VALUE!"},{"$error":"#VALUE!"},{"$error":"#VALUE!"},{"$error":"#VALUE!"},{"$error":"#VALUE!"},"","",{"$f":"IF(SUM(AN$7:AN9)>0,\"\",IF($B$38>SUM(AA$7:AA10),\"\",IF($F10>$E10,(AL10+($B$38-SUM(AA$7:AA9))),(AL10-($B$38-SUM(AA$7:AA9))))))","v":{"$error":"#VALUE!"}},"",{"$f":"IF(SUM(AP$7:AP9)>0,\"\",IF($B$39>SUM(AA$7:AA10),\"\",IF($F10>$E10,(AL10+($B$39-SUM(AA$7:AA9))),(AL10-($B$39-SUM(AA$7:AA9))))))","v":{"$error":"#VALUE!"}},"",{"$f":"IF(SUM(AR$7:AR9)>0,\"\",IF($B$40>SUM(AA$7:AA10),\"\",IF($F10>$E10,(AL10+($B$40-SUM(AA$7:AA9))),(AL10-($B$40-SUM(AA$7:AA9))))))","v":{"$error":"#VALUE!"}},"",{"$f":"IFERROR(IF($C10=SUM($H10+AA10),0,IF(($C10-SUM($H10+AA10))>($B$3-SUM(AT$7:AT9)),($B$3-SUM(AT$7:AT9)),($C10-SUM($H10+AA10)))),\"\")","v":0},"",{"$error":"#VALUE!"},{"$error":"#VALUE!"},{"$error":"#VALUE!"},{"$error":"#VALUE!"},{"$error":"#VALUE!"},{"$error":"#VALUE!"},{"$error":"#VALUE!"},{"$error":"#VALUE!"},{"$error":"#VALUE!"},"","",{"$f":"IF(SUM(BG$7:BG9)>0,\"\",IF($B$38>SUM(AT$7:AT10),\"\",IF($F10>$E10,(BE10+($B$38-SUM(AT$7:AT9))),(BE10-($B$38-SUM(AT$7:AT9))))))","v":{"$error":"#VALUE!"}},"",{"$f":"IF(SUM(BI$7:BI9)>0,\"\",IF($B$39>SUM(AT$7:AT10),\"\",IF($F10>$E10,(BE10+($B$39-SUM(AT$7:AT9))),(BE10-($B$39-SUM(AT$7:AT9))))))","v":{"$error":"#VALUE!"}},"",{"$f":"IF(SUM(BK$7:BK9)>0,\"\",IF($B$40>SUM(AT$7:AT10),\"\",IF($F10>$E10,(BE10+($B$40-SUM(AT$7:AT9))),(BE10-($B$40-SUM(AT$7:AT9))))))","v":{"$error":"#VALUE!"}},"",{"$f":"IFERROR(IF($C10=SUM($H10+AA10+AT10),0,IF(($C10-SUM($H10+AA10+AT10))>($B$3-SUM(BM$7:BM9)),($B$3-SUM(BM$7:BM9)),($C10-SUM($H10+AA10+AT10)))),\"\")","v":0},"",{"$error":"#VALUE!"},{"$error":"#VALUE!"},{"$error":"#VALUE!"},{"$error":"#VALUE!"},{"$error":"#VALUE!"},{"$error":"#VALUE!"},{"$error":"#VALUE!"},{"$error":"#VALUE!"},{"$error":"#VALUE!"},"","",{"$f":"IF(SUM(BZ$7:BZ9)>0,\"\",IF($B$38>SUM(BM$7:BM10),\"\",IF($F10>$E10,(BX10+($B$38-SUM(BM$7:BM9))),(BX10-($B$38-SUM(BM$7:BM9))))))","v":{"$error":"#VALUE!"}},"",{"$f":"IF(SUM(CB$7:CB9)>0,\"\",IF($B$39>SUM(BM$7:BM10),\"\",IF($F10>$E10,(BX10+($B$39-SUM(BM$7:BM9))),(BX10-($B$39-SUM(BM$7:BM9))))))","v":{"$error":"#VALUE!"}},"",{"$f":"IF(SUM(CD$7:CD9)>0,\"\",IF($B$40>SUM(BM$7:BM10),\"\",IF($F10>$E10,(BX10+($B$40-SUM(BM$7:BM9))),(BX10-($B$40-SUM(BM$7:BM9))))))","v":{"$error":"#VALUE!"}},"",{"$f":"IFERROR(IF($C10=SUM($H10+AA10+AT10+BM10),0,IF(($C10-SUM($H10+AA10+AT10+BM10))>($B$3-SUM(CF$7:CF9)),($B$3-SUM(CF$7:CF9)),($C10-SUM($H10+AA10+AT10+BM10)))),\"\")","v":0},"",{"$error":"#VALUE!"},{"$error":"#VALUE!"},{"$error":"#VALUE!"},{"$error":"#VALUE!"},{"$error":"#VALUE!"},{"$error":"#VALUE!"},{"$error":"#VALUE!"},{"$error":"#VALUE!"},{"$error":"#VALUE!"},"","",{"$f":"IF(SUM(CS$7:CS9)>0,\"\",IF($B$38>SUM(CF$7:CF10),\"\",IF($F10>$E10,(CQ10+($B$38-SUM(CF$7:CF9))),(CQ10-($B$38-SUM(CF$7:CF9))))))","v":{"$error":"#VALUE!"}},"",{"$f":"IF(SUM(CU$7:CU9)>0,\"\",IF($B$39>SUM(CF$7:CF10),\"\",IF($F10>$E10,(CQ10+($B$39-SUM(CF$7:CF9))),(CQ10-($B$39-SUM(CF$7:CF9))))))","v":{"$error":"#VALUE!"}},"",{"$f":"IF(SUM(CW$7:CW9)>0,\"\",IF($B$40>SUM(CF$7:CF10),\"\",IF($F10>$E10,(CQ10+($B$40-SUM(CF$7:CF9))),(CQ10-($B$40-SUM(CF$7:CF9))))))","v":{"$error":"#VALUE!"}},""]
[{"$f":"IF('DSR Template'!$B19=\"\",\"\",'DSR Template'!$B19)","v":""},{"$f":"'DSR Template'!$K19","v":""},{"$f":"'DSR Template'!J19","v":0},{"$error":"#VALUE!"},{"$f":"IF('DSR Template'!H19=\"\",\"\",'DSR Template'!H19)","v":""},{"$f":"IF('DSR Template'!I19=\"\",\"\",'DSR Template'!I19)","v":""},{"$f":"IF('DSR Template'!D19=\"\",\"\",'DSR Template'!D19)","v":""},{"$f":"IFERROR(IF(($B$3-$C11-SUM(H$7:H10))>0,$C11,$B$3-SUM(H$7:H10)),\"\")","v":0},"",{"$error":"#VALUE!"},{"$error":"#VALUE!"},{"$error":"#VALUE!"},{"$error":"#VALUE!"},{"$error":"#VALUE!"},{"$error":"#VALUE!"},{"$error":"#VALUE!"},{"$error":"#VALUE!"},{"$error":"#VALUE!"},"","",{"$f":"IF(SUM(U$7:U10)>0,\"\",IF($B$38>SUM(H$7:H11),\"\",IF($F11>$E11,(S11+($B$38-SUM(H$7:H10))),(S11-($B$38-SUM(H$7:H10))))))","v":{"$error":"#VALUE!"}},"",{"$f":"IF(SUM(W$7:W10)>0,\"\",IF($B$39>SUM(H$7:H11),\"\",IF($F11>$E11,(S11+($B$39-SUM(H$7:H10))),(S11-($B$39-SUM(H$7:H10))))))","v":{"$error":"#VALUE!"}},"",{"$f":"IF(SUM(Y$7:Y10)>0,\"\",IF($B$40>SUM(H$7:H11),\"\",IF($F11>$E11,(S11+($B$40-SUM(H$7:H10))),(S11-($B$40-SUM(H$7:H10))))))","v":{"$error":"#VALUE!"}},"",{"$f":"IFERROR(IF($C11=SUM($H11:H11),0,IF(($C11-SUM($H11:H11))>($B$3-SUM(AA$7:AA10)),($B$3-SUM(AA$7:AA10)),($C11-SUM($H11:H11)))),\"\")","v":0},"",{"$error":"#VALUE!"},{"$error":"#VALUE!"},{"$error":"#VALUE!"},{"$error":"#VALUE!"},{"$error":"#VALUE!"},{"$error":"#VALUE!"},{"$error":"#VALUE!"},{"$error":"#VALUE!"},{"$error":"#VALUE!"},"","",{"$f":"IF(SUM(AN$7:AN10)>0,\"\",IF($B$38>SUM(AA$7:AA11),\"\",IF($F11>$E11,(AL11+($B$38-SUM(AA$7:AA10))),(AL11-($B$38-SUM(AA$7:AA10))))))","v":{"$error":"#VALUE!"}},"",{"$f":"IF(SUM(AP$7:AP10)>0,\"\",IF($B$39>SUM(AA$7:AA11),\"\",IF($F11>$E11,(AL11+($B$39-SUM(AA$7:AA10))),(AL11-($B$39-SUM(AA$7:AA10))))))","v":{"$error":"#VALUE!"}},"",{"$f":"IF(SUM(AR$7:AR10)>0,\"\",IF($B$40>SUM(AA$7:AA11),\"\",IF($F11>$E11,(AL11+($B$40-SUM(AA$7:AA10))),(AL11-($B$40-SUM(AA$7:AA10))))))","v":{"$error":"#VALUE!"}},"",{"$f":"IFERROR(IF($C11=SUM($H11+AA11),0,IF(($C11-SUM($H11+AA11))>($B$3-SUM(AT$7:AT10)),($B$3-SUM(AT$7:AT10)),($C11-SUM($H11+AA11)))),\"\")","v":0},"",{"$error":"#VALUE!"},{"$error":"#VALUE!"},{"$error":"#VALUE!"},{"$error":"#VALUE!"},{"$error":"#VALUE!"},{"$error":"#VALUE!"},{"$error":"#VALUE!"},{"$error":"#VALUE!"},{"$error":"#VALUE!"},"","",{"$f":"IF(SUM(BG$7:BG10)>0,\"\",IF($B$38>SUM(AT$7:AT11),\"\",IF($F11>$E11,(BE11+($B$38-SUM(AT$7:AT10))),(BE11-($B$38-SUM(AT$7:AT10))))))","v":{"$error":"#VALUE!"}},"",{"$f":"IF(SUM(BI$7:BI10)>0,\"\",IF($B$39>SUM(AT$7:AT11),\"\",IF($F11>$E11,(BE11+($B$39-SUM(AT$7:AT10))),(BE11-($B$39-SUM(AT$7:AT10))))))","v":{"$error":"#VALUE!"}},"",{"$f":"IF(SUM(BK$7:BK10)>0,\"\",IF($B$40>SUM(AT$7:AT11),\"\",IF($F11>$E11,(BE11+($B$40-SUM(AT$7:AT10))),(BE11-($B$40-SUM(AT$7:AT10))))))","v":{"$error":"#VALUE!"}},"",{"$f":"IFERROR(IF($C11=SUM($H11+AA11+AT11),0,IF(($C11-SUM($H11+AA11+AT11))>($B$3-SUM(BM$7:BM10)),($B$3-SUM(BM$7:BM10)),($C11-SUM($H11+AA11+AT11)))),\"\")","v":0},"",{"$error":"#VALUE!"},{"$error":"#VALUE!"},{"$error":"#VALUE!"},{"$error":"#VALUE!"},{"$error":"#VALUE!"},{"$error":"#VALUE!"},{"$error":"#VALUE!"},{"$error":"#VALUE!"},{"$error":"#VALUE!"},"","",{"$f":"IF(SUM(BZ$7:BZ10)>0,\"\",IF($B$38>SUM(BM$7:BM11),\"\",IF($F11>$E11,(BX11+($B$38-SUM(BM$7:BM10))),(BX11-($B$38-SUM(BM$7:BM10))))))","v":{"$error":"#VALUE!"}},"",{"$f":"IF(SUM(CB$7:CB10)>0,\"\",IF($B$39>SUM(BM$7:BM11),\"\",IF($F11>$E11,(BX11+($B$39-SUM(BM$7:BM10))),(BX11-($B$39-SUM(BM$7:BM10))))))","v":{"$error":"#VALUE!"}},"",{"$f":"IF(SUM(CD$7:CD10)>0,\"\",IF($B$40>SUM(BM$7:BM11),\"\",IF($F11>$E11,(BX11+($B$40-SUM(BM$7:BM10))),(BX11-($B$40-SUM(BM$7:BM10))))))","v":{"$error":"#VALUE!"}},"",{"$f":"IFERROR(IF($C11=SUM($H11+AA11+AT11+BM11),0,IF(($C11-SUM($H11+AA11+AT11+BM11))>($B$3-SUM(CF$7:CF10)),($B$3-SUM(CF$7:CF10)),($C11-SUM($H11+AA11+AT11+BM11)))),\"\")","v":0},"",{"$error":"#VALUE!"},{"$error":"#VALUE!"},{"$error":"#VALUE!"},{"$error":"#VALUE!"},{"$error":"#VALUE!"},{"$error":"#VALUE!"},{"$error":"#VALUE!"},{"$error":"#VALUE!"},{"$error":"#VALUE!"},"","",{"$f":"IF(SUM(CS$7:CS10)>0,\"\",IF($B$38>SUM(CF$7:CF11),\"\",IF($F11>$E11,(CQ11+($B$38-SUM(CF$7:CF10))),(CQ11-($B$38-SUM(CF$7:CF10))))))","v":{"$error":"#VALUE!"}},"",{"$f":"IF(SUM(CU$7:CU10)>0,\"\",IF($B$39>SUM(CF$7:CF11),\"\",IF($F11>$E11,(CQ11+($B$39-SUM(CF$7:CF10))),(CQ11-($B$39-SUM(CF$7:CF10))))))","v":{"$error":"#VALUE!"}},"",{"$f":"IF(SUM(CW$7:CW10)>0,\"\",IF($B$40>SUM(CF$7:CF11),\"\",IF($F11>$E11,(CQ11+($B$40-SUM(CF$7:CF10))),(CQ11-($B$40-SUM(CF$7:CF10))))))","v":{"$error":"#VALUE!"}},""]
[{"$f":"IF('DSR Template'!$B20=\"\",\"\",'DSR Template'!$B20)","v":""},{"$f":"'DSR Template'!$K20","v":""},{"$f":"'DSR Template'!J20","v":0},{"$error":"#VALUE!"},{"$f":"IF('DSR Template'!H20=\"\",\"\",'DSR Template'!H20)","v":""},{"$f":"IF('DSR Template'!I20=\"\",\"\",'DSR Template'!I20)","v":""},{"$f":"IF('DSR Template'!D20=\"\",\"\",'DSR Template'!D20)","v":""},{"$f":"IFERROR(IF(($B$3-$C12-SUM(H$7:H11))>0,$C12,$B$3-SUM(H$7:H11)),\"\")","v":0},"",{"$error":"#VALUE!"},{"$error":"#VALUE!"},{"$error":"#VALUE!"},{"$error":"#VALUE!"},{"$error":"#VALUE!"},{"$error":"#VALUE!"},{"$error":"#VALUE!"},{"$error":"#VALUE!"},{"$error":"#VALUE!"},"","",{"$f":"IF(SUM(U$7:U11)>0,\"\",IF($B$38>SUM(H$7:H12),\"\",IF($F12>$E12,(S12+($B$38-SUM(H$7:H11))),(S12-($B$38-SUM(H$7:H11))))))","v":{"$error":"#VALUE!"}},"",{"$f":"IF(SUM(W$7:W11)>0,\"\",IF($B$39>SUM(H$7:H12),\"\",IF($F12>$E12,(S12+($B$39-SUM(H$7:H11))),(S12-($B$39-SUM(H$7:H11))))))","v":{"$error":"#VALUE!"}},"",{"$f":"IF(SUM(Y$7:Y11)>0,\"\",IF($B$40>SUM(H$7:H12),\"\",IF($F12>$E12,(S12+($B$40-SUM(H$7:H11))),(S12-($B$40-SUM(H$7:H11))))))","v":{"$error":"#VALUE!"}},"",{"$f":"IFERROR(IF($C12=SUM($H12:H12),0,IF(($C12-SUM($H12:H12))>($B$3-SUM(AA$7:AA11)),($B$3-SUM(AA$7:AA11)),($C12-SUM($H12:H12)))),\"\")","v":0},"",{"$error":"#VALUE!"},{"$error":"#VALUE!"},{"$error":"#VALUE!"},{"$error":"#VALUE!"},{"$error":"#VALUE!"},{"$error":"#VALUE!"},{"$error":"#VALUE!"},{"$error":"#VALUE!"},{"$error":"#VALUE!"},"","",{"$f":"IF(SUM(AN$7:AN11)>0,\"\",IF($B$38>SUM(AA$7:AA12),\"\",IF($F12>$E12,(AL12+($B$38-SUM(AA$7:AA11))),(AL12-($B$38-SUM(AA$7:AA11))))))","v":{"$error":"#VALUE!"}},"",{"$f":"IF(SUM(AP$7:AP11)>0,\"\",IF($B$39>SUM(AA$7:AA12),\"\",IF($F12>$E12,(AL12+($B$39-SUM(AA$7:AA11))),(AL12-($B$39-SUM(AA$7:AA11))))))","v":{"$error":"#VALUE!"}},"",{"$f":"IF(SUM(AR$7:AR11)>0,\"\",IF($B$40>SUM(AA$7:AA12),\"\",IF($F12>$E12,(AL12+($B$40-SUM(AA$7:AA11))),(AL12-($B$40-SUM(AA$7:AA11))))))","v":{"$error":"#VALUE!"}},"",{"$f":"IFERROR(IF($C12=SUM($H12+AA12),0,IF(($C12-SUM($H12+AA12))>($B$3-SUM(AT$7:AT11)),($B$3-SUM(AT$7:AT11)),($C12-SUM($H12+AA12)))),\"\")","v":0},"",{"$error":"#VALUE!"},{"$error":"#VALUE!"},{"$error":"#VALUE!"},{"$error":"#VALUE!"},{"$error":"#VALUE!"},{"$error":"#VALUE!"},{"$error":"#VALUE!"},{"$error":"#VALUE!"},{"$error":"#VALUE!"},"","",{"$f":"IF(SUM(BG$7:BG11)>0,\"\",IF($B$38>SUM(AT$7:AT12),\"\",IF($F12>$E12,(BE12+($B$38-SUM(AT$7:AT11))),(BE12-($B$38-SUM(AT$7:AT11))))))","v":{"$error":"#VALUE!"}},"",{"$f":"IF(SUM(BI$7:BI11)>0,\"\",IF($B$39>SUM(AT$7:AT12),\"\",IF($F12>$E12,(BE12+($B$39-SUM(AT$7:AT11))),(BE12-($B$39-SUM(AT$7:AT11))))))","v":{"$error":"#VALUE!"}},"",{"$f":"IF(SUM(BK$7:BK11)>0,\"\",IF($B$40>SUM(AT$7:AT12),\"\",IF($F12>$E12,(BE12+($B$40-SUM(AT$7:AT11))),(BE12-($B$40-SUM(AT$7:AT11))))))","v":{"$error":"#VALUE!"}},"",{"$f":"IFERROR(IF($C12=SUM($H12+AA12+AT12),0,IF(($C12-SUM($H12+AA12+AT12))>($B$3-SUM(BM$7:BM11)),($B$3-SUM(BM$7:BM11)),($C12-SUM($H12+AA12+AT12)))),\"\")","v":0},"",{"$error":"#VALUE!"},{"$error":"#VALUE!"},{"$error":"#VALUE!"},{"$error":"#VALUE!"},{"$error":"#VALUE!"},{"$error":"#VALUE!"},{"$error":"#VALUE!"},{"$error":"#VALUE!"},{"$error":"#VALUE!"},"","",{"$f":"IF(SUM(BZ$7:BZ11)>0,\"\",IF($B$38>SUM(BM$7:BM12),\"\",IF($F12>$E12,(BX12+($B$38-SUM(BM$7:BM11))),(BX12-($B$38-SUM(BM$7:BM11))))))","v":{"$error":"#VALUE!"}},"",{"$f":"IF(SUM(CB$7:CB11)>0,\"\",IF($B$39>SUM(BM$7:BM12),\"\",IF($F12>$E12,(BX12+($B$39-SUM(BM$7:BM11))),(BX12-($B$39-SUM(BM$7:BM11))))))","v":{"$error":"#VALUE!"}},"",{"$f":"IF(SUM(CD$7:CD11)>0,\"\",IF($B$40>SUM(BM$7:BM12),\"\",IF($F12>$E12,(BX12+($B$40-SUM(BM$7:BM11))),(BX12-($B$40-SUM(BM$7:BM11))))))","v":{"$error":"#VALUE!"}},"",{"$f":"IFERROR(IF($C12=SUM($H12+AA12+AT12+BM12),0,IF(($C12-SUM($H12+AA12+AT12+BM12))>($B$3-SUM(CF$7:CF11)),($B$3-SUM(CF$7:CF11)),($C12-SUM($H12+AA12+AT12+BM12)))),\"\")","v":0},"",{"$error":"#VALUE!"},{"$error":"#VALUE!"},{"$error":"#VALUE!"},{"$error":"#VALUE!"},{"$error":"#VALUE!"},{"$error":"#VALUE!"},{"$error":"#VALUE!"},{"$error":"#VALUE!"},{"$error":"#VALUE!"},"","",{"$f":"IF(SUM(CS$7:CS11)>0,\"\",IF($B$38>SUM(CF$7:CF12),\"\",IF($F12>$E12,(CQ12+($B$38-SUM(CF$7:CF11))),(CQ12-($B$38-SUM(CF$7:CF11))))))","v":{"$error":"#VALUE!"}},"",{"$f":"IF(SUM(CU$7:CU11)>0,\"\",IF($B$39>SUM(CF$7:CF12),\"\",IF($F12>$E12,(CQ12+($B$39-SUM(CF$7:CF11))),(CQ12-($B$39-SUM(CF$7:CF11))))))","v":{"$error":"#VALUE!"}},"",{"$f":"IF(SUM(CW$7:CW11)>0,\"\",IF($B$40>SUM(CF$7:CF12),\"\",IF($F12>$E12,(CQ12+($B$40-SUM(CF$7:CF11))),(CQ12-($B$40-SUM(CF$7:CF11))))))","v":{"$error":"#VALUE!"}},""]
[{"$f":"IF('DSR Template'!$B21=\"\",\"\",'DSR Template'!$B21)","v":""},{"$f":"'DSR Template'!$K21","v":""},{"$f":"'DSR Template'!J21","v":0},{"$error":"#VALUE!"},{"$f":"IF('DSR Template'!H21=\"\",\"\",'DSR Template'!H21)","v":""},{"$f":"IF('DSR Template'!I21=\"\",\"\",'DSR Template'!I21)","v":""},{"$f":"IF('DSR Template'!D21=\"\",\"\",'DSR Template'!D21)","v":""},{"$f":"IFERROR(IF(($B$3-$C13-SUM(H$7:H12))>0,$C13,$B$3-SUM(H$7:H12)),\"\")","v":0},"",{"$error":"#VALUE!"},{"$error":"#VALUE!"},{"$error":"#VALUE!"},{"$error":"#VALUE!"},{"$error":"#VALUE!"},{"$error":"#VALUE!"},{"$error":"#VALUE!"},{"$error":"#VALUE!"},{"$error":"#VALUE!"},"","",{"$f":"IF(SUM(U$7:U12)>0,\"\",IF($B$38>SUM(H$7:H13),\"\",IF($F13>$E13,(S13+($B$38-SUM(H$7:H12))),(S13-($B$38-SUM(H$7:H12))))))","v":{"$error":"#VALUE!"}},"",{"$f":"IF(SUM(W$7:W12)>0,\"\",IF($B$39>SUM(H$7:H13),\"\",IF($F13>$E13,(S13+($B$39-SUM(H$7:H12))),(S13-($B$39-SUM(H$7:H12))))))","v":{"$error":"#VALUE!"}},"",{"$f":"IF(SUM(Y$7:Y12)>0,\"\",IF($B$40>SUM(H$7:H13),\"\",IF($F13>$E13,(S13+($B$40-SUM(H$7:H12))),(S13-($B$40-SUM(H$7:H12))))))","v":{"$error":"#VALUE!"}},"",{"$f":"IFERROR(IF($C13=SUM($H13:H13),0,IF(($C13-SUM($H13:H13))>($B$3-SUM(AA$7:AA12)),($B$3-SUM(AA$7:AA12)),($C13-SUM($H13:H13)))),\"\")","v":0},"",{"$error":"#VALUE!"},{"$error":"#VALUE!"},{"$error":"#VALUE!"},{"$error":"#VALUE!"},{"$error":"#VALUE!"},{"$error":"#VALUE!"},{"$error":"#VALUE!"},{"$error":"#VALUE!"},{"$error":"#VALUE!"},"","",{"$f":"IF(SUM(AN$7:AN12)>0,\"\",IF($B$38>SUM(AA$7:AA13),\"\",IF($F13>$E13,(AL13+($B$38-SUM(AA$7:AA12))),(AL13-($B$38-SUM(AA$7:AA12))))))","v":{"$error":"#VALUE!"}},"",{"$f":"IF(SUM(AP$7:AP12)>0,\"\",IF($B$39>SUM(AA$7:AA13),\"\",IF($F13>$E13,(AL13+($B$39-SUM(AA$7:AA12))),(AL13-($B$39-SUM(AA$7:AA12))))))","v":{"$error":"#VALUE!"}},"",{"$f":"IF(SUM(AR$7:AR12)>0,\"\",IF($B$40>SUM(AA$7:AA13),\"\",IF($F13>$E13,(AL13+($B$40-SUM(AA$7:AA12))),(AL13-($B$40-SUM(AA$7:AA12))))))","v":{"$error":"#VALUE!"}},"",{"$f":"IFERROR(IF($C13=SUM($H13+AA13),0,IF(($C13-SUM($H13+AA13))>($B$3-SUM(AT$7:AT12)),($B$3-SUM(AT$7:AT12)),($C13-SUM($H13+AA13)))),\"\")","v":0},"",{"$error":"#VALUE!"},{"$error":"#VALUE!"},{"$error":"#VALUE!"},{"$error":"#VALUE!"},{"$error":"#VALUE!"},{"$error":"#VALUE!"},{"$error":"#VALUE!"},{"$error":"#VALUE!"},{"$error":"#VALUE!"},"","",{"$f":"IF(SUM(BG$7:BG12)>0,\"\",IF($B$38>SUM(AT$7:AT13),\"\",IF($F13>$E13,(BE13+($B$38-SUM(AT$7:AT12))),(BE13-($B$38-SUM(AT$7:AT12))))))","v":{"$error":"#VALUE!"}},"",{"$f":"IF(SUM(BI$7:BI12)>0,\"\",IF($B$39>SUM(AT$7:AT13),\"\",IF($F13>$E13,(BE13+($B$39-SUM(AT$7:AT12))),(BE13-($B$39-SUM(AT$7:AT12))))))","v":{"$error":"#VALUE!"}},"",{"$f":"IF(SUM(BK$7:BK12)>0,\"\",IF($B$40>SUM(AT$7:AT13),\"\",IF($F13>$E13,(BE13+($B$40-SUM(AT$7:AT12))),(BE13-($B$40-SUM(AT$7:AT12))))))","v":{"$error":"#VALUE!"}},"",{"$f":"IFERROR(IF($C13=SUM($H13+AA13+AT13),0,IF(($C13-SUM($H13+AA13+AT13))>($B$3-SUM(BM$7:BM12)),($B$3-SUM(BM$7:BM12)),($C13-SUM($H13+AA13+AT13)))),\"\")","v":0},"",{"$error":"#VALUE!"},{"$error":"#VALUE!"},{"$error":"#VALUE!"},{"$error":"#VALUE!"},{"$error":"#VALUE!"},{"$error":"#VALUE!"},{"$error":"#VALUE!"},{"$error":"#VALUE!"},{"$error":"#VALUE!"},"","",{"$f":"IF(SUM(BZ$7:BZ12)>0,\"\",IF($B$38>SUM(BM$7:BM13),\"\",IF($F13>$E13,(BX13+($B$38-SUM(BM$7:BM12))),(BX13-($B$38-SUM(BM$7:BM12))))))","v":{"$error":"#VALUE!"}},"",{"$f":"IF(SUM(CB$7:CB12)>0,\"\",IF($B$39>SUM(BM$7:BM13),\"\",IF($F13>$E13,(BX13+($B$39-SUM(BM$7:BM12))),(BX13-($B$39-SUM(BM$7:BM12))))))","v":{"$error":"#VALUE!"}},"",{"$f":"IF(SUM(CD$7:CD12)>0,\"\",IF($B$40>SUM(BM$7:BM13),\"\",IF($F13>$E13,(BX13+($B$40-SUM(BM$7:BM12))),(BX13-($B$40-SUM(BM$7:BM12))))))","v":{"$error":"#VALUE!"}},"",{"$f":"IFERROR(IF($C13=SUM($H13+AA13+AT13+BM13),0,IF(($C13-SUM($H13+AA13+AT13+BM13))>($B$3-SUM(CF$7:CF12)),($B$3-SUM(CF$7:CF12)),($C13-SUM($H13+AA13+AT13+BM13)))),\"\")","v":0},"",{"$error":"#VALUE!"},{"$error":"#VALUE!"},{"$error":"#VALUE!"},{"$error":"#VALUE!"},{"$error":"#VALUE!"},{"$error":"#VALUE!"},{"$error":"#VALUE!"},{"$error":"#VALUE!"},{"$error":"#VALUE!"},"","",{"$f":"IF(SUM(CS$7:CS12)>0,\"\",IF($B$38>SUM(CF$7:CF13),\"\",IF($F13>$E13,(CQ13+($B$38-SUM(CF$7:CF12))),(CQ13-($B$38-SUM(CF$7:CF12))))))","v":{"$error":"#VALUE!"}},"",{"$f":"IF(SUM(CU$7:CU12)>0,\"\",IF($B$39>SUM(CF$7:CF13),\"\",IF($F13>$E13,(CQ13+($B$39-SUM(CF$7:CF12))),(CQ13-($B$39-SUM(CF$7:CF12))))))","v":{"$error":"#VALUE!"}},"",{"$f":"IF(SUM(CW$7:CW12)>0,\"\",IF($B$40>SUM(CF$7:CF13),\"\",IF($F13>$E13,(CQ13+($B$40-SUM(CF$7:CF12))),(CQ13-($B$40-SUM(CF$7:CF12))))))","v":{"$error":"#VALUE!"}},""]
[{"$f":"IF('DSR Template'!$B22=\"\",\"\",'DSR Template'!$B22)","v":""},{"$f":"'DSR Template'!$K22","v":""},{"$f":"'DSR Template'!J22","v":0},{"$error":"#VALUE!"},{"$f":"IF('DSR Template'!H22=\"\",\"\",'DSR Template'!H22)","v":""},{"$f":"IF('DSR Template'!I22=\"\",\"\",'DSR Template'!I22)","v":""},{"$f":"IF('DSR Template'!D22=\"\",\"\",'DSR Template'!D22)","v":""},{"$f":"IFERROR(IF(($B$3-$C14-SUM(H$7:H13))>0,$C14,$B$3-SUM(H$7:H13)),\"\")","v":0},"",{"$error":"#VALUE!"},{"$error":"#VALUE!"},{"$error":"#VALUE!"},{"$error":"#VALUE!"},{"$error":"#VALUE!"},{"$error":"#VALUE!"},{"$error":"#VALUE!"},{"$error":"#VALUE!"},{"$error":"#VALUE!"},"","",{"$f":"IF(SUM(U$7:U13)>0,\"\",IF($B$38>SUM(H$7:H14),\"\",IF($F14>$E14,(S14+($B$38-SUM(H$7:H13))),(S14-($B$38-SUM(H$7:H13))))))","v":{"$error":"#VALUE!"}},"",{"$f":"IF(SUM(W$7:W13)>0,\"\",IF($B$39>SUM(H$7:H14),\"\",IF($F14>$E14,(S14+($B$39-SUM(H$7:H13))),(S14-($B$39-SUM(H$7:H13))))))","v":{"$error":"#VALUE!"}},"",{"$f":"IF(SUM(Y$7:Y13)>0,\"\",IF($B$40>SUM(H$7:H14),\"\",IF($F14>$E14,(S14+($B$40-SUM(H$7:H13))),(S14-($B$40-SUM(H$7:H13))))))","v":{"$error":"#VALUE!"}},"",{"$f":"IFERROR(IF($C14=SUM($H14:H14),0,IF(($C14-SUM($H14:H14))>($B$3-SUM(AA$7:AA13)),($B$3-SUM(AA$7:AA13)),($C14-SUM($H14:H14)))),\"\")","v":0},"",{"$error":"#VALUE!"},{"$error":"#VALUE!"},{"$error":"#VALUE!"},{"$error":"#VALUE!"},{"$error":"#VALUE!"},{"$error":"#VALUE!"},{"$error":"#VALUE!"},{"$error":"#VALUE!"},{"$error":"#VALUE!"},"","",{"$f":"IF(SUM(AN$7:AN13)>0,\"\",IF($B$38>SUM(AA$7:AA14),\"\",IF($F14>$E14,(AL14+($B$38-SUM(AA$7:AA13))),(AL14-($B$38-SUM(AA$7:AA13))))))","v":{"$error":"#VALUE!"}},"",{"$f":"IF(SUM(AP$7:AP13)>0,\"\",IF($B$39>SUM(AA$7:AA14),\"\",IF($F14>$E14,(AL14+($B$39-SUM(AA$7:AA13))),(AL14-($B$39-SUM(AA$7:AA13))))))","v":{"$error":"#VALUE!"}},"",{"$f":"IF(SUM(AR$7:AR13)>0,\"\",IF($B$40>SUM(AA$7:AA14),\"\",IF($F14>$E14,(AL14+($B$40-SUM(AA$7:AA13))),(AL14-($B$40-SUM(AA$7:AA13))))))","v":{"$error":"#VALUE!"}},"",{"$f":"IFERROR(IF($C14=SUM($H14+AA14),0,IF(($C14-SUM($H14+AA14))>($B$3-SUM(AT$7:AT13)),($B$3-SUM(AT$7:AT13)),($C14-SUM($H14+AA14)))),\"\")","v":0},"",{"$error":"#VALUE!"},{"$error":"#VALUE!"},{"$error":"#VALUE!"},{"$error":"#VALUE!"},{"$error":"#VALUE!"},{"$error":"#VALUE!"},{"$error":"#VALUE!"},{"$error":"#VALUE!"},{"$error":"#VALUE!"},"","",{"$f":"IF(SUM(BG$7:BG13)>0,\"\",IF($B$38>SUM(AT$7:AT14),\"\",IF($F14>$E14,(BE14+($B$38-SUM(AT$7:AT13))),(BE14-($B$38-SUM(AT$7:AT13))))))","v":{"$error":"#VALUE!"}},"",{"$f":"IF(SUM(BI$7:BI13)>0,\"\",IF($B$39>SUM(AT$7:AT14),\"\",IF($F14>$E14,(BE14+($B$39-SUM(AT$7:AT13))),(BE14-($B$39-SUM(AT$7:AT13))))))","v":{"$error":"#VALUE!"}},"",{"$f":"IF(SUM(BK$7:BK13)>0,\"\",IF($B$40>SUM(AT$7:AT14),\"\",IF($F14>$E14,(BE14+($B$40-SUM(AT$7:AT13))),(BE14-($B$40-SUM(AT$7:AT13))))))","v":{"$error":"#VALUE!"}},"",{"$f":"IFERROR(IF($C14=SUM($H14+AA14+AT14),0,IF(($C14-SUM($H14+AA14+AT14))>($B$3-SUM(BM$7:BM13)),($B$3-SUM(BM$7:BM13)),($C14-SUM($H14+AA14+AT14)))),\"\")","v":0},"",{"$error":"#VALUE!"},{"$error":"#VALUE!"},{"$error":"#VALUE!"},{"$error":"#VALUE!"},{"$error":"#VALUE!"},{"$error":"#VALUE!"},{"$error":"#VALUE!"},{"$error":"#VALUE!"},{"$error":"#VALUE!"},"","",{"$f":"IF(SUM(BZ$7:BZ13)>0,\"\",IF($B$38>SUM(BM$7:BM14),\"\",IF($F14>$E14,(BX14+($B$38-SUM(BM$7:BM13))),(BX14-($B$38-SUM(BM$7:BM13))))))","v":{"$error":"#VALUE!"}},"",{"$f":"IF(SUM(CB$7:CB13)>0,\"\",IF($B$39>SUM(BM$7:BM14),\"\",IF($F14>$E14,(BX14+($B$39-SUM(BM$7:BM13))),(BX14-($B$39-SUM(BM$7:BM13))))))","v":{"$error":"#VALUE!"}},"",{"$f":"IF(SUM(CD$7:CD13)>0,\"\",IF($B$40>SUM(BM$7:BM14),\"\",IF($F14>$E14,(BX14+($B$40-SUM(BM$7:BM13))),(BX14-($B$40-SUM(BM$7:BM13))))))","v":{"$error":"#VALUE!"}},"",{"$f":"IFERROR(IF($C14=SUM($H14+AA14+AT14+BM14),0,IF(($C14-SUM($H14+AA14+AT14+BM14))>($B$3-SUM(CF$7:CF13)),($B$3-SUM(CF$7:CF13)),($C14-SUM($H14+AA14+AT14+BM14)))),\"\")","v":0},"",{"$error":"#VALUE!"},{"$error":"#VALUE!"},{"$error":"#VALUE!"},{"$error":"#VALUE!"},{"$error":"#VALUE!"},{"$error":"#VALUE!"},{"$error":"#VALUE!"},{"$error":"#VALUE!"},{"$error":"#VALUE!"},"","",{"$f":"IF(SUM(CS$7:CS13)>0,\"\",IF($B$38>SUM(CF$7:CF14),\"\",IF($F14>$E14,(CQ14+($B$38-SUM(CF$7:CF13))),(CQ14-($B$38-SUM(CF$7:CF13))))))","v":{"$error":"#VALUE!"}},"",{"$f":"IF(SUM(CU$7:CU13)>0,\"\",IF($B$39>SUM(CF$7:CF14),\"\",IF($F14>$E14,(CQ14+($B$39-SUM(CF$7:CF13))),(CQ14-($B$39-SUM(CF$7:CF13))))))","v":{"$error":"#VALUE!"}},"",{"$f":"IF(SUM(CW$7:CW13)>0,\"\",IF($B$40>SUM(CF$7:CF14),\"\",IF($F14>$E14,(CQ14+($B$40-SUM(CF$7:CF13))),(CQ14-($B$40-SUM(CF$7:CF13))))))","v":{"$error":"#VALUE!"}},""]
[{"$f":"IF('DSR Template'!$B23=\"\",\"\",'DSR Template'!$B23)","v":""},{"$f":"'DSR Template'!$K23","v":""},{"$f":"'DSR Template'!J23","v":0},{"$error":"#VALUE!"},{"$f":"IF('DSR Template'!H23=\"\",\"\",'DSR Template'!H23)","v":""},{"$f":"IF('DSR Template'!I23=\"\",\"\",'DSR Template'!I23)","v":""},{"$f":"IF('DSR Template'!D23=\"\",\"\",'DSR Template'!D23)","v":""},{"$f":"IFERROR(IF(($B$3-$C15-SUM(H$7:H14))>0,$C15,$B$3-SUM(H$7:H14)),\"\")","v":0},"",{"$error":"#VALUE!"},{"$error":"#VALUE!"},{"$error":"#VALUE!"},{"$error":"#VALUE!"},{"$error":"#VALUE!"},{"$error":"#VALUE!"},{"$error":"#VALUE!"},{"$error":"#VALUE!"},{"$error":"#VALUE!"},"","",{"$f":"IF(SUM(U$7:U14)>0,\"\",IF($B$38>SUM(H$7:H15),\"\",IF($F15>$E15,(S15+($B$38-SUM(H$7:H14))),(S15-($B$38-SUM(H$7:H14))))))","v":{"$error":"#VALUE!"}},"",{"$f":"IF(SUM(W$7:W14)>0,\"\",IF($B$39>SUM(H$7:H15),\"\",IF($F15>$E15,(S15+($B$39-SUM(H$7:H14))),(S15-($B$39-SUM(H$7:H14))))))","v":{"$error":"#VALUE!"}},"",{"$f":"IF(SUM(Y$7:Y14)>0,\"\",IF($B$40>SUM(H$7:H15),\"\",IF($F15>$E15,(S15+($B$40-SUM(H$7:H14))),(S15-($B$40-SUM(H$7:H14))))))","v":{"$error":"#VALUE!"}},"",{"$f":"IFERROR(IF($C15=SUM($H15:H15),0,IF(($C15-SUM($H15:H15))>($B$3-SUM(AA$7:AA14)),($B$3-SUM(AA$7:AA14)),($C15-SUM($H15:H15)))),\"\")","v":0},"",{"$error":"#VALUE!"},{"$error":"#VALUE!"},{"$error":"#VALUE!"},{"$error":"#VALUE!"},{"$error":"#VALUE!"},{"$error":"#VALUE!"},{"$error":"#VALUE!"},{"$error":"#VALUE!"},{"$error":"#VALUE!"},"","",{"$f":"IF(SUM(AN$7:AN14)>0,\"\",IF($B$38>SUM(AA$7:AA15),\"\",IF($F15>$E15,(AL15+($B$38-SUM(AA$7:AA14))),(AL15-($B$38-SUM(AA$7:AA14))))))","v":{"$error":"#VALUE!"}},"",{"$f":"IF(SUM(AP$7:AP14)>0,\"\",IF($B$39>SUM(AA$7:AA15),\"\",IF($F15>$E15,(AL15+($B$39-SUM(AA$7:AA14))),(AL15-($B$39-SUM(AA$7:AA14))))))","v":{"$error":"#VALUE!"}},"",{"$f":"IF(SUM(AR$7:AR14)>0,\"\",IF($B$40>SUM(AA$7:AA15),\"\",IF($F15>$E15,(AL15+($B$40-SUM(AA$7:AA14))),(AL15-($B$40-SUM(AA$7:AA14))))))","v":{"$error":"#VALUE!"}},"",{"$f":"IFERROR(IF($C15=SUM($H15+AA15),0,IF(($C15-SUM($H15+AA15))>($B$3-SUM(AT$7:AT14)),($B$3-SUM(AT$7:AT14)),($C15-SUM($H15+AA15)))),\"\")","v":0},"",{"$error":"#VALUE!"},{"$error":"#VALUE!"},{"$error":"#VALUE!"},{"$error":"#VALUE!"},{"$error":"#VALUE!"},{"$error":"#VALUE!"},{"$error":"#VALUE!"},{"$error":"#VALUE!"},{"$error":"#VALUE!"},"","",{"$f":"IF(SUM(BG$7:BG14)>0,\"\",IF($B$38>SUM(AT$7:AT15),\"\",IF($F15>$E15,(BE15+($B$38-SUM(AT$7:AT14))),(BE15-($B$38-SUM(AT$7:AT14))))))","v":{"$error":"#VALUE!"}},"",{"$f":"IF(SUM(BI$7:BI14)>0,\"\",IF($B$39>SUM(AT$7:AT15),\"\",IF($F15>$E15,(BE15+($B$39-SUM(AT$7:AT14))),(BE15-($B$39-SUM(AT$7:AT14))))))","v":{"$error":"#VALUE!"}},"",{"$f":"IF(SUM(BK$7:BK14)>0,\"\",IF($B$40>SUM(AT$7:AT15),\"\",IF($F15>$E15,(BE15+($B$40-SUM(AT$7:AT14))),(BE15-($B$40-SUM(AT$7:AT14))))))","v":{"$error":"#VALUE!"}},"",{"$f":"IFERROR(IF($C15=SUM($H15+AA15+AT15),0,IF(($C15-SUM($H15+AA15+AT15))>($B$3-SUM(BM$7:BM14)),($B$3-SUM(BM$7:BM14)),($C15-SUM($H15+AA15+AT15)))),\"\")","v":0},"",{"$error":"#VALUE!"},{"$error":"#VALUE!"},{"$error":"#VALUE!"},{"$error":"#VALUE!"},{"$error":"#VALUE!"},{"$error":"#VALUE!"},{"$error":"#VALUE!"},{"$error":"#VALUE!"},{"$error":"#VALUE!"},"","",{"$f":"IF(SUM(BZ$7:BZ14)>0,\"\",IF($B$38>SUM(BM$7:BM15),\"\",IF($F15>$E15,(BX15+($B$38-SUM(BM$7:BM14))),(BX15-($B$38-SUM(BM$7:BM14))))))","v":{"$error":"#VALUE!"}},"",{"$f":"IF(SUM(CB$7:CB14)>0,\"\",IF($B$39>SUM(BM$7:BM15),\"\",IF($F15>$E15,(BX15+($B$39-SUM(BM$7:BM14))),(BX15-($B$39-SUM(BM$7:BM14))))))","v":{"$error":"#VALUE!"}},"",{"$f":"IF(SUM(CD$7:CD14)>0,\"\",IF($B$40>SUM(BM$7:BM15),\"\",IF($F15>$E15,(BX15+($B$40-SUM(BM$7:BM14))),(BX15-($B$40-SUM(BM$7:BM14))))))","v":{"$error":"#VALUE!"}},"",{"$f":"IFERROR(IF($C15=SUM($H15+AA15+AT15+BM15),0,IF(($C15-SUM($H15+AA15+AT15+BM15))>($B$3-SUM(CF$7:CF14)),($B$3-SUM(CF$7:CF14)),($C15-SUM($H15+AA15+AT15+BM15)))),\"\")","v":0},"",{"$error":"#VALUE!"},{"$error":"#VALUE!"},{"$error":"#VALUE!"},{"$error":"#VALUE!"},{"$error":"#VALUE!"},{"$error":"#VALUE!"},{"$error":"#VALUE!"},{"$error":"#VALUE!"},{"$error":"#VALUE!"},"","",{"$f":"IF(SUM(CS$7:CS14)>0,\"\",IF($B$38>SUM(CF$7:CF15),\"\",IF($F15>$E15,(CQ15+($B$38-SUM(CF$7:CF14))),(CQ15-($B$38-SUM(CF$7:CF14))))))","v":{"$error":"#VALUE!"}},"",{"$f":"IF(SUM(CU$7:CU14)>0,\"\",IF($B$39>SUM(CF$7:CF15),\"\",IF($F15>$E15,(CQ15+($B$39-SUM(CF$7:CF14))),(CQ15-($B$39-SUM(CF$7:CF14))))))","v":{"$error":"#VALUE!"}},"",{"$f":"IF(SUM(CW$7:CW14)>0,\"\",IF($B$40>SUM(CF$7:CF15),\"\",IF($F15>$E15,(CQ15+($B$40-SUM(CF$7:CF14))),(CQ15-($B$40-SUM(CF$7:CF14))))))","v":{"$error":"#VALUE!"}},""]
[{"$f":"IF('DSR Template'!$B24=\"\",\"\",'DSR Template'!$B24)","v":""},{"$f":"'DSR Template'!$K24","v":""},{"$f":"'DSR Template'!J24","v":0},{"$error":"#VALUE!"},{"$f":"IF('DSR Template'!H24=\"\",\"\",'DSR Template'!H24)","v":""},{"$f":"IF('DSR Template'!I24=\"\",\"\",'DSR Template'!I24)","v":""},{"$f":"IF('DSR Template'!D24=\"\",\"\",'DSR Template'!D24)","v":""},{"$f":"IFERROR(IF(($B$3-$C16-SUM(H$7:H15))>0,$C16,$B$3-SUM(H$7:H15)),\"\")","v":0},"",{"$error":"#VALUE!"},{"$error":"#VALUE!"},{"$error":"#VALUE!"},{"$error":"#VALUE!"},{"$error":"#VALUE!"},{"$error":"#VALUE!"},{"$error":"#VALUE!"},{"$error":"#VALUE!"},{"$error":"#VALUE!"},"","",{"$f":"IF(SUM(U$7:U15)>0,\"\",IF($B$38>SUM(H$7:H16),\"\",IF($F16>$E16,(S16+($B$38-SUM(H$7:H15))),(S16-($B$38-SUM(H$7:H15))))))","v":{"$error":"#VALUE!"}},"",{"$f":"IF(SUM(W$7:W15)>0,\"\",IF($B$39>SUM(H$7:H16),\"\",IF($F16>$E16,(S16+($B$39-SUM(H$7:H15))),(S16-($B$39-SUM(H$7:H15))))))","v":{"$error":"#VALUE!"}},"",{"$f":"IF(SUM(Y$7:Y15)>0,\"\",IF($B$40>SUM(H$7:H16),\"\",IF($F16>$E16,(S16+($B$40-SUM(H$7:H15))),(S16-($B$40-SUM(H$7:H15))))))","v":{"$error":"#VALUE!"}},"",{"$f":"IFERROR(IF($C16=SUM($H16:H16),0,IF(($C16-SUM($H16:H16))>($B$3-SUM(AA$7:AA15)),($B$3-SUM(AA$7:AA15)),($C16-SUM($H16:H16)))),\"\")","v":0},"",{"$error":"#VALUE!"},{"$error":"#VALUE!"},{"$error":"#VALUE!"},{"$error":"#VALUE!"},{"$error":"#VALUE!"},{"$error":"#VALUE!"},{"$error":"#VALUE!"},{"$error":"#VALUE!"},{"$error":"#VALUE!"},"","",{"$f":"IF(SUM(AN$7:AN15)>0,\"\",IF($B$38>SUM(AA$7:AA16),\"\",IF($F16>$E16,(AL16+($B$38-SUM(AA$7:AA15))),(AL16-($B$38-SUM(AA$7:AA15))))))","v":{"$error":"#VALUE!"}},"",{"$f":"IF(SUM(AP$7:AP15)>0,\"\",IF($B$39>SUM(AA$7:AA16),\"\",IF($F16>$E16,(AL16+($B$39-SUM(AA$7:AA15))),(AL16-($B$39-SUM(AA$7:AA15))))))","v":{"$error":"#VALUE!"}},"",{"$f":"IF(SUM(AR$7:AR15)>0,\"\",IF($B$40>SUM(AA$7:AA16),\"\",IF($F16>$E16,(AL16+($B$40-SUM(AA$7:AA15))),(AL16-($B$40-SUM(AA$7:AA15))))))","v":{"$error":"#VALUE!"}},"",{"$f":"IFERROR(IF($C16=SUM($H16+AA16),0,IF(($C16-SUM($H16+AA16))>($B$3-SUM(AT$7:AT15)),($B$3-SUM(AT$7:AT15)),($C16-SUM($H16+AA16)))),\"\")","v":0},"",{"$error":"#VALUE!"},{"$error":"#VALUE!"},{"$error":"#VALUE!"},{"$error":"#VALUE!"},{"$error":"#VALUE!"},{"$error":"#VALUE!"},{"$error":"#VALUE!"},{"$error":"#VALUE!"},{"$error":"#VALUE!"},"","",{"$f":"IF(SUM(BG$7:BG15)>0,\"\",IF($B$38>SUM(AT$7:AT16),\"\",IF($F16>$E16,(BE16+($B$38-SUM(AT$7:AT15))),(BE16-($B$38-SUM(AT$7:AT15))))))","v":{"$error":"#VALUE!"}},"",{"$f":"IF(SUM(BI$7:BI15)>0,\"\",IF($B$39>SUM(AT$7:AT16),\"\",IF($F16>$E16,(BE16+($B$39-SUM(AT$7:AT15))),(BE16-($B$39-SUM(AT$7:AT15))))))","v":{"$error":"#VALUE!"}},"",{"$f":"IF(SUM(BK$7:BK15)>0,\"\",IF($B$40>SUM(AT$7:AT16),\"\",IF($F16>$E16,(BE16+($B$40-SUM(AT$7:AT15))),(BE16-($B$40-SUM(AT$7:AT15))))))","v":{"$error":"#VALUE!"}},"",{"$f":"IFERROR(IF($C16=SUM($H16+AA16+AT16),0,IF(($C16-SUM($H16+AA16+AT16))>($B$3-SUM(BM$7:BM15)),($B$3-SUM(BM$7:BM15)),($C16-SUM($H16+AA16+AT16)))),\"\")","v":0},"",{"$error":"#VALUE!"},{"$error":"#VALUE!"},{"$error":"#VALUE!"},{"$error":"#VALUE!"},{"$error":"#VALUE!"},{"$error":"#VALUE!"},{"$error":"#VALUE!"},{"$error":"#VALUE!"},{"$error":"#VALUE!"},"","",{"$f":"IF(SUM(BZ$7:BZ15)>0,\"\",IF($B$38>SUM(BM$7:BM16),\"\",IF($F16>$E16,(BX16+($B$38-SUM(BM$7:BM15))),(BX16-($B$38-SUM(BM$7:BM15))))))","v":{"$error":"#VALUE!"}},"",{"$f":"IF(SUM(CB$7:CB15)>0,\"\",IF($B$39>SUM(BM$7:BM16),\"\",IF($F16>$E16,(BX16+($B$39-SUM(BM$7:BM15))),(BX16-($B$39-SUM(BM$7:BM15))))))","v":{"$error":"#VALUE!"}},"",{"$f":"IF(SUM(CD$7:CD15)>0,\"\",IF($B$40>SUM(BM$7:BM16),\"\",IF($F16>$E16,(BX16+($B$40-SUM(BM$7:BM15))),(BX16-($B$40-SUM(BM$7:BM15))))))","v":{"$error":"#VALUE!"}},"",{"$f":"IFERROR(IF($C16=SUM($H16+AA16+AT16+BM16),0,IF(($C16-SUM($H16+AA16+AT16+BM16))>($B$3-SUM(CF$7:CF15)),($B$3-SUM(CF$7:CF15)),($C16-SUM($H16+AA16+AT16+BM16)))),\"\")","v":0},"",{"$error":"#VALUE!"},{"$error":"#VALUE!"},{"$error":"#VALUE!"},{"$error":"#VALUE!"},{"$error":"#VALUE!"},{"$error":"#VALUE!"},{"$error":"#VALUE!"},{"$error":"#VALUE!"},{"$error":"#VALUE!"},"","",{"$f":"IF(SUM(CS$7:CS15)>0,\"\",IF($B$38>SUM(CF$7:CF16),\"\",IF($F16>$E16,(CQ16+($B$38-SUM(CF$7:CF15))),(CQ16-($B$38-SUM(CF$7:CF15))))))","v":{"$error":"#VALUE!"}},"",{"$f":"IF(SUM(CU$7:CU15)>0,\"\",IF($B$39>SUM(CF$7:CF16),\"\",IF($F16>$E16,(CQ16+($B$39-SUM(CF$7:CF15))),(CQ16-($B$39-SUM(CF$7:CF15))))))","v":{"$error":"#VALUE!"}},"",{"$f":"IF(SUM(CW$7:CW15)>0,\"\",IF($B$40>SUM(CF$7:CF16),\"\",IF($F16>$E16,(CQ16+($B$40-SUM(CF$7:CF15))),(CQ16-($B$40-SUM(CF$7:CF15))))))","v":{"$error":"#VALUE!"}},""]
[{"$f":"IF('DSR Template'!$B25=\"\",\"\",'DSR Template'!$B25)","v":""},{"$f":"'DSR Template'!$K25","v":""},{"$f":"'DSR Template'!J25","v":0},{"$error":"#VALUE!"},{"$f":"IF('DSR Template'!H25=\"\",\"\",'DSR Template'!H25)","v":""},{"$f":"IF('DSR Template'!I25=\"\",\"\",'DSR Template'!I25)","v":""},{"$f":"IF('DSR Template'!D25=\"\",\"\",'DSR Template'!D25)","v":""},{"$f":"IFERROR(IF(($B$3-$C17-SUM(H$7:H16))>0,$C17,$B$3-SUM(H$7:H16)),\"\")","v":0},"",{"$error":"#VALUE!"},{"$error":"#VALUE!"},{"$error":"#VALUE!"},{"$error":"#VALUE!"},{"$error":"#VALUE!"},{"$error":"#VALUE!"},{"$error":"#VALUE!"},{"$error":"#VALUE!"},{"$error":"#VALUE!"},"","",{"$f":"IF(SUM(U$7:U16)>0,\"\",IF($B$38>SUM(H$7:H17),\"\",IF($F17>$E17,(S17+($B$38-SUM(H$7:H16))),(S17-($B$38-SUM(H$7:H16))))))","v":{"$error":"#VALUE!"}},"",{"$f":"IF(SUM(W$7:W16)>0,\"\",IF($B$39>SUM(H$7:H17),\"\",IF($F17>$E17,(S17+($B$39-SUM(H$7:H16))),(S17-($B$39-SUM(H$7:H16))))))","v":{"$error":"#VALUE!"}},"",{"$f":"IF(SUM(Y$7:Y16)>0,\"\",IF($B$40>SUM(H$7:H17),\"\",IF($F17>$E17,(S17+($B$40-SUM(H$7:H16))),(S17-($B$40-SUM(H$7:H16))))))","v":{"$error":"#VALUE!"}},"",{"$f":"IFERROR(IF($C17=SUM($H17:H17),0,IF(($C17-SUM($H17:H17))>($B$3-SUM(AA$7:AA16)),($B$3-SUM(AA$7:AA16)),($C17-SUM($H17:H17)))),\"\")","v":0},"",{"$error":"#VALUE!"},{"$error":"#VALUE!"},{"$error":"#VALUE!"},{"$error":"#VALUE!"},{"$error":"#VALUE!"},{"$error":"#VALUE!"},{"$error":"#VALUE!"},{"$error":"#VALUE!"},{"$error":"#VALUE!"},"","",{"$f":"IF(SUM(AN$7:AN16)>0,\"\",IF($B$38>SUM(AA$7:AA17),\"\",IF($F17>$E17,(AL17+($B$38-SUM(AA$7:AA16))),(AL17-($B$38-SUM(AA$7:AA16))))))","v":{"$error":"#VALUE!"}},"",{"$f":"IF(SUM(AP$7:AP16)>0,\"\",IF($B$39>SUM(AA$7:AA17),\"\",IF($F17>$E17,(AL17+($B$39-SUM(AA$7:AA16))),(AL17-($B$39-SUM(AA$7:AA16))))))","v":{"$error":"#VALUE!"}},"",{"$f":"IF(SUM(AR$7:AR16)>0,\"\",IF($B$40>SUM(AA$7:AA17),\"\",IF($F17>$E17,(AL17+($B$40-SUM(AA$7:AA16))),(AL17-($B$40-SUM(AA$7:AA16))))))","v":{"$error":"#VALUE!"}},"",{"$f":"IFERROR(IF($C17=SUM($H17+AA17),0,IF(($C17-SUM($H17+AA17))>($B$3-SUM(AT$7:AT16)),($B$3-SUM(AT$7:AT16)),($C17-SUM($H17+AA17)))),\"\")","v":0},"",{"$error":"#VALUE!"},{"$error":"#VALUE!"},{"$error":"#VALUE!"},{"$error":"#VALUE!"},{"$error":"#VALUE!"},{"$error":"#VALUE!"},{"$error":"#VALUE!"},{"$error":"#VALUE!"},{"$error":"#VALUE!"},"","",{"$f":"IF(SUM(BG$7:BG16)>0,\"\",IF($B$38>SUM(AT$7:AT17),\"\",IF($F17>$E17,(BE17+($B$38-SUM(AT$7:AT16))),(BE17-($B$38-SUM(AT$7:AT16))))))","v":{"$error":"#VALUE!"}},"",{"$f":"IF(SUM(BI$7:BI16)>0,\"\",IF($B$39>SUM(AT$7:AT17),\"\",IF($F17>$E17,(BE17+($B$39-SUM(AT$7:AT16))),(BE17-($B$39-SUM(AT$7:AT16))))))","v":{"$error":"#VALUE!"}},"",{"$f":"IF(SUM(BK$7:BK16)>0,\"\",IF($B$40>SUM(AT$7:AT17),\"\",IF($F17>$E17,(BE17+($B$40-SUM(AT$7:AT16))),(BE17-($B$40-SUM(AT$7:AT16))))))","v":{"$error":"#VALUE!"}},"",{"$f":"IFERROR(IF($C17=SUM($H17+AA17+AT17),0,IF(($C17-SUM($H17+AA17+AT17))>($B$3-SUM(BM$7:BM16)),($B$3-SUM(BM$7:BM16)),($C17-SUM($H17+AA17+AT17)))),\"\")","v":0},"",{"$error":"#VALUE!"},{"$error":"#VALUE!"},{"$error":"#VALUE!"},{"$error":"#VALUE!"},{"$error":"#VALUE!"},{"$error":"#VALUE!"},{"$error":"#VALUE!"},{"$error":"#VALUE!"},{"$error":"#VALUE!"},"","",{"$f":"IF(SUM(BZ$7:BZ16)>0,\"\",IF($B$38>SUM(BM$7:BM17),\"\",IF($F17>$E17,(BX17+($B$38-SUM(BM$7:BM16))),(BX17-($B$38-SUM(BM$7:BM16))))))","v":{"$error":"#VALUE!"}},"",{"$f":"IF(SUM(CB$7:CB16)>0,\"\",IF($B$39>SUM(BM$7:BM17),\"\",IF($F17>$E17,(BX17+($B$39-SUM(BM$7:BM16))),(BX17-($B$39-SUM(BM$7:BM16))))))","v":{"$error":"#VALUE!"}},"",{"$f":"IF(SUM(CD$7:CD16)>0,\"\",IF($B$40>SUM(BM$7:BM17),\"\",IF($F17>$E17,(BX17+($B$40-SUM(BM$7:BM16))),(BX17-($B$40-SUM(BM$7:BM16))))))","v":{"$error":"#VALUE!"}},"",{"$f":"IFERROR(IF($C17=SUM($H17+AA17+AT17+BM17),0,IF(($C17-SUM($H17+AA17+AT17+BM17))>($B$3-SUM(CF$7:CF16)),($B$3-SUM(CF$7:CF16)),($C17-SUM($H17+AA17+AT17+BM17)))),\"\")","v":0},"",{"$error":"#VALUE!"},{"$error":"#VALUE!"},{"$error":"#VALUE!"},{"$error":"#VALUE!"},{"$error":"#VALUE!"},{"$error":"#VALUE!"},{"$error":"#VALUE!"},{"$error":"#VALUE!"},{"$error":"#VALUE!"},"","",{"$f":"IF(SUM(CS$7:CS16)>0,\"\",IF($B$38>SUM(CF$7:CF17),\"\",IF($F17>$E17,(CQ17+($B$38-SUM(CF$7:CF16))),(CQ17-($B$38-SUM(CF$7:CF16))))))","v":{"$error":"#VALUE!"}},"",{"$f":"IF(SUM(CU$7:CU16)>0,\"\",IF($B$39>SUM(CF$7:CF17),\"\",IF($F17>$E17,(CQ17+($B$39-SUM(CF$7:CF16))),(CQ17-($B$39-SUM(CF$7:CF16))))))","v":{"$error":"#VALUE!"}},"",{"$f":"IF(SUM(CW$7:CW16)>0,\"\",IF($B$40>SUM(CF$7:CF17),\"\",IF($F17>$E17,(CQ17+($B$40-SUM(CF$7:CF16))),(CQ17-($B$40-SUM(CF$7:CF16))))))","v":{"$error":"#VALUE!"}},""]
[{"$f":"IF('DSR Template'!$B26=\"\",\"\",'DSR Template'!$B26)","v":""},{"$f":"'DSR Template'!$K26","v":""},{"$f":"'DSR Template'!J26","v":0},{"$error":"#VALUE!"},{"$f":"IF('DSR Template'!H26=\"\",\"\",'DSR Template'!H26)","v":""},{"$f":"IF('DSR Template'!I26=\"\",\"\",'DSR Template'!I26)","v":""},{"$f":"IF('DSR Template'!D26=\"\",\"\",'DSR Template'!D26)","v":""},{"$f":"IFERROR(IF(($B$3-$C18-SUM(H$7:H17))>0,$C18,$B$3-SUM(H$7:H17)),\"\")","v":0},"",{"$error":"#VALUE!"},{"$error":"#VALUE!"},{"$error":"#VALUE!"},{"$error":"#VALUE!"},{"$error":"#VALUE!"},{"$error":"#VALUE!"},{"$error":"#VALUE!"},{"$error":"#VALUE!"},{"$error":"#VALUE!"},"","",{"$f":"IF(SUM(U$7:U17)>0,\"\",IF($B$38>SUM(H$7:H18),\"\",IF($F18>$E18,(S18+($B$38-SUM(H$7:H17))),(S18-($B$38-SUM(H$7:H17))))))","v":{"$error":"#VALUE!"}},"",{"$f":"IF(SUM(W$7:W17)>0,\"\",IF($B$39>SUM(H$7:H18),\"\",IF($F18>$E18,(S18+($B$39-SUM(H$7:H17))),(S18-($B$39-SUM(H$7:H17))))))","v":{"$error":"#VALUE!"}},"",{"$f":"IF(SUM(Y$7:Y17)>0,\"\",IF($B$40>SUM(H$7:H18),\"\",IF($F18>$E18,(S18+($B$40-SUM(H$7:H17))),(S18-($B$40-SUM(H$7:H17))))))","v":{"$error":"#VALUE!"}},"",{"$f":"IFERROR(IF($C18=SUM($H18:H18),0,IF(($C18-SUM($H18:H18))>($B$3-SUM(AA$7:AA17)),($B$3-SUM(AA$7:AA17)),($C18-SUM($H18:H18)))),\"\")","v":0},"",{"$error":"#VALUE!"},{"$error":"#VALUE!"},{"$error":"#VALUE!"},{"$error":"#VALUE!"},{"$error":"#VALUE!"},{"$error":"#VALUE!"},{"$error":"#VALUE!"},{"$error":"#VALUE!"},{"$error":"#VALUE!"},"","",{"$f":"IF(SUM(AN$7:AN17)>0,\"\",IF($B$38>SUM(AA$7:AA18),\"\",IF($F18>$E18,(AL18+($B$38-SUM(AA$7:AA17))),(AL18-($B$38-SUM(AA$7:AA17))))))","v":{"$error":"#VALUE!"}},"",{"$f":"IF(SUM(AP$7:AP17)>0,\"\",IF($B$39>SUM(AA$7:AA18),\"\",IF($F18>$E18,(AL18+($B$39-SUM(AA$7:AA17))),(AL18-($B$39-SUM(AA$7:AA17))))))","v":{"$error":"#VALUE!"}},"",{"$f":"IF(SUM(AR$7:AR17)>0,\"\",IF($B$40>SUM(AA$7:AA18),\"\",IF($F18>$E18,(AL18+($B$40-SUM(AA$7:AA17))),(AL18-($B$40-SUM(AA$7:AA17))))))","v":{"$error":"#VALUE!"}},"",{"$f":"IFERROR(IF($C18=SUM($H18+AA18),0,IF(($C18-SUM($H18+AA18))>($B$3-SUM(AT$7:AT17)),($B$3-SUM(AT$7:AT17)),($C18-SUM($H18+AA18)))),\"\")","v":0},"",{"$error":"#VALUE!"},{"$error":"#VALUE!"},{"$error":"#VALUE!"},{"$error":"#VALUE!"},{"$error":"#VALUE!"},{"$error":"#VALUE!"},{"$error":"#VALUE!"},{"$error":"#VALUE!"},{"$error":"#VALUE!"},"","",{"$f":"IF(SUM(BG$7:BG17)>0,\"\",IF($B$38>SUM(AT$7:AT18),\"\",IF($F18>$E18,(BE18+($B$38-SUM(AT$7:AT17))),(BE18-($B$38-SUM(AT$7:AT17))))))","v":{"$error":"#VALUE!"}},"",{"$f":"IF(SUM(BI$7:BI17)>0,\"\",IF($B$39>SUM(AT$7:AT18),\"\",IF($F18>$E18,(BE18+($B$39-SUM(AT$7:AT17))),(BE18-($B$39-SUM(AT$7:AT17))))))","v":{"$error":"#VALUE!"}},"",{"$f":"IF(SUM(BK$7:BK17)>0,\"\",IF($B$40>SUM(AT$7:AT18),\"\",IF($F18>$E18,(BE18+($B$40-SUM(AT$7:AT17))),(BE18-($B$40-SUM(AT$7:AT17))))))","v":{"$error":"#VALUE!"}},"",{"$f":"IFERROR(IF($C18=SUM($H18+AA18+AT18),0,IF(($C18-SUM($H18+AA18+AT18))>($B$3-SUM(BM$7:BM17)),($B$3-SUM(BM$7:BM17)),($C18-SUM($H18+AA18+AT18)))),\"\")","v":0},"",{"$error":"#VALUE!"},{"$error":"#VALUE!"},{"$error":"#VALUE!"},{"$error":"#VALUE!"},{"$error":"#VALUE!"},{"$error":"#VALUE!"},{"$error":"#VALUE!"},{"$error":"#VALUE!"},{"$error":"#VALUE!"},"","",{"$f":"IF(SUM(BZ$7:BZ17)>0,\"\",IF($B$38>SUM(BM$7:BM18),\"\",IF($F18>$E18,(BX18+($B$38-SUM(BM$7:BM17))),(BX18-($B$38-SUM(BM$7:BM17))))))","v":{"$error":"#VALUE!"}},"",{"$f":"IF(SUM(CB$7:CB17)>0,\"\",IF($B$39>SUM(BM$7:BM18),\"\",IF($F18>$E18,(BX18+($B$39-SUM(BM$7:BM17))),(BX18-($B$39-SUM(BM$7:BM17))))))","v":{"$error":"#VALUE!"}},"",{"$f":"IF(SUM(CD$7:CD17)>0,\"\",IF($B$40>SUM(BM$7:BM18),\"\",IF($F18>$E18,(BX18+($B$40-SUM(BM$7:BM17))),(BX18-($B$40-SUM(BM$7:BM17))))))","v":{"$error":"#VALUE!"}},"",{"$f":"IFERROR(IF($C18=SUM($H18+AA18+AT18+BM18),0,IF(($C18-SUM($H18+AA18+AT18+BM18))>($B$3-SUM(CF$7:CF17)),($B$3-SUM(CF$7:CF17)),($C18-SUM($H18+AA18+AT18+BM18)))),\"\")","v":0},"",{"$error":"#VALUE!"},{"$error":"#VALUE!"},{"$error":"#VALUE!"},{"$error":"#VALUE!"},{"$error":"#VALUE!"},{"$error":"#VALUE!"},{"$error":"#VALUE!"},{"$error":"#VALUE!"},{"$error":"#VALUE!"},"","",{"$f":"IF(SUM(CS$7:CS17)>0,\"\",IF($B$38>SUM(CF$7:CF18),\"\",IF($F18>$E18,(CQ18+($B$38-SUM(CF$7:CF17))),(CQ18-($B$38-SUM(CF$7:CF17))))))","v":{"$error":"#VALUE!"}},"",{"$f":"IF(SUM(CU$7:CU17)>0,\"\",IF($B$39>SUM(CF$7:CF18),\"\",IF($F18>$E18,(CQ18+($B$39-SUM(CF$7:CF17))),(CQ18-($B$39-SUM(CF$7:CF17))))))","v":{"$error":"#VALUE!"}},"",{"$f":"IF(SUM(CW$7:CW17)>0,\"\",IF($B$40>SUM(CF$7:CF18),\"\",IF($F18>$E18,(CQ18+($B$40-SUM(CF$7:CF17))),(CQ18-($B$40-SUM(CF$7:CF17))))))","v":{"$error":"#VALUE!"}},""]
[{"$f":"IF('DSR Template'!$B27=\"\",\"\",'DSR Template'!$B27)","v":""},{"$f":"'DSR Template'!$K27","v":""},{"$f":"'DSR Template'!J27","v":0},{"$error":"#VALUE!"},{"$f":"IF('DSR Template'!H27=\"\",\"\",'DSR Template'!H27)","v":""},{"$f":"IF('DSR Template'!I27=\"\",\"\",'DSR Template'!I27)","v":""},{"$f":"IF('DSR Template'!D27=\"\",\"\",'DSR Template'!D27)","v":""},{"$f":"IFERROR(IF(($B$3-$C19-SUM(H$7:H18))>0,$C19,$B$3-SUM(H$7:H18)),\"\")","v":0},"",{"$error":"#VALUE!"},{"$error":"#VALUE!"},{"$error":"#VALUE!"},{"$error":"#VALUE!"},{"$error":"#VALUE!"},{"$error":"#VALUE!"},{"$error":"#VALUE!"},{"$error":"#VALUE!"},{"$error":"#VALUE!"},"","",{"$f":"IF(SUM(U$7:U18)>0,\"\",IF($B$38>SUM(H$7:H19),\"\",IF($F19>$E19,(S19+($B$38-SUM(H$7:H18))),(S19-($B$38-SUM(H$7:H18))))))","v":{"$error":"#VALUE!"}},"",{"$f":"IF(SUM(W$7:W18)>0,\"\",IF($B$39>SUM(H$7:H19),\"\",IF($F19>$E19,(S19+($B$39-SUM(H$7:H18))),(S19-($B$39-SUM(H$7:H18))))))","v":{"$error":"#VALUE!"}},"",{"$f":"IF(SUM(Y$7:Y18)>0,\"\",IF($B$40>SUM(H$7:H19),\"\",IF($F19>$E19,(S19+($B$40-SUM(H$7:H18))),(S19-($B$40-SUM(H$7:H18))))))","v":{"$error":"#VALUE!"}},"",{"$f":"IFERROR(IF($C19=SUM($H19:H19),0,IF(($C19-SUM($H19:H19))>($B$3-SUM(AA$7:AA18)),($B$3-SUM(AA$7:AA18)),($C19-SUM($H19:H19)))),\"\")","v":0},"",{"$error":"#VALUE!"},{"$error":"#VALUE!"},{"$error":"#VALUE!"},{"$error":"#VALUE!"},{"$error":"#VALUE!"},{"$error":"#VALUE!"},{"$error":"#VALUE!"},{"$error":"#VALUE!"},{"$error":"#VALUE!"},"","",{"$f":"IF(SUM(AN$7:AN18)>0,\"\",IF($B$38>SUM(AA$7:AA19),\"\",IF($F19>$E19,(AL19+($B$38-SUM(AA$7:AA18))),(AL19-($B$38-SUM(AA$7:AA18))))))","v":{"$error":"#VALUE!"}},"",{"$f":"IF(SUM(AP$7:AP18)>0,\"\",IF($B$39>SUM(AA$7:AA19),\"\",IF($F19>$E19,(AL19+($B$39-SUM(AA$7:AA18))),(AL19-($B$39-SUM(AA$7:AA18))))))","v":{"$error":"#VALUE!"}},"",{"$f":"IF(SUM(AR$7:AR18)>0,\"\",IF($B$40>SUM(AA$7:AA19),\"\",IF($F19>$E19,(AL19+($B$40-SUM(AA$7:AA18))),(AL19-($B$40-SUM(AA$7:AA18))))))","v":{"$error":"#VALUE!"}},"",{"$f":"IFERROR(IF($C19=SUM($H19+AA19),0,IF(($C19-SUM($H19+AA19))>($B$3-SUM(AT$7:AT18)),($B$3-SUM(AT$7:AT18)),($C19-SUM($H19+AA19)))),\"\")","v":0},"",{"$error":"#VALUE!"},{"$error":"#VALUE!"},{"$error":"#VALUE!"},{"$error":"#VALUE!"},{"$error":"#VALUE!"},{"$error":"#VALUE!"},{"$error":"#VALUE!"},{"$error":"#VALUE!"},{"$error":"#VALUE!"},"","",{"$f":"IF(SUM(BG$7:BG18)>0,\"\",IF($B$38>SUM(AT$7:AT19),\"\",IF($F19>$E19,(BE19+($B$38-SUM(AT$7:AT18))),(BE19-($B$38-SUM(AT$7:AT18))))))","v":{"$error":"#VALUE!"}},"",{"$f":"IF(SUM(BI$7:BI18)>0,\"\",IF($B$39>SUM(AT$7:AT19),\"\",IF($F19>$E19,(BE19+($B$39-SUM(AT$7:AT18))),(BE19-($B$39-SUM(AT$7:AT18))))))","v":{"$error":"#VALUE!"}},"",{"$f":"IF(SUM(BK$7:BK18)>0,\"\",IF($B$40>SUM(AT$7:AT19),\"\",IF($F19>$E19,(BE19+($B$40-SUM(AT$7:AT18))),(BE19-($B$40-SUM(AT$7:AT18))))))","v":{"$error":"#VALUE!"}},"",{"$f":"IFERROR(IF($C19=SUM($H19+AA19+AT19),0,IF(($C19-SUM($H19+AA19+AT19))>($B$3-SUM(BM$7:BM18)),($B$3-SUM(BM$7:BM18)),($C19-SUM($H19+AA19+AT19)))),\"\")","v":0},"",{"$error":"#VALUE!"},{"$error":"#VALUE!"},{"$error":"#VALUE!"},{"$error":"#VALUE!"},{"$error":"#VALUE!"},{"$error":"#VALUE!"},{"$error":"#VALUE!"},{"$error":"#VALUE!"},{"$error":"#VALUE!"},"","",{"$f":"IF(SUM(BZ$7:BZ18)>0,\"\",IF($B$38>SUM(BM$7:BM19),\"\",IF($F19>$E19,(BX19+($B$38-SUM(BM$7:BM18))),(BX19-($B$38-SUM(BM$7:BM18))))))","v":{"$error":"#VALUE!"}},"",{"$f":"IF(SUM(CB$7:CB18)>0,\"\",IF($B$39>SUM(BM$7:BM19),\"\",IF($F19>$E19,(BX19+($B$39-SUM(BM$7:BM18))),(BX19-($B$39-SUM(BM$7:BM18))))))","v":{"$error":"#VALUE!"}},"",{"$f":"IF(SUM(CD$7:CD18)>0,\"\",IF($B$40>SUM(BM$7:BM19),\"\",IF($F19>$E19,(BX19+($B$40-SUM(BM$7:BM18))),(BX19-($B$40-SUM(BM$7:BM18))))))","v":{"$error":"#VALUE!"}},"",{"$f":"IFERROR(IF($C19=SUM($H19+AA19+AT19+BM19),0,IF(($C19-SUM($H19+AA19+AT19+BM19))>($B$3-SUM(CF$7:CF18)),($B$3-SUM(CF$7:CF18)),($C19-SUM($H19+AA19+AT19+BM19)))),\"\")","v":0},"",{"$error":"#VALUE!"},{"$error":"#VALUE!"},{"$error":"#VALUE!"},{"$error":"#VALUE!"},{"$error":"#VALUE!"},{"$error":"#VALUE!"},{"$error":"#VALUE!"},{"$error":"#VALUE!"},{"$error":"#VALUE!"},"","",{"$f":"IF(SUM(CS$7:CS18)>0,\"\",IF($B$38>SUM(CF$7:CF19),\"\",IF($F19>$E19,(CQ19+($B$38-SUM(CF$7:CF18))),(CQ19-($B$38-SUM(CF$7:CF18))))))","v":{"$error":"#VALUE!"}},"",{"$f":"IF(SUM(CU$7:CU18)>0,\"\",IF($B$39>SUM(CF$7:CF19),\"\",IF($F19>$E19,(CQ19+($B$39-SUM(CF$7:CF18))),(CQ19-($B$39-SUM(CF$7:CF18))))))","v":{"$error":"#VALUE!"}},"",{"$f":"IF(SUM(CW$7:CW18)>0,\"\",IF($B$40>SUM(CF$7:CF19),\"\",IF($F19>$E19,(CQ19+($B$40-SUM(CF$7:CF18))),(CQ19-($B$40-SUM(CF$7:CF18))))))","v":{"$error":"#VALUE!"}},""]
[{"$f":"IF('DSR Template'!$B28=\"\",\"\",'DSR Template'!$B28)","v":""},{"$f":"'DSR Template'!$K28","v":""},{"$f":"'DSR Template'!J28","v":0},{"$error":"#VALUE!"},{"$f":"IF('DSR Template'!H28=\"\",\"\",'DSR Template'!H28)","v":""},{"$f":"IF('DSR Template'!I28=\"\",\"\",'DSR Template'!I28)","v":""},{"$f":"IF('DSR Template'!D28=\"\",\"\",'DSR Template'!D28)","v":""},{"$f":"IFERROR(IF(($B$3-$C20-SUM(H$7:H19))>0,$C20,$B$3-SUM(H$7:H19)),\"\")","v":0},"",{"$error":"#VALUE!"},{"$error":"#VALUE!"},{"$error":"#VALUE!"},{"$error":"#VALUE!"},{"$error":"#VALUE!"},{"$error":"#VALUE!"},{"$error":"#VALUE!"},{"$error":"#VALUE!"},{"$error":"#VALUE!"},"","",{"$f":"IF(SUM(U$7:U19)>0,\"\",IF($B$38>SUM(H$7:H20),\"\",IF($F20>$E20,(S20+($B$38-SUM(H$7:H19))),(S20-($B$38-SUM(H$7:H19))))))","v":{"$error":"#VALUE!"}},"",{"$f":"IF(SUM(W$7:W19)>0,\"\",IF($B$39>SUM(H$7:H20),\"\",IF($F20>$E20,(S20+($B$39-SUM(H$7:H19))),(S20-($B$39-SUM(H$7:H19))))))","v":{"$error":"#VALUE!"}},"",{"$f":"IF(SUM(Y$7:Y19)>0,\"\",IF($B$40>SUM(H$7:H20),\"\",IF($F20>$E20,(S20+($B$40-SUM(H$7:H19))),(S20-($B$40-SUM(H$7:H19))))))","v":{"$error":"#VALUE!"}},"",{"$f":"IFERROR(IF($C20=SUM($H20:H20),0,IF(($C20-SUM($H20:H20))>($B$3-SUM(AA$7:AA19)),($B$3-SUM(AA$7:AA19)),($C20-SUM($H20:H20)))),\"\")","v":0},"",{"$error":"#VALUE!"},{"$error":"#VALUE!"},{"$error":"#VALUE!"},{"$error":"#VALUE!"},{"$error":"#VALUE!"},{"$error":"#VALUE!"},{"$error":"#VALUE!"},{"$error":"#VALUE!"},{"$error":"#VALUE!"},"","",{"$f":"IF(SUM(AN$7:AN19)>0,\"\",IF($B$38>SUM(AA$7:AA20),\"\",IF($F20>$E20,(AL20+($B$38-SUM(AA$7:AA19))),(AL20-($B$38-SUM(AA$7:AA19))))))","v":{"$error":"#VALUE!"}},"",{"$f":"IF(SUM(AP$7:AP19)>0,\"\",IF($B$39>SUM(AA$7:AA20),\"\",IF($F20>$E20,(AL20+($B$39-SUM(AA$7:AA19))),(AL20-($B$39-SUM(AA$7:AA19))))))","v":{"$error":"#VALUE!"}},"",{"$f":"IF(SUM(AR$7:AR19)>0,\"\",IF($B$40>SUM(AA$7:AA20),\"\",IF($F20>$E20,(AL20+($B$40-SUM(AA$7:AA19))),(AL20-($B$40-SUM(AA$7:AA19))))))","v":{"$error":"#VALUE!"}},"",{"$f":"IFERROR(IF($C20=SUM($H20+AA20),0,IF(($C20-SUM($H20+AA20))>($B$3-SUM(AT$7:AT19)),($B$3-SUM(AT$7:AT19)),($C20-SUM($H20+AA20)))),\"\")","v":0},"",{"$error":"#VALUE!"},{"$error":"#VALUE!"},{"$error":"#VALUE!"},{"$error":"#VALUE!"},{"$error":"#VALUE!"},{"$error":"#VALUE!"},{"$error":"#VALUE!"},{"$error":"#VALUE!"},{"$error":"#VALUE!"},"","",{"$f":"IF(SUM(BG$7:BG19)>0,\"\",IF($B$38>SUM(AT$7:AT20),\"\",IF($F20>$E20,(BE20+($B$38-SUM(AT$7:AT19))),(BE20-($B$38-SUM(AT$7:AT19))))))","v":{"$error":"#VALUE!"}},"",{"$f":"IF(SUM(BI$7:BI19)>0,\"\",IF($B$39>SUM(AT$7:AT20),\"\",IF($F20>$E20,(BE20+($B$39-SUM(AT$7:AT19))),(BE20-($B$39-SUM(AT$7:AT19))))))","v":{"$error":"#VALUE!"}},"",{"$f":"IF(SUM(BK$7:BK19)>0,\"\",IF($B$40>SUM(AT$7:AT20),\"\",IF($F20>$E20,(BE20+($B$40-SUM(AT$7:AT19))),(BE20-($B$40-SUM(AT$7:AT19))))))","v":{"$error":"#VALUE!"}},"",{"$f":"IFERROR(IF($C20=SUM($H20+AA20+AT20),0,IF(($C20-SUM($H20+AA20+AT20))>($B$3-SUM(BM$7:BM19)),($B$3-SUM(BM$7:BM19)),($C20-SUM($H20+AA20+AT20)))),\"\")","v":0},"",{"$error":"#VALUE!"},{"$error":"#VALUE!"},{"$error":"#VALUE!"},{"$error":"#VALUE!"},{"$error":"#VALUE!"},{"$error":"#VALUE!"},{"$error":"#VALUE!"},{"$error":"#VALUE!"},{"$error":"#VALUE!"},"","",{"$f":"IF(SUM(BZ$7:BZ19)>0,\"\",IF($B$38>SUM(BM$7:BM20),\"\",IF($F20>$E20,(BX20+($B$38-SUM(BM$7:BM19))),(BX20-($B$38-SUM(BM$7:BM19))))))","v":{"$error":"#VALUE!"}},"",{"$f":"IF(SUM(CB$7:CB19)>0,\"\",IF($B$39>SUM(BM$7:BM20),\"\",IF($F20>$E20,(BX20+($B$39-SUM(BM$7:BM19))),(BX20-($B$39-SUM(BM$7:BM19))))))","v":{"$error":"#VALUE!"}},"",{"$f":"IF(SUM(CD$7:CD19)>0,\"\",IF($B$40>SUM(BM$7:BM20),\"\",IF($F20>$E20,(BX20+($B$40-SUM(BM$7:BM19))),(BX20-($B$40-SUM(BM$7:BM19))))))","v":{"$error":"#VALUE!"}},"",{"$f":"IFERROR(IF($C20=SUM($H20+AA20+AT20+BM20),0,IF(($C20-SUM($H20+AA20+AT20+BM20))>($B$3-SUM(CF$7:CF19)),($B$3-SUM(CF$7:CF19)),($C20-SUM($H20+AA20+AT20+BM20)))),\"\")","v":0},"",{"$error":"#VALUE!"},{"$error":"#VALUE!"},{"$error":"#VALUE!"},{"$error":"#VALUE!"},{"$error":"#VALUE!"},{"$error":"#VALUE!"},{"$error":"#VALUE!"},{"$error":"#VALUE!"},{"$error":"#VALUE!"},"","",{"$f":"IF(SUM(CS$7:CS19)>0,\"\",IF($B$38>SUM(CF$7:CF20),\"\",IF($F20>$E20,(CQ20+($B$38-SUM(CF$7:CF19))),(CQ20-($B$38-SUM(CF$7:CF19))))))","v":{"$error":"#VALUE!"}},"",{"$f":"IF(SUM(CU$7:CU19)>0,\"\",IF($B$39>SUM(CF$7:CF20),\"\",IF($F20>$E20,(CQ20+($B$39-SUM(CF$7:CF19))),(CQ20-($B$39-SUM(CF$7:CF19))))))","v":{"$error":"#VALUE!"}},"",{"$f":"IF(SUM(CW$7:CW19)>0,\"\",IF($B$40>SUM(CF$7:CF20),\"\",IF($F20>$E20,(CQ20+($B$40-SUM(CF$7:CF19))),(CQ20-($B$40-SUM(CF$7:CF19))))))","v":{"$error":"#VALUE!"}},""]
[{"$f":"IF('DSR Template'!$B29=\"\",\"\",'DSR Template'!$B29)","v":""},{"$f":"'DSR Template'!$K29","v":""},{"$f":"'DSR Template'!J29","v":0},{"$error":"#VALUE!"},{"$f":"IF('DSR Template'!H29=\"\",\"\",'DSR Template'!H29)","v":""},{"$f":"IF('DSR Template'!I29=\"\",\"\",'DSR Template'!I29)","v":""},{"$f":"IF('DSR Template'!D29=\"\",\"\",'DSR Template'!D29)","v":""},{"$f":"IFERROR(IF(($B$3-$C21-SUM(H$7:H20))>0,$C21,$B$3-SUM(H$7:H20)),\"\")","v":0},"",{"$error":"#VALUE!"},{"$error":"#VALUE!"},{"$error":"#VALUE!"},{"$error":"#VALUE!"},{"$error":"#VALUE!"},{"$error":"#VALUE!"},{"$error":"#VALUE!"},{"$error":"#VALUE!"},{"$error":"#VALUE!"},"",{"$f":"IF(S21=\"\",\"\",IF($F21>$E21,S21+I21,S21-I21))","v":""},{"$f":"IF(SUM(U$7:U20)>0,\"\",IF($B$38>SUM(H$7:H21),\"\",IF($F21>$E21,(S21+($B$38-SUM(H$7:H20))),(S21-($B$38-SUM(H$7:H20))))))","v":{"$error":"#VALUE!"}},"",{"$f":"IF(SUM(W$7:W20)>0,\"\",IF($B$39>SUM(H$7:H21),\"\",IF($F21>$E21,(S21+($B$39-SUM(H$7:H20))),(S21-($B$39-SUM(H$7:H20))))))","v":{"$error":"#VALUE!"}},"",{"$f":"IF(SUM(Y$7:Y20)>0,\"\",IF($B$40>SUM(H$7:H21),\"\",IF($F21>$E21,(S21+($B$40-SUM(H$7:H20))),(S21-($B$40-SUM(H$7:H20))))))","v":{"$error":"#VALUE!"}},"",{"$f":"IFERROR(IF($C21=SUM($H21:H21),0,IF(($C21-SUM($H21:H21))>($B$3-SUM(AA$7:AA20)),($B$3-SUM(AA$7:AA20)),($C21-SUM($H21:H21)))),\"\")","v":0},"",{"$error":"#VALUE!"},{"$error":"#VALUE!"},{"$error":"#VALUE!"},{"$error":"#VALUE!"},{"$error":"#VALUE!"},{"$error":"#VALUE!"},{"$error":"#VALUE!"},{"$error":"#VALUE!"},{"$error":"#VALUE!"},"","",{"$f":"IF(SUM(AN$7:AN20)>0,\"\",IF($B$38>SUM(AA$7:AA21),\"\",IF($F21>$E21,(AL21+($B$38-SUM(AA$7:AA20))),(AL21-($B$38-SUM(AA$7:AA20))))))","v":{"$error":"#VALUE!"}},"",{"$f":"IF(SUM(AP$7:AP20)>0,\"\",IF($B$39>SUM(AA$7:AA21),\"\",IF($F21>$E21,(AL21+($B$39-SUM(AA$7:AA20))),(AL21-($B$39-SUM(AA$7:AA20))))))","v":{"$error":"#VALUE!"}},"",{"$f":"IF(SUM(AR$7:AR20)>0,\"\",IF($B$40>SUM(AA$7:AA21),\"\",IF($F21>$E21,(AL21+($B$40-SUM(AA$7:AA20))),(AL21-($B$40-SUM(AA$7:AA20))))))","v":{"$error":"#VALUE!"}},"",{"$f":"IFERROR(IF($C21=SUM($H21+AA21),0,IF(($C21-SUM($H21+AA21))>($B$3-SUM(AT$7:AT20)),($B$3-SUM(AT$7:AT20)),($C21-SUM($H21+AA21)))),\"\")","v":0},"",{"$error":"#VALUE!"},{"$error":"#VALUE!"},{"$error":"#VALUE!"},{"$error":"#VALUE!"},{"$error":"#VALUE!"},{"$error":"#VALUE!"},{"$error":"#VALUE!"},{"$error":"#VALUE!"},{"$error":"#VALUE!"},"","",{"$f":"IF(SUM(BG$7:BG20)>0,\"\",IF($B$38>SUM(AT$7:AT21),\"\",IF($F21>$E21,(BE21+($B$38-SUM(AT$7:AT20))),(BE21-($B$38-SUM(AT$7:AT20))))))","v":{"$error":"#VALUE!"}},"",{"$f":"IF(SUM(BI$7:BI20)>0,\"\",IF($B$39>SUM(AT$7:AT21),\"\",IF($F21>$E21,(BE21+($B$39-SUM(AT$7:AT20))),(BE21-($B$39-SUM(AT$7:AT20))))))","v":{"$error":"#VALUE!"}},"",{"$f":"IF(SUM(BK$7:BK20)>0,\"\",IF($B$40>SUM(AT$7:AT21),\"\",IF($F21>$E21,(BE21+($B$40-SUM(AT$7:AT20))),(BE21-($B$40-SUM(AT$7:AT20))))))","v":{"$error":"#VALUE!"}},"",{"$f":"IFERROR(IF($C21=SUM($H21+AA21+AT21),0,IF(($C21-SUM($H21+AA21+AT21))>($B$3-SUM(BM$7:BM20)),($B$3-SUM(BM$7:BM20)),($C21-SUM($H21+AA21+AT21)))),\"\")","v":0},"",{"$error":"#VALUE!"},{"$error":"#VALUE!"},{"$error":"#VALUE!"},{"$error":"#VALUE!"},{"$error":"#VALUE!"},{"$error":"#VALUE!"},{"$error":"#VALUE!"},{"$error":"#VALUE!"},{"$error":"#VALUE!"},"","",{"$f":"IF(SUM(BZ$7:BZ20)>0,\"\",IF($B$38>SUM(BM$7:BM21),\"\",IF($F21>$E21,(BX21+($B$38-SUM(BM$7:BM20))),(BX21-($B$38-SUM(BM$7:BM20))))))","v":{"$error":"#VALUE!"}},"",{"$f":"IF(SUM(CB$7:CB20)>0,\"\",IF($B$39>SUM(BM$7:BM21),\"\",IF($F21>$E21,(BX21+($B$39-SUM(BM$7:BM20))),(BX21-($B$39-SUM(BM$7:BM20))))))","v":{"$error":"#VALUE!"}},"",{"$f":"IF(SUM(CD$7:CD20)>0,\"\",IF($B$40>SUM(BM$7:BM21),\"\",IF($F21>$E21,(BX21+($B$40-SUM(BM$7:BM20))),(BX21-($B$40-SUM(BM$7:BM20))))))","v":{"$error":"#VALUE!"}},"",{"$f":"IFERROR(IF($C21=SUM($H21+AA21+AT21+BM21),0,IF(($C21-SUM($H21+AA21+AT21+BM21))>($B$3-SUM(CF$7:CF20)),($B$3-SUM(CF$7:CF20)),($C21-SUM($H21+AA21+AT21+BM21)))),\"\")","v":0},"",{"$error":"#VALUE!"},{"$error":"#VALUE!"},{"$error":"#VALUE!"},{"$error":"#VALUE!"},{"$error":"#VALUE!"},{"$error":"#VALUE!"},{"$error":"#VALUE!"},{"$error":"#VALUE!"},{"$error":"#VALUE!"},"","",{"$f":"IF(SUM(CS$7:CS20)>0,\"\",IF($B$38>SUM(CF$7:CF21),\"\",IF($F21>$E21,(CQ21+($B$38-SUM(CF$7:CF20))),(CQ21-($B$38-SUM(CF$7:CF20))))))","v":{"$error":"#VALUE!"}},"",{"$f":"IF(SUM(CU$7:CU20)>0,\"\",IF($B$39>SUM(CF$7:CF21),\"\",IF($F21>$E21,(CQ21+($B$39-SUM(CF$7:CF20))),(CQ21-($B$39-SUM(CF$7:CF20))))))","v":{"$error":"#VALUE!"}},"",{"$f":"IF(SUM(CW$7:CW20)>0,\"\",IF($B$40>SUM(CF$7:CF21),\"\",IF($F21>$E21,(CQ21+($B$40-SUM(CF$7:CF20))),(CQ21-($B$40-SUM(CF$7:CF20))))))","v":{"$error":"#VALUE!"}},""]
[{"$f":"IF('DSR Template'!$B30=\"\",\"\",'DSR Template'!$B30)","v":""},{"$f":"'DSR Template'!$K30","v":""},{"$f":"'DSR Template'!J30","v":0},{"$error":"#VALUE!"},{"$f":"IF('DSR Template'!H30=\"\",\"\",'DSR Template'!H30)","v":""},{"$f":"IF('DSR Template'!I30=\"\",\"\",'DSR Template'!I30)","v":""},{"$f":"IF('DSR Template'!D30=\"\",\"\",'DSR Template'!D30)","v":""},{"$f":"IFERROR(IF(($B$3-$C22-SUM(H$7:H21))>0,$C22,$B$3-SUM(H$7:H21)),\"\")","v":0},"",{"$error":"#VALUE!"},{"$error":"#VALUE!"},{"$error":"#VALUE!"},{"$error":"#VALUE!"},{"$error":"#VALUE!"},{"$error":"#VALUE!"},{"$error":"#VALUE!"},{"$error":"#VALUE!"},{"$error":"#VALUE!"},"","",{"$f":"IF(SUM(U$7:U21)>0,\"\",IF($B$38>SUM(H$7:H22),\"\",IF($F22>$E22,(S22+($B$38-SUM(H$7:H21))),(S22-($B$38-SUM(H$7:H21))))))","v":{"$error":"#VALUE!"}},"",{"$f":"IF(SUM(W$7:W21)>0,\"\",IF($B$39>SUM(H$7:H22),\"\",IF($F22>$E22,(S22+($B$39-SUM(H$7:H21))),(S22-($B$39-SUM(H$7:H21))))))","v":{"$error":"#VALUE!"}},"",{"$f":"IF(SUM(Y$7:Y21)>0,\"\",IF($B$40>SUM(H$7:H22),\"\",IF($F22>$E22,(S22+($B$40-SUM(H$7:H21))),(S22-($B$40-SUM(H$7:H21))))))","v":{"$error":"#VALUE!"}},"",{"$f":"IFERROR(IF($C22=SUM($H22:H22),0,IF(($C22-SUM($H22:H22))>($B$3-SUM(AA$7:AA21)),($B$3-SUM(AA$7:AA21)),($C22-SUM($H22:H22)))),\"\")","v":0},"",{"$error":"#VALUE!"},{"$error":"#VALUE!"},{"$error":"#VALUE!"},{"$error":"#VALUE!"},{"$error":"#VALUE!"},{"$error":"#VALUE!"},{"$error":"#VALUE!"},{"$error":"#VALUE!"},{"$error":"#VALUE!"},"","",{"$f":"IF(SUM(AN$7:AN21)>0,\"\",IF($B$38>SUM(AA$7:AA22),\"\",IF($F22>$E22,(AL22+($B$38-SUM(AA$7:AA21))),(AL22-($B$38-SUM(AA$7:AA21))))))","v":{"$error":"#VALUE!"}},"",{"$f":"IF(SUM(AP$7:AP21)>0,\"\",IF($B$39>SUM(AA$7:AA22),\"\",IF($F22>$E22,(AL22+($B$39-SUM(AA$7:AA21))),(AL22-($B$39-SUM(AA$7:AA21))))))","v":{"$error":"#VALUE!"}},"",{"$f":"IF(SUM(AR$7:AR21)>0,\"\",IF($B$40>SUM(AA$7:AA22),\"\",IF($F22>$E22,(AL22+($B$40-SUM(AA$7:AA21))),(AL22-($B$40-SUM(AA$7:AA21))))))","v":{"$error":"#VALUE!"}},"",{"$f":"IFERROR(IF($C22=SUM($H22+AA22),0,IF(($C22-SUM($H22+AA22))>($B$3-SUM(AT$7:AT21)),($B$3-SUM(AT$7:AT21)),($C22-SUM($H22+AA22)))),\"\")","v":0},"",{"$error":"#VALUE!"},{"$error":"#VALUE!"},{"$error":"#VALUE!"},{"$error":"#VALUE!"},{"$error":"#VALUE!"},{"$error":"#VALUE!"},{"$error":"#VALUE!"},{"$error":"#VALUE!"},{"$error":"#VALUE!"},"","",{"$f":"IF(SUM(BG$7:BG21)>0,\"\",IF($B$38>SUM(AT$7:AT22),\"\",IF($F22>$E22,(BE22+($B$38-SUM(AT$7:AT21))),(BE22-($B$38-SUM(AT$7:AT21))))))","v":{"$error":"#VALUE!"}},"",{"$f":"IF(SUM(BI$7:BI21)>0,\"\",IF($B$39>SUM(AT$7:AT22),\"\",IF($F22>$E22,(BE22+($B$39-SUM(AT$7:AT21))),(BE22-($B$39-SUM(AT$7:AT21))))))","v":{"$error":"#VALUE!"}},"",{"$f":"IF(SUM(BK$7:BK21)>0,\"\",IF($B$40>SUM(AT$7:AT22),\"\",IF($F22>$E22,(BE22+($B$40-SUM(AT$7:AT21))),(BE22-($B$40-SUM(AT$7:AT21))))))","v":{"$error":"#VALUE!"}},"",{"$f":"IFERROR(IF($C22=SUM($H22+AA22+AT22),0,IF(($C22-SUM($H22+AA22+AT22))>($B$3-SUM(BM$7:BM21)),($B$3-SUM(BM$7:BM21)),($C22-SUM($H22+AA22+AT22)))),\"\")","v":0},"",{"$error":"#VALUE!"},{"$error":"#VALUE!"},{"$error":"#VALUE!"},{"$error":"#VALUE!"},{"$error":"#VALUE!"},{"$error":"#VALUE!"},{"$error":"#VALUE!"},{"$error":"#VALUE!"},{"$error":"#VALUE!"},"","",{"$f":"IF(SUM(BZ$7:BZ21)>0,\"\",IF($B$38>SUM(BM$7:BM22),\"\",IF($F22>$E22,(BX22+($B$38-SUM(BM$7:BM21))),(BX22-($B$38-SUM(BM$7:BM21))))))","v":{"$error":"#VALUE!"}},"",{"$f":"IF(SUM(CB$7:CB21)>0,\"\",IF($B$39>SUM(BM$7:BM22),\"\",IF($F22>$E22,(BX22+($B$39-SUM(BM$7:BM21))),(BX22-($B$39-SUM(BM$7:BM21))))))","v":{"$error":"#VALUE!"}},"",{"$f":"IF(SUM(CD$7:CD21)>0,\"\",IF($B$40>SUM(BM$7:BM22),\"\",IF($F22>$E22,(BX22+($B$40-SUM(BM$7:BM21))),(BX22-($B$40-SUM(BM$7:BM21))))))","v":{"$error":"#VALUE!"}},"",{"$f":"IFERROR(IF($C22=SUM($H22+AA22+AT22+BM22),0,IF(($C22-SUM($H22+AA22+AT22+BM22))>($B$3-SUM(CF$7:CF21)),($B$3-SUM(CF$7:CF21)),($C22-SUM($H22+AA22+AT22+BM22)))),\"\")","v":0},"",{"$error":"#VALUE!"},{"$error":"#VALUE!"},{"$error":"#VALUE!"},{"$error":"#VALUE!"},{"$error":"#VALUE!"},{"$error":"#VALUE!"},{"$error":"#VALUE!"},{"$error":"#VALUE!"},{"$error":"#VALUE!"},"","",{"$f":"IF(SUM(CS$7:CS21)>0,\"\",IF($B$38>SUM(CF$7:CF22),\"\",IF($F22>$E22,(CQ22+($B$38-SUM(CF$7:CF21))),(CQ22-($B$38-SUM(CF$7:CF21))))))","v":{"$error":"#VALUE!"}},"",{"$f":"IF(SUM(CU$7:CU21)>0,\"\",IF($B$39>SUM(CF$7:CF22),\"\",IF($F22>$E22,(CQ22+($B$39-SUM(CF$7:CF21))),(CQ22-($B$39-SUM(CF$7:CF21))))))","v":{"$error":"#VALUE!"}},"",{"$f":"IF(SUM(CW$7:CW21)>0,\"\",IF($B$40>SUM(CF$7:CF22),\"\",IF($F22>$E22,(CQ22+($B$40-SUM(CF$7:CF21))),(CQ22-($B$40-SUM(CF$7:CF21))))))","v":{"$error":"#VALUE!"}},""]
[{"$f":"IF('DSR Template'!$B31=\"\",\"\",'DSR Template'!$B31)","v":""},{"$f":"'DSR Template'!$K31","v":""},{"$f":"'DSR Template'!J31","v":0},{"$error":"#VALUE!"},{"$f":"IF('DSR Template'!H31=\"\",\"\",'DSR Template'!H31)","v":""},{"$f":"IF('DSR Template'!I31=\"\",\"\",'DSR Template'!I31)","v":""},{"$f":"IF('DSR Template'!D31=\"\",\"\",'DSR Template'!D31)","v":""},{"$f":"IFERROR(IF(($B$3-$C23-SUM(H$7:H22))>0,$C23,$B$3-SUM(H$7:H22)),\"\")","v":0},"",{"$error":"#VALUE!"},{"$error":"#VALUE!"},{"$error":"#VALUE!"},{"$error":"#VALUE!"},{"$error":"#VALUE!"},{"$error":"#VALUE!"},{"$error":"#VALUE!"},{"$error":"#VALUE!"},{"$error":"#VALUE!"},"","",{"$f":"IF(SUM(U$7:U22)>0,\"\",IF($B$38>SUM(H$7:H23),\"\",IF($F23>$E23,(S23+($B$38-SUM(H$7:H22))),(S23-($B$38-SUM(H$7:H22))))))","v":{"$error":"#VALUE!"}},"",{"$f":"IF(SUM(W$7:W22)>0,\"\",IF($B$39>SUM(H$7:H23),\"\",IF($F23>$E23,(S23+($B$39-SUM(H$7:H22))),(S23-($B$39-SUM(H$7:H22))))))","v":{"$error":"#VALUE!"}},"",{"$f":"IF(SUM(Y$7:Y22)>0,\"\",IF($B$40>SUM(H$7:H23),\"\",IF($F23>$E23,(S23+($B$40-SUM(H$7:H22))),(S23-($B$40-SUM(H$7:H22))))))","v":{"$error":"#VALUE!"}},"",{"$f":"IFERROR(IF($C23=SUM($H23:H23),0,IF(($C23-SUM($H23:H23))>($B$3-SUM(AA$7:AA22)),($B$3-SUM(AA$7:AA22)),($C23-SUM($H23:H23)))),\"\")","v":0},"",{"$error":"#VALUE!"},{"$error":"#VALUE!"},{"$error":"#VALUE!"},{"$error":"#VALUE!"},{"$error":"#VALUE!"},{"$error":"#VALUE!"},{"$error":"#VALUE!"},{"$error":"#VALUE!"},{"$error":"#VALUE!"},"","",{"$f":"IF(SUM(AN$7:AN22)>0,\"\",IF($B$38>SUM(AA$7:AA23),\"\",IF($F23>$E23,(AL23+($B$38-SUM(AA$7:AA22))),(AL23-($B$38-SUM(AA$7:AA22))))))","v":{"$error":"#VALUE!"}},"",{"$f":"IF(SUM(AP$7:AP22)>0,\"\",IF($B$39>SUM(AA$7:AA23),\"\",IF($F23>$E23,(AL23+($B$39-SUM(AA$7:AA22))),(AL23-($B$39-SUM(AA$7:AA22))))))","v":{"$error":"#VALUE!"}},"",{"$f":"IF(SUM(AR$7:AR22)>0,\"\",IF($B$40>SUM(AA$7:AA23),\"\",IF($F23>$E23,(AL23+($B$40-SUM(AA$7:AA22))),(AL23-($B$40-SUM(AA$7:AA22))))))","v":{"$error":"#VALUE!"}},"",{"$f":"IFERROR(IF($C23=SUM($H23+AA23),0,IF(($C23-SUM($H23+AA23))>($B$3-SUM(AT$7:AT22)),($B$3-SUM(AT$7:AT22)),($C23-SUM($H23+AA23)))),\"\")","v":0},"",{"$error":"#VALUE!"},{"$error":"#VALUE!"},{"$error":"#VALUE!"},{"$error":"#VALUE!"},{"$error":"#VALUE!"},{"$error":"#VALUE!"},{"$error":"#VALUE!"},{"$error":"#VALUE!"},{"$error":"#VALUE!"},"","",{"$f":"IF(SUM(BG$7:BG22)>0,\"\",IF($B$38>SUM(AT$7:AT23),\"\",IF($F23>$E23,(BE23+($B$38-SUM(AT$7:AT22))),(BE23-($B$38-SUM(AT$7:AT22))))))","v":{"$error":"#VALUE!"}},"",{"$f":"IF(SUM(BI$7:BI22)>0,\"\",IF($B$39>SUM(AT$7:AT23),\"\",IF($F23>$E23,(BE23+($B$39-SUM(AT$7:AT22))),(BE23-($B$39-SUM(AT$7:AT22))))))","v":{"$error":"#VALUE!"}},"",{"$f":"IF(SUM(BK$7:BK22)>0,\"\",IF($B$40>SUM(AT$7:AT23),\"\",IF($F23>$E23,(BE23+($B$40-SUM(AT$7:AT22))),(BE23-($B$40-SUM(AT$7:AT22))))))","v":{"$error":"#VALUE!"}},"",{"$f":"IFERROR(IF($C23=SUM($H23+AA23+AT23),0,IF(($C23-SUM($H23+AA23+AT23))>($B$3-SUM(BM$7:BM22)),($B$3-SUM(BM$7:BM22)),($C23-SUM($H23+AA23+AT23)))),\"\")","v":0},"",{"$error":"#VALUE!"},{"$error":"#VALUE!"},{"$error":"#VALUE!"},{"$error":"#VALUE!"},{"$error":"#VALUE!"},{"$error":"#VALUE!"},{"$error":"#VALUE!"},{"$error":"#VALUE!"},{"$error":"#VALUE!"},"","",{"$f":"IF(SUM(BZ$7:BZ22)>0,\"\",IF($B$38>SUM(BM$7:BM23),\"\",IF($F23>$E23,(BX23+($B$38-SUM(BM$7:BM22))),(BX23-($B$38-SUM(BM$7:BM22))))))","v":{"$error":"#VALUE!"}},"",{"$f":"IF(SUM(CB$7:CB22)>0,\"\",IF($B$39>SUM(BM$7:BM23),\"\",IF($F23>$E23,(BX23+($B$39-SUM(BM$7:BM22))),(BX23-($B$39-SUM(BM$7:BM22))))))","v":{"$error":"#VALUE!"}},"",{"$f":"IF(SUM(CD$7:CD22)>0,\"\",IF($B$40>SUM(BM$7:BM23),\"\",IF($F23>$E23,(BX23+($B$40-SUM(BM$7:BM22))),(BX23-($B$40-SUM(BM$7:BM22))))))","v":{"$error":"#VALUE!"}},"",{"$f":"IFERROR(IF($C23=SUM($H23+AA23+AT23+BM23),0,IF(($C23-SUM($H23+AA23+AT23+BM23))>($B$3-SUM(CF$7:CF22)),($B$3-SUM(CF$7:CF22)),($C23-SUM($H23+AA23+AT23+BM23)))),\"\")","v":0},"",{"$error":"#VALUE!"},{"$error":"#VALUE!"},{"$error":"#VALUE!"},{"$error":"#VALUE!"},{"$error":"#VALUE!"},{"$error":"#VALUE!"},{"$error":"#VALUE!"},{"$error":"#VALUE!"},{"$error":"#VALUE!"},"","",{"$f":"IF(SUM(CS$7:CS22)>0,\"\",IF($B$38>SUM(CF$7:CF23),\"\",IF($F23>$E23,(CQ23+($B$38-SUM(CF$7:CF22))),(CQ23-($B$38-SUM(CF$7:CF22))))))","v":{"$error":"#VALUE!"}},"",{"$f":"IF(SUM(CU$7:CU22)>0,\"\",IF($B$39>SUM(CF$7:CF23),\"\",IF($F23>$E23,(CQ23+($B$39-SUM(CF$7:CF22))),(CQ23-($B$39-SUM(CF$7:CF22))))))","v":{"$error":"#VALUE!"}},"",{"$f":"IF(SUM(CW$7:CW22)>0,\"\",IF($B$40>SUM(CF$7:CF23),\"\",IF($F23>$E23,(CQ23+($B$40-SUM(CF$7:CF22))),(CQ23-($B$40-SUM(CF$7:CF22))))))","v":{"$error":"#VALUE!"}},""]
[{"$f":"IF('DSR Template'!$B32=\"\",\"\",'DSR Template'!$B32)","v":""},{"$f":"'DSR Template'!$K32","v":""},{"$f":"'DSR Template'!J32","v":0},{"$f":"C24/B24","v":{"$error":"#VALUE!"}},{"$f":"IF('DSR Template'!H32=\"\",\"\",'DSR Template'!H32)","v":""},{"$f":"IF('DSR Template'!I32=\"\",\"\",'DSR Template'!I32)","v":""},{"$f":"IF('DSR Template'!D32=\"\",\"\",'DSR Template'!D32)","v":""},{"$f":"IFERROR(IF(($B$3-$C24-SUM(H$7:H23))>0,$C24,$B$3-SUM(H$7:H23)),\"\")","v":0},{"$f":"IFERROR(H24/$D24,\"\")","v":""},{"$f":"IF(U24=\"\",\"\",\"Yes\")","v":{"$error":"#VALUE!"}},{"$f":"IF(U24=\"\",\"\",$A24)","v":{"$error":"#VALUE!"}},{"$f":"IF(J24=\"\",\"\",$G24)","v":{"$error":"#VALUE!"}},{"$f":"IF(W24=\"\",\"\",\"Yes\")","v":{"$error":"#VALUE!"}},{"$f":"IF(W24=\"\",\"\",$A24)","v":{"$error":"#VALUE!"}},{"$f":"IF(M24=\"\",\"\",$G24)","v":{"$error":"#VALUE!"}},{"$f":"IF(Y24=\"\",\"\",\"Yes\")","v":{"$error":"#VALUE!"}},{"$f":"IF(Y24=\"\",\"\",$A24)","v":{"$error":"#VALUE!"}},{"$f":"IF(P24=\"\",\"\",$G24)","v":{"$error":"#VALUE!"}},{"$f":"IF(H24=0,\"\",$E24)","v":""},"",{"$f":"IF(SUM(U$7:U23)>0,\"\",IF($B$38>SUM(H$7:H24),\"\",IF($F24>$E24,(S24+($B$38-SUM(H$7:H23))),(S24-($B$38-SUM(H$7:H23))))))","v":{"$error":"#VALUE!"}},{"$f":"IFERROR(((U24-$S24)*(1/$D24))+$S24,\"\")","v":""},{"$f":"IF(SUM(W$7:W23)>0,\"\",IF($B$39>SUM(H$7:H24),\"\",IF($F24>$E24,(S24+($B$39-SUM(H$7:H23))),(S24-($B$39-SUM(H$7:H23))))))","v":{"$error":"#VALUE!"}},"",{"$f":"IF(SUM(Y$7:Y23)>0,\"\",IF($B$40>SUM(H$7:H24),\"\",IF($F24>$E24,(S24+($B$40-SUM(H$7:H23))),(S24-($B$40-SUM(H$7:H23))))))","v":{"$error":"#VALUE!"}},{"$f":"IFERROR(((Y24-$S24)*(1/$D24))+$S24,\"\")","v":""},{"$f":"IFERROR(IF($C24=SUM($H24:H24),0,IF(($C24-SUM($H24:H24))>($B$3-SUM(AA$7:AA23)),($B$3-SUM(AA$7:AA23)),($C24-SUM($H24:H24)))),\"\")","v":0},{"$f":"IFERROR(AA24/$D24,\"\")","v":""},{"$error":"#VALUE!"},{"$error":"#VALUE!"},{"$f":"IF(AC24=\"\",\"\",$G24)","v":{"$error":"#VALUE!"}},{"$f":"IF(AP24=\"\",\"\",\"Yes\")","v":{"$error":"#VALUE!"}},{"$f":"IF(AP24=\"\",\"\",$A24)","v":{"$error":"#VALUE!"}},{"$f":"IF(AF24=\"\",\"\",$G24)","v":{"$error":"#VALUE!"}},{"$f":"IF(AR24=\"\",\"\",\"Yes\")","v":{"$error":"#VALUE!"}},{"$f":"IF(AR24=\"\",\"\",$A24)","v":{"$error":"#VALUE!"}},{"$f":"IF(AI24=\"\",\"\",$G24)","v":{"$error":"#VALUE!"}},{"$f":"IF(AA24=0,\"\",IF(T24=\"\",$E24,T24))","v":""},{"$f":"IF(AL24=\"\",\"\",IF($F24>$E24,AL24+AB24,AL24-AB24))","v":""},{"$f":"IF(SUM(AN$7:AN23)>0,\"\",IF($B$38>SUM(AA$7:AA24),\"\",IF($F24>$E24,(AL24+($B$38-SUM(AA$7:AA23))),(AL24-($B$38-SUM(AA$7:AA23))))))","v":{"$error":"#VALUE!"}},{"$f":"IFERROR(((AN24-$AL24)*(1/$D24))+$AL24,\"\")","v":""},{"$f":"IF(SUM(AP$7:AP23)>0,\"\",IF($B$39>SUM(AA$7:AA24),\"\",IF($F24>$E24,(AL24+($B$39-SUM(AA$7:AA23))),(AL24-($B$39-SUM(AA$7:AA23))))))","v":{"$error":"#VALUE!"}},"",{"$f":"IF(SUM(AR$7:AR23)>0,\"\",IF($B$40>SUM(AA$7:AA24),\"\",IF($F24>$E24,(AL24+($B$40-SUM(AA$7:AA23))),(AL24-($B$40-SUM(AA$7:AA23))))))","v":{"$error":"#VALUE!"}},{"$f":"IFERROR(((AR24-$AL24)*(1/$D24))+$AL24,\"\")","v":""},{"$f":"IFERROR(IF($C24=SUM($H24+AA24),0,IF(($C24-SUM($H24+AA24))>($B$3-SUM(AT$7:AT23)),($B$3-SUM(AT$7:AT23)),($C24-SUM($H24+AA24)))),\"\")","v":0},{"$f":"IFERROR(AT24/$D24,\"\")","v":""},{"$error":"#VALUE!"},{"$error":"#VALUE!"},{"$f":"IF(AV24=\"\",\"\",$G24)","v":{"$error":"#VALUE!"}},{"$f":"IF(BI24=\"\",\"\",\"Yes\")","v":{"$error":"#VALUE!"}},{"$f":"IF(BI24=\"\",\"\",$A24)","v":{"$error":"#VALUE!"}},{"$f":"IF(AY24=\"\",\"\",$G24)","v":{"$error":"#VALUE!"}},{"$f":"IF(BK24=\"\",\"\",\"Yes\")","v":{"$error":"#VALUE!"}},{"$error":"#VALUE!"},{"$f":"IF(BB24=\"\",\"\",$G24)","v":{"$error":"#VALUE!"}},"",{"$f":"IF(BE24=\"\",\"\",IF($F24>$E24,BE24+AU24,BE24-AU24))","v":""},{"$f":"IF(SUM(BG$7:BG23)>0,\"\",IF($B$38>SUM(AT$7:AT24),\"\",IF($F24>$E24,(BE24+($B$38-SUM(AT$7:AT23))),(BE24-($B$38-SUM(AT$7:AT23))))))","v":{"$error":"#VALUE!"}},{"$f":"IFERROR(((BG24-$BE24)*(1/$D24))+$BE24,\"\")","v":""},{"$f":"IF(SUM(BI$7:BI23)>0,\"\",IF($B$39>SUM(AT$7:AT24),\"\",IF($F24>$E24,(BE24+($B$39-SUM(AT$7:AT23))),(BE24-($B$39-SUM(AT$7:AT23))))))","v":{"$error":"#VALUE!"}},"",{"$f":"IF(SUM(BK$7:BK23)>0,\"\",IF($B$40>SUM(AT$7:AT24),\"\",IF($F24>$E24,(BE24+($B$40-SUM(AT$7:AT23))),(BE24-($B$40-SUM(AT$7:AT23))))))","v":{"$error":"#VALUE!"}},{"$f":"IFERROR(((BK24-$BE24)*(1/$D24))+$BE24,\"\")","v":""},{"$f":"IFERROR(IF($C24=SUM($H24+AA24+AT24),0,IF(($C24-SUM($H24+AA24+AT24))>($B$3-SUM(BM$7:BM23)),($B$3-SUM(BM$7:BM23)),($C24-SUM($H24+AA24+AT24)))),\"\")","v":0},{"$f":"IFERROR(BM24/$D24,\"\")","v":""},{"$error":"#VALUE!"},{"$error":"#VALUE!"},{"$f":"IF(BO24=\"\",\"\",$G24)","v":{"$error":"#VALUE!"}},{"$f":"IF(CB24=\"\",\"\",\"Yes\")","v":{"$error":"#VALUE!"}},{"$f":"IF(CB24=\"\",\"\",$A24)","v":{"$error":"#VALUE!"}},{"$f":"IF(BR24=\"\",\"\",$G24)","v":{"$error":"#VALUE!"}},{"$f":"IF(CD24=\"\",\"\",\"Yes\")","v":{"$error":"#VALUE!"}},{"$error":"#VALUE!"},{"$f":"IF(BU24=\"\",\"\",$G24)","v":{"$error":"#VALUE!"}},"",{"$f":"IF(BX24=\"\",\"\",IF($F24>$E24,BX24+BN24,BX24-BN24))","v":""},{"$f":"IF(SUM(BZ$7:BZ23)>0,\"\",IF($B$38>SUM(BM$7:BM24),\"\",IF($F24>$E24,(BX24+($B$38-SUM(BM$7:BM23))),(BX24-($B$38-SUM(BM$7:BM23))))))","v":{"$error":"#VALUE!"}},{"$f":"IFERROR(((BZ24-$BX24)*(1/$D24))+$BX24,\"\")","v":""},{"$f":"IF(SUM(CB$7:CB23)>0,\"\",IF($B$39>SUM(BM$7:BM24),\"\",IF($F24>$E24,(BX24+($B$39-SUM(BM$7:BM23))),(BX24-($B$39-SUM(BM$7:BM23))))))","v":{"$error":"#VALUE!"}},"",{"$f":"IF(SUM(CD$7:CD23)>0,\"\",IF($B$40>SUM(BM$7:BM24),\"\",IF($F24>$E24,(BX24+($B$40-SUM(BM$7:BM23))),(BX24-($B$40-SUM(BM$7:BM23))))))","v":{"$error":"#VALUE!"}},{"$f":"IFERROR(((CD24-$BX24)*(1/$D24))+$BX24,\"\")","v":""},{"$f":"IFERROR(IF($C24=SUM($H24+AA24+AT24+BM24),0,IF(($C24-SUM($H24+AA24+AT24+BM24))>($B$3-SUM(CF$7:CF23)),($B$3-SUM(CF$7:CF23)),($C24-SUM($H24+AA24+AT24+BM24)))),\"\")","v":0},{"$f":"IFERROR(CF24/$D24,\"\")","v":""},{"$error":"#VALUE!"},{"$error":"#VALUE!"},{"$f":"IF(CH24=\"\",\"\",$G24)","v":{"$error":"#VALUE!"}},{"$f":"IF(CU24=\"\",\"\",\"Yes\")","v":{"$error":"#VALUE!"}},{"$f":"IF(CU24=\"\",\"\",$A24)","v":{"$error":"#VALUE!"}},{"$f":"IF(CK24=\"\",\"\",$G24)","v":{"$error":"#VALUE!"}},{"$f":"IF(CW24=\"\",\"\",\"Yes\")","v":{"$error":"#VALUE!"}},{"$error":"#VALUE!"},{"$f":"IF(CN24=\"\",\"\",$G24)","v":{"$error":"#VALUE!"}},"",{"$f":"IF(CQ24=\"\",\"\",IF($F24>$E24,CQ24+CG24,CQ24-CG24))","v":""},{"$f":"IF(SUM(CS$7:CS23)>0,\"\",IF($B$38>SUM(CF$7:CF24),\"\",IF($F24>$E24,(CQ24+($B$38-SUM(CF$7:CF23))),(CQ24-($B$38-SUM(CF$7:CF23))))))","v":{"$error":"#VALUE!"}},{"$f":"IFERROR(((CS24-$CQ24)*(1/$D24))+$CQ24,\"\")","v":""},{"$f":"IF(SUM(CU$7:CU23)>0,\"\",IF($B$39>SUM(CF$7:CF24),\"\",IF($F24>$E24,(CQ24+($B$39-SUM(CF$7:CF23))),(CQ24-($B$39-SUM(CF$7:CF23))))))","v":{"$error":"#VALUE!"}},"",{"$f":"IF(SUM(CW$7:CW23)>0,\"\",IF($B$40>SUM(CF$7:CF24),\"\",IF($F24>$E24,(CQ24+($B$40-SUM(CF$7:CF23))),(CQ24-($B$40-SUM(CF$7:CF23))))))","v":{"$error":"#VALUE!"}},{"$f":"IFERROR(((CW24-$CQ24)*(1/$D24))+$CQ24,\"\")","v":""}]
[{"$f":"IF('DSR Template'!$B33=\"\",\"\",'DSR Template'!$B33)","v":""},{"$f":"'DSR Template'!$K33","v":""},{"$f":"'DSR Template'!J33","v":0},{"$error":"#VALUE!"},{"$f":"IF('DSR Template'!H33=\"\",\"\",'DSR Template'!H33)","v":""},{"$f":"IF('DSR Template'!I33=\"\",\"\",'DSR Template'!I33)","v":""},{"$f":"IF('DSR Template'!D33=\"\",\"\",'DSR Template'!D33)","v":""},{"$f":"IFERROR(IF(($B$3-$C25-SUM(H$7:H24))>0,$C25,$B$3-SUM(H$7:H24)),\"\")","v":0},"",{"$error":"#VALUE!"},{"$error":"#VALUE!"},{"$error":"#VALUE!"},{"$error":"#VALUE!"},{"$error":"#VALUE!"},{"$error":"#VALUE!"},{"$error":"#VALUE!"},{"$error":"#VALUE!"},{"$error":"#VALUE!"},"","",{"$f":"IF(SUM(U$7:U24)>0,\"\",IF($B$38>SUM(H$7:H25),\"\",IF($F25>$E25,(S25+($B$38-SUM(H$7:H24))),(S25-($B$38-SUM(H$7:H24))))))","v":{"$error":"#VALUE!"}},"",{"$f":"IF(SUM(W$7:W24)>0,\"\",IF($B$39>SUM(H$7:H25),\"\",IF($F25>$E25,(S25+($B$39-SUM(H$7:H24))),(S25-($B$39-SUM(H$7:H24))))))","v":{"$error":"#VALUE!"}},"",{"$f":"IF(SUM(Y$7:Y24)>0,\"\",IF($B$40>SUM(H$7:H25),\"\",IF($F25>$E25,(S25+($B$40-SUM(H$7:H24))),(S25-($B$40-SUM(H$7:H24))))))","v":{"$error":"#VALUE!"}},{"$f":"IFERROR(((Y25-$S25)*(1/$D25))+$S25,\"\")","v":""},{"$f":"IFERROR(IF($C25=SUM($H25:H25),0,IF(($C25-SUM($H25:H25))>($B$3-SUM(AA$7:AA24)),($B$3-SUM(AA$7:AA24)),($C25-SUM($H25:H25)))),\"\")","v":0},"",{"$error":"#VALUE!"},{"$error":"#VALUE!"},{"$error":"#VALUE!"},{"$error":"#VALUE!"},{"$error":"#VALUE!"},{"$error":"#VALUE!"},{"$error":"#VALUE!"},{"$error":"#VALUE!"},{"$error":"#VALUE!"},"","",{"$f":"IF(SUM(AN$7:AN24)>0,\"\",IF($B$38>SUM(AA$7:AA25),\"\",IF($F25>$E25,(AL25+($B$38-SUM(AA$7:AA24))),(AL25-($B$38-SUM(AA$7:AA24))))))","v":{"$error":"#VALUE!"}},"",{"$f":"IF(SUM(AP$7:AP24)>0,\"\",IF($B$39>SUM(AA$7:AA25),\"\",IF($F25>$E25,(AL25+($B$39-SUM(AA$7:AA24))),(AL25-($B$39-SUM(AA$7:AA24))))))","v":{"$error":"#VALUE!"}},"",{"$f":"IF(SUM(AR$7:AR24)>0,\"\",IF($B$40>SUM(AA$7:AA25),\"\",IF($F25>$E25,(AL25+($B$40-SUM(AA$7:AA24))),(AL25-($B$40-SUM(AA$7:AA24))))))","v":{"$error":"#VALUE!"}},{"$f":"IFERROR(((AR25-$AL25)*(1/$D25))+$AL25,\"\")","v":""},{"$f":"IFERROR(IF($C25=SUM($H25+AA25),0,IF(($C25-SUM($H25+AA25))>($B$3-SUM(AT$7:AT24)),($B$3-SUM(AT$7:AT24)),($C25-SUM($H25+AA25)))),\"\")","v":0},"",{"$error":"#VALUE!"},{"$error":"#VALUE!"},{"$error":"#VALUE!"},{"$error":"#VALUE!"},{"$error":"#VALUE!"},{"$error":"#VALUE!"},{"$error":"#VALUE!"},{"$error":"#VALUE!"},{"$error":"#VALUE!"},"","",{"$f":"IF(SUM(BG$7:BG24)>0,\"\",IF($B$38>SUM(AT$7:AT25),\"\",IF($F25>$E25,(BE25+($B$38-SUM(AT$7:AT24))),(BE25-($B$38-SUM(AT$7:AT24))))))","v":{"$error":"#VALUE!"}},"",{"$f":"IF(SUM(BI$7:BI24)>0,\"\",IF($B$39>SUM(AT$7:AT25),\"\",IF($F25>$E25,(BE25+($B$39-SUM(AT$7:AT24))),(BE25-($B$39-SUM(AT$7:AT24))))))","v":{"$error":"#VALUE!"}},"",{"$f":"IF(SUM(BK$7:BK24)>0,\"\",IF($B$40>SUM(AT$7:AT25),\"\",IF($F25>$E25,(BE25+($B$40-SUM(AT$7:AT24))),(BE25-($B$40-SUM(AT$7:AT24))))))","v":{"$error":"#VALUE!"}},{"$f":"IFERROR(((BK25-$BE25)*(1/$D25))+$BE25,\"\")","v":""},{"$f":"IFERROR(IF($C25=SUM($H25+AA25+AT25),0,IF(($C25-SUM($H25+AA25+AT25))>($B$3-SUM(BM$7:BM24)),($B$3-SUM(BM$7:BM24)),($C25-SUM($H25+AA25+AT25)))),\"\")","v":0},"",{"$error":"#VALUE!"},{"$error":"#VALUE!"},{"$error":"#VALUE!"},{"$error":"#VALUE!"},{"$error":"#VALUE!"},{"$error":"#VALUE!"},{"$error":"#VALUE!"},{"$error":"#VALUE!"},{"$error":"#VALUE!"},"","",{"$f":"IF(SUM(BZ$7:BZ24)>0,\"\",IF($B$38>SUM(BM$7:BM25),\"\",IF($F25>$E25,(BX25+($B$38-SUM(BM$7:BM24))),(BX25-($B$38-SUM(BM$7:BM24))))))","v":{"$error":"#VALUE!"}},"",{"$f":"IF(SUM(CB$7:CB24)>0,\"\",IF($B$39>SUM(BM$7:BM25),\"\",IF($F25>$E25,(BX25+($B$39-SUM(BM$7:BM24))),(BX25-($B$39-SUM(BM$7:BM24))))))","v":{"$error":"#VALUE!"}},"",{"$f":"IF(SUM(CD$7:CD24)>0,\"\",IF($B$40>SUM(BM$7:BM25),\"\",IF($F25>$E25,(BX25+($B$40-SUM(BM$7:BM24))),(BX25-($B$40-SUM(BM$7:BM24))))))","v":{"$error":"#VALUE!"}},{"$f":"IFERROR(((CD25-$BX25)*(1/$D25))+$BX25,\"\")","v":""},{"$f":"IFERROR(IF($C25=SUM($H25+AA25+AT25+BM25),0,IF(($C25-SUM($H25+AA25+AT25+BM25))>($B$3-SUM(CF$7:CF24)),($B$3-SUM(CF$7:CF24)),($C25-SUM($H25+AA25+AT25+BM25)))),\"\")","v":0},"",{"$error":"#VALUE!"},{"$error":"#VALUE!"},{"$error":"#VALUE!"},{"$error":"#VALUE!"},{"$error":"#VALUE!"},{"$error":"#VALUE!"},{"$error":"#VALUE!"},{"$error":"#VALUE!"},{"$error":"#VALUE!"},"","",{"$f":"IF(SUM(CS$7:CS24)>0,\"\",IF($B$38>SUM(CF$7:CF25),\"\",IF($F25>$E25,(CQ25+($B$38-SUM(CF$7:CF24))),(CQ25-($B$38-SUM(CF$7:CF24))))))","v":{"$error":"#VALUE!"}},"",{"$f":"IF(SUM(CU$7:CU24)>0,\"\",IF($B$39>SUM(CF$7:CF25),\"\",IF($F25>$E25,(CQ25+($B$39-SUM(CF$7:CF24))),(CQ25-($B$39-SUM(CF$7:CF24))))))","v":{"$error":"#VALUE!"}},"",{"$f":"IF(SUM(CW$7:CW24)>0,\"\",IF($B$40>SUM(CF$7:CF25),\"\",IF($F25>$E25,(CQ25+($B$40-SUM(CF$7:CF24))),(CQ25-($B$40-SUM(CF$7:CF24))))))","v":{"$error":"#VALUE!"}},{"$f":"IFERROR(((CW25-$CQ25)*(1/$D25))+$CQ25,\"\")","v":""}]
[{"$f":"IF('DSR Template'!$B34=\"\",\"\",'DSR Template'!$B34)","v":""},{"$f":"'DSR Template'!$K34","v":""},{"$f":"'DSR Template'!J34","v":0},{"$error":"#VALUE!"},{"$f":"IF('DSR Template'!H34=\"\",\"\",'DSR Template'!H34)","v":""},{"$f":"IF('DSR Template'!I34=\"\",\"\",'DSR Template'!I34)","v":""},{"$f":"IF('DSR Template'!D34=\"\",\"\",'DSR Template'!D34)","v":""},{"$f":"IFERROR(IF(($B$3-$C26-SUM(H$7:H25))>0,$C26,$B$3-SUM(H$7:H25)),\"\")","v":0},"",{"$error":"#VALUE!"},{"$error":"#VALUE!"},{"$error":"#VALUE!"},{"$error":"#VALUE!"},{"$error":"#VALUE!"},{"$error":"#VALUE!"},{"$error":"#VALUE!"},{"$error":"#VALUE!"},{"$error":"#VALUE!"},"","",{"$f":"IF(SUM(U$7:U25)>0,\"\",IF($B$38>SUM(H$7:H26),\"\",IF($F26>$E26,(S26+($B$38-SUM(H$7:H25))),(S26-($B$38-SUM(H$7:H25))))))","v":{"$error":"#VALUE!"}},"",{"$f":"IF(SUM(W$7:W25)>0,\"\",IF($B$39>SUM(H$7:H26),\"\",IF($F26>$E26,(S26+($B$39-SUM(H$7:H25))),(S26-($B$39-SUM(H$7:H25))))))","v":{"$error":"#VALUE!"}},"",{"$f":"IF(SUM(Y$7:Y25)>0,\"\",IF($B$40>SUM(H$7:H26),\"\",IF($F26>$E26,(S26+($B$40-SUM(H$7:H25))),(S26-($B$40-SUM(H$7:H25))))))","v":{"$error":"#VALUE!"}},{"$f":"IFERROR(((Y26-$S26)*(1/$D26))+$S26,\"\")","v":""},{"$f":"IFERROR(IF($C26=SUM($H26:H26),0,IF(($C26-SUM($H26:H26))>($B$3-SUM(AA$7:AA25)),($B$3-SUM(AA$7:AA25)),($C26-SUM($H26:H26)))),\"\")","v":0},"",{"$error":"#VALUE!"},{"$error":"#VALUE!"},{"$error":"#VALUE!"},{"$error":"#VALUE!"},{"$error":"#VALUE!"},{"$error":"#VALUE!"},{"$error":"#VALUE!"},{"$error":"#VALUE!"},{"$error":"#VALUE!"},"","",{"$f":"IF(SUM(AN$7:AN25)>0,\"\",IF($B$38>SUM(AA$7:AA26),\"\",IF($F26>$E26,(AL26+($B$38-SUM(AA$7:AA25))),(AL26-($B$38-SUM(AA$7:AA25))))))","v":{"$error":"#VALUE!"}},"",{"$f":"IF(SUM(AP$7:AP25)>0,\"\",IF($B$39>SUM(AA$7:AA26),\"\",IF($F26>$E26,(AL26+($B$39-SUM(AA$7:AA25))),(AL26-($B$39-SUM(AA$7:AA25))))))","v":{"$error":"#VALUE!"}},"",{"$f":"IF(SUM(AR$7:AR25)>0,\"\",IF($B$40>SUM(AA$7:AA26),\"\",IF($F26>$E26,(AL26+($B$40-SUM(AA$7:AA25))),(AL26-($B$40-SUM(AA$7:AA25))))))","v":{"$error":"#VALUE!"}},{"$f":"IFERROR(((AR26-$AL26)*(1/$D26))+$AL26,\"\")","v":""},{"$f":"IFERROR(IF($C26=SUM($H26+AA26),0,IF(($C26-SUM($H26+AA26))>($B$3-SUM(AT$7:AT25)),($B$3-SUM(AT$7:AT25)),($C26-SUM($H26+AA26)))),\"\")","v":0},"",{"$error":"#VALUE!"},{"$error":"#VALUE!"},{"$error":"#VALUE!"},{"$error":"#VALUE!"},{"$error":"#VALUE!"},{"$error":"#VALUE!"},{"$error":"#VALUE!"},{"$error":"#VALUE!"},{"$error":"#VALUE!"},"","",{"$f":"IF(SUM(BG$7:BG25)>0,\"\",IF($B$38>SUM(AT$7:AT26),\"\",IF($F26>$E26,(BE26+($B$38-SUM(AT$7:AT25))),(BE26-($B$38-SUM(AT$7:AT25))))))","v":{"$error":"#VALUE!"}},"",{"$f":"IF(SUM(BI$7:BI25)>0,\"\",IF($B$39>SUM(AT$7:AT26),\"\",IF($F26>$E26,(BE26+($B$39-SUM(AT$7:AT25))),(BE26-($B$39-SUM(AT$7:AT25))))))","v":{"$error":"#VALUE!"}},"",{"$f":"IF(SUM(BK$7:BK25)>0,\"\",IF($B$40>SUM(AT$7:AT26),\"\",IF($F26>$E26,(BE26+($B$40-SUM(AT$7:AT25))),(BE26-($B$40-SUM(AT$7:AT25))))))","v":{"$error":"#VALUE!"}},{"$f":"IFERROR(((BK26-$BE26)*(1/$D26))+$BE26,\"\")","v":""},{"$f":"IFERROR(IF($C26=SUM($H26+AA26+AT26),0,IF(($C26-SUM($H26+AA26+AT26))>($B$3-SUM(BM$7:BM25)),($B$3-SUM(BM$7:BM25)),($C26-SUM($H26+AA26+AT26)))),\"\")","v":0},"",{"$error":"#VALUE!"},{"$error":"#VALUE!"},{"$error":"#VALUE!"},{"$error":"#VALUE!"},{"$error":"#VALUE!"},{"$error":"#VALUE!"},{"$error":"#VALUE!"},{"$error":"#VALUE!"},{"$error":"#VALUE!"},"","",{"$f":"IF(SUM(BZ$7:BZ25)>0,\"\",IF($B$38>SUM(BM$7:BM26),\"\",IF($F26>$E26,(BX26+($B$38-SUM(BM$7:BM25))),(BX26-($B$38-SUM(BM$7:BM25))))))","v":{"$error":"#VALUE!"}},"",{"$f":"IF(SUM(CB$7:CB25)>0,\"\",IF($B$39>SUM(BM$7:BM26),\"\",IF($F26>$E26,(BX26+($B$39-SUM(BM$7:BM25))),(BX26-($B$39-SUM(BM$7:BM25))))))","v":{"$error":"#VALUE!"}},"",{"$f":"IF(SUM(CD$7:CD25)>0,\"\",IF($B$40>SUM(BM$7:BM26),\"\",IF($F26>$E26,(BX26+($B$40-SUM(BM$7:BM25))),(BX26-($B$40-SUM(BM$7:BM25))))))","v":{"$error":"#VALUE!"}},{"$f":"IFERROR(((CD26-$BX26)*(1/$D26))+$BX26,\"\")","v":""},{"$f":"IFERROR(IF($C26=SUM($H26+AA26+AT26+BM26),0,IF(($C26-SUM($H26+AA26+AT26+BM26))>($B$3-SUM(CF$7:CF25)),($B$3-SUM(CF$7:CF25)),($C26-SUM($H26+AA26+AT26+BM26)))),\"\")","v":0},"",{"$error":"#VALUE!"},{"$error":"#VALUE!"},{"$error":"#VALUE!"},{"$error":"#VALUE!"},{"$error":"#VALUE!"},{"$error":"#VALUE!"},{"$error":"#VALUE!"},{"$error":"#VALUE!"},{"$error":"#VALUE!"},"","",{"$f":"IF(SUM(CS$7:CS25)>0,\"\",IF($B$38>SUM(CF$7:CF26),\"\",IF($F26>$E26,(CQ26+($B$38-SUM(CF$7:CF25))),(CQ26-($B$38-SUM(CF$7:CF25))))))","v":{"$error":"#VALUE!"}},"",{"$f":"IF(SUM(CU$7:CU25)>0,\"\",IF($B$39>SUM(CF$7:CF26),\"\",IF($F26>$E26,(CQ26+($B$39-SUM(CF$7:CF25))),(CQ26-($B$39-SUM(CF$7:CF25))))))","v":{"$error":"#VALUE!"}},"",{"$f":"IF(SUM(CW$7:CW25)>0,\"\",IF($B$40>SUM(CF$7:CF26),\"\",IF($F26>$E26,(CQ26+($B$40-SUM(CF$7:CF25))),(CQ26-($B$40-SUM(CF$7:CF25))))))","v":{"$error":"#VALUE!"}},{"$f":"IFERROR(((CW26-$CQ26)*(1/$D26))+$CQ26,\"\")","v":""}]
[{"$f":"IF('DSR Template'!$B35=\"\",\"\",'DSR Template'!$B35)","v":""},{"$f":"'DSR Template'!$K35","v":""},{"$f":"'DSR Template'!J35","v":0},{"$error":"#VALUE!"},{"$f":"IF('DSR Template'!H35=\"\",\"\",'DSR Template'!H35)","v":""},{"$f":"IF('DSR Template'!I35=\"\",\"\",'DSR Template'!I35)","v":""},{"$f":"IF('DSR Template'!D35=\"\",\"\",'DSR Template'!D35)","v":""},{"$f":"IFERROR(IF(($B$3-$C27-SUM(H$7:H26))>0,$C27,$B$3-SUM(H$7:H26)),\"\")","v":0},"",{"$error":"#VALUE!"},{"$error":"#VALUE!"},{"$error":"#VALUE!"},{"$error":"#VALUE!"},{"$error":"#VALUE!"},{"$error":"#VALUE!"},{"$error":"#VALUE!"},{"$error":"#VALUE!"},{"$error":"#VALUE!"},"","",{"$f":"IF(SUM(U$7:U26)>0,\"\",IF($B$38>SUM(H$7:H27),\"\",IF($F27>$E27,(S27+($B$38-SUM(H$7:H26))),(S27-($B$38-SUM(H$7:H26))))))","v":{"$error":"#VALUE!"}},"",{"$f":"IF(SUM(W$7:W26)>0,\"\",IF($B$39>SUM(H$7:H27),\"\",IF($F27>$E27,(S27+($B$39-SUM(H$7:H26))),(S27-($B$39-SUM(H$7:H26))))))","v":{"$error":"#VALUE!"}},"",{"$f":"IF(SUM(Y$7:Y26)>0,\"\",IF($B$40>SUM(H$7:H27),\"\",IF($F27>$E27,(S27+($B$40-SUM(H$7:H26))),(S27-($B$40-SUM(H$7:H26))))))","v":{"$error":"#VALUE!"}},{"$f":"IFERROR(((Y27-$S27)*(1/$D27))+$S27,\"\")","v":""},{"$f":"IFERROR(IF($C27=SUM($H27:H27),0,IF(($C27-SUM($H27:H27))>($B$3-SUM(AA$7:AA26)),($B$3-SUM(AA$7:AA26)),($C27-SUM($H27:H27)))),\"\")","v":0},"",{"$error":"#VALUE!"},{"$error":"#VALUE!"},{"$error":"#VALUE!"},{"$error":"#VALUE!"},{"$error":"#VALUE!"},{"$error":"#VALUE!"},{"$error":"#VALUE!"},{"$error":"#VALUE!"},{"$error":"#VALUE!"},"","",{"$f":"IF(SUM(AN$7:AN26)>0,\"\",IF($B$38>SUM(AA$7:AA27),\"\",IF($F27>$E27,(AL27+($B$38-SUM(AA$7:AA26))),(AL27-($B$38-SUM(AA$7:AA26))))))","v":{"$error":"#VALUE!"}},"",{"$f":"IF(SUM(AP$7:AP26)>0,\"\",IF($B$39>SUM(AA$7:AA27),\"\",IF($F27>$E27,(AL27+($B$39-SUM(AA$7:AA26))),(AL27-($B$39-SUM(AA$7:AA26))))))","v":{"$error":"#VALUE!"}},"",{"$f":"IF(SUM(AR$7:AR26)>0,\"\",IF($B$40>SUM(AA$7:AA27),\"\",IF($F27>$E27,(AL27+($B$40-SUM(AA$7:AA26))),(AL27-($B$40-SUM(AA$7:AA26))))))","v":{"$error":"#VALUE!"}},{"$f":"IFERROR(((AR27-$AL27)*(1/$D27))+$AL27,\"\")","v":""},{"$f":"IFERROR(IF($C27=SUM($H27+AA27),0,IF(($C27-SUM($H27+AA27))>($B$3-SUM(AT$7:AT26)),($B$3-SUM(AT$7:AT26)),($C27-SUM($H27+AA27)))),\"\")","v":0},"",{"$error":"#VALUE!"},{"$error":"#VALUE!"},{"$error":"#VALUE!"},{"$error":"#VALUE!"},{"$error":"#VALUE!"},{"$error":"#VALUE!"},{"$error":"#VALUE!"},{"$error":"#VALUE!"},{"$error":"#VALUE!"},"","",{"$f":"IF(SUM(BG$7:BG26)>0,\"\",IF($B$38>SUM(AT$7:AT27),\"\",IF($F27>$E27,(BE27+($B$38-SUM(AT$7:AT26))),(BE27-($B$38-SUM(AT$7:AT26))))))","v":{"$error":"#VALUE!"}},"",{"$f":"IF(SUM(BI$7:BI26)>0,\"\",IF($B$39>SUM(AT$7:AT27),\"\",IF($F27>$E27,(BE27+($B$39-SUM(AT$7:AT26))),(BE27-($B$39-SUM(AT$7:AT26))))))","v":{"$error":"#VALUE!"}},"",{"$f":"IF(SUM(BK$7:BK26)>0,\"\",IF($B$40>SUM(AT$7:AT27),\"\",IF($F27>$E27,(BE27+($B$40-SUM(AT$7:AT26))),(BE27-($B$40-SUM(AT$7:AT26))))))","v":{"$error":"#VALUE!"}},{"$f":"IFERROR(((BK27-$BE27)*(1/$D27))+$BE27,\"\")","v":""},{"$f":"IFERROR(IF($C27=SUM($H27+AA27+AT27),0,IF(($C27-SUM($H27+AA27+AT27))>($B$3-SUM(BM$7:BM26)),($B$3-SUM(BM$7:BM26)),($C27-SUM($H27+AA27+AT27)))),\"\")","v":0},"",{"$error":"#VALUE!"},{"$error":"#VALUE!"},{"$error":"#VALUE!"},{"$error":"#VALUE!"},{"$error":"#VALUE!"},{"$error":"#VALUE!"},{"$error":"#VALUE!"},{"$error":"#VALUE!"},{"$error":"#VALUE!"},"","",{"$f":"IF(SUM(BZ$7:BZ26)>0,\"\",IF($B$38>SUM(BM$7:BM27),\"\",IF($F27>$E27,(BX27+($B$38-SUM(BM$7:BM26))),(BX27-($B$38-SUM(BM$7:BM26))))))","v":{"$error":"#VALUE!"}},"",{"$f":"IF(SUM(CB$7:CB26)>0,\"\",IF($B$39>SUM(BM$7:BM27),\"\",IF($F27>$E27,(BX27+($B$39-SUM(BM$7:BM26))),(BX27-($B$39-SUM(BM$7:BM26))))))","v":{"$error":"#VALUE!"}},"",{"$f":"IF(SUM(CD$7:CD26)>0,\"\",IF($B$40>SUM(BM$7:BM27),\"\",IF($F27>$E27,(BX27+($B$40-SUM(BM$7:BM26))),(BX27-($B$40-SUM(BM$7:BM26))))))","v":{"$error":"#VALUE!"}},{"$f":"IFERROR(((CD27-$BX27)*(1/$D27))+$BX27,\"\")","v":""},{"$f":"IFERROR(IF($C27=SUM($H27+AA27+AT27+BM27),0,IF(($C27-SUM($H27+AA27+AT27+BM27))>($B$3-SUM(CF$7:CF26)),($B$3-SUM(CF$7:CF26)),($C27-SUM($H27+AA27+AT27+BM27)))),\"\")","v":0},"",{"$error":"#VALUE!"},{"$error":"#VALUE!"},{"$error":"#VALUE!"},{"$error":"#VALUE!"},{"$error":"#VALUE!"},{"$error":"#VALUE!"},{"$error":"#VALUE!"},{"$error":"#VALUE!"},{"$error":"#VALUE!"},"","",{"$f":"IF(SUM(CS$7:CS26)>0,\"\",IF($B$38>SUM(CF$7:CF27),\"\",IF($F27>$E27,(CQ27+($B$38-SUM(CF$7:CF26))),(CQ27-($B$38-SUM(CF$7:CF26))))))","v":{"$error":"#VALUE!"}},"",{"$f":"IF(SUM(CU$7:CU26)>0,\"\",IF($B$39>SUM(CF$7:CF27),\"\",IF($F27>$E27,(CQ27+($B$39-SUM(CF$7:CF26))),(CQ27-($B$39-SUM(CF$7:CF26))))))","v":{"$error":"#VALUE!"}},"",{"$f":"IF(SUM(CW$7:CW26)>0,\"\",IF($B$40>SUM(CF$7:CF27),\"\",IF($F27>$E27,(CQ27+($B$40-SUM(CF$7:CF26))),(CQ27-($B$40-SUM(CF$7:CF26))))))","v":{"$error":"#VALUE!"}},{"$f":"IFERROR(((CW27-$CQ27)*(1/$D27))+$CQ27,\"\")","v":""}]
[{"$f":"IF('DSR Template'!$B36=\"\",\"\",'DSR Template'!$B36)","v":""},{"$f":"'DSR Template'!$K36","v":""},{"$f":"'DSR Template'!J36","v":0},{"$error":"#VALUE!"},{"$f":"IF('DSR Template'!H36=\"\",\"\",'DSR Template'!H36)","v":""},{"$f":"IF('DSR Template'!I36=\"\",\"\",'DSR Template'!I36)","v":""},{"$f":"IF('DSR Template'!D36=\"\",\"\",'DSR Template'!D36)","v":""},{"$f":"IFERROR(IF(($B$3-$C28-SUM(H$7:H27))>0,$C28,$B$3-SUM(H$7:H27)),\"\")","v":0},"",{"$error":"#VALUE!"},{"$error":"#VALUE!"},{"$error":"#VALUE!"},{"$error":"#VALUE!"},{"$error":"#VALUE!"},{"$error":"#VALUE!"},{"$error":"#VALUE!"},{"$error":"#VALUE!"},{"$error":"#VALUE!"},"","",{"$f":"IF(SUM(U$7:U27)>0,\"\",IF($B$38>SUM(H$7:H28),\"\",IF($F28>$E28,(S28+($B$38-SUM(H$7:H27))),(S28-($B$38-SUM(H$7:H27))))))","v":{"$error":"#VALUE!"}},"",{"$f":"IF(SUM(W$7:W27)>0,\"\",IF($B$39>SUM(H$7:H28),\"\",IF($F28>$E28,(S28+($B$39-SUM(H$7:H27))),(S28-($B$39-SUM(H$7:H27))))))","v":{"$error":"#VALUE!"}},"",{"$f":"IF(SUM(Y$7:Y27)>0,\"\",IF($B$40>SUM(H$7:H28),\"\",IF($F28>$E28,(S28+($B$40-SUM(H$7:H27))),(S28-($B$40-SUM(H$7:H27))))))","v":{"$error":"#VALUE!"}},{"$f":"IFERROR(((Y28-$S28)*(1/$D28))+$S28,\"\")","v":""},{"$f":"IFERROR(IF($C28=SUM($H28:H28),0,IF(($C28-SUM($H28:H28))>($B$3-SUM(AA$7:AA27)),($B$3-SUM(AA$7:AA27)),($C28-SUM($H28:H28)))),\"\")","v":0},"","","","",{"$error":"#VALUE!"},{"$error":"#VALUE!"},{"$error":"#VALUE!"},{"$error":"#VALUE!"},{"$error":"#VALUE!"},{"$error":"#VALUE!"},"","",null,"",{"$f":"IF(SUM(AP$7:AP27)>0,\"\",IF($B$39>SUM(AA$7:AA28),\"\",IF($F28>$E28,(AL28+($B$39-SUM(AA$7:AA27))),(AL28-($B$39-SUM(AA$7:AA27))))))","v":{"$error":"#VALUE!"}},"",{"$f":"IF(SUM(AR$7:AR27)>0,\"\",IF($B$40>SUM(AA$7:AA28),\"\",IF($F28>$E28,(AL28+($B$40-SUM(AA$7:AA27))),(AL28-($B$40-SUM(AA$7:AA27))))))","v":{"$error":"#VALUE!"}},{"$f":"IFERROR(((AR28-$AL28)*(1/$D28))+$AL28,\"\")","v":""},{"$f":"IFERROR(IF($C28=SUM($H28+AA28),0,IF(($C28-SUM($H28+AA28))>($B$3-SUM(AT$7:AT27)),($B$3-SUM(AT$7:AT27)),($C28-SUM($H28+AA28)))),\"\")","v":0},"",{"$error":"#VALUE!"},{"$error":"#VALUE!"},{"$error":"#VALUE!"},{"$error":"#VALUE!"},{"$error":"#VALUE!"},{"$error":"#VALUE!"},{"$error":"#VALUE!"},{"$error":"#VALUE!"},{"$error":"#VALUE!"},"","",{"$f":"IF(SUM(BG$7:BG27)>0,\"\",IF($B$38>SUM(AT$7:AT28),\"\",IF($F28>$E28,(BE28+($B$38-SUM(AT$7:AT27))),(BE28-($B$38-SUM(AT$7:AT27))))))","v":{"$error":"#VALUE!"}},"",{"$f":"IF(SUM(BI$7:BI27)>0,\"\",IF($B$39>SUM(AT$7:AT28),\"\",IF($F28>$E28,(BE28+($B$39-SUM(AT$7:AT27))),(BE28-($B$39-SUM(AT$7:AT27))))))","v":{"$error":"#VALUE!"}},"",{"$f":"IF(SUM(BK$7:BK27)>0,\"\",IF($B$40>SUM(AT$7:AT28),\"\",IF($F28>$E28,(BE28+($B$40-SUM(AT$7:AT27))),(BE28-($B$40-SUM(AT$7:AT27))))))","v":{"$error":"#VALUE!"}},{"$f":"IFERROR(((BK28-$BE28)*(1/$D28))+$BE28,\"\")","v":""},{"$f":"IFERROR(IF($C28=SUM($H28+AA28+AT28),0,IF(($C28-SUM($H28+AA28+AT28))>($B$3-SUM(BM$7:BM27)),($B$3-SUM(BM$7:BM27)),($C28-SUM($H28+AA28+AT28)))),\"\")","v":0},"",{"$error":"#VALUE!"},{"$error":"#VALUE!"},{"$error":"#VALUE!"},{"$error":"#VALUE!"},{"$error":"#VALUE!"},{"$error":"#VALUE!"},{"$error":"#VALUE!"},{"$error":"#VALUE!"},{"$error":"#VALUE!"},"","",{"$f":"IF(SUM(BZ$7:BZ27)>0,\"\",IF($B$38>SUM(BM$7:BM28),\"\",IF($F28>$E28,(BX28+($B$38-SUM(BM$7:BM27))),(BX28-($B$38-SUM(BM$7:BM27))))))","v":{"$error":"#VALUE!"}},"",{"$f":"IF(SUM(CB$7:CB27)>0,\"\",IF($B$39>SUM(BM$7:BM28),\"\",IF($F28>$E28,(BX28+($B$39-SUM(BM$7:BM27))),(BX28-($B$39-SUM(BM$7:BM27))))))","v":{"$error":"#VALUE!"}},"",{"$f":"IF(SUM(CD$7:CD27)>0,\"\",IF($B$40>SUM(BM$7:BM28),\"\",IF($F28>$E28,(BX28+($B$40-SUM(BM$7:BM27))),(BX28-($B$40-SUM(BM$7:BM27))))))","v":{"$error":"#VALUE!"}},{"$f":"IFERROR(((CD28-$BX28)*(1/$D28))+$BX28,\"\")","v":""},{"$f":"IFERROR(IF($C28=SUM($H28+AA28+AT28+BM28),0,IF(($C28-SUM($H28+AA28+AT28+BM28))>($B$3-SUM(CF$7:CF27)),($B$3-SUM(CF$7:CF27)),($C28-SUM($H28+AA28+AT28+BM28)))),\"\")","v":0},"",{"$error":"#VALUE!"},{"$error":"#VALUE!"},{"$error":"#VALUE!"},{"$error":"#VALUE!"},{"$error":"#VALUE!"},{"$error":"#VALUE!"},{"$error":"#VALUE!"},{"$error":"#VALUE!"},{"$error":"#VALUE!"},"","",{"$f":"IF(SUM(CS$7:CS27)>0,\"\",IF($B$38>SUM(CF$7:CF28),\"\",IF($F28>$E28,(CQ28+($B$38-SUM(CF$7:CF27))),(CQ28-($B$38-SUM(CF$7:CF27))))))","v":{"$error":"#VALUE!"}},"",{"$f":"IF(SUM(CU$7:CU27)>0,\"\",IF($B$39>SUM(CF$7:CF28),\"\",IF($F28>$E28,(CQ28+($B$39-SUM(CF$7:CF27))),(CQ28-($B$39-SUM(CF$7:CF27))))))","v":{"$error":"#VALUE!"}},"",{"$f":"IF(SUM(CW$7:CW27)>0,\"\",IF($B$40>SUM(CF$7:CF28),\"\",IF($F28>$E28,(CQ28+($B$40-SUM(CF$7:CF27))),(CQ28-($B$40-SUM(CF$7:CF27))))))","v":{"$error":"#VALUE!"}},{"$f":"IFERROR(((CW28-$CQ28)*(1/$D28))+$CQ28,\"\")","v":""}]
[{"$f":"IF('DSR Template'!$B37=\"\",\"\",'DSR Template'!$B37)","v":""},{"$f":"'DSR Template'!$K37","v":""},{"$f":"'DSR Template'!J37","v":0},{"$error":"#VALUE!"},{"$f":"IF('DSR Template'!H37=\"\",\"\",'DSR Template'!H37)","v":""},{"$f":"IF('DSR Template'!I37=\"\",\"\",'DSR Template'!I37)","v":""},{"$f":"IF('DSR Template'!D37=\"\",\"\",'DSR Template'!D37)","v":""},{"$f":"IFERROR(IF(($B$3-$C29-SUM(H$7:H28))>0,$C29,$B$3-SUM(H$7:H28)),\"\")","v":0},"",{"$error":"#VALUE!"},{"$error":"#VALUE!"},{"$error":"#VALUE!"},{"$error":"#VALUE!"},{"$error":"#VALUE!"},{"$error":"#VALUE!"},{"$error":"#VALUE!"},{"$error":"#VALUE!"},{"$error":"#VALUE!"},"","",{"$f":"IF(SUM(U$7:U28)>0,\"\",IF($B$38>SUM(H$7:H29),\"\",IF($F29>$E29,(S29+($B$38-SUM(H$7:H28))),(S29-($B$38-SUM(H$7:H28))))))","v":{"$error":"#VALUE!"}},"",{"$f":"IF(SUM(W$7:W28)>0,\"\",IF($B$39>SUM(H$7:H29),\"\",IF($F29>$E29,(S29+($B$39-SUM(H$7:H28))),(S29-($B$39-SUM(H$7:H28))))))","v":{"$error":"#VALUE!"}},"",{"$f":"IF(SUM(Y$7:Y28)>0,\"\",IF($B$40>SUM(H$7:H29),\"\",IF($F29>$E29,(S29+($B$40-SUM(H$7:H28))),(S29-($B$40-SUM(H$7:H28))))))","v":{"$error":"#VALUE!"}},{"$f":"IFERROR(((Y29-$S29)*(1/$D29))+$S29,\"\")","v":""},{"$f":"IFERROR(IF($C29=SUM($H29:H29),0,IF(($C29-SUM($H29:H29))>($B$3-SUM(AA$7:AA28)),($B$3-SUM(AA$7:AA28)),($C29-SUM($H29:H29)))),\"\")","v":0},"",{"$error":"#VALUE!"},{"$error":"#VALUE!"},{"$error":"#VALUE!"},{"$error":"#VALUE!"},{"$error":"#VALUE!"},{"$error":"#VALUE!"},{"$error":"#VALUE!"},{"$error":"#VALUE!"},{"$error":"#VALUE!"},"","",{"$f":"IF(SUM(AN$7:AN28)>0,\"\",IF($B$38>SUM(AA$7:AA29),\"\",IF($F29>$E29,(AL29+($B$38-SUM(AA$7:AA28))),(AL29-($B$38-SUM(AA$7:AA28))))))","v":{"$error":"#VALUE!"}},"",{"$f":"IF(SUM(AP$7:AP28)>0,\"\",IF($B$39>SUM(AA$7:AA29),\"\",IF($F29>$E29,(AL29+($B$39-SUM(AA$7:AA28))),(AL29-($B$39-SUM(AA$7:AA28))))))","v":{"$error":"#VALUE!"}},"",{"$f":"IF(SUM(AR$7:AR28)>0,\"\",IF($B$40>SUM(AA$7:AA29),\"\",IF($F29>$E29,(AL29+($B$40-SUM(AA$7:AA28))),(AL29-($B$40-SUM(AA$7:AA28))))))","v":{"$error":"#VALUE!"}},{"$f":"IFERROR(((AR29-$AL29)*(1/$D29))+$AL29,\"\")","v":""},{"$f":"IFERROR(IF($C29=SUM($H29+AA29),0,IF(($C29-SUM($H29+AA29))>($B$3-SUM(AT$7:AT28)),($B$3-SUM(AT$7:AT28)),($C29-SUM($H29+AA29)))),\"\")","v":0},"",{"$error":"#VALUE!"},{"$error":"#VALUE!"},{"$error":"#VALUE!"},{"$error":"#VALUE!"},{"$error":"#VALUE!"},{"$error":"#VALUE!"},{"$error":"#VALUE!"},{"$error":"#VALUE!"},{"$error":"#VALUE!"},"","",{"$f":"IF(SUM(BG$7:BG28)>0,\"\",IF($B$38>SUM(AT$7:AT29),\"\",IF($F29>$E29,(BE29+($B$38-SUM(AT$7:AT28))),(BE29-($B$38-SUM(AT$7:AT28))))))","v":{"$error":"#VALUE!"}},"",{"$f":"IF(SUM(BI$7:BI28)>0,\"\",IF($B$39>SUM(AT$7:AT29),\"\",IF($F29>$E29,(BE29+($B$39-SUM(AT$7:AT28))),(BE29-($B$39-SUM(AT$7:AT28))))))","v":{"$error":"#VALUE!"}},"",{"$f":"IF(SUM(BK$7:BK28)>0,\"\",IF($B$40>SUM(AT$7:AT29),\"\",IF($F29>$E29,(BE29+($B$40-SUM(AT$7:AT28))),(BE29-($B$40-SUM(AT$7:AT28))))))","v":{"$error":"#VALUE!"}},{"$f":"IFERROR(((BK29-$BE29)*(1/$D29))+$BE29,\"\")","v":""},{"$f":"IFERROR(IF($C29=SUM($H29+AA29+AT29),0,IF(($C29-SUM($H29+AA29+AT29))>($B$3-SUM(BM$7:BM28)),($B$3-SUM(BM$7:BM28)),($C29-SUM($H29+AA29+AT29)))),\"\")","v":0},"",{"$error":"#VALUE!"},{"$error":"#VALUE!"},{"$error":"#VALUE!"},{"$error":"#VALUE!"},{"$error":"#VALUE!"},{"$error":"#VALUE!"},{"$error":"#VALUE!"},{"$error":"#VALUE!"},{"$error":"#VALUE!"},"","",{"$f":"IF(SUM(BZ$7:BZ28)>0,\"\",IF($B$38>SUM(BM$7:BM29),\"\",IF($F29>$E29,(BX29+($B$38-SUM(BM$7:BM28))),(BX29-($B$38-SUM(BM$7:BM28))))))","v":{"$error":"#VALUE!"}},"",{"$f":"IF(SUM(CB$7:CB28)>0,\"\",IF($B$39>SUM(BM$7:BM29),\"\",IF($F29>$E29,(BX29+($B$39-SUM(BM$7:BM28))),(BX29-($B$39-SUM(BM$7:BM28))))))","v":{"$error":"#VALUE!"}},"",{"$f":"IF(SUM(CD$7:CD28)>0,\"\",IF($B$40>SUM(BM$7:BM29),\"\",IF($F29>$E29,(BX29+($B$40-SUM(BM$7:BM28))),(BX29-($B$40-SUM(BM$7:BM28))))))","v":{"$error":"#VALUE!"}},{"$f":"IFERROR(((CD29-$BX29)*(1/$D29))+$BX29,\"\")","v":""},{"$f":"IFERROR(IF($C29=SUM($H29+AA29+AT29+BM29),0,IF(($C29-SUM($H29+AA29+AT29+BM29))>($B$3-SUM(CF$7:CF28)),($B$3-SUM(CF$7:CF28)),($C29-SUM($H29+AA29+AT29+BM29)))),\"\")","v":0},"",{"$error":"#VALUE!"},{"$error":"#VALUE!"},{"$error":"#VALUE!"},{"$error":"#VALUE!"},{"$error":"#VALUE!"},{"$error":"#VALUE!"},{"$error":"#VALUE!"},{"$error":"#VALUE!"},{"$error":"#VALUE!"},"","",{"$f":"IF(SUM(CS$7:CS28)>0,\"\",IF($B$38>SUM(CF$7:CF29),\"\",IF($F29>$E29,(CQ29+($B$38-SUM(CF$7:CF28))),(CQ29-($B$38-SUM(CF$7:CF28))))))","v":{"$error":"#VALUE!"}},"",{"$f":"IF(SUM(CU$7:CU28)>0,\"\",IF($B$39>SUM(CF$7:CF29),\"\",IF($F29>$E29,(CQ29+($B$39-SUM(CF$7:CF28))),(CQ29-($B$39-SUM(CF$7:CF28))))))","v":{"$error":"#VALUE!"}},"",{"$f":"IF(SUM(CW$7:CW28)>0,\"\",IF($B$40>SUM(CF$7:CF29),\"\",IF($F29>$E29,(CQ29+($B$40-SUM(CF$7:CF28))),(CQ29-($B$40-SUM(CF$7:CF28))))))","v":{"$error":"#VALUE!"}},{"$f":"IFERROR(((CW29-$CQ29)*(1/$D29))+$CQ29,\"\")","v":""}]
[{"$f":"IF('DSR Template'!$B38=\"\",\"\",'DSR Template'!$B38)","v":""},{"$f":"'DSR Template'!$K38","v":""},{"$f":"'DSR Template'!J38","v":0},{"$error":"#VALUE!"},{"$f":"IF('DSR Template'!H38=\"\",\"\",'DSR Template'!H38)","v":""},{"$f":"IF('DSR Template'!I38=\"\",\"\",'DSR Template'!I38)","v":""},{"$f":"IF('DSR Template'!D38=\"\",\"\",'DSR Template'!D38)","v":""},{"$f":"IFERROR(IF(($B$3-$C30-SUM(H$7:H29))>0,$C30,$B$3-SUM(H$7:H29)),\"\")","v":0},"",{"$error":"#VALUE!"},{"$error":"#VALUE!"},{"$error":"#VALUE!"},{"$error":"#VALUE!"},{"$error":"#VALUE!"},{"$error":"#VALUE!"},{"$error":"#VALUE!"},{"$error":"#VALUE!"},{"$error":"#VALUE!"},"","",{"$f":"IF(SUM(U$7:U29)>0,\"\",IF($B$38>SUM(H$7:H30),\"\",IF($F30>$E30,(S30+($B$38-SUM(H$7:H29))),(S30-($B$38-SUM(H$7:H29))))))","v":{"$error":"#VALUE!"}},"",{"$f":"IF(SUM(W$7:W29)>0,\"\",IF($B$39>SUM(H$7:H30),\"\",IF($F30>$E30,(S30+($B$39-SUM(H$7:H29))),(S30-($B$39-SUM(H$7:H29))))))","v":{"$error":"#VALUE!"}},"",{"$f":"IF(SUM(Y$7:Y29)>0,\"\",IF($B$40>SUM(H$7:H30),\"\",IF($F30>$E30,(S30+($B$40-SUM(H$7:H29))),(S30-($B$40-SUM(H$7:H29))))))","v":{"$error":"#VALUE!"}},{"$f":"IFERROR(((Y30-$S30)*(1/$D30))+$S30,\"\")","v":""},{"$f":"IFERROR(IF($C30=SUM($H30:H30),0,IF(($C30-SUM($H30:H30))>($B$3-SUM(AA$7:AA29)),($B$3-SUM(AA$7:AA29)),($C30-SUM($H30:H30)))),\"\")","v":0},"",{"$error":"#VALUE!"},{"$error":"#VALUE!"},{"$error":"#VALUE!"},{"$error":"#VALUE!"},{"$error":"#VALUE!"},{"$error":"#VALUE!"},{"$error":"#VALUE!"},{"$error":"#VALUE!"},{"$error":"#VALUE!"},"","",{"$f":"IF(SUM(AN$7:AN29)>0,\"\",IF($B$38>SUM(AA$7:AA30),\"\",IF($F30>$E30,(AL30+($B$38-SUM(AA$7:AA29))),(AL30-($B$38-SUM(AA$7:AA29))))))","v":{"$error":"#VALUE!"}},"",{"$f":"IF(SUM(AP$7:AP29)>0,\"\",IF($B$39>SUM(AA$7:AA30),\"\",IF($F30>$E30,(AL30+($B$39-SUM(AA$7:AA29))),(AL30-($B$39-SUM(AA$7:AA29))))))","v":{"$error":"#VALUE!"}},"",{"$f":"IF(SUM(AR$7:AR29)>0,\"\",IF($B$40>SUM(AA$7:AA30),\"\",IF($F30>$E30,(AL30+($B$40-SUM(AA$7:AA29))),(AL30-($B$40-SUM(AA$7:AA29))))))","v":{"$error":"#VALUE!"}},{"$f":"IFERROR(((AR30-$AL30)*(1/$D30))+$AL30,\"\")","v":""},{"$f":"IFERROR(IF($C30=SUM($H30+AA30),0,IF(($C30-SUM($H30+AA30))>($B$3-SUM(AT$7:AT29)),($B$3-SUM(AT$7:AT29)),($C30-SUM($H30+AA30)))),\"\")","v":0},"",{"$error":"#VALUE!"},{"$error":"#VALUE!"},{"$error":"#VALUE!"},{"$error":"#VALUE!"},{"$error":"#VALUE!"},{"$error":"#VALUE!"},{"$error":"#VALUE!"},{"$error":"#VALUE!"},{"$error":"#VALUE!"},"","",{"$f":"IF(SUM(BG$7:BG29)>0,\"\",IF($B$38>SUM(AT$7:AT30),\"\",IF($F30>$E30,(BE30+($B$38-SUM(AT$7:AT29))),(BE30-($B$38-SUM(AT$7:AT29))))))","v":{"$error":"#VALUE!"}},"",{"$f":"IF(SUM(BI$7:BI29)>0,\"\",IF($B$39>SUM(AT$7:AT30),\"\",IF($F30>$E30,(BE30+($B$39-SUM(AT$7:AT29))),(BE30-($B$39-SUM(AT$7:AT29))))))","v":{"$error":"#VALUE!"}},"",{"$f":"IF(SUM(BK$7:BK29)>0,\"\",IF($B$40>SUM(AT$7:AT30),\"\",IF($F30>$E30,(BE30+($B$40-SUM(AT$7:AT29))),(BE30-($B$40-SUM(AT$7:AT29))))))","v":{"$error":"#VALUE!"}},{"$f":"IFERROR(((BK30-$BE30)*(1/$D30))+$BE30,\"\")","v":""},{"$f":"IFERROR(IF($C30=SUM($H30+AA30+AT30),0,IF(($C30-SUM($H30+AA30+AT30))>($B$3-SUM(BM$7:BM29)),($B$3-SUM(BM$7:BM29)),($C30-SUM($H30+AA30+AT30)))),\"\")","v":0},"",{"$error":"#VALUE!"},{"$error":"#VALUE!"},{"$error":"#VALUE!"},{"$error":"#VALUE!"},{"$error":"#VALUE!"},{"$error":"#VALUE!"},{"$error":"#VALUE!"},{"$error":"#VALUE!"},{"$error":"#VALUE!"},"","",{"$f":"IF(SUM(BZ$7:BZ29)>0,\"\",IF($B$38>SUM(BM$7:BM30),\"\",IF($F30>$E30,(BX30+($B$38-SUM(BM$7:BM29))),(BX30-($B$38-SUM(BM$7:BM29))))))","v":{"$error":"#VALUE!"}},"",{"$f":"IF(SUM(CB$7:CB29)>0,\"\",IF($B$39>SUM(BM$7:BM30),\"\",IF($F30>$E30,(BX30+($B$39-SUM(BM$7:BM29))),(BX30-($B$39-SUM(BM$7:BM29))))))","v":{"$error":"#VALUE!"}},"",{"$f":"IF(SUM(CD$7:CD29)>0,\"\",IF($B$40>SUM(BM$7:BM30),\"\",IF($F30>$E30,(BX30+($B$40-SUM(BM$7:BM29))),(BX30-($B$40-SUM(BM$7:BM29))))))","v":{"$error":"#VALUE!"}},{"$f":"IFERROR(((CD30-$BX30)*(1/$D30))+$BX30,\"\")","v":""},{"$f":"IFERROR(IF($C30=SUM($H30+AA30+AT30+BM30),0,IF(($C30-SUM($H30+AA30+AT30+BM30))>($B$3-SUM(CF$7:CF29)),($B$3-SUM(CF$7:CF29)),($C30-SUM($H30+AA30+AT30+BM30)))),\"\")","v":0},"",{"$error":"#VALUE!"},{"$error":"#VALUE!"},{"$error":"#VALUE!"},{"$error":"#VALUE!"},{"$error":"#VALUE!"},{"$error":"#VALUE!"},{"$error":"#VALUE!"},{"$error":"#VALUE!"},{"$error":"#VALUE!"},"","",{"$f":"IF(SUM(CS$7:CS29)>0,\"\",IF($B$38>SUM(CF$7:CF30),\"\",IF($F30>$E30,(CQ30+($B$38-SUM(CF$7:CF29))),(CQ30-($B$38-SUM(CF$7:CF29))))))","v":{"$error":"#VALUE!"}},"",{"$f":"IF(SUM(CU$7:CU29)>0,\"\",IF($B$39>SUM(CF$7:CF30),\"\",IF($F30>$E30,(CQ30+($B$39-SUM(CF$7:CF29))),(CQ30-($B$39-SUM(CF$7:CF29))))))","v":{"$error":"#VALUE!"}},"",{"$f":"IF(SUM(CW$7:CW29)>0,\"\",IF($B$40>SUM(CF$7:CF30),\"\",IF($F30>$E30,(CQ30+($B$40-SUM(CF$7:CF29))),(CQ30-($B$40-SUM(CF$7:CF29))))))","v":{"$error":"#VALUE!"}},{"$f":"IFERROR(((CW30-$CQ30)*(1/$D30))+$CQ30,\"\")","v":""}]
[{"$f":"IF('DSR Template'!$B39=\"\",\"\",'DSR Template'!$B39)","v":""},{"$f":"'DSR Template'!$K39","v":""},{"$f":"'DSR Template'!J39","v":0},{"$error":"#VALUE!"},{"$f":"IF('DSR Template'!H39=\"\",\"\",'DSR Template'!H39)","v":""},{"$f":"IF('DSR Template'!I39=\"\",\"\",'DSR Template'!I39)","v":""},{"$f":"IF('DSR Template'!D39=\"\",\"\",'DSR Template'!D39)","v":""},{"$f":"IFERROR(IF(($B$3-$C31-SUM(H$7:H30))>0,$C31,$B$3-SUM(H$7:H30)),\"\")","v":0},"",{"$error":"#VALUE!"},{"$error":"#VALUE!"},{"$error":"#VALUE!"},{"$error":"#VALUE!"},{"$error":"#VALUE!"},{"$error":"#VALUE!"},{"$error":"#VALUE!"},{"$error":"#VALUE!"},{"$error":"#VALUE!"},"","",{"$f":"IF(SUM(U$7:U30)>0,\"\",IF($B$38>SUM(H$7:H31),\"\",IF($F31>$E31,(S31+($B$38-SUM(H$7:H30))),(S31-($B$38-SUM(H$7:H30))))))","v":{"$error":"#VALUE!"}},"",{"$f":"IF(SUM(W$7:W30)>0,\"\",IF($B$39>SUM(H$7:H31),\"\",IF($F31>$E31,(S31+($B$39-SUM(H$7:H30))),(S31-($B$39-SUM(H$7:H30))))))","v":{"$error":"#VALUE!"}},"",{"$f":"IF(SUM(Y$7:Y30)>0,\"\",IF($B$40>SUM(H$7:H31),\"\",IF($F31>$E31,(S31+($B$40-SUM(H$7:H30))),(S31-($B$40-SUM(H$7:H30))))))","v":{"$error":"#VALUE!"}},{"$f":"IFERROR(((Y31-$S31)*(1/$D31))+$S31,\"\")","v":""},{"$f":"IFERROR(IF($C31=SUM($H31:H31),0,IF(($C31-SUM($H31:H31))>($B$3-SUM(AA$7:AA30)),($B$3-SUM(AA$7:AA30)),($C31-SUM($H31:H31)))),\"\")","v":0},"",{"$error":"#VALUE!"},{"$error":"#VALUE!"},{"$error":"#VALUE!"},{"$error":"#VALUE!"},{"$error":"#VALUE!"},{"$error":"#VALUE!"},{"$error":"#VALUE!"},{"$error":"#VALUE!"},{"$error":"#VALUE!"},"","",{"$f":"IF(SUM(AN$7:AN30)>0,\"\",IF($B$38>SUM(AA$7:AA31),\"\",IF($F31>$E31,(AL31+($B$38-SUM(AA$7:AA30))),(AL31-($B$38-SUM(AA$7:AA30))))))","v":{"$error":"#VALUE!"}},"",{"$f":"IF(SUM(AP$7:AP30)>0,\"\",IF($B$39>SUM(AA$7:AA31),\"\",IF($F31>$E31,(AL31+($B$39-SUM(AA$7:AA30))),(AL31-($B$39-SUM(AA$7:AA30))))))","v":{"$error":"#VALUE!"}},"",{"$f":"IF(SUM(AR$7:AR30)>0,\"\",IF($B$40>SUM(AA$7:AA31),\"\",IF($F31>$E31,(AL31+($B$40-SUM(AA$7:AA30))),(AL31-($B$40-SUM(AA$7:AA30))))))","v":{"$error":"#VALUE!"}},{"$f":"IFERROR(((AR31-$AL31)*(1/$D31))+$AL31,\"\")","v":""},{"$f":"IFERROR(IF($C31=SUM($H31+AA31),0,IF(($C31-SUM($H31+AA31))>($B$3-SUM(AT$7:AT30)),($B$3-SUM(AT$7:AT30)),($C31-SUM($H31+AA31)))),\"\")","v":0},"",{"$error":"#VALUE!"},{"$error":"#VALUE!"},{"$error":"#VALUE!"},{"$error":"#VALUE!"},{"$error":"#VALUE!"},{"$error":"#VALUE!"},{"$error":"#VALUE!"},{"$error":"#VALUE!"},{"$error":"#VALUE!"},"","",{"$f":"IF(SUM(BG$7:BG30)>0,\"\",IF($B$38>SUM(AT$7:AT31),\"\",IF($F31>$E31,(BE31+($B$38-SUM(AT$7:AT30))),(BE31-($B$38-SUM(AT$7:AT30))))))","v":{"$error":"#VALUE!"}},"",{"$f":"IF(SUM(BI$7:BI30)>0,\"\",IF($B$39>SUM(AT$7:AT31),\"\",IF($F31>$E31,(BE31+($B$39-SUM(AT$7:AT30))),(BE31-($B$39-SUM(AT$7:AT30))))))","v":{"$error":"#VALUE!"}},"",{"$f":"IF(SUM(BK$7:BK30)>0,\"\",IF($B$40>SUM(AT$7:AT31),\"\",IF($F31>$E31,(BE31+($B$40-SUM(AT$7:AT30))),(BE31-($B$40-SUM(AT$7:AT30))))))","v":{"$error":"#VALUE!"}},{"$f":"IFERROR(((BK31-$BE31)*(1/$D31))+$BE31,\"\")","v":""},{"$f":"IFERROR(IF($C31=SUM($H31+AA31+AT31),0,IF(($C31-SUM($H31+AA31+AT31))>($B$3-SUM(BM$7:BM30)),($B$3-SUM(BM$7:BM30)),($C31-SUM($H31+AA31+AT31)))),\"\")","v":0},"",{"$error":"#VALUE!"},{"$error":"#VALUE!"},{"$error":"#VALUE!"},{"$error":"#VALUE!"},{"$error":"#VALUE!"},{"$error":"#VALUE!"},{"$error":"#VALUE!"},{"$error":"#VALUE!"},{"$error":"#VALUE!"},"","",{"$f":"IF(SUM(BZ$7:BZ30)>0,\"\",IF($B$38>SUM(BM$7:BM31),\"\",IF($F31>$E31,(BX31+($B$38-SUM(BM$7:BM30))),(BX31-($B$38-SUM(BM$7:BM30))))))","v":{"$error":"#VALUE!"}},"",{"$f":"IF(SUM(CB$7:CB30)>0,\"\",IF($B$39>SUM(BM$7:BM31),\"\",IF($F31>$E31,(BX31+($B$39-SUM(BM$7:BM30))),(BX31-($B$39-SUM(BM$7:BM30))))))","v":{"$error":"#VALUE!"}},"",{"$f":"IF(SUM(CD$7:CD30)>0,\"\",IF($B$40>SUM(BM$7:BM31),\"\",IF($F31>$E31,(BX31+($B$40-SUM(BM$7:BM30))),(BX31-($B$40-SUM(BM$7:BM30))))))","v":{"$error":"#VALUE!"}},{"$f":"IFERROR(((CD31-$BX31)*(1/$D31))+$BX31,\"\")","v":""},{"$f":"IFERROR(IF($C31=SUM($H31+AA31+AT31+BM31),0,IF(($C31-SUM($H31+AA31+AT31+BM31))>($B$3-SUM(CF$7:CF30)),($B$3-SUM(CF$7:CF30)),($C31-SUM($H31+AA31+AT31+BM31)))),\"\")","v":0},"",{"$error":"#VALUE!"},{"$error":"#VALUE!"},{"$error":"#VALUE!"},{"$error":"#VALUE!"},{"$error":"#VALUE!"},{"$error":"#VALUE!"},{"$error":"#VALUE!"},{"$error":"#VALUE!"},{"$error":"#VALUE!"},"","",{"$f":"IF(SUM(CS$7:CS30)>0,\"\",IF($B$38>SUM(CF$7:CF31),\"\",IF($F31>$E31,(CQ31+($B$38-SUM(CF$7:CF30))),(CQ31-($B$38-SUM(CF$7:CF30))))))","v":{"$error":"#VALUE!"}},"",{"$f":"IF(SUM(CU$7:CU30)>0,\"\",IF($B$39>SUM(CF$7:CF31),\"\",IF($F31>$E31,(CQ31+($B$39-SUM(CF$7:CF30))),(CQ31-($B$39-SUM(CF$7:CF30))))))","v":{"$error":"#VALUE!"}},"",{"$f":"IF(SUM(CW$7:CW30)>0,\"\",IF($B$40>SUM(CF$7:CF31),\"\",IF($F31>$E31,(CQ31+($B$40-SUM(CF$7:CF30))),(CQ31-($B$40-SUM(CF$7:CF30))))))","v":{"$error":"#VALUE!"}},{"$f":"IFERROR(((CW31-$CQ31)*(1/$D31))+$CQ31,\"\")","v":""}]
[{"$f":"IF('DSR Template'!$B40=\"\",\"\",'DSR Template'!$B40)","v":""},{"$f":"'DSR Template'!$K40","v":""},{"$f":"'DSR Template'!J40","v":0},{"$error":"#VALUE!"},{"$f":"IF('DSR Template'!H40=\"\",\"\",'DSR Template'!H40)","v":""},{"$f":"IF('DSR Template'!I40=\"\",\"\",'DSR Template'!I40)","v":""},{"$f":"IF('DSR Template'!D40=\"\",\"\",'DSR Template'!D40)","v":""},{"$f":"IFERROR(IF(($B$3-$C32-SUM(H$7:H31))>0,$C32,$B$3-SUM(H$7:H31)),\"\")","v":0},"",{"$error":"#VALUE!"},{"$error":"#VALUE!"},{"$error":"#VALUE!"},{"$error":"#VALUE!"},{"$error":"#VALUE!"},{"$error":"#VALUE!"},{"$error":"#VALUE!"},{"$error":"#VALUE!"},{"$error":"#VALUE!"},"","",{"$f":"IF(SUM(U$7:U31)>0,\"\",IF($B$38>SUM(H$7:H32),\"\",IF($F32>$E32,(S32+($B$38-SUM(H$7:H31))),(S32-($B$38-SUM(H$7:H31))))))","v":{"$error":"#VALUE!"}},"",{"$f":"IF(SUM(W$7:W31)>0,\"\",IF($B$39>SUM(H$7:H32),\"\",IF($F32>$E32,(S32+($B$39-SUM(H$7:H31))),(S32-($B$39-SUM(H$7:H31))))))","v":{"$error":"#VALUE!"}},"",{"$f":"IF(SUM(Y$7:Y31)>0,\"\",IF($B$40>SUM(H$7:H32),\"\",IF($F32>$E32,(S32+($B$40-SUM(H$7:H31))),(S32-($B$40-SUM(H$7:H31))))))","v":{"$error":"#VALUE!"}},{"$f":"IFERROR(((Y32-$S32)*(1/$D32))+$S32,\"\")","v":""},{"$f":"IFERROR(IF($C32=SUM($H32:H32),0,IF(($C32-SUM($H32:H32))>($B$3-SUM(AA$7:AA31)),($B$3-SUM(AA$7:AA31)),($C32-SUM($H32:H32)))),\"\")","v":0},"",{"$error":"#VALUE!"},{"$error":"#VALUE!"},{"$error":"#VALUE!"},{"$error":"#VALUE!"},{"$error":"#VALUE!"},{"$error":"#VALUE!"},{"$error":"#VALUE!"},{"$error":"#VALUE!"},{"$error":"#VALUE!"},"","",{"$f":"IF(SUM(AN$7:AN31)>0,\"\",IF($B$38>SUM(AA$7:AA32),\"\",IF($F32>$E32,(AL32+($B$38-SUM(AA$7:AA31))),(AL32-($B$38-SUM(AA$7:AA31))))))","v":{"$error":"#VALUE!"}},"",{"$f":"IF(SUM(AP$7:AP31)>0,\"\",IF($B$39>SUM(AA$7:AA32),\"\",IF($F32>$E32,(AL32+($B$39-SUM(AA$7:AA31))),(AL32-($B$39-SUM(AA$7:AA31))))))","v":{"$error":"#VALUE!"}},"",{"$f":"IF(SUM(AR$7:AR31)>0,\"\",IF($B$40>SUM(AA$7:AA32),\"\",IF($F32>$E32,(AL32+($B$40-SUM(AA$7:AA31))),(AL32-($B$40-SUM(AA$7:AA31))))))","v":{"$error":"#VALUE!"}},{"$f":"IFERROR(((AR32-$AL32)*(1/$D32))+$AL32,\"\")","v":""},{"$f":"IFERROR(IF($C32=SUM($H32+AA32),0,IF(($C32-SUM($H32+AA32))>($B$3-SUM(AT$7:AT31)),($B$3-SUM(AT$7:AT31)),($C32-SUM($H32+AA32)))),\"\")","v":0},"",{"$error":"#VALUE!"},{"$error":"#VALUE!"},{"$error":"#VALUE!"},{"$error":"#VALUE!"},{"$error":"#VALUE!"},{"$error":"#VALUE!"},{"$error":"#VALUE!"},{"$error":"#VALUE!"},{"$error":"#VALUE!"},"","",{"$f":"IF(SUM(BG$7:BG31)>0,\"\",IF($B$38>SUM(AT$7:AT32),\"\",IF($F32>$E32,(BE32+($B$38-SUM(AT$7:AT31))),(BE32-($B$38-SUM(AT$7:AT31))))))","v":{"$error":"#VALUE!"}},"",{"$f":"IF(SUM(BI$7:BI31)>0,\"\",IF($B$39>SUM(AT$7:AT32),\"\",IF($F32>$E32,(BE32+($B$39-SUM(AT$7:AT31))),(BE32-($B$39-SUM(AT$7:AT31))))))","v":{"$error":"#VALUE!"}},"",{"$f":"IF(SUM(BK$7:BK31)>0,\"\",IF($B$40>SUM(AT$7:AT32),\"\",IF($F32>$E32,(BE32+($B$40-SUM(AT$7:AT31))),(BE32-($B$40-SUM(AT$7:AT31))))))","v":{"$error":"#VALUE!"}},{"$f":"IFERROR(((BK32-$BE32)*(1/$D32))+$BE32,\"\")","v":""},{"$f":"IFERROR(IF($C32=SUM($H32+AA32+AT32),0,IF(($C32-SUM($H32+AA32+AT32))>($B$3-SUM(BM$7:BM31)),($B$3-SUM(BM$7:BM31)),($C32-SUM($H32+AA32+AT32)))),\"\")","v":0},"",{"$error":"#VALUE!"},{"$error":"#VALUE!"},{"$error":"#VALUE!"},{"$error":"#VALUE!"},{"$error":"#VALUE!"},{"$error":"#VALUE!"},{"$error":"#VALUE!"},{"$error":"#VALUE!"},{"$error":"#VALUE!"},"","",{"$f":"IF(SUM(BZ$7:BZ31)>0,\"\",IF($B$38>SUM(BM$7:BM32),\"\",IF($F32>$E32,(BX32+($B$38-SUM(BM$7:BM31))),(BX32-($B$38-SUM(BM$7:BM31))))))","v":{"$error":"#VALUE!"}},"",{"$f":"IF(SUM(CB$7:CB31)>0,\"\",IF($B$39>SUM(BM$7:BM32),\"\",IF($F32>$E32,(BX32+($B$39-SUM(BM$7:BM31))),(BX32-($B$39-SUM(BM$7:BM31))))))","v":{"$error":"#VALUE!"}},"",{"$f":"IF(SUM(CD$7:CD31)>0,\"\",IF($B$40>SUM(BM$7:BM32),\"\",IF($F32>$E32,(BX32+($B$40-SUM(BM$7:BM31))),(BX32-($B$40-SUM(BM$7:BM31))))))","v":{"$error":"#VALUE!"}},{"$f":"IFERROR(((CD32-$BX32)*(1/$D32))+$BX32,\"\")","v":""},{"$f":"IFERROR(IF($C32=SUM($H32+AA32+AT32+BM32),0,IF(($C32-SUM($H32+AA32+AT32+BM32))>($B$3-SUM(CF$7:CF31)),($B$3-SUM(CF$7:CF31)),($C32-SUM($H32+AA32+AT32+BM32)))),\"\")","v":0},"",{"$error":"#VALUE!"},{"$error":"#VALUE!"},{"$error":"#VALUE!"},{"$error":"#VALUE!"},{"$error":"#VALUE!"},{"$error":"#VALUE!"},{"$error":"#VALUE!"},{"$error":"#VALUE!"},{"$error":"#VALUE!"},"","",{"$f":"IF(SUM(CS$7:CS31)>0,\"\",IF($B$38>SUM(CF$7:CF32),\"\",IF($F32>$E32,(CQ32+($B$38-SUM(CF$7:CF31))),(CQ32-($B$38-SUM(CF$7:CF31))))))","v":{"$error":"#VALUE!"}},"",{"$f":"IF(SUM(CU$7:CU31)>0,\"\",IF($B$39>SUM(CF$7:CF32),\"\",IF($F32>$E32,(CQ32+($B$39-SUM(CF$7:CF31))),(CQ32-($B$39-SUM(CF$7:CF31))))))","v":{"$error":"#VALUE!"}},"",{"$f":"IF(SUM(CW$7:CW31)>0,\"\",IF($B$40>SUM(CF$7:CF32),\"\",IF($F32>$E32,(CQ32+($B$40-SUM(CF$7:CF31))),(CQ32-($B$40-SUM(CF$7:CF31))))))","v":{"$error":"#VALUE!"}},{"$f":"IFERROR(((CW32-$CQ32)*(1/$D32))+$CQ32,\"\")","v":""}]
[{"$f":"IF('DSR Template'!$B41=\"\",\"\",'DSR Template'!$B41)","v":""},{"$f":"'DSR Template'!$K41","v":""},{"$f":"'DSR Template'!J41","v":0},{"$error":"#VALUE!"},{"$f":"IF('DSR Template'!H41=\"\",\"\",'DSR Template'!H41)","v":""},{"$f":"IF('DSR Template'!I41=\"\",\"\",'DSR Template'!I41)","v":""},{"$f":"IF('DSR Template'!D41=\"\",\"\",'DSR Template'!D41)","v":""},{"$f":"IFERROR(IF(($B$3-$C33-SUM(H$7:H32))>0,$C33,$B$3-SUM(H$7:H32)),\"\")","v":0},"",{"$error":"#VALUE!"},{"$error":"#VALUE!"},{"$error":"#VALUE!"},{"$error":"#VALUE!"},{"$error":"#VALUE!"},{"$error":"#VALUE!"},{"$error":"#VALUE!"},{"$error":"#VALUE!"},{"$error":"#VALUE!"},"","",{"$f":"IF(SUM(U$7:U32)>0,\"\",IF($B$38>SUM(H$7:H33),\"\",IF($F33>$E33,(S33+($B$38-SUM(H$7:H32))),(S33-($B$38-SUM(H$7:H32))))))","v":{"$error":"#VALUE!"}},"",{"$f":"IF(SUM(W$7:W32)>0,\"\",IF($B$39>SUM(H$7:H33),\"\",IF($F33>$E33,(S33+($B$39-SUM(H$7:H32))),(S33-($B$39-SUM(H$7:H32))))))","v":{"$error":"#VALUE!"}},"",{"$f":"IF(SUM(Y$7:Y32)>0,\"\",IF($B$40>SUM(H$7:H33),\"\",IF($F33>$E33,(S33+($B$40-SUM(H$7:H32))),(S33-($B$40-SUM(H$7:H32))))))","v":{"$error":"#VALUE!"}},{"$f":"IFERROR(((Y33-$S33)*(1/$D33))+$S33,\"\")","v":""},{"$f":"IFERROR(IF($C33=SUM($H33:H33),0,IF(($C33-SUM($H33:H33))>($B$3-SUM(AA$7:AA32)),($B$3-SUM(AA$7:AA32)),($C33-SUM($H33:H33)))),\"\")","v":0},"",{"$error":"#VALUE!"},{"$error":"#VALUE!"},{"$error":"#VALUE!"},{"$error":"#VALUE!"},{"$error":"#VALUE!"},{"$error":"#VALUE!"},{"$error":"#VALUE!"},{"$error":"#VALUE!"},{"$error":"#VALUE!"},"","",{"$f":"IF(SUM(AN$7:AN32)>0,\"\",IF($B$38>SUM(AA$7:AA33),\"\",IF($F33>$E33,(AL33+($B$38-SUM(AA$7:AA32))),(AL33-($B$38-SUM(AA$7:AA32))))))","v":{"$error":"#VALUE!"}},"",{"$f":"IF(SUM(AP$7:AP32)>0,\"\",IF($B$39>SUM(AA$7:AA33),\"\",IF($F33>$E33,(AL33+($B$39-SUM(AA$7:AA32))),(AL33-($B$39-SUM(AA$7:AA32))))))","v":{"$error":"#VALUE!"}},"",{"$f":"IF(SUM(AR$7:AR32)>0,\"\",IF($B$40>SUM(AA$7:AA33),\"\",IF($F33>$E33,(AL33+($B$40-SUM(AA$7:AA32))),(AL33-($B$40-SUM(AA$7:AA32))))))","v":{"$error":"#VALUE!"}},{"$f":"IFERROR(((AR33-$AL33)*(1/$D33))+$AL33,\"\")","v":""},{"$f":"IFERROR(IF($C33=SUM($H33+AA33),0,IF(($C33-SUM($H33+AA33))>($B$3-SUM(AT$7:AT32)),($B$3-SUM(AT$7:AT32)),($C33-SUM($H33+AA33)))),\"\")","v":0},"",{"$error":"#VALUE!"},{"$error":"#VALUE!"},{"$error":"#VALUE!"},{"$error":"#VALUE!"},{"$error":"#VALUE!"},{"$error":"#VALUE!"},{"$error":"#VALUE!"},{"$error":"#VALUE!"},{"$error":"#VALUE!"},"","",{"$f":"IF(SUM(BG$7:BG32)>0,\"\",IF($B$38>SUM(AT$7:AT33),\"\",IF($F33>$E33,(BE33+($B$38-SUM(AT$7:AT32))),(BE33-($B$38-SUM(AT$7:AT32))))))","v":{"$error":"#VALUE!"}},"",{"$f":"IF(SUM(BI$7:BI32)>0,\"\",IF($B$39>SUM(AT$7:AT33),\"\",IF($F33>$E33,(BE33+($B$39-SUM(AT$7:AT32))),(BE33-($B$39-SUM(AT$7:AT32))))))","v":{"$error":"#VALUE!"}},"",{"$f":"IF(SUM(BK$7:BK32)>0,\"\",IF($B$40>SUM(AT$7:AT33),\"\",IF($F33>$E33,(BE33+($B$40-SUM(AT$7:AT32))),(BE33-($B$40-SUM(AT$7:AT32))))))","v":{"$error":"#VALUE!"}},{"$f":"IFERROR(((BK33-$BE33)*(1/$D33))+$BE33,\"\")","v":""},{"$f":"IFERROR(IF($C33=SUM($H33+AA33+AT33),0,IF(($C33-SUM($H33+AA33+AT33))>($B$3-SUM(BM$7:BM32)),($B$3-SUM(BM$7:BM32)),($C33-SUM($H33+AA33+AT33)))),\"\")","v":0},"",{"$error":"#VALUE!"},{"$error":"#VALUE!"},{"$error":"#VALUE!"},{"$error":"#VALUE!"},{"$error":"#VALUE!"},{"$error":"#VALUE!"},{"$error":"#VALUE!"},{"$error":"#VALUE!"},{"$error":"#VALUE!"},"","",{"$f":"IF(SUM(BZ$7:BZ32)>0,\"\",IF($B$38>SUM(BM$7:BM33),\"\",IF($F33>$E33,(BX33+($B$38-SUM(BM$7:BM32))),(BX33-($B$38-SUM(BM$7:BM32))))))","v":{"$error":"#VALUE!"}},"",{"$f":"IF(SUM(CB$7:CB32)>0,\"\",IF($B$39>SUM(BM$7:BM33),\"\",IF($F33>$E33,(BX33+($B$39-SUM(BM$7:BM32))),(BX33-($B$39-SUM(BM$7:BM32))))))","v":{"$error":"#VALUE!"}},"",{"$f":"IF(SUM(CD$7:CD32)>0,\"\",IF($B$40>SUM(BM$7:BM33),\"\",IF($F33>$E33,(BX33+($B$40-SUM(BM$7:BM32))),(BX33-($B$40-SUM(BM$7:BM32))))))","v":{"$error":"#VALUE!"}},{"$f":"IFERROR(((CD33-$BX33)*(1/$D33))+$BX33,\"\")","v":""},{"$f":"IFERROR(IF($C33=SUM($H33+AA33+AT33+BM33),0,IF(($C33-SUM($H33+AA33+AT33+BM33))>($B$3-SUM(CF$7:CF32)),($B$3-SUM(CF$7:CF32)),($C33-SUM($H33+AA33+AT33+BM33)))),\"\")","v":0},"",{"$error":"#VALUE!"},{"$error":"#VALUE!"},{"$error":"#VALUE!"},{"$error":"#VALUE!"},{"$error":"#VALUE!"},{"$error":"#VALUE!"},{"$error":"#VALUE!"},{"$error":"#VALUE!"},{"$error":"#VALUE!"},"","",{"$f":"IF(SUM(CS$7:CS32)>0,\"\",IF($B$38>SUM(CF$7:CF33),\"\",IF($F33>$E33,(CQ33+($B$38-SUM(CF$7:CF32))),(CQ33-($B$38-SUM(CF$7:CF32))))))","v":{"$error":"#VALUE!"}},"",{"$f":"IF(SUM(CU$7:CU32)>0,\"\",IF($B$39>SUM(CF$7:CF33),\"\",IF($F33>$E33,(CQ33+($B$39-SUM(CF$7:CF32))),(CQ33-($B$39-SUM(CF$7:CF32))))))","v":{"$error":"#VALUE!"}},"",{"$f":"IF(SUM(CW$7:CW32)>0,\"\",IF($B$40>SUM(CF$7:CF33),\"\",IF($F33>$E33,(CQ33+($B$40-SUM(CF$7:CF32))),(CQ33-($B$40-SUM(CF$7:CF32))))))","v":{"$error":"#VALUE!"}},{"$f":"IFERROR(((CW33-$CQ33)*(1/$D33))+$CQ33,\"\")","v":""}]
[{"$f":"IF('DSR Template'!$B42=\"\",\"\",'DSR Template'!$B42)","v":""},{"$f":"'DSR Template'!$K42","v":""},{"$f":"'DSR Template'!J42","v":0},{"$error":"#VALUE!"},{"$f":"IF('DSR Template'!H42=\"\",\"\",'DSR Template'!H42)","v":""},{"$f":"IF('DSR Template'!I42=\"\",\"\",'DSR Template'!I42)","v":""},{"$f":"IF('DSR Template'!D42=\"\",\"\",'DSR Template'!D42)","v":""},{"$f":"IFERROR(IF(($B$3-$C34-SUM(H$7:H33))>0,$C34,$B$3-SUM(H$7:H33)),\"\")","v":0},"",{"$error":"#VALUE!"},{"$error":"#VALUE!"},{"$error":"#VALUE!"},{"$error":"#VALUE!"},{"$error":"#VALUE!"},{"$error":"#VALUE!"},{"$error":"#VALUE!"},{"$error":"#VALUE!"},{"$error":"#VALUE!"},"","",{"$f":"IF(SUM(U$7:U33)>0,\"\",IF($B$38>SUM(H$7:H34),\"\",IF($F34>$E34,(S34+($B$38-SUM(H$7:H33))),(S34-($B$38-SUM(H$7:H33))))))","v":{"$error":"#VALUE!"}},"",{"$f":"IF(SUM(W$7:W33)>0,\"\",IF($B$39>SUM(H$7:H34),\"\",IF($F34>$E34,(S34+($B$39-SUM(H$7:H33))),(S34-($B$39-SUM(H$7:H33))))))","v":{"$error":"#VALUE!"}},"",{"$f":"IF(SUM(Y$7:Y33)>0,\"\",IF($B$40>SUM(H$7:H34),\"\",IF($F34>$E34,(S34+($B$40-SUM(H$7:H33))),(S34-($B$40-SUM(H$7:H33))))))","v":{"$error":"#VALUE!"}},{"$f":"IFERROR(((Y34-$S34)*(1/$D34))+$S34,\"\")","v":""},{"$f":"IFERROR(IF($C34=SUM($H34:H34),0,IF(($C34-SUM($H34:H34))>($B$3-SUM(AA$7:AA33)),($B$3-SUM(AA$7:AA33)),($C34-SUM($H34:H34)))),\"\")","v":0},"",{"$error":"#VALUE!"},{"$error":"#VALUE!"},{"$error":"#VALUE!"},{"$error":"#VALUE!"},{"$error":"#VALUE!"},{"$error":"#VALUE!"},{"$error":"#VALUE!"},{"$error":"#VALUE!"},{"$error":"#VALUE!"},"","",{"$f":"IF(SUM(AN$7:AN33)>0,\"\",IF($B$38>SUM(AA$7:AA34),\"\",IF($F34>$E34,(AL34+($B$38-SUM(AA$7:AA33))),(AL34-($B$38-SUM(AA$7:AA33))))))","v":{"$error":"#VALUE!"}},"",{"$f":"IF(SUM(AP$7:AP33)>0,\"\",IF($B$39>SUM(AA$7:AA34),\"\",IF($F34>$E34,(AL34+($B$39-SUM(AA$7:AA33))),(AL34-($B$39-SUM(AA$7:AA33))))))","v":{"$error":"#VALUE!"}},"",{"$f":"IF(SUM(AR$7:AR33)>0,\"\",IF($B$40>SUM(AA$7:AA34),\"\",IF($F34>$E34,(AL34+($B$40-SUM(AA$7:AA33))),(AL34-($B$40-SUM(AA$7:AA33))))))","v":{"$error":"#VALUE!"}},{"$f":"IFERROR(((AR34-$AL34)*(1/$D34))+$AL34,\"\")","v":""},{"$f":"IFERROR(IF($C34=SUM($H34+AA34),0,IF(($C34-SUM($H34+AA34))>($B$3-SUM(AT$7:AT33)),($B$3-SUM(AT$7:AT33)),($C34-SUM($H34+AA34)))),\"\")","v":0},"",{"$error":"#VALUE!"},{"$error":"#VALUE!"},{"$error":"#VALUE!"},{"$error":"#VALUE!"},{"$error":"#VALUE!"},{"$error":"#VALUE!"},{"$error":"#VALUE!"},{"$error":"#VALUE!"},{"$error":"#VALUE!"},"","",{"$f":"IF(SUM(BG$7:BG33)>0,\"\",IF($B$38>SUM(AT$7:AT34),\"\",IF($F34>$E34,(BE34+($B$38-SUM(AT$7:AT33))),(BE34-($B$38-SUM(AT$7:AT33))))))","v":{"$error":"#VALUE!"}},"",{"$f":"IF(SUM(BI$7:BI33)>0,\"\",IF($B$39>SUM(AT$7:AT34),\"\",IF($F34>$E34,(BE34+($B$39-SUM(AT$7:AT33))),(BE34-($B$39-SUM(AT$7:AT33))))))","v":{"$error":"#VALUE!"}},"",{"$f":"IF(SUM(BK$7:BK33)>0,\"\",IF($B$40>SUM(AT$7:AT34),\"\",IF($F34>$E34,(BE34+($B$40-SUM(AT$7:AT33))),(BE34-($B$40-SUM(AT$7:AT33))))))","v":{"$error":"#VALUE!"}},{"$f":"IFERROR(((BK34-$BE34)*(1/$D34))+$BE34,\"\")","v":""},{"$f":"IFERROR(IF($C34=SUM($H34+AA34+AT34),0,IF(($C34-SUM($H34+AA34+AT34))>($B$3-SUM(BM$7:BM33)),($B$3-SUM(BM$7:BM33)),($C34-SUM($H34+AA34+AT34)))),\"\")","v":0},"",{"$error":"#VALUE!"},{"$error":"#VALUE!"},{"$error":"#VALUE!"},{"$error":"#VALUE!"},{"$error":"#VALUE!"},{"$error":"#VALUE!"},{"$error":"#VALUE!"},{"$error":"#VALUE!"},{"$error":"#VALUE!"},"","",{"$f":"IF(SUM(BZ$7:BZ33)>0,\"\",IF($B$38>SUM(BM$7:BM34),\"\",IF($F34>$E34,(BX34+($B$38-SUM(BM$7:BM33))),(BX34-($B$38-SUM(BM$7:BM33))))))","v":{"$error":"#VALUE!"}},"",{"$f":"IF(SUM(CB$7:CB33)>0,\"\",IF($B$39>SUM(BM$7:BM34),\"\",IF($F34>$E34,(BX34+($B$39-SUM(BM$7:BM33))),(BX34-($B$39-SUM(BM$7:BM33))))))","v":{"$error":"#VALUE!"}},"",{"$f":"IF(SUM(CD$7:CD33)>0,\"\",IF($B$40>SUM(BM$7:BM34),\"\",IF($F34>$E34,(BX34+($B$40-SUM(BM$7:BM33))),(BX34-($B$40-SUM(BM$7:BM33))))))","v":{"$error":"#VALUE!"}},{"$f":"IFERROR(((CD34-$BX34)*(1/$D34))+$BX34,\"\")","v":""},{"$f":"IFERROR(IF($C34=SUM($H34+AA34+AT34+BM34),0,IF(($C34-SUM($H34+AA34+AT34+BM34))>($B$3-SUM(CF$7:CF33)),($B$3-SUM(CF$7:CF33)),($C34-SUM($H34+AA34+AT34+BM34)))),\"\")","v":0},"",{"$error":"#VALUE!"},{"$error":"#VALUE!"},{"$error":"#VALUE!"},{"$error":"#VALUE!"},{"$error":"#VALUE!"},{"$error":"#VALUE!"},{"$error":"#VALUE!"},{"$error":"#VALUE!"},{"$error":"#VALUE!"},"","",{"$f":"IF(SUM(CS$7:CS33)>0,\"\",IF($B$38>SUM(CF$7:CF34),\"\",IF($F34>$E34,(CQ34+($B$38-SUM(CF$7:CF33))),(CQ34-($B$38-SUM(CF$7:CF33))))))","v":{"$error":"#VALUE!"}},"",{"$f":"IF(SUM(CU$7:CU33)>0,\"\",IF($B$39>SUM(CF$7:CF34),\"\",IF($F34>$E34,(CQ34+($B$39-SUM(CF$7:CF33))),(CQ34-($B$39-SUM(CF$7:CF33))))))","v":{"$error":"#VALUE!"}},"",{"$f":"IF(SUM(CW$7:CW33)>0,\"\",IF($B$40>SUM(CF$7:CF34),\"\",IF($F34>$E34,(CQ34+($B$40-SUM(CF$7:CF33))),(CQ34-($B$40-SUM(CF$7:CF33))))))","v":{"$error":"#VALUE!"}},{"$f":"IFERROR(((CW34-$CQ34)*(1/$D34))+$CQ34,\"\")","v":""}]
[{"$f":"IF('DSR Template'!$B43=\"\",\"\",'DSR Template'!$B43)","v":""},{"$f":"'DSR Template'!$K43","v":""},{"$f":"'DSR Template'!J43","v":0},{"$error":"#VALUE!"},{"$f":"IF('DSR Template'!H43=\"\",\"\",'DSR Template'!H43)","v":""},{"$f":"IF('DSR Template'!I43=\"\",\"\",'DSR Template'!I43)","v":""},{"$f":"IF('DSR Template'!D43=\"\",\"\",'DSR Template'!D43)","v":""},{"$f":"IFERROR(IF(($B$3-$C35-SUM(H$7:H34))>0,$C35,$B$3-SUM(H$7:H34)),\"\")","v":0},"",{"$error":"#VALUE!"},{"$error":"#VALUE!"},{"$error":"#VALUE!"},{"$error":"#VALUE!"},{"$error":"#VALUE!"},{"$error":"#VALUE!"},{"$error":"#VALUE!"},{"$error":"#VALUE!"},{"$error":"#VALUE!"},"","",{"$f":"IF(SUM(U$7:U34)>0,\"\",IF($B$38>SUM(H$7:H35),\"\",IF($F35>$E35,(S35+($B$38-SUM(H$7:H34))),(S35-($B$38-SUM(H$7:H34))))))","v":{"$error":"#VALUE!"}},"",{"$f":"IF(SUM(W$7:W34)>0,\"\",IF($B$39>SUM(H$7:H35),\"\",IF($F35>$E35,(S35+($B$39-SUM(H$7:H34))),(S35-($B$39-SUM(H$7:H34))))))","v":{"$error":"#VALUE!"}},"",{"$f":"IF(SUM(Y$7:Y34)>0,\"\",IF($B$40>SUM(H$7:H35),\"\",IF($F35>$E35,(S35+($B$40-SUM(H$7:H34))),(S35-($B$40-SUM(H$7:H34))))))","v":{"$error":"#VALUE!"}},{"$f":"IFERROR(((Y35-$S35)*(1/$D35))+$S35,\"\")","v":""},{"$f":"IFERROR(IF($C35=SUM($H35:H35),0,IF(($C35-SUM($H35:H35))>($B$3-SUM(AA$7:AA34)),($B$3-SUM(AA$7:AA34)),($C35-SUM($H35:H35)))),\"\")","v":0},"",{"$error":"#VALUE!"},{"$error":"#VALUE!"},{"$error":"#VALUE!"},{"$error":"#VALUE!"},{"$error":"#VALUE!"},{"$error":"#VALUE!"},{"$error":"#VALUE!"},{"$error":"#VALUE!"},{"$error":"#VALUE!"},"","",{"$f":"IF(SUM(AN$7:AN34)>0,\"\",IF($B$38>SUM(AA$7:AA35),\"\",IF($F35>$E35,(AL35+($B$38-SUM(AA$7:AA34))),(AL35-($B$38-SUM(AA$7:AA34))))))","v":{"$error":"#VALUE!"}},"",{"$f":"IF(SUM(AP$7:AP34)>0,\"\",IF($B$39>SUM(AA$7:AA35),\"\",IF($F35>$E35,(AL35+($B$39-SUM(AA$7:AA34))),(AL35-($B$39-SUM(AA$7:AA34))))))","v":{"$error":"#VALUE!"}},"",{"$f":"IF(SUM(AR$7:AR34)>0,\"\",IF($B$40>SUM(AA$7:AA35),\"\",IF($F35>$E35,(AL35+($B$40-SUM(AA$7:AA34))),(AL35-($B$40-SUM(AA$7:AA34))))))","v":{"$error":"#VALUE!"}},{"$f":"IFERROR(((AR35-$AL35)*(1/$D35))+$AL35,\"\")","v":""},{"$f":"IFERROR(IF($C35=SUM($H35+AA35),0,IF(($C35-SUM($H35+AA35))>($B$3-SUM(AT$7:AT34)),($B$3-SUM(AT$7:AT34)),($C35-SUM($H35+AA35)))),\"\")","v":0},"",{"$error":"#VALUE!"},{"$error":"#VALUE!"},{"$error":"#VALUE!"},{"$error":"#VALUE!"},{"$error":"#VALUE!"},{"$error":"#VALUE!"},{"$error":"#VALUE!"},{"$error":"#VALUE!"},{"$error":"#VALUE!"},"","",{"$f":"IF(SUM(BG$7:BG34)>0,\"\",IF($B$38>SUM(AT$7:AT35),\"\",IF($F35>$E35,(BE35+($B$38-SUM(AT$7:AT34))),(BE35-($B$38-SUM(AT$7:AT34))))))","v":{"$error":"#VALUE!"}},"",{"$f":"IF(SUM(BI$7:BI34)>0,\"\",IF($B$39>SUM(AT$7:AT35),\"\",IF($F35>$E35,(BE35+($B$39-SUM(AT$7:AT34))),(BE35-($B$39-SUM(AT$7:AT34))))))","v":{"$error":"#VALUE!"}},"",{"$f":"IF(SUM(BK$7:BK34)>0,\"\",IF($B$40>SUM(AT$7:AT35),\"\",IF($F35>$E35,(BE35+($B$40-SUM(AT$7:AT34))),(BE35-($B$40-SUM(AT$7:AT34))))))","v":{"$error":"#VALUE!"}},{"$f":"IFERROR(((BK35-$BE35)*(1/$D35))+$BE35,\"\")","v":""},{"$f":"IFERROR(IF($C35=SUM($H35+AA35+AT35),0,IF(($C35-SUM($H35+AA35+AT35))>($B$3-SUM(BM$7:BM34)),($B$3-SUM(BM$7:BM34)),($C35-SUM($H35+AA35+AT35)))),\"\")","v":0},"",{"$error":"#VALUE!"},{"$error":"#VALUE!"},{"$error":"#VALUE!"},{"$error":"#VALUE!"},{"$error":"#VALUE!"},{"$error":"#VALUE!"},{"$error":"#VALUE!"},{"$error":"#VALUE!"},{"$error":"#VALUE!"},"",{"$f":"IF(BX35=\"\",\"\",IF($F35>$E35,BX35+BN35,BX35-BN35))","v":""},{"$f":"IF(SUM(BZ$7:BZ34)>0,\"\",IF($B$38>SUM(BM$7:BM35),\"\",IF($F35>$E35,(BX35+($B$38-SUM(BM$7:BM34))),(BX35-($B$38-SUM(BM$7:BM34))))))","v":{"$error":"#VALUE!"}},"",{"$f":"IF(SUM(CB$7:CB34)>0,\"\",IF($B$39>SUM(BM$7:BM35),\"\",IF($F35>$E35,(BX35+($B$39-SUM(BM$7:BM34))),(BX35-($B$39-SUM(BM$7:BM34))))))","v":{"$error":"#VALUE!"}},"",{"$f":"IF(SUM(CD$7:CD34)>0,\"\",IF($B$40>SUM(BM$7:BM35),\"\",IF($F35>$E35,(BX35+($B$40-SUM(BM$7:BM34))),(BX35-($B$40-SUM(BM$7:BM34))))))","v":{"$error":"#VALUE!"}},{"$f":"IFERROR(((CD35-$BX35)*(1/$D35))+$BX35,\"\")","v":""},{"$f":"IFERROR(IF($B35=SUM($H35+AA35+AT35+BM35),0,IF(($B35-SUM($H35+AA35+AT35+BM35))>($B$3-SUM(CF$7:CF34)),($B$3-SUM(CF$7:CF34)),($B35-SUM($H35+AA35+AT35+BM35)))),\"\")","v":""},"",{"$error":"#VALUE!"},{"$error":"#VALUE!"},{"$error":"#VALUE!"},{"$error":"#VALUE!"},{"$error":"#VALUE!"},{"$error":"#VALUE!"},{"$error":"#VALUE!"},{"$error":"#VALUE!"},{"$error":"#VALUE!"},"","",{"$f":"IF(SUM(CS$7:CS34)>0,\"\",IF($B$38>SUM(CF$7:CF35),\"\",IF($F35>$E35,(CQ35+($B$38-SUM(CF$7:CF34))),(CQ35-($B$38-SUM(CF$7:CF34))))))","v":{"$error":"#VALUE!"}},"",{"$f":"IF(SUM(CU$7:CU34)>0,\"\",IF($B$39>SUM(CF$7:CF35),\"\",IF($F35>$E35,(CQ35+($B$39-SUM(CF$7:CF34))),(CQ35-($B$39-SUM(CF$7:CF34))))))","v":{"$error":"#VALUE!"}},"",{"$f":"IF(SUM(CW$7:CW34)>0,\"\",IF($B$40>SUM(CF$7:CF35),\"\",IF($F35>$E35,(CQ35+($B$40-SUM(CF$7:CF34))),(CQ35-($B$40-SUM(CF$7:CF34))))))","v":{"$error":"#VALUE!"}},{"$f":"IFERROR(((CW35-$CQ35)*(1/$D35))+$CQ35,\"\")","v":""}]
[]
[]
["Random Zone #1",0]
["Random Zone #2",0]
["Random Zone #3",0,null,null,null,"Date Selected =",null,null,null,null,null,null,null,null,null,null,null,null,null,"2020-05-05T13:26:08"]
[]
["Zone #1 Locations",null,null,null,null,null,null,null,null,null,null,null,null,null,null,null,null,null,"Zone #2 Locations",null,null,null,null,null,null,null,null,null,null,null,null,null,null,null,null,null,null,"Zone #3 Locations"]
[null,"Route",null,null,"Direction","Milepoint",null,null,null,null,null,null,null,null,null,null,null,null,null,null,null,"Route",null,"Direction",null,"Milepoint",null,null,null,null,null,null,null,null,null,null,null,null,null,null,"Route",null,"Direction",null,"Milepoint"]
["Segment 1",{"$f":"IFERROR(INDEX($J$7:$U$35,MATCH(\"Yes\",$J$7:$J$35,0),2),\"\")","v":""},null,null,{"$f":"IFERROR(INDEX($J$7:$U$35,MATCH(\"Yes\",$J$7:$J$35,0),3),\"\")","v":""},{"$f":"IFERROR(ROUND(IFERROR(INDEX($J$7:$V$35,MATCH(\"Yes\",$J$7:$J$35,0),13),\"\"),4),\"\")","v":""},null,null,null,null,null,null,null,null,null,null,null,null,"Segment 1",null,null,{"$f":"IFERROR(INDEX($M$7:$U$35,MATCH(\"Yes\",$M$7:$M$35,0),2),\"\")","v":""},null,{"$f":"IFERROR(INDEX($M$7:$U$35,MATCH(\"Yes\",$M$7:$M$35,0),3),\"\")","v":""},null,{"$f":"IFERROR(ROUND(IFERROR(INDEX($M$7:$Z$35,MATCH(\"Yes\",$M$7:$M$35,0),12),\"\"),4),\"\")","v":""},null,null,null,null,null,null,null,null,null,null,null,"Segment 1",null,null,{"$f":"IFERROR(INDEX($P$7:$U$35,MATCH(\"Yes\",$P$7:$P$35,0),2),\"\")","v":""},null,{"$f":"IFERROR(INDEX($P$7:$U$35,MATCH(\"Yes\",$P$7:$P$35,0),3),\"\")","v":""},null,{"$f":"IFERROR(ROUND(IFERROR(INDEX($P$7:$Z$35,MATCH(\"Yes\",$P$7:$P$35,0),11),\"\"),4),\"\")","v":""}]
["Segment 2",{"$f":"IFERROR(INDEX($AC$7:$AN$35,MATCH(\"Yes\",$AC$7:$AC$35,0),2),\"\")","v":""},null,null,{"$f":"IFERROR(INDEX($AC$7:$AN$35,MATCH(\"Yes\",$AC$7:$AC$35,0),3),\"\")","v":""},{"$f":"IFERROR(ROUND(IFERROR(INDEX($AC$7:$AO$35,MATCH(\"Yes\",$AC$7:$AC$35,0),13),\"\"),4),\"\")","v":""},null,null,null,null,null,null,null,null,null,null,null,null,"Segment 2",null,null,{"$f":"IFERROR(INDEX($AF$7:$AN$35,MATCH(\"Yes\",$AF$7:$AF$35,0),2),\"\")","v":""},null,{"$f":"IFERROR(INDEX($AF$7:$AN$35,MATCH(\"Yes\",$AF$7:$AF$35,0),3),\"\")","v":""},null,{"$f":"IFERROR(ROUND(IFERROR(INDEX($AF$7:$AS$35,MATCH(\"Yes\",$AF$7:$AF$35,0),12),\"\"),4),\"\")","v":""},null,null,null,null,null,null,null,null,null,null,null,"Segment 2",null,null,{"$f":"IFERROR(INDEX($AI$7:$AN$35,MATCH(\"Yes\",$AI$7:$AI$35,0),2),\"\")","v":""},null,{"$f":"IFERROR(INDEX($AI$7:$AN$35,MATCH(\"Yes\",$AI$7:$AI$35,0),3),\"\")","v":""},null,{"$f":"IFERROR(ROUND(IFERROR(INDEX($AI$7:$AS$35,MATCH(\"Yes\",$AI$7:$AI$35,0),11),\"\"),4),\"\")","v":""}]
["Segment 3",{"$f":"IFERROR(INDEX($AV$7:$BG$35,MATCH(\"Yes\",$AV$7:$AV$35,0),2),\"\")","v":""},null,null,{"$f":"IFERROR(INDEX($AV$7:$BG$35,MATCH(\"Yes\",$AV$7:$AV$35,0),3),\"\")","v":""},{"$f":"IFERROR(ROUND(IFERROR(INDEX($AV$7:$BH$35,MATCH(\"Yes\",$AV$7:$AV$35,0),13),\"\"),4),\"\")","v":""},null,null,null,null,null,null,null,null,null,null,null,null,"Segment 3",null,null,{"$f":"IFERROR(INDEX($AY$7:$BG$35,MATCH(\"Yes\",$AY$7:$AY$35,0),2),\"\")","v":""},null,{"$f":"IFERROR(INDEX($AY$7:$BG$35,MATCH(\"Yes\",$AY$7:$AY$35,0),3),\"\")","v":""},null,{"$f":"IFERROR(ROUND(IFERROR(INDEX($AY$7:$BL$35,MATCH(\"Yes\",$AY$7:$AY$35,0),12),\"\"),4),\"\")","v":""},null,null,null,null,null,null,null,null,null,null,null,"Segment 3",null,null,{"$f":"IFERROR(INDEX($BB$7:$BG$35,MATCH(\"Yes\",$BB$7:$BB$35,0),2),\"\")","v":""},null,{"$f":"IFERROR(INDEX($BB$7:$BG$35,MATCH(\"Yes\",$BB$7:$BB$35,0),3),\"\")","v":""},null,{"$f":"IFERROR(ROUND(IFERROR(INDEX($BB$7:$BL$35,MATCH(\"Yes\",$BB$7:$BB$35,0),11),\"\"),4),\"\")","v":""}]
["Segment 4",{"$f":"IFERROR(INDEX($BO$7:$BZ$35,MATCH(\"Yes\",$BO$7:$BO$35,0),2),\"\")","v":""},null,null,{"$f":"IFERROR(INDEX($BO$7:$BZ$35,MATCH(\"Yes\",$BO$7:$BO$35,0),3),\"\")","v":""},{"$f":"IFERROR(ROUND(IFERROR(INDEX($BO$7:$CA$35,MATCH(\"Yes\",$BO$7:$BO$35,0),13),\"\"),4),\"\")","v":""},null,null,null,null,null,null,null,null,null,null,null,null,"Segment 4",null,null,{"$f":"IFERROR(INDEX($BR$7:$BZ$35,MATCH(\"Yes\",$BR$7:$BR$35,0),2),\"\")","v":""},null,{"$f":"IFERROR(INDEX($BR$7:$BZ$35,MATCH(\"Yes\",$BR$7:$BR$35,0),3),\"\")","v":""},null,{"$f":"IFERROR(ROUND(IFERROR(INDEX($BR$7:$CE$35,MATCH(\"Yes\",$BR$7:$BR$35,0),12),\"\"),4),\"\")","v":""},null,null,null,null,null,null,null,null,null,null,null,"Segment 4",null,null,{"$f":"IFERROR(INDEX($BU$7:$BZ$35,MATCH(\"Yes\",$BU$7:$BU$35,0),2),\"\")","v":""},null,{"$f":"IFERROR(INDEX($BU$7:$BZ$35,MATCH(\"Yes\",$BU$7:$BU$35,0),3),\"\")","v":""},null,{"$f":"IFERROR(ROUND(IFERROR(INDEX($BU$7:$CE$35,MATCH(\"Yes\",$BU$7:$BU$35,0),11),\"\"),4),\"\")","v":""}]
["Segment 5",{"$f":"IFERROR(INDEX($CH$7:$CS$35,MATCH(\"Yes\",$CH$7:$CH$35,0),2),\"\")","v":""},null,null,{"$f":"IFERROR(INDEX($CH$7:$CS$35,MATCH(\"Yes\",$CH$7:$CH$35,0),3),\"\")","v":""},{"$f":"IFERROR(ROUND(IFERROR(INDEX($CH$7:$CT$35,MATCH(\"Yes\",$CH$7:$CH$35,0),13),\"\"),4),\"\")","v":""},null,null,null,null,null,null,null,null,null,null,null,null,"Segment 5",null,null,{"$f":"IFERROR(INDEX($CK$7:$CS$35,MATCH(\"Yes\",$CK$7:$CK$35,0),2),\"\")","v":""},null,{"$f":"IFERROR(INDEX($CK$7:$CS$35,MATCH(\"Yes\",$CK$7:$CK$35,0),3),\"\")","v":""},null,{"$f":"IFERROR(ROUND(IFERROR(INDEX($CK$7:$CX$35,MATCH(\"Yes\",$CK$7:$CK$35,0),12),\"\"),4),\"\")","v":""},null,null,null,null,null,null,null,null,null,null,null,"Segment 5",null,null,{"$f":"IFERROR(INDEX($CN$7:$CS$35,MATCH(\"Yes\",$CN$7:$CN$35,0),2),\"\")","v":""},null,{"$f":"IFERROR(INDEX($CN$7:$CS$35,MATCH(\"Yes\",$CN$7:$CN$35,0),3),\"\")","v":""},null,{"$f":"IFERROR(ROUND(IFERROR(INDEX($CN$7:$CX$35,MATCH(\"Yes\",$CN$7:$CN$35,0),11),\"\"),4),\"\")","v":""}]

{"sheet":"Sheet2","index":2,"n_rows":12,"n_cols":101,"rows_kept":12,"cut":false,"hidden":false,"merged":[]}
["Date","Time","Direction","GPS_Lat_Deg_ASCI","GPS_Lat_Hemi","GPS_Lon_Deg_ASCI","GPS_Lon_Hemi","MPH","County","Road","Line Type","Marker Number","Yellow MIL","White MIL","Black MIL","Yel Gal Used w/ Cat","Wht Gal Used w/ Cat","Blk Gal Used w/ Cat","Yel Gal Used w/o Cat","Wht Gal Used w/o Cat","Blk Gal Used w/o Cat","Yellow Feet","White Feet","Black Feet","Yellow Ave Temp","White Ave Temp","Black Ave Temp","Humidity Ave","Road Temp Ave","Air Temp Ave","Dew Point Ave","Bead1 Total LBS","Bead2 Total LBS","Bead3 Total LBS","Total LBS/Gal","Total LBS/100FTSQ","Total Feet Traveled","Batch 1","Batch 2","Batch 3","Batch 4","Bead 1","Bead 2","Employee 1","Employee 2","Employee 3","Employee 4","Employee 5","Employee 6","Employee 7","Employee 8","Employee 9","Employee 10","Batch 3","Line Width","Yellow Strokes","White Strokes","White LBS/Gal","Yellow LBS/Gal","Pump 2 Gal/Stroke","Pump 1 Gal/Stroke","Cat Gal/Stroke","Yellow RePaint Feet","White RePaint Feet","Yellow RePaint Gallons","White RePaint Gallons","Special Gun Line Type","Special Gun Width","Special Gun Footage","Gun1 Skip","Gun1 Solid","Gun2 Skip","Gun2 Solid","Gun3 Skip","Gun3 Solid","Gun4 Skip","Gun4 Solid","Gun5 Skip","Gun5 Solid","Gun6 Skip","Gun6 Solid","Gun7 Skip","Gun7 Solid","Gun1 Width","Gun2 Width","Gun3 Width","Gun4 Width","Gun5 Width","Gun6 Width","Gun7 Width","Gun1 Color","Gun2 Color","Gun3 Color","Gun4 Color","Gun5 Color","Gun6 Color","Gun7 Color","Job Start GPS Lat","Job Start GPS Lon","Current Job","Bead4 Total LBS"]
["2019-06-14","6:16:00 PM*","North ",38.208889999999997,null,-85.316491999999997,null,0,"jefferson","1819mp","_WEL","5.1-12.8",0,0,0,0,0,0,0,0,0,0,0,0,0,0,0,0,0,0,0,84,0,0,"∞","∞",0,"kp1904w0137","0_","_","NaN NaN NaN NaN",122818,120418,"Null_","Null_","Null_","Null_","Null_","Null_","Null_","Null_","Null_","_",null,4,0,0,5,1,0.24709999999999999,0.24759999999999999,null,null,null,null,null,"E",null,null,0,0,0,0,0,0,0,0,0,0,0,0,0,0,4,4,4,4,0,0,0,1,1,1,1,1,1,1,38.224553,-85.551955000000007,"No Job Selected","Null"]
["2019-06-14","8:40:25 PM*","North ",38.211621999999998,null,-85.538870000000003,null,0,"jefferson",913,"_WEL","1.5-1.8",0,20.358899999999998,0,0,3.2122999999999999,0,0,3.2122999999999999,0,0,759,0,0,0,0,0,0,0,0,2,0,0,14.631259999999999,18.57084,0,"kp1904w0137","0_","_","NaN NaN NaN NaN",122818,10119,"Null_","Null_","Null_","Null_","Null_","Null_","Null_","Null_","Null_","_",null,4,0,13,5,1,0.24709999999999999,0.24759999999999999,null,null,null,null,null,"End",null,null,0,0,55.765140000000002,703.4896,0,0,0,0,0,0,0,0,0,0,4,4,4,4,0,0,0,1,2,1,1,1,1,1,0,0,"No Job Selected","Null"]
["2019-06-14","8:55:08 PM*","North ",38.245041999999998,null,-85.544004999999999,null,0,"jefferson","1819rs","_WEL","12.8-13.6",0,15.991759999999999,0,0,12.6021,0,0,12.6021,0,0,3792,0,0,0,0,0,0,0,0,61,0,0,5.7926849999999996,5.7752650000000001,0,"kp1904w0137","0_","_","NaN NaN NaN NaN",122818,10119,"Null_","Null_","Null_","Null_","Null_","Null_","Null_","Null_","Null_","_",null,4,0,51,5,1,0.24709999999999999,0.24759999999999999,null,null,null,null,null,"End",null,null,0,0,19.452950000000001,3772.5810000000001,0,0,0,0,0,0,0,0,0,0,4,4,4,4,0,0,0,1,2,1,1,1,1,1,0,0,"No Job Selected","Null"]
["2019-06-14","9:01:58 PM*","South",38.236407,null,-85.543940000000006,null,10,"jefferson","1819rs","_WEL","13.6-12.8",0,15.71594,0,0,13.096299999999999,0,0,13.096299999999999,0,0,4010,0,36,95,92,25,84,92,81,56,0,0,3.8178719999999999,3.740739,4485,"kp1904w0137","0_","_","NaN NaN NaN NaN",122818,10119,"Null_","Null_","Null_","Null_","Null_","Null_","Null_","Null_","Null_","_",null,4,0,53,5,1,0.24709999999999999,0.24759999999999999,null,null,null,null,null,"End",null,null,0,0,0,4009.9029999999998,0,0,0,0,0,0,0,0,0,0,4,4,4,4,0,0,0,1,2,1,1,1,1,1,0,0,"No Job Selected","Null"]
["2019-06-14","9:30:41 PM*","North ",38.269165000000001,null,-85.614666999999997,null,8,"jefferson",2050,"_WEL","0-2.1",0,15.774839999999999,0,0,13.8376,0,0,13.8376,0,0,4221,0,36,94,91,25,82,91,80,107,0,0,8.0938890000000008,7.8514140000000001,5241,"kp1904w0137","0_","_","NaN NaN NaN NaN",122818,10119,"Null_","Null_","Null_","Null_","Null_","Null_","Null_","Null_","Null_","_",null,4,0,57,5,1,0.24709999999999999,0.24759999999999999,null,null,null,null,null,"Middle",null,null,0,0,16.387640000000001,4204.6710000000003,0,0,0,0,0,0,0,0,0,0,4,4,4,4,0,0,0,1,2,1,1,1,1,1,0,0,"No Job Selected","Null"]
["2019-06-14","9:38:16 PM*","North ",38.280707,null,-85.625358000000006,null,10,"jefferson",2050,"_WEL","0-2.1",0,15.422510000000001,0,0,26.686800000000002,0,0,26.686800000000002,0,0,8327,0,36,96,93,24,81,93,81,172,0,0,7.0917890000000003,6.7399750000000003,10521,"kp1904w0137","0_","_","NaN NaN NaN NaN",122818,10119,"Null_","Null_","Null_","Null_","Null_","Null_","Null_","Null_","Null_","_",null,4,0,108,5,1,0.24709999999999999,0.24759999999999999,null,null,null,null,null,"Middle",null,null,0,0,16.387640000000001,8310.1980000000003,0,0,0,0,0,0,0,0,0,0,4,4,4,4,0,0,0,1,2,1,1,1,1,1,38.269165000000001,-85.614666999999997,"No Job Selected","Null"]
["2019-06-14","9:40:32 PM*","North ",38.283790000000003,null,-85.627823000000006,null,8,"jefferson",2050,"_WEL","0-2.1",0,15.40302,0,0,30.3933,0,0,30.3933,0,0,9495,0,36,98,94,23,82,94,81,203,0,0,7.2055350000000002,6.9193879999999996,12121,"kp1904w0137","0_","_","NaN NaN NaN NaN",122818,10119,"Null_","Null_","Null_","Null_","Null_","Null_","Null_","Null_","Null_","_",null,4,0,123,5,1,0.24709999999999999,0.24759999999999999,null,null,null,null,null,"End",null,null,0,0,16.387640000000001,9478.6720000000005,0,0,0,0,0,0,0,0,0,0,4,4,4,4,0,0,0,1,2,1,1,1,1,1,38.280707,-85.625358000000006,"No Job Selected","Null"]
["2019-06-14","9:50:54 PM*","South",38.272002999999998,null,-85.617350000000002,null,9,"jefferson",2050,"_WEL","2.1-0",0,15.444470000000001,0,0,15.814399999999999,0,0,15.814399999999999,0,0,4927,0,36,97,93,24,80,93,81,156,0,0,5.8382149999999999,5.6129949999999997,5264,"kp1904w0137","0_","_","NaN NaN NaN NaN",122818,10119,"Null_","Null_","Null_","Null_","Null_","Null_","Null_","Null_","Null_","_",null,4,0,64,5,1,0.24709999999999999,0.24759999999999999,null,null,null,null,null,"Middle",null,null,0,0,0,4927.259,0,0,0,0,0,0,0,0,0,0,4,4,4,4,0,0,0,1,2,1,1,1,1,1,0,0,"No Job Selected","Null"]
["2019-06-14","9:57:05 PM*","South",38.260938000000003,null,-85.605922000000007,null,10,"jefferson",2050,"_WEL","2.1-0",0,15.240869999999999,0,0,27.428100000000001,0,0,27.428100000000001,0,0,8660,0,36,98,93,23,80,93,80,173,0,0,7.1570960000000001,6.787585,10552,"kp1904w0137","0_","_","NaN NaN NaN NaN",122818,10119,"Null_","Null_","Null_","Null_","Null_","Null_","Null_","Null_","Null_","_",null,4,0,111,5,1,0.24709999999999999,0.24759999999999999,null,null,null,null,null,"Middle",null,null,0,0,0,8659.8760000000002,0,0,0,0,0,0,0,0,0,0,4,4,4,4,0,0,0,1,2,1,1,1,1,1,38.272002999999998,-85.617350000000002,"No Job Selected","Null"]
["2019-06-14","11:20:58 PM*","South",38.25882,null,-85.603915000000001,null,10,"jefferson",2050,"_WEL","2.1-0",0,15.364459999999999,0,0,33.852699999999999,0,0,33.852699999999999,0,0,10602,0,36,96,93,23,82,93,80,218,0,0,6.5282830000000001,6.2533370000000001,11639,"kp1904w0137","0_","_","NaN NaN NaN NaN",122818,10119,"Null_","Null_","Null_","Null_","Null_","Null_","Null_","Null_","Null_","_",null,4,0,137,5,1,0.24709999999999999,0.24759999999999999,null,null,null,null,null,"End",null,null,0,0,10.96439,10591.38,0,0,0,0,0,0,0,0,0,0,4,4,4,4,0,0,0,1,2,1,1,1,1,1,38.260938000000003,-85.605922000000007,"No Job Selected","Null"]
[null,null,null,null,null,null,null,null,null,null,null,null,null,null,null,null,null,null,null,null,null,null,null,null,null,null,null,null,null,null,null,null,null,null,null,null,null,null,null,null,null,null,null,null,null,null,null,null,null,null,null,null,null,null,null,null,null,null,null,null,null,null,null,null,null,null,null,null,null,null,null,null,null,null,null,null,null,null,null,null,null,null,null,null,null,null,null,null,null,null,3,3,3,3,3,3,3]

{"sheet":"Values","index":3,"n_rows":121,"n_cols":11,"rows_kept":121,"cut":false,"hidden":true,"merged":[]}
["Color","Width","Route Type","Counties","Direction","Line Type","Mobile","Corrective Restripe","Project Type","Application Type","District"]
["White",4,"RS","Adair","N","CL","Yes","Yes","District Wide Striping","Temporary","KY-D01"]
["Yellow",6,"MP","Allen","S","EL","No","No","Rehabilitation/Resurfacing","Permanent","KY-D02"]
[null,8,null,"Anderson","E","LL",null,null,null,null,"KY-D03"]
[null,12,null,"Ballard","W","SK",null,null,null,null,"KY-D04"]
[null,null,null,"Barren",null,"GM",null,null,null,null,"KY-D05"]
[null,null,null,"Bath",null,"DTLE",null,null,null,null,"KY-D06"]
[null,null,null,"Bell",null,null,null,null,null,null,"KY-D07"]
[null,null,null,"Boone",null,null,null,null,null,null,"KY-D08"]
[null,null,null,"Bourbon",null,null,null,null,null,null,"KY-D09"]
[null,null,null,"Boyd",null,null,null,null,null,null,"KY-D10"]
[null,null,null,"Boyle",null,null,null,null,null,null,"KY-D11"]
[null,null,null,"Bracken",null,null,null,null,null,null,"KY-D12"]
[null,null,null,"Breathitt"]
[null,null,null,"Breckinridge"]
[null,null,null,"Bullitt"]
[null,null,null,"Butler"]
[null,null,null,"Caldwell"]
[null,null,null,"Calloway"]
[null,null,null,"Campbell"]
[null,null,null,"Carlisle"]
[null,null,null,"Carroll"]
[null,null,null,"Carter"]
[null,null,null,"Casey"]
[null,null,null,"Christian"]
[null,null,null,"Clark"]
[null,null,null,"Clay"]
[null,null,null,"Clinton"]
[null,null,null,"Crittenden"]
[null,null,null,"Cumberland"]
[null,null,null,"Daviess"]
[null,null,null,"Edmonson"]
[null,null,null,"Elliott"]
[null,null,null,"Estill"]
[null,null,null,"Fayette"]
[null,null,null,"Fleming"]
[null,null,null,"Floyd"]
[null,null,null,"Franklin"]
[null,null,null,"Fulton"]
[null,null,null,"Gallatin"]
[null,null,null,"Garrard"]
[null,null,null,"Grant"]
[null,null,null,"Graves"]
[null,null,null,"Grayson"]
[null,null,null,"Green"]
[null,null,null,"Greenup"]
[null,null,null,"Hancock"]
[null,null,null,"Hardin"]
[null,null,null,"Harlan"]
[null,null,null,"Harrison"]
[null,null,null,"Hart"]
[null,null,null,"Henderson"]
[null,null,null,"Henry"]
[null,null,null,"Hickman"]
[null,null,null,"Hopkins"]
[null,null,null,"Jackson"]
[null,null,null,"Jefferson"]
[null,null,null,"Jessamine"]
[null,null,null,"Johnson"]
[null,null,null,"Kenton"]
[null,null,null,"Knott"]
[null,null,null,"Knox"]
[null,null,null,"Larue"]
[null,null,null,"Laurel"]
[null,null,null,"Lawrence"]
[null,null,null,"Lee"]
[null,null,null,"Leslie"]
[null,null,null,"Letcher"]
[null,null,null,"Lewis"]
[null,null,null,"Lincoln"]
[null,null,null,"Livingston"]
[null,null,null,"Logan"]
[null,null,null,"Lyon"]
[null,null,null,"McCracken"]
[null,null,null,"McCreary"]
[null,null,null,"McLean"]
[null,null,null,"Madison"]
[null,null,null,"Magoffin"]
[null,null,null,"Marion"]
[null,null,null,"Marshall"]
[null,null,null,"Martin"]
[null,null,null,"Mason"]
[null,null,null,"Meade"]
[null,null,null,"Menifee"]
[null,null,null,"Mercer"]
[null,null,null,"Metcalfe"]
[null,null,null,"Monroe"]
[null,null,null,"Montgomery"]
[null,null,null,"Morgan"]
[null,null,null,"Muhlenberg"]
[null,null,null,"Nelson"]
[null,null,null,"Nicholas"]
[null,null,null,"Ohio"]
[null,null,null,"Oldham"]
[null,null,null,"Owen"]
[null,null,null,"Owsley"]
[null,null,null,"Pendleton"]
[null,null,null,"Perry"]
[null,null,null,"Pike"]
[null,null,null,"Powell"]
[null,null,null,"Pulaski"]
[null,null,null,"Robertson"]
[null,null,null,"Rockcastle"]
[null,null,null,"Rowan"]
[null,null,null,"Russell"]
[null,null,null,"Scott"]
[null,null,null,"Shelby"]
[null,null,null,"Simpson"]
[null,null,null,"Spencer"]
[null,null,null,"Taylor"]
[null,null,null,"Todd"]
[null,null,null,"Trigg"]
[null,null,null,"Trimble"]
[null,null,null,"Union"]
[null,null,null,"Warren"]
[null,null,null,"Washington"]
[null,null,null,"Wayne"]
[null,null,null,"Webster"]
[null,null,null,"Whitley"]
[null,null,null,"Wolfe"]
[null,null,null,"Woodford"]

{"sheet":"Full Report","index":4,"n_rows":234,"n_cols":40,"rows_kept":234,"cut":false,"hidden":false,"merged":[[7,33,7,37],[6,31,6,32],[6,33,6,37],[7,1,7,2],[7,3,7,4],[7,7,7,12],[7,13,7,16],[7,20,7,23],[7,25,7,28],[7,29,7,30],[7,31,7,32],[5,29,5,30],[5,31,5,32],[5,33,5,37],[6,1,6,2],[6,3,6,4],[6,7,6,12],[6,13,6,16],[6,20,6,23],[6,25,6,28],[6,29,6,30],[5,1,5,2],[5,3,5,4],[5,7,5,12],[5,13,5,16],[5,20,5,23],[5,25,5,28],[3,33,3,37],[4,1,4,2],[4,3,4,4],[4,7,4,12],[4,13,4,16],[4,20,4,23],[4,25,4,28],[4,29,4,30],[4,31,4,32],[4,33,4,37],[2,31,2,32],[2,33,2,37],[3,1,3,2],[3,3,3,4],[3,7,3,12],[3,13,3,16],[3,20,3,23],[3,25,3,28],[3,29,3,30],[3,31,3,32],[2,1,2,2],[2,3,2,4],[2,7,2,16],[2,20,2,23],[2,25,2,28],[2,29,2,30]]}
[]
[]
[null,"Project Name",null," ",null,null,null,"Employee Name",null,null,null,null,null,null,null,null,null,null,null,"Total Yellow Gal.",{"$f":"SUMIF(A10:A200,\"X\",Q10:Q200)","v":0},null,null,null,null,null,null,null,null,null,null,null,null,"Miles",null,null,null,null,null," "]
[null,"Date",null,{"$f":"Sheet2!A3","v":"2019-06-14"},null,null,null,{"$f":"Sheet2!AR3","v":"Null_"},null,null,null,null,null,{"$f":"Sheet2!AW3","v":"Null_"},null,null,null,null,null,"Total White Gal.",{"$f":"SUMIF(A10:A200,\"X\",R10:R200)","v":93.156700000000001},null,null,null,null,null,null,null,null,null,null,"Days Total CL",null,{"$f":"SUMIF(F10:F234,\"CL\",P10:P234)","v":0},null,null,null,null,null,{"$f":"SUMIF(F10:F89,\"CL\",N10:N89)","v":0}]
[null,"Start Time",null,{"$f":"Sheet2!B2","v":"6:16:00 PM*"},null,null,null,{"$f":"Sheet2!AS3","v":"Null_"},null,null,null,null,null,{"$f":"Sheet2!AX3","v":"Null_"},null,null,null,null,null,"Total Bead 1",{"$f":"SUMIF(A10:A200,\"X\",U10:U200)","v":540},null,null,null,null,null,null,null,null,null,null,"Days Total EL",null,{"$f":"SUMIF(F10:F234,\"EL\",P10:P234)","v":0},null,null,null,null,null,{"$f":"SUMIF(F10:F90,\"LL\",O10:O89)","v":0}]
[null,"Finish Time",null,{"$f":"INDEX(Sheet2!B2:B100,COUNT(Sheet2!M2:M100))","v":"11:20:58 PM*"},null,null,null,{"$f":"Sheet2!AT3","v":"Null_"},null,null,null,null,null,{"$f":"Sheet2!AY3","v":"Null_"},null,null,null,null,null,"Total Bead 2",{"$f":"SUMIF(A10:A200,\"X\",V10:V200)","v":0},null,null,null,null,null,null,null,null,null,null,"Days Total WEL",null,{"$f":"SUMIF(F10:F234,\"WEL\",P10:P234)","v":0},null,null,null,null,null,{"$f":"SUMIF(F10:F89,\"WEL\",O10:O89)","v":0}]
[null,"Total Hours",null,{"$f":"IF(Sheet2!A2=INDEX(Sheet2!A2:A500,COUNT(Sheet2!A2:A500)),D6-D5,(1-Sheet2!B2+(INDEX(Sheet2!B2:B500,COUNT(Sheet2!A2:A500)))))","v":{"$error":"#VALUE!"}},null,null,null,{"$f":"Sheet2!AU3","v":"Null_"},null,null,null,null,null,{"$f":"Sheet2!AZ3","v":"Null_"},null,null,null,null,null,"Total FT Yellow",{"$f":"SUMIF(A10:A200,\"X\",N10:N200)","v":0},null,null,null,null,null,null,null,null,null,null,"Days Total Yel",null,{"$f":"SUMIF(F10:F234,\"Yel\",P10:P234)","v":0},null,null,null,null,null,{"$f":"SUMIF(F10:F89,\"YEL\",N10:N89)","v":0}]
[null,null,null,null,null,null,null,{"$f":"Sheet2!AV2","v":"Null_"},null,null,null,null,null,{"$f":"Sheet2!BA3","v":"_"},null,null,null,null,null,"Total FT White",{"$f":"SUMIF(A10:A200,\"X\",O10:O200)","v":28658},null,null,null,null,"Bead Avg. LBS/Gal",null,null,null,{"$f":"IF((U3+U4)>0,SUM(U5+U6)/SUM(U3+U4),0)","v":5.7966845111516401},null,"Days Total CHAN",null,{"$f":"SUMIF(F10:F234,\"CHAN\",P10:P234)","v":0},null,null,null,null,null,{"$f":"SUMIF(F10:F89,\"CHAN\",O10:O89)","v":0}]
["Total Indicator \"X\"","County","Route # /Name","Direction","Start Time","Marking Type","Start & End Hwy Mark","Road Length  (FT)","Road Length  (MI)","Road Length (MI) w/ X","Line Width","Yellow Avg Mils","White Avg Mils","Lineal Ft Painted Yellow","Lineal Ft Painted White","Miles Painted MP","Yellow Gals Used","White Gals Used","Catalyst Gals Used","Gal Painted/Mile","Bead 1 Lbs Used","Bead 2 Lbs Used","Bead 3 Lbs Used","Total Beads Avg Lbs./ Gal","Avg MPH","Yellow Temp","White Temp","Black Temp","Air Temp","Road Surface Temp","Pump 1 Stroke/Gallon","Pump 2 Stroke/ Gallon","Paint 1 Batch #","Paint 2 Batch #","Paint 3 Batch #","Paint 4 Batch #","Bead 1 Batch #","Bead 2 Batch #","Bead 3 Batch #"]
["x",{"$f":"Sheet2!I3","v":"jefferson"},{"$f":"Sheet2!J3","v":913},{"$f":"Sheet2!C3","v":"North "},{"$f":"Sheet2!B3","v":"8:40:25 PM*"},{"$f":"Sheet2!K3","v":"_WEL"},{"$f":"Sheet2!L3","v":"1.5-1.8"},{"$f":"Sheet2!AK3","v":0},{"$f":"H10/5280","v":0},{"$f":"IF(A10=\"X\",I10,0)","v":0},{"$f":"Sheet2!BC3","v":4},{"$f":"Sheet2!M3","v":0},{"$f":"Sheet2!N3","v":20.358899999999998},{"$f":"Sheet2!V3","v":0},{"$f":"Sheet2!W3","v":759},{"$f":"(N10+O10)/5280","v":0.14374999999999999},{"$f":"Sheet2!S3","v":0},{"$f":"Sheet2!T3","v":3.2122999999999999},{"$f":"SUM(#REF!)/3","v":{"$error":"#REF!"}},{"$f":"IF(P10<>0,(Q10+R10)/P10,0)","v":22.346434782608696},{"$f":"Sheet2!AF3","v":2},{"$f":"Sheet2!AG3","v":0},{"$f":"Sheet2!AH3","v":0},{"$f":"Sheet2!AI3","v":14.631259999999999},{"$f":"Sheet2!H3","v":0},{"$f":"Sheet2!Y3","v":0},{"$f":"Sheet2!Z3","v":0},{"$f":"Sheet2!AA3","v":0},{"$f":"Sheet2!AD3","v":0},{"$f":"Sheet2!AC3","v":0},{"$f":"Sheet2!BI3","v":0.24759999999999999},{"$f":"Sheet2!BH3","v":0.24709999999999999},{"$f":"Sheet2!AL3","v":"kp1904w0137"},{"$f":"Sheet2!AM3","v":"0_"},{"$f":"Sheet2!AN3","v":"_"},{"$f":"Sheet2!AO3","v":"NaN NaN NaN NaN"},{"$f":"Sheet2!AP3","v":122818},{"$f":"Sheet2!AQ3","v":10119},{"$f":"Sheet2!BB3","v":0}]
["x",{"$f":"Sheet2!I4","v":"jefferson"},{"$f":"Sheet2!J4","v":"1819rs"},{"$f":"Sheet2!C4","v":"North "},{"$f":"Sheet2!B4","v":"8:55:08 PM*"},{"$f":"Sheet2!K4","v":"_WEL"},{"$f":"Sheet2!L4","v":"12.8-13.6"},{"$f":"Sheet2!AK4","v":0},0,0,{"$f":"Sheet2!BC4","v":4},{"$f":"Sheet2!M4","v":0},{"$f":"Sheet2!N4","v":15.991759999999999},{"$f":"Sheet2!V4","v":0},{"$f":"Sheet2!W4","v":3792},{"$f":"(N11+O11)/5280","v":0.71818181818181814},{"$f":"Sheet2!S4","v":0},{"$f":"Sheet2!T4","v":12.6021},{"$f":"SUM(#REF!)/3","v":{"$error":"#REF!"}},{"$f":"IF(P11<>0,(Q11+R11)/P11,0)","v":17.547227848101265},{"$f":"Sheet2!AF4","v":61},{"$f":"Sheet2!AG4","v":0},{"$f":"Sheet2!AH4","v":0},{"$f":"Sheet2!AI4","v":5.7926849999999996},{"$f":"Sheet2!H4","v":0},{"$f":"Sheet2!Y4","v":0},{"$f":"Sheet2!Z4","v":0},{"$f":"Sheet2!AA4","v":0},{"$f":"Sheet2!AD4","v":0},{"$f":"Sheet2!AC4","v":0},{"$f":"Sheet2!BI4","v":0.24759999999999999},{"$f":"Sheet2!BH4","v":0.24709999999999999},{"$f":"Sheet2!AL4","v":"kp1904w0137"},{"$f":"Sheet2!AM4","v":"0_"},{"$f":"Sheet2!AN4","v":"_"},{"$f":"Sheet2!AO4","v":"NaN NaN NaN NaN"},{"$f":"Sheet2!AP4","v":122818},{"$f":"Sheet2!AQ4","v":10119},{"$f":"Sheet2!BB4","v":0}]
["x",{"$f":"Sheet2!I5","v":"jefferson"},{"$f":"Sheet2!J5","v":"1819rs"},{"$f":"Sheet2!C5","v":"South"},{"$f":"Sheet2!B5","v":"9:01:58 PM*"},{"$f":"Sheet2!K5","v":"_WEL"},{"$f":"Sheet2!L5","v":"13.6-12.8"},{"$f":"Sheet2!AK5","v":4485},0.84943181818181823,0.84943181818181823,{"$f":"Sheet2!BC5","v":4},{"$f":"Sheet2!M5","v":0},{"$f":"Sheet2!N5","v":15.71594},{"$f":"Sheet2!V5","v":0},{"$f":"Sheet2!W5","v":4010},0.75946969696969702,{"$f":"Sheet2!S5","v":0},{"$f":"Sheet2!T5","v":13.096299999999999},{"$f":"SUM(#REF!)/3","v":{"$error":"#REF!"}},17.244005985037404,{"$f":"Sheet2!AF5","v":56},{"$f":"Sheet2!AG5","v":0},{"$f":"Sheet2!AH5","v":0},{"$f":"Sheet2!AI5","v":3.8178719999999999},{"$f":"Sheet2!H5","v":10},{"$f":"Sheet2!Y5","v":36},{"$f":"Sheet2!Z5","v":95},{"$f":"Sheet2!AA5","v":92},{"$f":"Sheet2!AD5","v":92},{"$f":"Sheet2!AC5","v":84},{"$f":"Sheet2!BI5","v":0.24759999999999999},{"$f":"Sheet2!BH5","v":0.24709999999999999},{"$f":"Sheet2!AL5","v":"kp1904w0137"},{"$f":"Sheet2!AM5","v":"0_"},{"$f":"Sheet2!AN5","v":"_"},{"$f":"Sheet2!AO5","v":"NaN NaN NaN NaN"},{"$f":"Sheet2!AP5","v":122818},{"$f":"Sheet2!AQ5","v":10119},{"$f":"Sheet2!BB5","v":0}]
[null,{"$f":"Sheet2!I6","v":"jefferson"},{"$f":"Sheet2!J6","v":2050},{"$f":"Sheet2!C6","v":"North "},{"$f":"Sheet2!B6","v":"9:30:41 PM*"},{"$f":"Sheet2!K6","v":"_WEL"},{"$f":"Sheet2!L6","v":"0-2.1"},{"$f":"Sheet2!AK6","v":5241},0.99261363636363631,0,{"$f":"Sheet2!BC6","v":4},{"$f":"Sheet2!M6","v":0},{"$f":"Sheet2!N6","v":15.774839999999999},{"$f":"Sheet2!V6","v":0},{"$f":"Sheet2!W6","v":4221},0.79943181818181819,{"$f":"Sheet2!S6","v":0},{"$f":"Sheet2!T6","v":13.8376},{"$f":"SUM(#REF!)/3","v":{"$error":"#REF!"}},17.309293532338309,{"$f":"Sheet2!AF6","v":107},{"$f":"Sheet2!AG6","v":0},{"$f":"Sheet2!AH6","v":0},{"$f":"Sheet2!AI6","v":8.0938890000000008},{"$f":"Sheet2!H6","v":8},{"$f":"Sheet2!Y6","v":36},{"$f":"Sheet2!Z6","v":94},{"$f":"Sheet2!AA6","v":91},{"$f":"Sheet2!AD6","v":91},{"$f":"Sheet2!AC6","v":82},{"$f":"Sheet2!BI6","v":0.24759999999999999},{"$f":"Sheet2!BH6","v":0.24709999999999999},{"$f":"Sheet2!AL6","v":"kp1904w0137"},{"$f":"Sheet2!AM6","v":"0_"},{"$f":"Sheet2!AN6","v":"_"},{"$f":"Sheet2!AO6","v":"NaN NaN NaN NaN"},{"$f":"Sheet2!AP6","v":122818},{"$f":"Sheet2!AQ6","v":10119},{"$f":"Sheet2!BB6","v":0}]
[null,{"$f":"Sheet2!I7","v":"jefferson"},{"$f":"Sheet2!J7","v":2050},{"$f":"Sheet2!C7","v":"North "},{"$f":"Sheet2!B7","v":"9:38:16 PM*"},{"$f":"Sheet2!K7","v":"_WEL"},{"$f":"Sheet2!L7","v":"0-2.1"},{"$f":"Sheet2!AK7","v":10521},1.9926136363636364,0,{"$f":"Sheet2!BC7","v":4},{"$f":"Sheet2!M7","v":0},{"$f":"Sheet2!N7","v":15.422510000000001},{"$f":"Sheet2!V7","v":0},{"$f":"Sheet2!W7","v":8327},1.5770833333333334,{"$f":"Sheet2!S7","v":0},{"$f":"Sheet2!T7","v":26.686800000000002},{"$f":"SUM(#REF!)/3","v":{"$error":"#REF!"}},16.921616908850726,{"$f":"Sheet2!AF7","v":172},{"$f":"Sheet2!AG7","v":0},{"$f":"Sheet2!AH7","v":0},{"$f":"Sheet2!AI7","v":7.0917890000000003},{"$f":"Sheet2!H7","v":10},{"$f":"Sheet2!Y7","v":36},{"$f":"Sheet2!Z7","v":96},{"$f":"Sheet2!AA7","v":93},{"$f":"Sheet2!AD7","v":93},{"$f":"Sheet2!AC7","v":81},{"$f":"Sheet2!BI7","v":0.24759999999999999},{"$f":"Sheet2!BH7","v":0.24709999999999999},{"$f":"Sheet2!AL7","v":"kp1904w0137"},{"$f":"Sheet2!AM7","v":"0_"},{"$f":"Sheet2!AN7","v":"_"},{"$f":"Sheet2!AO7","v":"NaN NaN NaN NaN"},{"$f":"Sheet2!AP7","v":122818},{"$f":"Sheet2!AQ7","v":10119},{"$f":"Sheet2!BB7","v":0}]
["x",{"$f":"Sheet2!I8","v":"jefferson"},{"$f":"Sheet2!J8","v":2050},{"$f":"Sheet2!C8","v":"North "},{"$f":"Sheet2!B8","v":"9:40:32 PM*"},{"$f":"Sheet2!K8","v":"_WEL"},{"$f":"Sheet2!L8","v":"0-2.1"},{"$f":"Sheet2!AK8","v":12121},2.2956439393939392,2.2956439393939392,{"$f":"Sheet2!BC8","v":4},{"$f":"Sheet2!M8","v":0},{"$f":"Sheet2!N8","v":15.40302},{"$f":"Sheet2!V8","v":0},{"$f":"Sheet2!W8","v":9495},1.7982954545454546,{"$f":"Sheet2!S8","v":0},{"$f":"Sheet2!T8","v":30.3933},{"$f":"SUM(#REF!)/3","v":{"$error":"#REF!"}},16.901171563981041,{"$f":"Sheet2!AF8","v":203},{"$f":"Sheet2!AG8","v":0},{"$f":"Sheet2!AH8","v":0},{"$f":"Sheet2!AI8","v":7.2055350000000002},{"$f":"Sheet2!H8","v":8},{"$f":"Sheet2!Y8","v":36},{"$f":"Sheet2!Z8","v":98},{"$f":"Sheet2!AA8","v":94},{"$f":"Sheet2!AD8","v":94},{"$f":"Sheet2!AC8","v":82},{"$f":"Sheet2!BI8","v":0.24759999999999999},{"$f":"Sheet2!BH8","v":0.24709999999999999},{"$f":"Sheet2!AL8","v":"kp1904w0137"},{"$f":"Sheet2!AM8","v":"0_"},{"$f":"Sheet2!AN8","v":"_"},{"$f":"Sheet2!AO8","v":"NaN NaN NaN NaN"},{"$f":"Sheet2!AP8","v":122818},{"$f":"Sheet2!AQ8","v":10119},{"$f":"Sheet2!BB8","v":0}]
[null,{"$f":"Sheet2!I9","v":"jefferson"},{"$f":"Sheet2!J9","v":2050},{"$f":"Sheet2!C9","v":"South"},{"$f":"Sheet2!B9","v":"9:50:54 PM*"},{"$f":"Sheet2!K9","v":"_WEL"},{"$f":"Sheet2!L9","v":"2.1-0"},{"$f":"Sheet2!AK9","v":5264},0.99696969696969695,0,{"$f":"Sheet2!BC9","v":4},{"$f":"Sheet2!M9","v":0},{"$f":"Sheet2!N9","v":15.444470000000001},{"$f":"Sheet2!V9","v":0},{"$f":"Sheet2!W9","v":4927},0.93314393939393936,{"$f":"Sheet2!S9","v":0},{"$f":"Sheet2!T9","v":15.814399999999999},{"$f":"SUM(#REF!)/3","v":{"$error":"#REF!"}},16.947439009539274,{"$f":"Sheet2!AF9","v":156},{"$f":"Sheet2!AG9","v":0},{"$f":"Sheet2!AH9","v":0},{"$f":"Sheet2!AI9","v":5.8382149999999999},{"$f":"Sheet2!H9","v":9},{"$f":"Sheet2!Y9","v":36},{"$f":"Sheet2!Z9","v":97},{"$f":"Sheet2!AA9","v":93},{"$f":"Sheet2!AD9","v":93},{"$f":"Sheet2!AC9","v":80},{"$f":"Sheet2!BI9","v":0.24759999999999999},{"$f":"Sheet2!BH9","v":0.24709999999999999},{"$f":"Sheet2!AL9","v":"kp1904w0137"},{"$f":"Sheet2!AM9","v":"0_"},{"$f":"Sheet2!AN9","v":"_"},{"$f":"Sheet2!AO9","v":"NaN NaN NaN NaN"},{"$f":"Sheet2!AP9","v":122818},{"$f":"Sheet2!AQ9","v":10119},{"$f":"Sheet2!BB9","v":0}]
[null,{"$f":"Sheet2!I10","v":"jefferson"},{"$f":"Sheet2!J10","v":2050},{"$f":"Sheet2!C10","v":"South"},{"$f":"Sheet2!B10","v":"9:57:05 PM*"},{"$f":"Sheet2!K10","v":"_WEL"},{"$f":"Sheet2!L10","v":"2.1-0"},{"$f":"Sheet2!AK10","v":10552},1.9984848484848485,0,{"$f":"Sheet2!BC10","v":4},{"$f":"Sheet2!M10","v":0},{"$f":"Sheet2!N10","v":15.240869999999999},{"$f":"Sheet2!V10","v":0},{"$f":"Sheet2!W10","v":8660},1.6401515151515151,{"$f":"Sheet2!S10","v":0},{"$f":"Sheet2!T10","v":27.428100000000001},{"$f":"SUM(#REF!)/3","v":{"$error":"#REF!"}},16.722906235565819,{"$f":"Sheet2!AF10","v":173},{"$f":"Sheet2!AG10","v":0},{"$f":"Sheet2!AH10","v":0},{"$f":"Sheet2!AI10","v":7.1570960000000001},{"$f":"Sheet2!H10","v":10},{"$f":"Sheet2!Y10","v":36},{"$f":"Sheet2!Z10","v":98},{"$f":"Sheet2!AA10","v":93},{"$f":"Sheet2!AD10","v":93},{"$f":"Sheet2!AC10","v":80},{"$f":"Sheet2!BI10","v":0.24759999999999999},{"$f":"Sheet2!BH10","v":0.24709999999999999},{"$f":"Sheet2!AL10","v":"kp1904w0137"},{"$f":"Sheet2!AM10","v":"0_"},{"$f":"Sheet2!AN10","v":"_"},{"$f":"Sheet2!AO10","v":"NaN NaN NaN NaN"},{"$f":"Sheet2!AP10","v":122818},{"$f":"Sheet2!AQ10","v":10119},{"$f":"Sheet2!BB10","v":0}]
["x",{"$f":"Sheet2!I11","v":"jefferson"},{"$f":"Sheet2!J11","v":2050},{"$f":"Sheet2!C11","v":"South"},{"$f":"Sheet2!B11","v":"11:20:58 PM*"},{"$f":"Sheet2!K11","v":"_WEL"},{"$f":"Sheet2!L11","v":"2.1-0"},{"$f":"Sheet2!AK11","v":11639},2.2043560606060608,2.2043560606060608,{"$f":"Sheet2!BC11","v":4},{"$f":"Sheet2!M11","v":0},{"$f":"Sheet2!N11","v":15.364459999999999},{"$f":"Sheet2!V11","v":0},{"$f":"Sheet2!W11","v":10602},2.0079545454545453,{"$f":"Sheet2!S11","v":0},{"$f":"Sheet2!T11","v":33.852699999999999},{"$f":"SUM(#REF!)/3","v":{"$error":"#REF!"}},16.85929598189021,{"$f":"Sheet2!AF11","v":218},{"$f":"Sheet2!AG11","v":0},{"$f":"Sheet2!AH11","v":0},{"$f":"Sheet2!AI11","v":6.5282830000000001},{"$f":"Sheet2!H11","v":10},{"$f":"Sheet2!Y11","v":36},{"$f":"Sheet2!Z11","v":96},{"$f":"Sheet2!AA11","v":93},{"$f":"Sheet2!AD11","v":93},{"$f":"Sheet2!AC11","v":82},{"$f":"Sheet2!BI11","v":0.24759999999999999},{"$f":"Sheet2!BH11","v":0.24709999999999999},{"$f":"Sheet2!AL11","v":"kp1904w0137"},{"$f":"Sheet2!AM11","v":"0_"},{"$f":"Sheet2!AN11","v":"_"},{"$f":"Sheet2!AO11","v":"NaN NaN NaN NaN"},{"$f":"Sheet2!AP11","v":122818},{"$f":"Sheet2!AQ11","v":10119},{"$f":"Sheet2!BB11","v":0}]
[null,{"$f":"Sheet2!I12","v":0},{"$f":"Sheet2!J12","v":0},{"$f":"Sheet2!C12","v":0},{"$f":"Sheet2!B12","v":"00:00:00"},{"$f":"Sheet2!K12","v":0},{"$f":"Sheet2!L12","v":0},{"$f":"Sheet2!AK12","v":0},0,0,{"$f":"Sheet2!BC12","v":0},{"$f":"Sheet2!M12","v":0},{"$f":"Sheet2!N12","v":0},{"$f":"Sheet2!V12","v":0},{"$f":"Sheet2!W12","v":0},0,{"$f":"Sheet2!S12","v":0},{"$f":"Sheet2!T12","v":0},{"$f":"SUM(#REF!)/3","v":{"$error":"#REF!"}},0,{"$f":"Sheet2!AF12","v":0},{"$f":"Sheet2!AG12","v":0},{"$f":"Sheet2!AH12","v":0},{"$f":"Sheet2!AI12","v":0},{"$f":"Sheet2!H12","v":0},{"$f":"Sheet2!Y12","v":0},{"$f":"Sheet2!Z12","v":0},{"$f":"Sheet2!AA12","v":0},{"$f":"Sheet2!AD12","v":0},{"$f":"Sheet2!AC12","v":0},{"$f":"Sheet2!BI12","v":0},{"$f":"Sheet2!BH12","v":0},{"$f":"Sheet2!AL12","v":0},{"$f":"Sheet2!AM12","v":0},{"$f":"Sheet2!AN12","v":0},{"$f":"Sheet2!AO12","v":0},{"$f":"Sheet2!AP12","v":0},{"$f":"Sheet2!AQ12","v":0},{"$f":"Sheet2!BB12","v":0}]
[null,{"$f":"Sheet2!I13","v":0},{"$f":"Sheet2!J13","v":0},{"$f":"Sheet2!C13","v":0},{"$f":"Sheet2!B13","v":"00:00:00"},{"$f":"Sheet2!K13","v":0},{"$f":"Sheet2!L13","v":0},{"$f":"Sheet2!AK13","v":0},0,0,{"$f":"Sheet2!BC13","v":0},{"$f":"Sheet2!M13","v":0},{"$f":"Sheet2!N13","v":0},{"$f":"Sheet2!V13","v":0},{"$f":"Sheet2!W13","v":0},0,{"$f":"Sheet2!S13","v":0},{"$f":"Sheet2!T13","v":0},{"$f":"SUM(#REF!)/3","v":{"$error":"#REF!"}},0,{"$f":"Sheet2!AF13","v":0},{"$f":"Sheet2!AG13","v":0},{"$f":"Sheet2!AH13","v":0},{"$f":"Sheet2!AI13","v":0},{"$f":"Sheet2!H13","v":0},{"$f":"Sheet2!Y13","v":0},{"$f":"Sheet2!Z13","v":0},{"$f":"Sheet2!AA13","v":0},{"$f":"Sheet2!AD13","v":0},{"$f":"Sheet2!AC13","v":0},{"$f":"Sheet2!BI13","v":0},{"$f":"Sheet2!BH13","v":0},{"$f":"Sheet2!AL13","v":0},{"$f":"Sheet2!AM13","v":0},{"$f":"Sheet2!AN13","v":0},{"$f":"Sheet2!AO13","v":0},{"$f":"Sheet2!AP13","v":0},{"$f":"Sheet2!AQ13","v":0},{"$f":"Sheet2!BB13","v":0}]
[null,{"$f":"Sheet2!I14","v":0},{"$f":"Sheet2!J14","v":0},{"$f":"Sheet2!C14","v":0},{"$f":"Sheet2!B14","v":"00:00:00"},{"$f":"Sheet2!K14","v":0},{"$f":"Sheet2!L14","v":0},{"$f":"Sheet2!AK14","v":0},0,0,{"$f":"Sheet2!BC14","v":0},{"$f":"Sheet2!M14","v":0},{"$f":"Sheet2!N14","v":0},{"$f":"Sheet2!V14","v":0},{"$f":"Sheet2!W14","v":0},0,{"$f":"Sheet2!S14","v":0},{"$f":"Sheet2!T14","v":0},{"$f":"SUM(#REF!)/3","v":{"$error":"#REF!"}},0,{"$f":"Sheet2!AF14","v":0},{"$f":"Sheet2!AG14","v":0},{"$f":"Sheet2!AH14","v":0},{"$f":"Sheet2!AI14","v":0},{"$f":"Sheet2!H14","v":0},{"$f":"Sheet2!Y14","v":0},{"$f":"Sheet2!Z14","v":0},{"$f":"Sheet2!AA14","v":0},{"$f":"Sheet2!AD14","v":0},{"$f":"Sheet2!AC14","v":0},{"$f":"Sheet2!BI14","v":0},{"$f":"Sheet2!BH14","v":0},{"$f":"Sheet2!AL14","v":0},{"$f":"Sheet2!AM14","v":0},{"$f":"Sheet2!AN14","v":0},{"$f":"Sheet2!AO14","v":0},{"$f":"Sheet2!AP14","v":0},{"$f":"Sheet2!AQ14","v":0},{"$f":"Sheet2!BB14","v":0}]
[null,{"$f":"Sheet2!I15","v":0},{"$f":"Sheet2!J15","v":0},{"$f":"Sheet2!C15","v":0},{"$f":"Sheet2!B15","v":"00:00:00"},{"$f":"Sheet2!K15","v":0},{"$f":"Sheet2!L15","v":0},{"$f":"Sheet2!AK15","v":0},0,0,{"$f":"Sheet2!BC15","v":0},{"$f":"Sheet2!M15","v":0},{"$f":"Sheet2!N15","v":0},{"$f":"Sheet2!V15","v":0},{"$f":"Sheet2!W15","v":0},0,{"$f":"Sheet2!S15","v":0},{"$f":"Sheet2!T15","v":0},{"$f":"SUM(#REF!)/3","v":{"$error":"#REF!"}},0,{"$f":"Sheet2!AF15","v":0},{"$f":"Sheet2!AG15","v":0},{"$f":"Sheet2!AH15","v":0},{"$f":"Sheet2!AI15","v":0},{"$f":"Sheet2!H15","v":0},{"$f":"Sheet2!Y15","v":0},{"$f":"Sheet2!Z15","v":0},{"$f":"Sheet2!AA15","v":0},{"$f":"Sheet2!AD15","v":0},{"$f":"Sheet2!AC15","v":0},{"$f":"Sheet2!BI15","v":0},{"$f":"Sheet2!BH15","v":0},{"$f":"Sheet2!AL15","v":0},{"$f":"Sheet2!AM15","v":0},{"$f":"Sheet2!AN15","v":0},{"$f":"Sheet2!AO15","v":0},{"$f":"Sheet2!AP15","v":0},{"$f":"Sheet2!AQ15","v":0},{"$f":"Sheet2!BB15","v":0}]
[null,{"$f":"Sheet2!I16","v":0},{"$f":"Sheet2!J16","v":0},{"$f":"Sheet2!C16","v":0},{"$f":"Sheet2!B16","v":"00:00:00"},{"$f":"Sheet2!K16","v":0},{"$f":"Sheet2!L16","v":0},{"$f":"Sheet2!AK16","v":0},0,0,{"$f":"Sheet2!BC16","v":0},{"$f":"Sheet2!M16","v":0},{"$f":"Sheet2!N16","v":0},{"$f":"Sheet2!V16","v":0},{"$f":"Sheet2!W16","v":0},0,{"$f":"Sheet2!S16","v":0},{"$f":"Sheet2!T16","v":0},{"$f":"SUM(#REF!)/3","v":{"$error":"#REF!"}},0,{"$f":"Sheet2!AF16","v":0},{"$f":"Sheet2!AG16","v":0},{"$f":"Sheet2!AH16","v":0},{"$f":"Sheet2!AI16","v":0},{"$f":"Sheet2!H16","v":0},{"$f":"Sheet2!Y16","v":0},{"$f":"Sheet2!Z16","v":0},{"$f":"Sheet2!AA16","v":0},{"$f":"Sheet2!AD16","v":0},{"$f":"Sheet2!AC16","v":0},{"$f":"Sheet2!BI16","v":0},{"$f":"Sheet2!BH16","v":0},{"$f":"Sheet2!AL16","v":0},{"$f":"Sheet2!AM16","v":0},{"$f":"Sheet2!AN16","v":0},{"$f":"Sheet2!AO16","v":0},{"$f":"Sheet2!AP16","v":0},{"$f":"Sheet2!AQ16","v":0},{"$f":"Sheet2!BB16","v":0}]
[null,{"$f":"Sheet2!I17","v":0},{"$f":"Sheet2!J17","v":0},{"$f":"Sheet2!C17","v":0},{"$f":"Sheet2!B17","v":"00:00:00"},{"$f":"Sheet2!K17","v":0},{"$f":"Sheet2!L17","v":0},{"$f":"Sheet2!AK17","v":0},0,0,{"$f":"Sheet2!BC17","v":0},{"$f":"Sheet2!M17","v":0},{"$f":"Sheet2!N17","v":0},{"$f":"Sheet2!V17","v":0},{"$f":"Sheet2!W17","v":0},0,{"$f":"Sheet2!S17","v":0},{"$f":"Sheet2!T17","v":0},{"$f":"SUM(#REF!)/3","v":{"$error":"#REF!"}},0,{"$f":"Sheet2!AF17","v":0},{"$f":"Sheet2!AG17","v":0},{"$f":"Sheet2!AH17","v":0},{"$f":"Sheet2!AI17","v":0},{"$f":"Sheet2!H17","v":0},{"$f":"Sheet2!Y17","v":0},{"$f":"Sheet2!Z17","v":0},{"$f":"Sheet2!AA17","v":0},{"$f":"Sheet2!AD17","v":0},{"$f":"Sheet2!AC17","v":0},{"$f":"Sheet2!BI17","v":0},{"$f":"Sheet2!BH17","v":0},{"$f":"Sheet2!AL17","v":0},{"$f":"Sheet2!AM17","v":0},{"$f":"Sheet2!AN17","v":0},{"$f":"Sheet2!AO17","v":0},{"$f":"Sheet2!AP17","v":0},{"$f":"Sheet2!AQ17","v":0},{"$f":"Sheet2!BB17","v":0}]
[null,{"$f":"Sheet2!I18","v":0},{"$f":"Sheet2!J18","v":0},{"$f":"Sheet2!C18","v":0},{"$f":"Sheet2!B18","v":"00:00:00"},{"$f":"Sheet2!K18","v":0},{"$f":"Sheet2!L18","v":0},{"$f":"Sheet2!AK18","v":0},0,0,{"$f":"Sheet2!BC18","v":0},{"$f":"Sheet2!M18","v":0},{"$f":"Sheet2!N18","v":0},{"$f":"Sheet2!V18","v":0},{"$f":"Sheet2!W18","v":0},0,{"$f":"Sheet2!S18","v":0},{"$f":"Sheet2!T18","v":0},{"$f":"SUM(#REF!)/3","v":{"$error":"#REF!"}},0,{"$f":"Sheet2!AF18","v":0},{"$f":"Sheet2!AG18","v":0},{"$f":"Sheet2!AH18","v":0},{"$f":"Sheet2!AI18","v":0},{"$f":"Sheet2!H18","v":0},{"$f":"Sheet2!Y18","v":0},{"$f":"Sheet2!Z18","v":0},{"$f":"Sheet2!AA18","v":0},{"$f":"Sheet2!AD18","v":0},{"$f":"Sheet2!AC18","v":0},{"$f":"Sheet2!BI18","v":0},{"$f":"Sheet2!BH18","v":0},{"$f":"Sheet2!AL18","v":0},{"$f":"Sheet2!AM18","v":0},{"$f":"Sheet2!AN18","v":0},{"$f":"Sheet2!AO18","v":0},{"$f":"Sheet2!AP18","v":0},{"$f":"Sheet2!AQ18","v":0},{"$f":"Sheet2!BB18","v":0}]
[null,{"$f":"Sheet2!I19","v":0},{"$f":"Sheet2!J19","v":0},{"$f":"Sheet2!C19","v":0},{"$f":"Sheet2!B19","v":"00:00:00"},{"$f":"Sheet2!K19","v":0},{"$f":"Sheet2!L19","v":0},{"$f":"Sheet2!AK19","v":0},0,0,{"$f":"Sheet2!BC19","v":0},{"$f":"Sheet2!M19","v":0},{"$f":"Sheet2!N19","v":0},{"$f":"Sheet2!V19","v":0},{"$f":"Sheet2!W19","v":0},0,{"$f":"Sheet2!S19","v":0},{"$f":"Sheet2!T19","v":0},{"$f":"SUM(#REF!)/3","v":{"$error":"#REF!"}},0,{"$f":"Sheet2!AF19","v":0},{"$f":"Sheet2!AG19","v":0},{"$f":"Sheet2!AH19","v":0},{"$f":"Sheet2!AI19","v":0},{"$f":"Sheet2!H19","v":0},{"$f":"Sheet2!Y19","v":0},{"$f":"Sheet2!Z19","v":0},{"$f":"Sheet2!AA19","v":0},{"$f":"Sheet2!AD19","v":0},{"$f":"Sheet2!AC19","v":0},{"$f":"Sheet2!BI19","v":0},{"$f":"Sheet2!BH19","v":0},{"$f":"Sheet2!AL19","v":0},{"$f":"Sheet2!AM19","v":0},{"$f":"Sheet2!AN19","v":0},{"$f":"Sheet2!AO19","v":0},{"$f":"Sheet2!AP19","v":0},{"$f":"Sheet2!AQ19","v":0},{"$f":"Sheet2!BB19","v":0}]
[null,{"$f":"Sheet2!I20","v":0},{"$f":"Sheet2!J20","v":0},{"$f":"Sheet2!C20","v":0},{"$f":"Sheet2!B20","v":"00:00:00"},{"$f":"Sheet2!K20","v":0},{"$f":"Sheet2!L20","v":0},{"$f":"Sheet2!AK20","v":0},0,0,{"$f":"Sheet2!BC20","v":0},{"$f":"Sheet2!M20","v":0},{"$f":"Sheet2!N20","v":0},{"$f":"Sheet2!V20","v":0},{"$f":"Sheet2!W20","v":0},0,{"$f":"Sheet2!S20","v":0},{"$f":"Sheet2!T20","v":0},{"$f":"SUM(#REF!)/3","v":{"$error":"#REF!"}},0,{"$f":"Sheet2!AF20","v":0},{"$f":"Sheet2!AG20","v":0},{"$f":"Sheet2!AH20","v":0},{"$f":"Sheet2!AI20","v":0},{"$f":"Sheet2!H20","v":0},{"$f":"Sheet2!Y20","v":0},{"$f":"Sheet2!Z20","v":0},{"$f":"Sheet2!AA20","v":0},{"$f":"Sheet2!AD20","v":0},{"$f":"Sheet2!AC20","v":0},{"$f":"Sheet2!BI20","v":0},{"$f":"Sheet2!BH20","v":0},{"$f":"Sheet2!AL20","v":0},{"$f":"Sheet2!AM20","v":0},{"$f":"Sheet2!AN20","v":0},{"$f":"Sheet2!AO20","v":0},{"$f":"Sheet2!AP20","v":0},{"$f":"Sheet2!AQ20","v":0},{"$f":"Sheet2!BB20","v":0}]
[null,{"$f":"Sheet2!I21","v":0},{"$f":"Sheet2!J21","v":0},{"$f":"Sheet2!C21","v":0},{"$f":"Sheet2!B21","v":"00:00:00"},{"$f":"Sheet2!K21","v":0},{"$f":"Sheet2!L21","v":0},{"$f":"Sheet2!AK21","v":0},0,0,{"$f":"Sheet2!BC21","v":0},{"$f":"Sheet2!M21","v":0},{"$f":"Sheet2!N21","v":0},{"$f":"Sheet2!V21","v":0},{"$f":"Sheet2!W21","v":0},0,{"$f":"Sheet2!S21","v":0},{"$f":"Sheet2!T21","v":0},{"$f":"SUM(#REF!)/3","v":{"$error":"#REF!"}},0,{"$f":"Sheet2!AF21","v":0},{"$f":"Sheet2!AG21","v":0},{"$f":"Sheet2!AH21","v":0},{"$f":"Sheet2!AI21","v":0},{"$f":"Sheet2!H21","v":0},{"$f":"Sheet2!Y21","v":0},{"$f":"Sheet2!Z21","v":0},{"$f":"Sheet2!AA21","v":0},{"$f":"Sheet2!AD21","v":0},{"$f":"Sheet2!AC21","v":0},{"$f":"Sheet2!BI21","v":0},{"$f":"Sheet2!BH21","v":0},{"$f":"Sheet2!AL21","v":0},{"$f":"Sheet2!AM21","v":0},{"$f":"Sheet2!AN21","v":0},{"$f":"Sheet2!AO21","v":0},{"$f":"Sheet2!AP21","v":0},{"$f":"Sheet2!AQ21","v":0},{"$f":"Sheet2!BB21","v":0}]
[null,{"$f":"Sheet2!I22","v":0},{"$f":"Sheet2!J22","v":0},{"$f":"Sheet2!C22","v":0},{"$f":"Sheet2!B22","v":"00:00:00"},{"$f":"Sheet2!K22","v":0},{"$f":"Sheet2!L22","v":0},{"$f":"Sheet2!AK22","v":0},0,0,{"$f":"Sheet2!BC22","v":0},{"$f":"Sheet2!M22","v":0},{"$f":"Sheet2!N22","v":0},{"$f":"Sheet2!V22","v":0},{"$f":"Sheet2!W22","v":0},0,{"$f":"Sheet2!S22","v":0},{"$f":"Sheet2!T22","v":0},{"$f":"SUM(#REF!)/3","v":{"$error":"#REF!"}},0,{"$f":"Sheet2!AF22","v":0},{"$f":"Sheet2!AG22","v":0},{"$f":"Sheet2!AH22","v":0},{"$f":"Sheet2!AI22","v":0},{"$f":"Sheet2!H22","v":0},{"$f":"Sheet2!Y22","v":0},{"$f":"Sheet2!Z22","v":0},{"$f":"Sheet2!AA22","v":0},{"$f":"Sheet2!AD22","v":0},{"$f":"Sheet2!AC22","v":0},{"$f":"Sheet2!BI22","v":0},{"$f":"Sheet2!BH22","v":0},{"$f":"Sheet2!AL22","v":0},{"$f":"Sheet2!AM22","v":0},{"$f":"Sheet2!AN22","v":0},{"$f":"Sheet2!AO22","v":0},{"$f":"Sheet2!AP22","v":0},{"$f":"Sheet2!AQ22","v":0},{"$f":"Sheet2!BB22","v":0}]
[null,{"$f":"Sheet2!I23","v":0},{"$f":"Sheet2!J23","v":0},{"$f":"Sheet2!C23","v":0},{"$f":"Sheet2!B23","v":"00:00:00"},{"$f":"Sheet2!K23","v":0},{"$f":"Sheet2!L23","v":0},{"$f":"Sheet2!AK23","v":0},0,0,{"$f":"Sheet2!BC23","v":0},{"$f":"Sheet2!M23","v":0},{"$f":"Sheet2!N23","v":0},{"$f":"Sheet2!V23","v":0},{"$f":"Sheet2!W23","v":0},0,{"$f":"Sheet2!S23","v":0},{"$f":"Sheet2!T23","v":0},{"$f":"SUM(#REF!)/3","v":{"$error":"#REF!"}},0,{"$f":"Sheet2!AF23","v":0},{"$f":"Sheet2!AG23","v":0},{"$f":"Sheet2!AH23","v":0},{"$f":"Sheet2!AI23","v":0},{"$f":"Sheet2!H23","v":0},{"$f":"Sheet2!Y23","v":0},{"$f":"Sheet2!Z23","v":0},{"$f":"Sheet2!AA23","v":0},{"$f":"Sheet2!AD23","v":0},{"$f":"Sheet2!AC23","v":0},{"$f":"Sheet2!BI23","v":0},{"$f":"Sheet2!BH23","v":0},{"$f":"Sheet2!AL23","v":0},{"$f":"Sheet2!AM23","v":0},{"$f":"Sheet2!AN23","v":0},{"$f":"Sheet2!AO23","v":0},{"$f":"Sheet2!AP23","v":0},{"$f":"Sheet2!AQ23","v":0},{"$f":"Sheet2!BB23","v":0}]
[null,{"$f":"Sheet2!I24","v":0},{"$f":"Sheet2!J24","v":0},{"$f":"Sheet2!C24","v":0},{"$f":"Sheet2!B24","v":"00:00:00"},{"$f":"Sheet2!K24","v":0},{"$f":"Sheet2!L24","v":0},{"$f":"Sheet2!AK24","v":0},0,0,{"$f":"Sheet2!BC24","v":0},{"$f":"Sheet2!M24","v":0},{"$f":"Sheet2!N24","v":0},{"$f":"Sheet2!V24","v":0},{"$f":"Sheet2!W24","v":0},0,{"$f":"Sheet2!S24","v":0},{"$f":"Sheet2!T24","v":0},{"$f":"SUM(#REF!)/3","v":{"$error":"#REF!"}},0,{"$f":"Sheet2!AF24","v":0},{"$f":"Sheet2!AG24","v":0},{"$f":"Sheet2!AH24","v":0},{"$f":"Sheet2!AI24","v":0},{"$f":"Sheet2!H24","v":0},{"$f":"Sheet2!Y24","v":0},{"$f":"Sheet2!Z24","v":0},{"$f":"Sheet2!AA24","v":0},{"$f":"Sheet2!AD24","v":0},{"$f":"Sheet2!AC24","v":0},{"$f":"Sheet2!BI24","v":0},{"$f":"Sheet2!BH24","v":0},{"$f":"Sheet2!AL24","v":0},{"$f":"Sheet2!AM24","v":0},{"$f":"Sheet2!AN24","v":0},{"$f":"Sheet2!AO24","v":0},{"$f":"Sheet2!AP24","v":0},{"$f":"Sheet2!AQ24","v":0},{"$f":"Sheet2!BB24","v":0}]
[null,{"$f":"Sheet2!I25","v":0},{"$f":"Sheet2!J25","v":0},{"$f":"Sheet2!C25","v":0},{"$f":"Sheet2!B25","v":"00:00:00"},{"$f":"Sheet2!K25","v":0},{"$f":"Sheet2!L25","v":0},{"$f":"Sheet2!AK25","v":0},0,0,{"$f":"Sheet2!BC25","v":0},{"$f":"Sheet2!M25","v":0},{"$f":"Sheet2!N25","v":0},{"$f":"Sheet2!V25","v":0},{"$f":"Sheet2!W25","v":0},0,{"$f":"Sheet2!S25","v":0},{"$f":"Sheet2!T25","v":0},{"$f":"SUM(#REF!)/3","v":{"$error":"#REF!"}},0,{"$f":"Sheet2!AF25","v":0},{"$f":"Sheet2!AG25","v":0},{"$f":"Sheet2!AH25","v":0},{"$f":"Sheet2!AI25","v":0},{"$f":"Sheet2!H25","v":0},{"$f":"Sheet2!Y25","v":0},{"$f":"Sheet2!Z25","v":0},{"$f":"Sheet2!AA25","v":0},{"$f":"Sheet2!AD25","v":0},{"$f":"Sheet2!AC25","v":0},{"$f":"Sheet2!BI25","v":0},{"$f":"Sheet2!BH25","v":0},{"$f":"Sheet2!AL25","v":0},{"$f":"Sheet2!AM25","v":0},{"$f":"Sheet2!AN25","v":0},{"$f":"Sheet2!AO25","v":0},{"$f":"Sheet2!AP25","v":0},{"$f":"Sheet2!AQ25","v":0},{"$f":"Sheet2!BB25","v":0}]
[null,{"$f":"Sheet2!I26","v":0},{"$f":"Sheet2!J26","v":0},{"$f":"Sheet2!C26","v":0},{"$f":"Sheet2!B26","v":"00:00:00"},{"$f":"Sheet2!K26","v":0},{"$f":"Sheet2!L26","v":0},{"$f":"Sheet2!AK26","v":0},0,0,{"$f":"Sheet2!BC26","v":0},{"$f":"Sheet2!M26","v":0},{"$f":"Sheet2!N26","v":0},{"$f":"Sheet2!V26","v":0},{"$f":"Sheet2!W26","v":0},0,{"$f":"Sheet2!S26","v":0},{"$f":"Sheet2!T26","v":0},{"$f":"SUM(#REF!)/3","v":{"$error":"#REF!"}},0,{"$f":"Sheet2!AF26","v":0},{"$f":"Sheet2!AG26","v":0},{"$f":"Sheet2!AH26","v":0},{"$f":"Sheet2!AI26","v":0},{"$f":"Sheet2!H26","v":0},{"$f":"Sheet2!Y26","v":0},{"$f":"Sheet2!Z26","v":0},{"$f":"Sheet2!AA26","v":0},{"$f":"Sheet2!AD26","v":0},{"$f":"Sheet2!AC26","v":0},{"$f":"Sheet2!BI26","v":0},{"$f":"Sheet2!BH26","v":0},{"$f":"Sheet2!AL26","v":0},{"$f":"Sheet2!AM26","v":0},{"$f":"Sheet2!AN26","v":0},{"$f":"Sheet2!AO26","v":0},{"$f":"Sheet2!AP26","v":0},{"$f":"Sheet2!AQ26","v":0},{"$f":"Sheet2!BB26","v":0}]
[null,{"$f":"Sheet2!I27","v":0},{"$f":"Sheet2!J27","v":0},{"$f":"Sheet2!C27","v":0},{"$f":"Sheet2!B27","v":"00:00:00"},{"$f":"Sheet2!K27","v":0},{"$f":"Sheet2!L27","v":0},{"$f":"Sheet2!AK27","v":0},0,0,{"$f":"Sheet2!BC27","v":0},{"$f":"Sheet2!M27","v":0},{"$f":"Sheet2!N27","v":0},{"$f":"Sheet2!V27","v":0},{"$f":"Sheet2!W27","v":0},0,{"$f":"Sheet2!S27","v":0},{"$f":"Sheet2!T27","v":0},{"$f":"SUM(#REF!)/3","v":{"$error":"#REF!"}},0,{"$f":"Sheet2!AF27","v":0},{"$f":"Sheet2!AG27","v":0},{"$f":"Sheet2!AH27","v":0},{"$f":"Sheet2!AI27","v":0},{"$f":"Sheet2!H27","v":0},{"$f":"Sheet2!Y27","v":0},{"$f":"Sheet2!Z27","v":0},{"$f":"Sheet2!AA27","v":0},{"$f":"Sheet2!AD27","v":0},{"$f":"Sheet2!AC27","v":0},{"$f":"Sheet2!BI27","v":0},{"$f":"Sheet2!BH27","v":0},{"$f":"Sheet2!AL27","v":0},{"$f":"Sheet2!AM27","v":0},{"$f":"Sheet2!AN27","v":0},{"$f":"Sheet2!AO27","v":0},{"$f":"Sheet2!AP27","v":0},{"$f":"Sheet2!AQ27","v":0},{"$f":"Sheet2!BB27","v":0}]
[null,{"$f":"Sheet2!I28","v":0},{"$f":"Sheet2!J28","v":0},{"$f":"Sheet2!C28","v":0},{"$f":"Sheet2!B28","v":"00:00:00"},{"$f":"Sheet2!K28","v":0},{"$f":"Sheet2!L28","v":0},{"$f":"Sheet2!AK28","v":0},0,0,{"$f":"Sheet2!BC28","v":0},{"$f":"Sheet2!M28","v":0},{"$f":"Sheet2!N28","v":0},{"$f":"Sheet2!V28","v":0},{"$f":"Sheet2!W28","v":0},0,{"$f":"Sheet2!S28","v":0},{"$f":"Sheet2!T28","v":0},{"$f":"SUM(#REF!)/3","v":{"$error":"#REF!"}},0,{"$f":"Sheet2!AF28","v":0},{"$f":"Sheet2!AG28","v":0},{"$f":"Sheet2!AH28","v":0},{"$f":"Sheet2!AI28","v":0},{"$f":"Sheet2!H28","v":0},{"$f":"Sheet2!Y28","v":0},{"$f":"Sheet2!Z28","v":0},{"$f":"Sheet2!AA28","v":0},{"$f":"Sheet2!AD28","v":0},{"$f":"Sheet2!AC28","v":0},{"$f":"Sheet2!BI28","v":0},{"$f":"Sheet2!BH28","v":0},{"$f":"Sheet2!AL28","v":0},{"$f":"Sheet2!AM28","v":0},{"$f":"Sheet2!AN28","v":0},{"$f":"Sheet2!AO28","v":0},{"$f":"Sheet2!AP28","v":0},{"$f":"Sheet2!AQ28","v":0},{"$f":"Sheet2!BB28","v":0}]
[null,{"$f":"Sheet2!I29","v":0},{"$f":"Sheet2!J29","v":0},{"$f":"Sheet2!C29","v":0},{"$f":"Sheet2!B29","v":"00:00:00"},{"$f":"Sheet2!K29","v":0},{"$f":"Sheet2!L29","v":0},{"$f":"Sheet2!AK29","v":0},0,0,{"$f":"Sheet2!BC29","v":0},{"$f":"Sheet2!M29","v":0},{"$f":"Sheet2!N29","v":0},{"$f":"Sheet2!V29","v":0},{"$f":"Sheet2!W29","v":0},0,{"$f":"Sheet2!S29","v":0},{"$f":"Sheet2!T29","v":0},{"$f":"SUM(#REF!)/3","v":{"$error":"#REF!"}},0,{"$f":"Sheet2!AF29","v":0},{"$f":"Sheet2!AG29","v":0},{"$f":"Sheet2!AH29","v":0},{"$f":"Sheet2!AI29","v":0},{"$f":"Sheet2!H29","v":0},{"$f":"Sheet2!Y29","v":0},{"$f":"Sheet2!Z29","v":0},{"$f":"Sheet2!AA29","v":0},{"$f":"Sheet2!AD29","v":0},{"$f":"Sheet2!AC29","v":0},{"$f":"Sheet2!BI29","v":0},{"$f":"Sheet2!BH29","v":0},{"$f":"Sheet2!AL29","v":0},{"$f":"Sheet2!AM29","v":0},{"$f":"Sheet2!AN29","v":0},{"$f":"Sheet2!AO29","v":0},{"$f":"Sheet2!AP29","v":0},{"$f":"Sheet2!AQ29","v":0},{"$f":"Sheet2!BB29","v":0}]
[null,{"$f":"Sheet2!I30","v":0},{"$f":"Sheet2!J30","v":0},{"$f":"Sheet2!C30","v":0},{"$f":"Sheet2!B30","v":"00:00:00"},{"$f":"Sheet2!K30","v":0},{"$f":"Sheet2!L30","v":0},{"$f":"Sheet2!AK30","v":0},0,0,{"$f":"Sheet2!BC30","v":0},{"$f":"Sheet2!M30","v":0},{"$f":"Sheet2!N30","v":0},{"$f":"Sheet2!V30","v":0},{"$f":"Sheet2!W30","v":0},0,{"$f":"Sheet2!S30","v":0},{"$f":"Sheet2!T30","v":0},{"$f":"SUM(#REF!)/3","v":{"$error":"#REF!"}},0,{"$f":"Sheet2!AF30","v":0},{"$f":"Sheet2!AG30","v":0},{"$f":"Sheet2!AH30","v":0},{"$f":"Sheet2!AI30","v":0},{"$f":"Sheet2!H30","v":0},{"$f":"Sheet2!Y30","v":0},{"$f":"Sheet2!Z30","v":0},{"$f":"Sheet2!AA30","v":0},{"$f":"Sheet2!AD30","v":0},{"$f":"Sheet2!AC30","v":0},{"$f":"Sheet2!BI30","v":0},{"$f":"Sheet2!BH30","v":0},{"$f":"Sheet2!AL30","v":0},{"$f":"Sheet2!AM30","v":0},{"$f":"Sheet2!AN30","v":0},{"$f":"Sheet2!AO30","v":0},{"$f":"Sheet2!AP30","v":0},{"$f":"Sheet2!AQ30","v":0},{"$f":"Sheet2!BB30","v":0}]
[null,{"$f":"Sheet2!I31","v":0},{"$f":"Sheet2!J31","v":0},{"$f":"Sheet2!C31","v":0},{"$f":"Sheet2!B31","v":"00:00:00"},{"$f":"Sheet2!K31","v":0},{"$f":"Sheet2!L31","v":0},{"$f":"Sheet2!AK31","v":0},0,0,{"$f":"Sheet2!BC31","v":0},{"$f":"Sheet2!M31","v":0},{"$f":"Sheet2!N31","v":0},{"$f":"Sheet2!V31","v":0},{"$f":"Sheet2!W31","v":0},0,{"$f":"Sheet2!S31","v":0},{"$f":"Sheet2!T31","v":0},{"$f":"SUM(#REF!)/3","v":{"$error":"#REF!"}},0,{"$f":"Sheet2!AF31","v":0},{"$f":"Sheet2!AG31","v":0},{"$f":"Sheet2!AH31","v":0},{"$f":"Sheet2!AI31","v":0},{"$f":"Sheet2!H31","v":0},{"$f":"Sheet2!Y31","v":0},{"$f":"Sheet2!Z31","v":0},{"$f":"Sheet2!AA31","v":0},{"$f":"Sheet2!AD31","v":0},{"$f":"Sheet2!AC31","v":0},{"$f":"Sheet2!BI31","v":0},{"$f":"Sheet2!BH31","v":0},{"$f":"Sheet2!AL31","v":0},{"$f":"Sheet2!AM31","v":0},{"$f":"Sheet2!AN31","v":0},{"$f":"Sheet2!AO31","v":0},{"$f":"Sheet2!AP31","v":0},{"$f":"Sheet2!AQ31","v":0},{"$f":"Sheet2!BB31","v":0}]
[null,{"$f":"Sheet2!I32","v":0},{"$f":"Sheet2!J32","v":0},{"$f":"Sheet2!C32","v":0},{"$f":"Sheet2!B32","v":"00:00:00"},{"$f":"Sheet2!K32","v":0},{"$f":"Sheet2!L32","v":0},{"$f":"Sheet2!AK32","v":0},0,0,{"$f":"Sheet2!BC32","v":0},{"$f":"Sheet2!M32","v":0},{"$f":"Sheet2!N32","v":0},{"$f":"Sheet2!V32","v":0},{"$f":"Sheet2!W32","v":0},0,{"$f":"Sheet2!S32","v":0},{"$f":"Sheet2!T32","v":0},{"$f":"SUM(#REF!)/3","v":{"$error":"#REF!"}},0,{"$f":"Sheet2!AF32","v":0},{"$f":"Sheet2!AG32","v":0},{"$f":"Sheet2!AH32","v":0},{"$f":"Sheet2!AI32","v":0},{"$f":"Sheet2!H32","v":0},{"$f":"Sheet2!Y32","v":0},{"$f":"Sheet2!Z32","v":0},{"$f":"Sheet2!AA32","v":0},{"$f":"Sheet2!AD32","v":0},{"$f":"Sheet2!AC32","v":0},{"$f":"Sheet2!BI32","v":0},{"$f":"Sheet2!BH32","v":0},{"$f":"Sheet2!AL32","v":0},{"$f":"Sheet2!AM32","v":0},{"$f":"Sheet2!AN32","v":0},{"$f":"Sheet2!AO32","v":0},{"$f":"Sheet2!AP32","v":0},{"$f":"Sheet2!AQ32","v":0},{"$f":"Sheet2!BB32","v":0}]
[null,{"$f":"Sheet2!I33","v":0},{"$f":"Sheet2!J33","v":0},{"$f":"Sheet2!C33","v":0},{"$f":"Sheet2!B33","v":"00:00:00"},{"$f":"Sheet2!K33","v":0},{"$f":"Sheet2!L33","v":0},{"$f":"Sheet2!AK33","v":0},0,0,{"$f":"Sheet2!BC33","v":0},{"$f":"Sheet2!M33","v":0},{"$f":"Sheet2!N33","v":0},{"$f":"Sheet2!V33","v":0},{"$f":"Sheet2!W33","v":0},0,{"$f":"Sheet2!S33","v":0},{"$f":"Sheet2!T33","v":0},{"$f":"SUM(#REF!)/3","v":{"$error":"#REF!"}},0,{"$f":"Sheet2!AF33","v":0},{"$f":"Sheet2!AG33","v":0},{"$f":"Sheet2!AH33","v":0},{"$f":"Sheet2!AI33","v":0},{"$f":"Sheet2!H33","v":0},{"$f":"Sheet2!Y33","v":0},{"$f":"Sheet2!Z33","v":0},{"$f":"Sheet2!AA33","v":0},{"$f":"Sheet2!AD33","v":0},{"$f":"Sheet2!AC33","v":0},{"$f":"Sheet2!BI33","v":0},{"$f":"Sheet2!BH33","v":0},{"$f":"Sheet2!AL33","v":0},{"$f":"Sheet2!AM33","v":0},{"$f":"Sheet2!AN33","v":0},{"$f":"Sheet2!AO33","v":0},{"$f":"Sheet2!AP33","v":0},{"$f":"Sheet2!AQ33","v":0},{"$f":"Sheet2!BB33","v":0}]
[null,{"$f":"Sheet2!I34","v":0},{"$f":"Sheet2!J34","v":0},{"$f":"Sheet2!C34","v":0},{"$f":"Sheet2!B34","v":"00:00:00"},{"$f":"Sheet2!K34","v":0},{"$f":"Sheet2!L34","v":0},{"$f":"Sheet2!AK34","v":0},0,0,{"$f":"Sheet2!BC34","v":0},{"$f":"Sheet2!M34","v":0},{"$f":"Sheet2!N34","v":0},{"$f":"Sheet2!V34","v":0},{"$f":"Sheet2!W34","v":0},0,{"$f":"Sheet2!S34","v":0},{"$f":"Sheet2!T34","v":0},{"$f":"SUM(#REF!)/3","v":{"$error":"#REF!"}},0,{"$f":"Sheet2!AF34","v":0},{"$f":"Sheet2!AG34","v":0},{"$f":"Sheet2!AH34","v":0},{"$f":"Sheet2!AI34","v":0},{"$f":"Sheet2!H34","v":0},{"$f":"Sheet2!Y34","v":0},{"$f":"Sheet2!Z34","v":0},{"$f":"Sheet2!AA34","v":0},{"$f":"Sheet2!AD34","v":0},{"$f":"Sheet2!AC34","v":0},{"$f":"Sheet2!BI34","v":0},{"$f":"Sheet2!BH34","v":0},{"$f":"Sheet2!AL34","v":0},{"$f":"Sheet2!AM34","v":0},{"$f":"Sheet2!AN34","v":0},{"$f":"Sheet2!AO34","v":0},{"$f":"Sheet2!AP34","v":0},{"$f":"Sheet2!AQ34","v":0},{"$f":"Sheet2!BB34","v":0}]
[null,{"$f":"Sheet2!I35","v":0},{"$f":"Sheet2!J35","v":0},{"$f":"Sheet2!C35","v":0},{"$f":"Sheet2!B35","v":"00:00:00"},{"$f":"Sheet2!K35","v":0},{"$f":"Sheet2!L35","v":0},{"$f":"Sheet2!AK35","v":0},0,0,{"$f":"Sheet2!BC35","v":0},{"$f":"Sheet2!M35","v":0},{"$f":"Sheet2!N35","v":0},{"$f":"Sheet2!V35","v":0},{"$f":"Sheet2!W35","v":0},0,{"$f":"Sheet2!S35","v":0},{"$f":"Sheet2!T35","v":0},{"$f":"SUM(#REF!)/3","v":{"$error":"#REF!"}},0,{"$f":"Sheet2!AF35","v":0},{"$f":"Sheet2!AG35","v":0},{"$f":"Sheet2!AH35","v":0},{"$f":"Sheet2!AI35","v":0},{"$f":"Sheet2!H35","v":0},{"$f":"Sheet2!Y35","v":0},{"$f":"Sheet2!Z35","v":0},{"$f":"Sheet2!AA35","v":0},{"$f":"Sheet2!AD35","v":0},{"$f":"Sheet2!AC35","v":0},{"$f":"Sheet2!BI35","v":0},{"$f":"Sheet2!BH35","v":0},{"$f":"Sheet2!AL35","v":0},{"$f":"Sheet2!AM35","v":0},{"$f":"Sheet2!AN35","v":0},{"$f":"Sheet2!AO35","v":0},{"$f":"Sheet2!AP35","v":0},{"$f":"Sheet2!AQ35","v":0},{"$f":"Sheet2!BB35","v":0}]
[null,{"$f":"Sheet2!I36","v":0},{"$f":"Sheet2!J36","v":0},{"$f":"Sheet2!C36","v":0},{"$f":"Sheet2!B36","v":"00:00:00"},{"$f":"Sheet2!K36","v":0},{"$f":"Sheet2!L36","v":0},{"$f":"Sheet2!AK36","v":0},0,0,{"$f":"Sheet2!BC36","v":0},{"$f":"Sheet2!M36","v":0},{"$f":"Sheet2!N36","v":0},{"$f":"Sheet2!V36","v":0},{"$f":"Sheet2!W36","v":0},0,{"$f":"Sheet2!S36","v":0},{"$f":"Sheet2!T36","v":0},{"$f":"SUM(#REF!)/3","v":{"$error":"#REF!"}},0,{"$f":"Sheet2!AF36","v":0},{"$f":"Sheet2!AG36","v":0},{"$f":"Sheet2!AH36","v":0},{"$f":"Sheet2!AI36","v":0},{"$f":"Sheet2!H36","v":0},{"$f":"Sheet2!Y36","v":0},{"$f":"Sheet2!Z36","v":0},{"$f":"Sheet2!AA36","v":0},{"$f":"Sheet2!AD36","v":0},{"$f":"Sheet2!AC36","v":0},{"$f":"Sheet2!BI36","v":0},{"$f":"Sheet2!BH36","v":0},{"$f":"Sheet2!AL36","v":0},{"$f":"Sheet2!AM36","v":0},{"$f":"Sheet2!AN36","v":0},{"$f":"Sheet2!AO36","v":0},{"$f":"Sheet2!AP36","v":0},{"$f":"Sheet2!AQ36","v":0},{"$f":"Sheet2!BB36","v":0}]
[null,{"$f":"Sheet2!I37","v":0},{"$f":"Sheet2!J37","v":0},{"$f":"Sheet2!C37","v":0},{"$f":"Sheet2!B37","v":"00:00:00"},{"$f":"Sheet2!K37","v":0},{"$f":"Sheet2!L37","v":0},{"$f":"Sheet2!AK37","v":0},0,0,{"$f":"Sheet2!BC37","v":0},{"$f":"Sheet2!M37","v":0},{"$f":"Sheet2!N37","v":0},{"$f":"Sheet2!V37","v":0},{"$f":"Sheet2!W37","v":0},0,{"$f":"Sheet2!S37","v":0},{"$f":"Sheet2!T37","v":0},{"$f":"SUM(#REF!)/3","v":{"$error":"#REF!"}},0,{"$f":"Sheet2!AF37","v":0},{"$f":"Sheet2!AG37","v":0},{"$f":"Sheet2!AH37","v":0},{"$f":"Sheet2!AI37","v":0},{"$f":"Sheet2!H37","v":0},{"$f":"Sheet2!Y37","v":0},{"$f":"Sheet2!Z37","v":0},{"$f":"Sheet2!AA37","v":0},{"$f":"Sheet2!AD37","v":0},{"$f":"Sheet2!AC37","v":0},{"$f":"Sheet2!BI37","v":0},{"$f":"Sheet2!BH37","v":0},{"$f":"Sheet2!AL37","v":0},{"$f":"Sheet2!AM37","v":0},{"$f":"Sheet2!AN37","v":0},{"$f":"Sheet2!AO37","v":0},{"$f":"Sheet2!AP37","v":0},{"$f":"Sheet2!AQ37","v":0},{"$f":"Sheet2!BB37","v":0}]
[null,{"$f":"Sheet2!I38","v":0},{"$f":"Sheet2!J38","v":0},{"$f":"Sheet2!C38","v":0},{"$f":"Sheet2!B38","v":"00:00:00"},{"$f":"Sheet2!K38","v":0},{"$f":"Sheet2!L38","v":0},{"$f":"Sheet2!AK38","v":0},0,0,{"$f":"Sheet2!BC38","v":0},{"$f":"Sheet2!M38","v":0},{"$f":"Sheet2!N38","v":0},{"$f":"Sheet2!V38","v":0},{"$f":"Sheet2!W38","v":0},0,{"$f":"Sheet2!S38","v":0},{"$f":"Sheet2!T38","v":0},{"$f":"SUM(#REF!)/3","v":{"$error":"#REF!"}},0,{"$f":"Sheet2!AF38","v":0},{"$f":"Sheet2!AG38","v":0},{"$f":"Sheet2!AH38","v":0},{"$f":"Sheet2!AI38","v":0},{"$f":"Sheet2!H38","v":0},{"$f":"Sheet2!Y38","v":0},{"$f":"Sheet2!Z38","v":0},{"$f":"Sheet2!AA38","v":0},{"$f":"Sheet2!AD38","v":0},{"$f":"Sheet2!AC38","v":0},{"$f":"Sheet2!BI38","v":0},{"$f":"Sheet2!BH38","v":0},{"$f":"Sheet2!AL38","v":0},{"$f":"Sheet2!AM38","v":0},{"$f":"Sheet2!AN38","v":0},{"$f":"Sheet2!AO38","v":0},{"$f":"Sheet2!AP38","v":0},{"$f":"Sheet2!AQ38","v":0},{"$f":"Sheet2!BB38","v":0}]
[null,{"$f":"Sheet2!I39","v":0},{"$f":"Sheet2!J39","v":0},{"$f":"Sheet2!C39","v":0},{"$f":"Sheet2!B39","v":"00:00:00"},{"$f":"Sheet2!K39","v":0},{"$f":"Sheet2!L39","v":0},{"$f":"Sheet2!AK39","v":0},0,0,{"$f":"Sheet2!BC39","v":0},{"$f":"Sheet2!M39","v":0},{"$f":"Sheet2!N39","v":0},{"$f":"Sheet2!V39","v":0},{"$f":"Sheet2!W39","v":0},0,{"$f":"Sheet2!S39","v":0},{"$f":"Sheet2!T39","v":0},{"$f":"SUM(#REF!)/3","v":{"$error":"#REF!"}},0,{"$f":"Sheet2!AF39","v":0},{"$f":"Sheet2!AG39","v":0},{"$f":"Sheet2!AH39","v":0},{"$f":"Sheet2!AI39","v":0},{"$f":"Sheet2!H39","v":0},{"$f":"Sheet2!Y39","v":0},{"$f":"Sheet2!Z39","v":0},{"$f":"Sheet2!AA39","v":0},{"$f":"Sheet2!AD39","v":0},{"$f":"Sheet2!AC39","v":0},{"$f":"Sheet2!BI39","v":0},{"$f":"Sheet2!BH39","v":0},{"$f":"Sheet2!AL39","v":0},{"$f":"Sheet2!AM39","v":0},{"$f":"Sheet2!AN39","v":0},{"$f":"Sheet2!AO39","v":0},{"$f":"Sheet2!AP39","v":0},{"$f":"Sheet2!AQ39","v":0},{"$f":"Sheet2!BB39","v":0}]
[null,{"$f":"Sheet2!I40","v":0},{"$f":"Sheet2!J40","v":0},{"$f":"Sheet2!C40","v":0},{"$f":"Sheet2!B40","v":"00:00:00"},{"$f":"Sheet2!K40","v":0},{"$f":"Sheet2!L40","v":0},{"$f":"Sheet2!AK40","v":0},0,0,{"$f":"Sheet2!BC40","v":0},{"$f":"Sheet2!M40","v":0},{"$f":"Sheet2!N40","v":0},{"$f":"Sheet2!V40","v":0},{"$f":"Sheet2!W40","v":0},0,{"$f":"Sheet2!S40","v":0},{"$f":"Sheet2!T40","v":0},{"$f":"SUM(#REF!)/3","v":{"$error":"#REF!"}},0,{"$f":"Sheet2!AF40","v":0},{"$f":"Sheet2!AG40","v":0},{"$f":"Sheet2!AH40","v":0},{"$f":"Sheet2!AI40","v":0},{"$f":"Sheet2!H40","v":0},{"$f":"Sheet2!Y40","v":0},{"$f":"Sheet2!Z40","v":0},{"$f":"Sheet2!AA40","v":0},{"$f":"Sheet2!AD40","v":0},{"$f":"Sheet2!AC40","v":0},{"$f":"Sheet2!BI40","v":0},{"$f":"Sheet2!BH40","v":0},{"$f":"Sheet2!AL40","v":0},{"$f":"Sheet2!AM40","v":0},{"$f":"Sheet2!AN40","v":0},{"$f":"Sheet2!AO40","v":0},{"$f":"Sheet2!AP40","v":0},{"$f":"Sheet2!AQ40","v":0},{"$f":"Sheet2!BB40","v":0}]
[null,{"$f":"Sheet2!I41","v":0},{"$f":"Sheet2!J41","v":0},{"$f":"Sheet2!C41","v":0},{"$f":"Sheet2!B41","v":"00:00:00"},{"$f":"Sheet2!K41","v":0},{"$f":"Sheet2!L41","v":0},{"$f":"Sheet2!AK41","v":0},0,0,{"$f":"Sheet2!BC41","v":0},{"$f":"Sheet2!M41","v":0},{"$f":"Sheet2!N41","v":0},{"$f":"Sheet2!V41","v":0},{"$f":"Sheet2!W41","v":0},0,{"$f":"Sheet2!S41","v":0},{"$f":"Sheet2!T41","v":0},{"$f":"SUM(#REF!)/3","v":{"$error":"#REF!"}},0,{"$f":"Sheet2!AF41","v":0},{"$f":"Sheet2!AG41","v":0},{"$f":"Sheet2!AH41","v":0},{"$f":"Sheet2!AI41","v":0},{"$f":"Sheet2!H41","v":0},{"$f":"Sheet2!Y41","v":0},{"$f":"Sheet2!Z41","v":0},{"$f":"Sheet2!AA41","v":0},{"$f":"Sheet2!AD41","v":0},{"$f":"Sheet2!AC41","v":0},{"$f":"Sheet2!BI41","v":0},{"$f":"Sheet2!BH41","v":0},{"$f":"Sheet2!AL41","v":0},{"$f":"Sheet2!AM41","v":0},{"$f":"Sheet2!AN41","v":0},{"$f":"Sheet2!AO41","v":0},{"$f":"Sheet2!AP41","v":0},{"$f":"Sheet2!AQ41","v":0},{"$f":"Sheet2!BB41","v":0}]
[null,{"$f":"Sheet2!I42","v":0},{"$f":"Sheet2!J42","v":0},{"$f":"Sheet2!C42","v":0},{"$f":"Sheet2!B42","v":"00:00:00"},{"$f":"Sheet2!K42","v":0},{"$f":"Sheet2!L42","v":0},{"$f":"Sheet2!AK42","v":0},0,0,{"$f":"Sheet2!BC42","v":0},{"$f":"Sheet2!M42","v":0},{"$f":"Sheet2!N42","v":0},{"$f":"Sheet2!V42","v":0},{"$f":"Sheet2!W42","v":0},0,{"$f":"Sheet2!S42","v":0},{"$f":"Sheet2!T42","v":0},{"$f":"SUM(#REF!)/3","v":{"$error":"#REF!"}},0,{"$f":"Sheet2!AF42","v":0},{"$f":"Sheet2!AG42","v":0},{"$f":"Sheet2!AH42","v":0},{"$f":"Sheet2!AI42","v":0},{"$f":"Sheet2!H42","v":0},{"$f":"Sheet2!Y42","v":0},{"$f":"Sheet2!Z42","v":0},{"$f":"Sheet2!AA42","v":0},{"$f":"Sheet2!AD42","v":0},{"$f":"Sheet2!AC42","v":0},{"$f":"Sheet2!BI42","v":0},{"$f":"Sheet2!BH42","v":0},{"$f":"Sheet2!AL42","v":0},{"$f":"Sheet2!AM42","v":0},{"$f":"Sheet2!AN42","v":0},{"$f":"Sheet2!AO42","v":0},{"$f":"Sheet2!AP42","v":0},{"$f":"Sheet2!AQ42","v":0},{"$f":"Sheet2!BB42","v":0}]
[null,{"$f":"Sheet2!I43","v":0},{"$f":"Sheet2!J43","v":0},{"$f":"Sheet2!C43","v":0},{"$f":"Sheet2!B43","v":"00:00:00"},{"$f":"Sheet2!K43","v":0},{"$f":"Sheet2!L43","v":0},{"$f":"Sheet2!AK43","v":0},0,0,{"$f":"Sheet2!BC43","v":0},{"$f":"Sheet2!M43","v":0},{"$f":"Sheet2!N43","v":0},{"$f":"Sheet2!V43","v":0},{"$f":"Sheet2!W43","v":0},0,{"$f":"Sheet2!S43","v":0},{"$f":"Sheet2!T43","v":0},{"$f":"SUM(#REF!)/3","v":{"$error":"#REF!"}},0,{"$f":"Sheet2!AF43","v":0},{"$f":"Sheet2!AG43","v":0},{"$f":"Sheet2!AH43","v":0},{"$f":"Sheet2!AI43","v":0},{"$f":"Sheet2!H43","v":0},{"$f":"Sheet2!Y43","v":0},{"$f":"Sheet2!Z43","v":0},{"$f":"Sheet2!AA43","v":0},{"$f":"Sheet2!AD43","v":0},{"$f":"Sheet2!AC43","v":0},{"$f":"Sheet2!BI43","v":0},{"$f":"Sheet2!BH43","v":0},{"$f":"Sheet2!AL43","v":0},{"$f":"Sheet2!AM43","v":0},{"$f":"Sheet2!AN43","v":0},{"$f":"Sheet2!AO43","v":0},{"$f":"Sheet2!AP43","v":0},{"$f":"Sheet2!AQ43","v":0},{"$f":"Sheet2!BB43","v":0}]
[null,{"$f":"Sheet2!I44","v":0},{"$f":"Sheet2!J44","v":0},{"$f":"Sheet2!C44","v":0},{"$f":"Sheet2!B44","v":"00:00:00"},{"$f":"Sheet2!K44","v":0},{"$f":"Sheet2!L44","v":0},{"$f":"Sheet2!AK44","v":0},0,0,{"$f":"Sheet2!BC44","v":0},{"$f":"Sheet2!M44","v":0},{"$f":"Sheet2!N44","v":0},{"$f":"Sheet2!V44","v":0},{"$f":"Sheet2!W44","v":0},0,{"$f":"Sheet2!S44","v":0},{"$f":"Sheet2!T44","v":0},{"$f":"SUM(#REF!)/3","v":{"$error":"#REF!"}},0,{"$f":"Sheet2!AF44","v":0},{"$f":"Sheet2!AG44","v":0},{"$f":"Sheet2!AH44","v":0},{"$f":"Sheet2!AI44","v":0},{"$f":"Sheet2!H44","v":0},{"$f":"Sheet2!Y44","v":0},{"$f":"Sheet2!Z44","v":0},{"$f":"Sheet2!AA44","v":0},{"$f":"Sheet2!AD44","v":0},{"$f":"Sheet2!AC44","v":0},{"$f":"Sheet2!BI44","v":0},{"$f":"Sheet2!BH44","v":0},{"$f":"Sheet2!AL44","v":0},{"$f":"Sheet2!AM44","v":0},{"$f":"Sheet2!AN44","v":0},{"$f":"Sheet2!AO44","v":0},{"$f":"Sheet2!AP44","v":0},{"$f":"Sheet2!AQ44","v":0},{"$f":"Sheet2!BB44","v":0}]
[null,{"$f":"Sheet2!I45","v":0},{"$f":"Sheet2!J45","v":0},{"$f":"Sheet2!C45","v":0},{"$f":"Sheet2!B45","v":"00:00:00"},{"$f":"Sheet2!K45","v":0},{"$f":"Sheet2!L45","v":0},{"$f":"Sheet2!AK45","v":0},0,0,{"$f":"Sheet2!BC45","v":0},{"$f":"Sheet2!M45","v":0},{"$f":"Sheet2!N45","v":0},{"$f":"Sheet2!V45","v":0},{"$f":"Sheet2!W45","v":0},0,{"$f":"Sheet2!S45","v":0},{"$f":"Sheet2!T45","v":0},{"$f":"SUM(#REF!)/3","v":{"$error":"#REF!"}},0,{"$f":"Sheet2!AF45","v":0},{"$f":"Sheet2!AG45","v":0},{"$f":"Sheet2!AH45","v":0},{"$f":"Sheet2!AI45","v":0},{"$f":"Sheet2!H45","v":0},{"$f":"Sheet2!Y45","v":0},{"$f":"Sheet2!Z45","v":0},{"$f":"Sheet2!AA45","v":0},{"$f":"Sheet2!AD45","v":0},{"$f":"Sheet2!AC45","v":0},{"$f":"Sheet2!BI45","v":0},{"$f":"Sheet2!BH45","v":0},{"$f":"Sheet2!AL45","v":0},{"$f":"Sheet2!AM45","v":0},{"$f":"Sheet2!AN45","v":0},{"$f":"Sheet2!AO45","v":0},{"$f":"Sheet2!AP45","v":0},{"$f":"Sheet2!AQ45","v":0},{"$f":"Sheet2!BB45","v":0}]
[null,{"$f":"Sheet2!I46","v":0},{"$f":"Sheet2!J46","v":0},{"$f":"Sheet2!C46","v":0},{"$f":"Sheet2!B46","v":"00:00:00"},{"$f":"Sheet2!K46","v":0},{"$f":"Sheet2!L46","v":0},{"$f":"Sheet2!AK46","v":0},0,0,{"$f":"Sheet2!BC46","v":0},{"$f":"Sheet2!M46","v":0},{"$f":"Sheet2!N46","v":0},{"$f":"Sheet2!V46","v":0},{"$f":"Sheet2!W46","v":0},0,{"$f":"Sheet2!S46","v":0},{"$f":"Sheet2!T46","v":0},{"$f":"SUM(#REF!)/3","v":{"$error":"#REF!"}},0,{"$f":"Sheet2!AF46","v":0},{"$f":"Sheet2!AG46","v":0},{"$f":"Sheet2!AH46","v":0},{"$f":"Sheet2!AI46","v":0},{"$f":"Sheet2!H46","v":0},{"$f":"Sheet2!Y46","v":0},{"$f":"Sheet2!Z46","v":0},{"$f":"Sheet2!AA46","v":0},{"$f":"Sheet2!AD46","v":0},{"$f":"Sheet2!AC46","v":0},{"$f":"Sheet2!BI46","v":0},{"$f":"Sheet2!BH46","v":0},{"$f":"Sheet2!AL46","v":0},{"$f":"Sheet2!AM46","v":0},{"$f":"Sheet2!AN46","v":0},{"$f":"Sheet2!AO46","v":0},{"$f":"Sheet2!AP46","v":0},{"$f":"Sheet2!AQ46","v":0},{"$f":"Sheet2!BB46","v":0}]
[null,{"$f":"Sheet2!I47","v":0},{"$f":"Sheet2!J47","v":0},{"$f":"Sheet2!C47","v":0},{"$f":"Sheet2!B47","v":"00:00:00"},{"$f":"Sheet2!K47","v":0},{"$f":"Sheet2!L47","v":0},{"$f":"Sheet2!AK47","v":0},0,0,{"$f":"Sheet2!BC47","v":0},{"$f":"Sheet2!M47","v":0},{"$f":"Sheet2!N47","v":0},{"$f":"Sheet2!V47","v":0},{"$f":"Sheet2!W47","v":0},0,{"$f":"Sheet2!S47","v":0},{"$f":"Sheet2!T47","v":0},{"$f":"SUM(#REF!)/3","v":{"$error":"#REF!"}},0,{"$f":"Sheet2!AF47","v":0},{"$f":"Sheet2!AG47","v":0},{"$f":"Sheet2!AH47","v":0},{"$f":"Sheet2!AI47","v":0},{"$f":"Sheet2!H47","v":0},{"$f":"Sheet2!Y47","v":0},{"$f":"Sheet2!Z47","v":0},{"$f":"Sheet2!AA47","v":0},{"$f":"Sheet2!AD47","v":0},{"$f":"Sheet2!AC47","v":0},{"$f":"Sheet2!BI47","v":0},{"$f":"Sheet2!BH47","v":0},{"$f":"Sheet2!AL47","v":0},{"$f":"Sheet2!AM47","v":0},{"$f":"Sheet2!AN47","v":0},{"$f":"Sheet2!AO47","v":0},{"$f":"Sheet2!AP47","v":0},{"$f":"Sheet2!AQ47","v":0},{"$f":"Sheet2!BB47","v":0}]
[null,{"$f":"Sheet2!I48","v":0},{"$f":"Sheet2!J48","v":0},{"$f":"Sheet2!C48","v":0},{"$f":"Sheet2!B48","v":"00:00:00"},{"$f":"Sheet2!K48","v":0},{"$f":"Sheet2!L48","v":0},{"$f":"Sheet2!AK48","v":0},0,0,{"$f":"Sheet2!BC48","v":0},{"$f":"Sheet2!M48","v":0},{"$f":"Sheet2!N48","v":0},{"$f":"Sheet2!V48","v":0},{"$f":"Sheet2!W48","v":0},0,{"$f":"Sheet2!S48","v":0},{"$f":"Sheet2!T48","v":0},{"$f":"SUM(#REF!)/3","v":{"$error":"#REF!"}},0,{"$f":"Sheet2!AF48","v":0},{"$f":"Sheet2!AG48","v":0},{"$f":"Sheet2!AH48","v":0},{"$f":"Sheet2!AI48","v":0},{"$f":"Sheet2!H48","v":0},{"$f":"Sheet2!Y48","v":0},{"$f":"Sheet2!Z48","v":0},{"$f":"Sheet2!AA48","v":0},{"$f":"Sheet2!AD48","v":0},{"$f":"Sheet2!AC48","v":0},{"$f":"Sheet2!BI48","v":0},{"$f":"Sheet2!BH48","v":0},{"$f":"Sheet2!AL48","v":0},{"$f":"Sheet2!AM48","v":0},{"$f":"Sheet2!AN48","v":0},{"$f":"Sheet2!AO48","v":0},{"$f":"Sheet2!AP48","v":0},{"$f":"Sheet2!AQ48","v":0},{"$f":"Sheet2!BB48","v":0}]
[null,{"$f":"Sheet2!I49","v":0},{"$f":"Sheet2!J49","v":0},{"$f":"Sheet2!C49","v":0},{"$f":"Sheet2!B49","v":"00:00:00"},{"$f":"Sheet2!K49","v":0},{"$f":"Sheet2!L49","v":0},{"$f":"Sheet2!AK49","v":0},0,0,{"$f":"Sheet2!BC49","v":0},{"$f":"Sheet2!M49","v":0},{"$f":"Sheet2!N49","v":0},{"$f":"Sheet2!V49","v":0},{"$f":"Sheet2!W49","v":0},0,{"$f":"Sheet2!S49","v":0},{"$f":"Sheet2!T49","v":0},{"$f":"SUM(#REF!)/3","v":{"$error":"#REF!"}},0,{"$f":"Sheet2!AF49","v":0},{"$f":"Sheet2!AG49","v":0},{"$f":"Sheet2!AH49","v":0},{"$f":"Sheet2!AI49","v":0},{"$f":"Sheet2!H49","v":0},{"$f":"Sheet2!Y49","v":0},{"$f":"Sheet2!Z49","v":0},{"$f":"Sheet2!AA49","v":0},{"$f":"Sheet2!AD49","v":0},{"$f":"Sheet2!AC49","v":0},{"$f":"Sheet2!BI49","v":0},{"$f":"Sheet2!BH49","v":0},{"$f":"Sheet2!AL49","v":0},{"$f":"Sheet2!AM49","v":0},{"$f":"Sheet2!AN49","v":0},{"$f":"Sheet2!AO49","v":0},{"$f":"Sheet2!AP49","v":0},{"$f":"Sheet2!AQ49","v":0},{"$f":"Sheet2!BB49","v":0}]
[null,{"$f":"Sheet2!I50","v":0},{"$f":"Sheet2!J50","v":0},{"$f":"Sheet2!C50","v":0},{"$f":"Sheet2!B50","v":"00:00:00"},{"$f":"Sheet2!K50","v":0},{"$f":"Sheet2!L50","v":0},{"$f":"Sheet2!AK50","v":0},0,0,{"$f":"Sheet2!BC50","v":0},{"$f":"Sheet2!M50","v":0},{"$f":"Sheet2!N50","v":0},{"$f":"Sheet2!V50","v":0},{"$f":"Sheet2!W50","v":0},0,{"$f":"Sheet2!S50","v":0},{"$f":"Sheet2!T50","v":0},{"$f":"SUM(#REF!)/3","v":{"$error":"#REF!"}},0,{"$f":"Sheet2!AF50","v":0},{"$f":"Sheet2!AG50","v":0},{"$f":"Sheet2!AH50","v":0},{"$f":"Sheet2!AI50","v":0},{"$f":"Sheet2!H50","v":0},{"$f":"Sheet2!Y50","v":0},{"$f":"Sheet2!Z50","v":0},{"$f":"Sheet2!AA50","v":0},{"$f":"Sheet2!AD50","v":0},{"$f":"Sheet2!AC50","v":0},{"$f":"Sheet2!BI50","v":0},{"$f":"Sheet2!BH50","v":0},{"$f":"Sheet2!AL50","v":0},{"$f":"Sheet2!AM50","v":0},{"$f":"Sheet2!AN50","v":0},{"$f":"Sheet2!AO50","v":0},{"$f":"Sheet2!AP50","v":0},{"$f":"Sheet2!AQ50","v":0},{"$f":"Sheet2!BB50","v":0}]
[null,{"$f":"Sheet2!I51","v":0},{"$f":"Sheet2!J51","v":0},{"$f":"Sheet2!C51","v":0},{"$f":"Sheet2!B51","v":"00:00:00"},{"$f":"Sheet2!K51","v":0},{"$f":"Sheet2!L51","v":0},{"$f":"Sheet2!AK51","v":0},0,0,{"$f":"Sheet2!BC51","v":0},{"$f":"Sheet2!M51","v":0},{"$f":"Sheet2!N51","v":0},{"$f":"Sheet2!V51","v":0},{"$f":"Sheet2!W51","v":0},0,{"$f":"Sheet2!S51","v":0},{"$f":"Sheet2!T51","v":0},{"$f":"SUM(#REF!)/3","v":{"$error":"#REF!"}},0,{"$f":"Sheet2!AF51","v":0},{"$f":"Sheet2!AG51","v":0},{"$f":"Sheet2!AH51","v":0},{"$f":"Sheet2!AI51","v":0},{"$f":"Sheet2!H51","v":0},{"$f":"Sheet2!Y51","v":0},{"$f":"Sheet2!Z51","v":0},{"$f":"Sheet2!AA51","v":0},{"$f":"Sheet2!AD51","v":0},{"$f":"Sheet2!AC51","v":0},{"$f":"Sheet2!BI51","v":0},{"$f":"Sheet2!BH51","v":0},{"$f":"Sheet2!AL51","v":0},{"$f":"Sheet2!AM51","v":0},{"$f":"Sheet2!AN51","v":0},{"$f":"Sheet2!AO51","v":0},{"$f":"Sheet2!AP51","v":0},{"$f":"Sheet2!AQ51","v":0},{"$f":"Sheet2!BB51","v":0}]
[null,{"$f":"Sheet2!I52","v":0},{"$f":"Sheet2!J52","v":0},{"$f":"Sheet2!C52","v":0},{"$f":"Sheet2!B52","v":"00:00:00"},{"$f":"Sheet2!K52","v":0},{"$f":"Sheet2!L52","v":0},{"$f":"Sheet2!AK52","v":0},0,0,{"$f":"Sheet2!BC52","v":0},{"$f":"Sheet2!M52","v":0},{"$f":"Sheet2!N52","v":0},{"$f":"Sheet2!V52","v":0},{"$f":"Sheet2!W52","v":0},0,{"$f":"Sheet2!S52","v":0},{"$f":"Sheet2!T52","v":0},{"$f":"SUM(#REF!)/3","v":{"$error":"#REF!"}},0,{"$f":"Sheet2!AF52","v":0},{"$f":"Sheet2!AG52","v":0},{"$f":"Sheet2!AH52","v":0},{"$f":"Sheet2!AI52","v":0},{"$f":"Sheet2!H52","v":0},{"$f":"Sheet2!Y52","v":0},{"$f":"Sheet2!Z52","v":0},{"$f":"Sheet2!AA52","v":0},{"$f":"Sheet2!AD52","v":0},{"$f":"Sheet2!AC52","v":0},{"$f":"Sheet2!BI52","v":0},{"$f":"Sheet2!BH52","v":0},{"$f":"Sheet2!AL52","v":0},{"$f":"Sheet2!AM52","v":0},{"$f":"Sheet2!AN52","v":0},{"$f":"Sheet2!AO52","v":0},{"$f":"Sheet2!AP52","v":0},{"$f":"Sheet2!AQ52","v":0},{"$f":"Sheet2!BB52","v":0}]
[null,{"$f":"Sheet2!I53","v":0},{"$f":"Sheet2!J53","v":0},{"$f":"Sheet2!C53","v":0},{"$f":"Sheet2!B53","v":"00:00:00"},{"$f":"Sheet2!K53","v":0},{"$f":"Sheet2!L53","v":0},{"$f":"Sheet2!AK53","v":0},0,0,{"$f":"Sheet2!BC53","v":0},{"$f":"Sheet2!M53","v":0},{"$f":"Sheet2!N53","v":0},{"$f":"Sheet2!V53","v":0},{"$f":"Sheet2!W53","v":0},0,{"$f":"Sheet2!S53","v":0},{"$f":"Sheet2!T53","v":0},{"$f":"SUM(#REF!)/3","v":{"$error":"#REF!"}},0,{"$f":"Sheet2!AF53","v":0},{"$f":"Sheet2!AG53","v":0},{"$f":"Sheet2!AH53","v":0},{"$f":"Sheet2!AI53","v":0},{"$f":"Sheet2!H53","v":0},{"$f":"Sheet2!Y53","v":0},{"$f":"Sheet2!Z53","v":0},{"$f":"Sheet2!AA53","v":0},{"$f":"Sheet2!AD53","v":0},{"$f":"Sheet2!AC53","v":0},{"$f":"Sheet2!BI53","v":0},{"$f":"Sheet2!BH53","v":0},{"$f":"Sheet2!AL53","v":0},{"$f":"Sheet2!AM53","v":0},{"$f":"Sheet2!AN53","v":0},{"$f":"Sheet2!AO53","v":0},{"$f":"Sheet2!AP53","v":0},{"$f":"Sheet2!AQ53","v":0},{"$f":"Sheet2!BB53","v":0}]
[null,{"$f":"Sheet2!I54","v":0},{"$f":"Sheet2!J54","v":0},{"$f":"Sheet2!C54","v":0},{"$f":"Sheet2!B54","v":"00:00:00"},{"$f":"Sheet2!K54","v":0},{"$f":"Sheet2!L54","v":0},{"$f":"Sheet2!AK54","v":0},0,0,{"$f":"Sheet2!BC54","v":0},{"$f":"Sheet2!M54","v":0},{"$f":"Sheet2!N54","v":0},{"$f":"Sheet2!V54","v":0},{"$f":"Sheet2!W54","v":0},0,{"$f":"Sheet2!S54","v":0},{"$f":"Sheet2!T54","v":0},{"$f":"SUM(#REF!)/3","v":{"$error":"#REF!"}},0,{"$f":"Sheet2!AF54","v":0},{"$f":"Sheet2!AG54","v":0},{"$f":"Sheet2!AH54","v":0},{"$f":"Sheet2!AI54","v":0},{"$f":"Sheet2!H54","v":0},{"$f":"Sheet2!Y54","v":0},{"$f":"Sheet2!Z54","v":0},{"$f":"Sheet2!AA54","v":0},{"$f":"Sheet2!AD54","v":0},{"$f":"Sheet2!AC54","v":0},{"$f":"Sheet2!BI54","v":0},{"$f":"Sheet2!BH54","v":0},{"$f":"Sheet2!AL54","v":0},{"$f":"Sheet2!AM54","v":0},{"$f":"Sheet2!AN54","v":0},{"$f":"Sheet2!AO54","v":0},{"$f":"Sheet2!AP54","v":0},{"$f":"Sheet2!AQ54","v":0},{"$f":"Sheet2!BB54","v":0}]
[null,{"$f":"Sheet2!I55","v":0},{"$f":"Sheet2!J55","v":0},{"$f":"Sheet2!C55","v":0},{"$f":"Sheet2!B55","v":"00:00:00"},{"$f":"Sheet2!K55","v":0},{"$f":"Sheet2!L55","v":0},{"$f":"Sheet2!AK55","v":0},0,0,{"$f":"Sheet2!BC55","v":0},{"$f":"Sheet2!M55","v":0},{"$f":"Sheet2!N55","v":0},{"$f":"Sheet2!V55","v":0},{"$f":"Sheet2!W55","v":0},0,{"$f":"Sheet2!S55","v":0},{"$f":"Sheet2!T55","v":0},{"$f":"SUM(#REF!)/3","v":{"$error":"#REF!"}},0,{"$f":"Sheet2!AF55","v":0},{"$f":"Sheet2!AG55","v":0},{"$f":"Sheet2!AH55","v":0},{"$f":"Sheet2!AI55","v":0},{"$f":"Sheet2!H55","v":0},{"$f":"Sheet2!Y55","v":0},{"$f":"Sheet2!Z55","v":0},{"$f":"Sheet2!AA55","v":0},{"$f":"Sheet2!AD55","v":0},{"$f":"Sheet2!AC55","v":0},{"$f":"Sheet2!BI55","v":0},{"$f":"Sheet2!BH55","v":0},{"$f":"Sheet2!AL55","v":0},{"$f":"Sheet2!AM55","v":0},{"$f":"Sheet2!AN55","v":0},{"$f":"Sheet2!AO55","v":0},{"$f":"Sheet2!AP55","v":0},{"$f":"Sheet2!AQ55","v":0},{"$f":"Sheet2!BB55","v":0}]
[null,{"$f":"Sheet2!I56","v":0},{"$f":"Sheet2!J56","v":0},{"$f":"Sheet2!C56","v":0},{"$f":"Sheet2!B56","v":"00:00:00"},{"$f":"Sheet2!K56","v":0},{"$f":"Sheet2!L56","v":0},{"$f":"Sheet2!AK56","v":0},0,0,{"$f":"Sheet2!BC56","v":0},{"$f":"Sheet2!M56","v":0},{"$f":"Sheet2!N56","v":0},{"$f":"Sheet2!V56","v":0},{"$f":"Sheet2!W56","v":0},0,{"$f":"Sheet2!S56","v":0},{"$f":"Sheet2!T56","v":0},{"$f":"SUM(#REF!)/3","v":{"$error":"#REF!"}},0,{"$f":"Sheet2!AF56","v":0},{"$f":"Sheet2!AG56","v":0},{"$f":"Sheet2!AH56","v":0},{"$f":"Sheet2!AI56","v":0},{"$f":"Sheet2!H56","v":0},{"$f":"Sheet2!Y56","v":0},{"$f":"Sheet2!Z56","v":0},{"$f":"Sheet2!AA56","v":0},{"$f":"Sheet2!AD56","v":0},{"$f":"Sheet2!AC56","v":0},{"$f":"Sheet2!BI56","v":0},{"$f":"Sheet2!BH56","v":0},{"$f":"Sheet2!AL56","v":0},{"$f":"Sheet2!AM56","v":0},{"$f":"Sheet2!AN56","v":0},{"$f":"Sheet2!AO56","v":0},{"$f":"Sheet2!AP56","v":0},{"$f":"Sheet2!AQ56","v":0},{"$f":"Sheet2!BB56","v":0}]
[null,{"$f":"Sheet2!I57","v":0},{"$f":"Sheet2!J57","v":0},{"$f":"Sheet2!C57","v":0},{"$f":"Sheet2!B57","v":"00:00:00"},{"$f":"Sheet2!K57","v":0},{"$f":"Sheet2!L57","v":0},{"$f":"Sheet2!AK57","v":0},0,0,{"$f":"Sheet2!BC57","v":0},{"$f":"Sheet2!M57","v":0},{"$f":"Sheet2!N57","v":0},{"$f":"Sheet2!V57","v":0},{"$f":"Sheet2!W57","v":0},0,{"$f":"Sheet2!S57","v":0},{"$f":"Sheet2!T57","v":0},{"$f":"SUM(#REF!)/3","v":{"$error":"#REF!"}},0,{"$f":"Sheet2!AF57","v":0},{"$f":"Sheet2!AG57","v":0},{"$f":"Sheet2!AH57","v":0},{"$f":"Sheet2!AI57","v":0},{"$f":"Sheet2!H57","v":0},{"$f":"Sheet2!Y57","v":0},{"$f":"Sheet2!Z57","v":0},{"$f":"Sheet2!AA57","v":0},{"$f":"Sheet2!AD57","v":0},{"$f":"Sheet2!AC57","v":0},{"$f":"Sheet2!BI57","v":0},{"$f":"Sheet2!BH57","v":0},{"$f":"Sheet2!AL57","v":0},{"$f":"Sheet2!AM57","v":0},{"$f":"Sheet2!AN57","v":0},{"$f":"Sheet2!AO57","v":0},{"$f":"Sheet2!AP57","v":0},{"$f":"Sheet2!AQ57","v":0},{"$f":"Sheet2!BB57","v":0}]
[null,{"$f":"Sheet2!I58","v":0},{"$f":"Sheet2!J58","v":0},{"$f":"Sheet2!C58","v":0},{"$f":"Sheet2!B58","v":"00:00:00"},{"$f":"Sheet2!K58","v":0},{"$f":"Sheet2!L58","v":0},{"$f":"Sheet2!AK58","v":0},0,0,{"$f":"Sheet2!BC58","v":0},{"$f":"Sheet2!M58","v":0},{"$f":"Sheet2!N58","v":0},{"$f":"Sheet2!V58","v":0},{"$f":"Sheet2!W58","v":0},0,{"$f":"Sheet2!S58","v":0},{"$f":"Sheet2!T58","v":0},{"$f":"SUM(#REF!)/3","v":{"$error":"#REF!"}},0,{"$f":"Sheet2!AF58","v":0},{"$f":"Sheet2!AG58","v":0},{"$f":"Sheet2!AH58","v":0},{"$f":"Sheet2!AI58","v":0},{"$f":"Sheet2!H58","v":0},{"$f":"Sheet2!Y58","v":0},{"$f":"Sheet2!Z58","v":0},{"$f":"Sheet2!AA58","v":0},{"$f":"Sheet2!AD58","v":0},{"$f":"Sheet2!AC58","v":0},{"$f":"Sheet2!BI58","v":0},{"$f":"Sheet2!BH58","v":0},{"$f":"Sheet2!AL58","v":0},{"$f":"Sheet2!AM58","v":0},{"$f":"Sheet2!AN58","v":0},{"$f":"Sheet2!AO58","v":0},{"$f":"Sheet2!AP58","v":0},{"$f":"Sheet2!AQ58","v":0},{"$f":"Sheet2!BB58","v":0}]
[null,{"$f":"Sheet2!I59","v":0},{"$f":"Sheet2!J59","v":0},{"$f":"Sheet2!C59","v":0},{"$f":"Sheet2!B59","v":"00:00:00"},{"$f":"Sheet2!K59","v":0},{"$f":"Sheet2!L59","v":0},{"$f":"Sheet2!AK59","v":0},0,0,{"$f":"Sheet2!BC59","v":0},{"$f":"Sheet2!M59","v":0},{"$f":"Sheet2!N59","v":0},{"$f":"Sheet2!V59","v":0},{"$f":"Sheet2!W59","v":0},0,{"$f":"Sheet2!S59","v":0},{"$f":"Sheet2!T59","v":0},{"$f":"SUM(#REF!)/3","v":{"$error":"#REF!"}},0,{"$f":"Sheet2!AF59","v":0},{"$f":"Sheet2!AG59","v":0},{"$f":"Sheet2!AH59","v":0},{"$f":"Sheet2!AI59","v":0},{"$f":"Sheet2!H59","v":0},{"$f":"Sheet2!Y59","v":0},{"$f":"Sheet2!Z59","v":0},{"$f":"Sheet2!AA59","v":0},{"$f":"Sheet2!AD59","v":0},{"$f":"Sheet2!AC59","v":0},{"$f":"Sheet2!BI59","v":0},{"$f":"Sheet2!BH59","v":0},{"$f":"Sheet2!AL59","v":0},{"$f":"Sheet2!AM59","v":0},{"$f":"Sheet2!AN59","v":0},{"$f":"Sheet2!AO59","v":0},{"$f":"Sheet2!AP59","v":0},{"$f":"Sheet2!AQ59","v":0},{"$f":"Sheet2!BB59","v":0}]
[null,{"$f":"Sheet2!I60","v":0},{"$f":"Sheet2!J60","v":0},{"$f":"Sheet2!C60","v":0},{"$f":"Sheet2!B60","v":"00:00:00"},{"$f":"Sheet2!K60","v":0},{"$f":"Sheet2!L60","v":0},{"$f":"Sheet2!AK60","v":0},0,0,{"$f":"Sheet2!BC60","v":0},{"$f":"Sheet2!M60","v":0},{"$f":"Sheet2!N60","v":0},{"$f":"Sheet2!V60","v":0},{"$f":"Sheet2!W60","v":0},0,{"$f":"Sheet2!S60","v":0},{"$f":"Sheet2!T60","v":0},{"$f":"SUM(#REF!)/3","v":{"$error":"#REF!"}},0,{"$f":"Sheet2!AF60","v":0},{"$f":"Sheet2!AG60","v":0},{"$f":"Sheet2!AH60","v":0},{"$f":"Sheet2!AI60","v":0},{"$f":"Sheet2!H60","v":0},{"$f":"Sheet2!Y60","v":0},{"$f":"Sheet2!Z60","v":0},{"$f":"Sheet2!AA60","v":0},{"$f":"Sheet2!AD60","v":0},{"$f":"Sheet2!AC60","v":0},{"$f":"Sheet2!BI60","v":0},{"$f":"Sheet2!BH60","v":0},{"$f":"Sheet2!AL60","v":0},{"$f":"Sheet2!AM60","v":0},{"$f":"Sheet2!AN60","v":0},{"$f":"Sheet2!AO60","v":0},{"$f":"Sheet2!AP60","v":0},{"$f":"Sheet2!AQ60","v":0},{"$f":"Sheet2!BB60","v":0}]
[null,{"$f":"Sheet2!I61","v":0},{"$f":"Sheet2!J61","v":0},{"$f":"Sheet2!C61","v":0},{"$f":"Sheet2!B61","v":"00:00:00"},{"$f":"Sheet2!K61","v":0},{"$f":"Sheet2!L61","v":0},{"$f":"Sheet2!AK61","v":0},0,0,{"$f":"Sheet2!BC61","v":0},{"$f":"Sheet2!M61","v":0},{"$f":"Sheet2!N61","v":0},{"$f":"Sheet2!V61","v":0},{"$f":"Sheet2!W61","v":0},0,{"$f":"Sheet2!S61","v":0},{"$f":"Sheet2!T61","v":0},{"$f":"SUM(#REF!)/3","v":{"$error":"#REF!"}},0,{"$f":"Sheet2!AF61","v":0},{"$f":"Sheet2!AG61","v":0},{"$f":"Sheet2!AH61","v":0},{"$f":"Sheet2!AI61","v":0},{"$f":"Sheet2!H61","v":0},{"$f":"Sheet2!Y61","v":0},{"$f":"Sheet2!Z61","v":0},{"$f":"Sheet2!AA61","v":0},{"$f":"Sheet2!AD61","v":0},{"$f":"Sheet2!AC61","v":0},{"$f":"Sheet2!BI61","v":0},{"$f":"Sheet2!BH61","v":0},{"$f":"Sheet2!AL61","v":0},{"$f":"Sheet2!AM61","v":0},{"$f":"Sheet2!AN61","v":0},{"$f":"Sheet2!AO61","v":0},{"$f":"Sheet2!AP61","v":0},{"$f":"Sheet2!AQ61","v":0},{"$f":"Sheet2!BB61","v":0}]
[null,{"$f":"Sheet2!I62","v":0},{"$f":"Sheet2!J62","v":0},{"$f":"Sheet2!C62","v":0},{"$f":"Sheet2!B62","v":"00:00:00"},{"$f":"Sheet2!K62","v":0},{"$f":"Sheet2!L62","v":0},{"$f":"Sheet2!AK62","v":0},0,0,{"$f":"Sheet2!BC62","v":0},{"$f":"Sheet2!M62","v":0},{"$f":"Sheet2!N62","v":0},{"$f":"Sheet2!V62","v":0},{"$f":"Sheet2!W62","v":0},0,{"$f":"Sheet2!S62","v":0},{"$f":"Sheet2!T62","v":0},{"$f":"SUM(#REF!)/3","v":{"$error":"#REF!"}},0,{"$f":"Sheet2!AF62","v":0},{"$f":"Sheet2!AG62","v":0},{"$f":"Sheet2!AH62","v":0},{"$f":"Sheet2!AI62","v":0},{"$f":"Sheet2!H62","v":0},{"$f":"Sheet2!Y62","v":0},{"$f":"Sheet2!Z62","v":0},{"$f":"Sheet2!AA62","v":0},{"$f":"Sheet2!AD62","v":0},{"$f":"Sheet2!AC62","v":0},{"$f":"Sheet2!BI62","v":0},{"$f":"Sheet2!BH62","v":0},{"$f":"Sheet2!AL62","v":0},{"$f":"Sheet2!AM62","v":0},{"$f":"Sheet2!AN62","v":0},{"$f":"Sheet2!AO62","v":0},{"$f":"Sheet2!AP62","v":0},{"$f":"Sheet2!AQ62","v":0},{"$f":"Sheet2!BB62","v":0}]
[null,{"$f":"Sheet2!I63","v":0},{"$f":"Sheet2!J63","v":0},{"$f":"Sheet2!C63","v":0},{"$f":"Sheet2!B63","v":"00:00:00"},{"$f":"Sheet2!K63","v":0},{"$f":"Sheet2!L63","v":0},{"$f":"Sheet2!AK63","v":0},0,0,{"$f":"Sheet2!BC63","v":0},{"$f":"Sheet2!M63","v":0},{"$f":"Sheet2!N63","v":0},{"$f":"Sheet2!V63","v":0},{"$f":"Sheet2!W63","v":0},0,{"$f":"Sheet2!S63","v":0},{"$f":"Sheet2!T63","v":0},{"$f":"SUM(#REF!)/3","v":{"$error":"#REF!"}},0,{"$f":"Sheet2!AF63","v":0},{"$f":"Sheet2!AG63","v":0},{"$f":"Sheet2!AH63","v":0},{"$f":"Sheet2!AI63","v":0},{"$f":"Sheet2!H63","v":0},{"$f":"Sheet2!Y63","v":0},{"$f":"Sheet2!Z63","v":0},{"$f":"Sheet2!AA63","v":0},{"$f":"Sheet2!AD63","v":0},{"$f":"Sheet2!AC63","v":0},{"$f":"Sheet2!BI63","v":0},{"$f":"Sheet2!BH63","v":0},{"$f":"Sheet2!AL63","v":0},{"$f":"Sheet2!AM63","v":0},{"$f":"Sheet2!AN63","v":0},{"$f":"Sheet2!AO63","v":0},{"$f":"Sheet2!AP63","v":0},{"$f":"Sheet2!AQ63","v":0},{"$f":"Sheet2!BB63","v":0}]
[null,{"$f":"Sheet2!I64","v":0},{"$f":"Sheet2!J64","v":0},{"$f":"Sheet2!C64","v":0},{"$f":"Sheet2!B64","v":"00:00:00"},{"$f":"Sheet2!K64","v":0},{"$f":"Sheet2!L64","v":0},{"$f":"Sheet2!AK64","v":0},0,0,{"$f":"Sheet2!BC64","v":0},{"$f":"Sheet2!M64","v":0},{"$f":"Sheet2!N64","v":0},{"$f":"Sheet2!V64","v":0},{"$f":"Sheet2!W64","v":0},0,{"$f":"Sheet2!S64","v":0},{"$f":"Sheet2!T64","v":0},{"$f":"SUM(#REF!)/3","v":{"$error":"#REF!"}},0,{"$f":"Sheet2!AF64","v":0},{"$f":"Sheet2!AG64","v":0},{"$f":"Sheet2!AH64","v":0},{"$f":"Sheet2!AI64","v":0},{"$f":"Sheet2!H64","v":0},{"$f":"Sheet2!Y64","v":0},{"$f":"Sheet2!Z64","v":0},{"$f":"Sheet2!AA64","v":0},{"$f":"Sheet2!AD64","v":0},{"$f":"Sheet2!AC64","v":0},{"$f":"Sheet2!BI64","v":0},{"$f":"Sheet2!BH64","v":0},{"$f":"Sheet2!AL64","v":0},{"$f":"Sheet2!AM64","v":0},{"$f":"Sheet2!AN64","v":0},{"$f":"Sheet2!AO64","v":0},{"$f":"Sheet2!AP64","v":0},{"$f":"Sheet2!AQ64","v":0},{"$f":"Sheet2!BB64","v":0}]
[null,{"$f":"Sheet2!I65","v":0},{"$f":"Sheet2!J65","v":0},{"$f":"Sheet2!C65","v":0},{"$f":"Sheet2!B65","v":"00:00:00"},{"$f":"Sheet2!K65","v":0},{"$f":"Sheet2!L65","v":0},{"$f":"Sheet2!AK65","v":0},0,0,{"$f":"Sheet2!BC65","v":0},{"$f":"Sheet2!M65","v":0},{"$f":"Sheet2!N65","v":0},{"$f":"Sheet2!V65","v":0},{"$f":"Sheet2!W65","v":0},0,{"$f":"Sheet2!S65","v":0},{"$f":"Sheet2!T65","v":0},{"$f":"SUM(#REF!)/3","v":{"$error":"#REF!"}},0,{"$f":"Sheet2!AF65","v":0},{"$f":"Sheet2!AG65","v":0},{"$f":"Sheet2!AH65","v":0},{"$f":"Sheet2!AI65","v":0},{"$f":"Sheet2!H65","v":0},{"$f":"Sheet2!Y65","v":0},{"$f":"Sheet2!Z65","v":0},{"$f":"Sheet2!AA65","v":0},{"$f":"Sheet2!AD65","v":0},{"$f":"Sheet2!AC65","v":0},{"$f":"Sheet2!BI65","v":0},{"$f":"Sheet2!BH65","v":0},{"$f":"Sheet2!AL65","v":0},{"$f":"Sheet2!AM65","v":0},{"$f":"Sheet2!AN65","v":0},{"$f":"Sheet2!AO65","v":0},{"$f":"Sheet2!AP65","v":0},{"$f":"Sheet2!AQ65","v":0},{"$f":"Sheet2!BB65","v":0}]
[null,{"$f":"Sheet2!I66","v":0},{"$f":"Sheet2!J66","v":0},{"$f":"Sheet2!C66","v":0},{"$f":"Sheet2!B66","v":"00:00:00"},{"$f":"Sheet2!K66","v":0},{"$f":"Sheet2!L66","v":0},{"$f":"Sheet2!AK66","v":0},0,0,{"$f":"Sheet2!BC66","v":0},{"$f":"Sheet2!M66","v":0},{"$f":"Sheet2!N66","v":0},{"$f":"Sheet2!V66","v":0},{"$f":"Sheet2!W66","v":0},0,{"$f":"Sheet2!S66","v":0},{"$f":"Sheet2!T66","v":0},{"$f":"SUM(#REF!)/3","v":{"$error":"#REF!"}},0,{"$f":"Sheet2!AF66","v":0},{"$f":"Sheet2!AG66","v":0},{"$f":"Sheet2!AH66","v":0},{"$f":"Sheet2!AI66","v":0},{"$f":"Sheet2!H66","v":0},{"$f":"Sheet2!Y66","v":0},{"$f":"Sheet2!Z66","v":0},{"$f":"Sheet2!AA66","v":0},{"$f":"Sheet2!AD66","v":0},{"$f":"Sheet2!AC66","v":0},{"$f":"Sheet2!BI66","v":0},{"$f":"Sheet2!BH66","v":0},{"$f":"Sheet2!AL66","v":0},{"$f":"Sheet2!AM66","v":0},{"$f":"Sheet2!AN66","v":0},{"$f":"Sheet2!AO66","v":0},{"$f":"Sheet2!AP66","v":0},{"$f":"Sheet2!AQ66","v":0},{"$f":"Sheet2!BB66","v":0}]
[null,{"$f":"Sheet2!I67","v":0},{"$f":"Sheet2!J67","v":0},{"$f":"Sheet2!C67","v":0},{"$f":"Sheet2!B67","v":"00:00:00"},{"$f":"Sheet2!K67","v":0},{"$f":"Sheet2!L67","v":0},{"$f":"Sheet2!AK67","v":0},0,{"$f":"IF(A74=\"X\",I74,0)","v":0},{"$f":"Sheet2!BC67","v":0},{"$f":"Sheet2!M67","v":0},{"$f":"Sheet2!N67","v":0},{"$f":"Sheet2!V67","v":0},{"$f":"Sheet2!W67","v":0},0,{"$f":"Sheet2!S67","v":0},{"$f":"Sheet2!T67","v":0},{"$f":"SUM(#REF!)/3","v":{"$error":"#REF!"}},0,{"$f":"Sheet2!AF67","v":0},{"$f":"Sheet2!AG67","v":0},{"$f":"Sheet2!AH67","v":0},{"$f":"Sheet2!AI67","v":0},{"$f":"Sheet2!H67","v":0},{"$f":"Sheet2!Y67","v":0},{"$f":"Sheet2!Z67","v":0},{"$f":"Sheet2!AA67","v":0},{"$f":"Sheet2!AD67","v":0},{"$f":"Sheet2!AC67","v":0},{"$f":"Sheet2!BI67","v":0},{"$f":"Sheet2!BH67","v":0},{"$f":"Sheet2!AL67","v":0},{"$f":"Sheet2!AM67","v":0},{"$f":"Sheet2!AN67","v":0},{"$f":"Sheet2!AO67","v":0},{"$f":"Sheet2!AP67","v":0},{"$f":"Sheet2!AQ67","v":0},{"$f":"Sheet2!BB67","v":0}]
[null,{"$f":"Sheet2!I68","v":0},{"$f":"Sheet2!J68","v":0},{"$f":"Sheet2!C68","v":0},{"$f":"Sheet2!B68","v":"00:00:00"},{"$f":"Sheet2!K68","v":0},{"$f":"Sheet2!L68","v":0},{"$f":"Sheet2!AK68","v":0},{"$f":"H75/5280","v":0},0,{"$f":"Sheet2!BC68","v":0},{"$f":"Sheet2!M68","v":0},{"$f":"Sheet2!N68","v":0},{"$f":"Sheet2!V68","v":0},{"$f":"Sheet2!W68","v":0},{"$f":"(N75+O75)/5280","v":0},{"$f":"Sheet2!S68","v":0},{"$f":"Sheet2!T68","v":0},{"$f":"SUM(#REF!)/3","v":{"$error":"#REF!"}},{"$f":"IF(P75<>0,(Q75+R75)/P75,0)","v":0},{"$f":"Sheet2!AF68","v":0},{"$f":"Sheet2!AG68","v":0},{"$f":"Sheet2!AH68","v":0},{"$f":"Sheet2!AI68","v":0},{"$f":"Sheet2!H68","v":0},{"$f":"Sheet2!Y68","v":0},{"$f":"Sheet2!Z68","v":0},{"$f":"Sheet2!AA68","v":0},{"$f":"Sheet2!AD68","v":0},{"$f":"Sheet2!AC68","v":0},{"$f":"Sheet2!BI68","v":0},{"$f":"Sheet2!BH68","v":0},{"$f":"Sheet2!AL68","v":0},{"$f":"Sheet2!AM68","v":0},{"$f":"Sheet2!AN68","v":0},{"$f":"Sheet2!AO68","v":0},{"$f":"Sheet2!AP68","v":0},{"$f":"Sheet2!AQ68","v":0},{"$f":"Sheet2!BB68","v":0}]
[null,{"$f":"Sheet2!I69","v":0},{"$f":"Sheet2!J69","v":0},{"$f":"Sheet2!C69","v":0},{"$f":"Sheet2!B69","v":"00:00:00"},{"$f":"Sheet2!K69","v":0},{"$f":"Sheet2!L69","v":0},{"$f":"Sheet2!AK69","v":0},0,0,{"$f":"Sheet2!BC69","v":0},{"$f":"Sheet2!M69","v":0},{"$f":"Sheet2!N69","v":0},{"$f":"Sheet2!V69","v":0},{"$f":"Sheet2!W69","v":0},0,{"$f":"Sheet2!S69","v":0},{"$f":"Sheet2!T69","v":0},{"$f":"SUM(#REF!)/3","v":{"$error":"#REF!"}},0,{"$f":"Sheet2!AF69","v":0},{"$f":"Sheet2!AG69","v":0},{"$f":"Sheet2!AH69","v":0},{"$f":"Sheet2!AI69","v":0},{"$f":"Sheet2!H69","v":0},{"$f":"Sheet2!Y69","v":0},{"$f":"Sheet2!Z69","v":0},{"$f":"Sheet2!AA69","v":0},{"$f":"Sheet2!AD69","v":0},{"$f":"Sheet2!AC69","v":0},{"$f":"Sheet2!BI69","v":0},{"$f":"Sheet2!BH69","v":0},{"$f":"Sheet2!AL69","v":0},{"$f":"Sheet2!AM69","v":0},{"$f":"Sheet2!AN69","v":0},{"$f":"Sheet2!AO69","v":0},{"$f":"Sheet2!AP69","v":0},{"$f":"Sheet2!AQ69","v":0},{"$f":"Sheet2!BB69","v":0}]
[null,{"$f":"Sheet2!I70","v":0},{"$f":"Sheet2!J70","v":0},{"$f":"Sheet2!C70","v":0},{"$f":"Sheet2!B70","v":"00:00:00"},{"$f":"Sheet2!K70","v":0},{"$f":"Sheet2!L70","v":0},{"$f":"Sheet2!AK70","v":0},0,0,{"$f":"Sheet2!BC70","v":0},{"$f":"Sheet2!M70","v":0},{"$f":"Sheet2!N70","v":0},{"$f":"Sheet2!V70","v":0},{"$f":"Sheet2!W70","v":0},0,{"$f":"Sheet2!S70","v":0},{"$f":"Sheet2!T70","v":0},{"$f":"SUM(#REF!)/3","v":{"$error":"#REF!"}},0,{"$f":"Sheet2!AF70","v":0},{"$f":"Sheet2!AG70","v":0},{"$f":"Sheet2!AH70","v":0},{"$f":"Sheet2!AI70","v":0},{"$f":"Sheet2!H70","v":0},{"$f":"Sheet2!Y70","v":0},{"$f":"Sheet2!Z70","v":0},{"$f":"Sheet2!AA70","v":0},{"$f":"Sheet2!AD70","v":0},{"$f":"Sheet2!AC70","v":0},{"$f":"Sheet2!BI70","v":0},{"$f":"Sheet2!BH70","v":0},{"$f":"Sheet2!AL70","v":0},{"$f":"Sheet2!AM70","v":0},{"$f":"Sheet2!AN70","v":0},{"$f":"Sheet2!AO70","v":0},{"$f":"Sheet2!AP70","v":0},{"$f":"Sheet2!AQ70","v":0},{"$f":"Sheet2!BB70","v":0}]
[null,{"$f":"Sheet2!I71","v":0},{"$f":"Sheet2!J71","v":0},{"$f":"Sheet2!C71","v":0},{"$f":"Sheet2!B71","v":"00:00:00"},{"$f":"Sheet2!K71","v":0},{"$f":"Sheet2!L71","v":0},{"$f":"Sheet2!AK71","v":0},0,0,{"$f":"Sheet2!BC71","v":0},{"$f":"Sheet2!M71","v":0},{"$f":"Sheet2!N71","v":0},{"$f":"Sheet2!V71","v":0},{"$f":"Sheet2!W71","v":0},0,{"$f":"Sheet2!S71","v":0},{"$f":"Sheet2!T71","v":0},{"$f":"SUM(#REF!)/3","v":{"$error":"#REF!"}},0,{"$f":"Sheet2!AF71","v":0},{"$f":"Sheet2!AG71","v":0},{"$f":"Sheet2!AH71","v":0},{"$f":"Sheet2!AI71","v":0},{"$f":"Sheet2!H71","v":0},{"$f":"Sheet2!Y71","v":0},{"$f":"Sheet2!Z71","v":0},{"$f":"Sheet2!AA71","v":0},{"$f":"Sheet2!AD71","v":0},{"$f":"Sheet2!AC71","v":0},{"$f":"Sheet2!BI71","v":0},{"$f":"Sheet2!BH71","v":0},{"$f":"Sheet2!AL71","v":0},{"$f":"Sheet2!AM71","v":0},{"$f":"Sheet2!AN71","v":0},{"$f":"Sheet2!AO71","v":0},{"$f":"Sheet2!AP71","v":0},{"$f":"Sheet2!AQ71","v":0},{"$f":"Sheet2!BB71","v":0}]
[null,{"$f":"Sheet2!I72","v":0},{"$f":"Sheet2!J72","v":0},{"$f":"Sheet2!C72","v":0},{"$f":"Sheet2!B72","v":"00:00:00"},{"$f":"Sheet2!K72","v":0},{"$f":"Sheet2!L72","v":0},{"$f":"Sheet2!AK72","v":0},0,0,{"$f":"Sheet2!BC72","v":0},{"$f":"Sheet2!M72","v":0},{"$f":"Sheet2!N72","v":0},{"$f":"Sheet2!V72","v":0},{"$f":"Sheet2!W72","v":0},0,{"$f":"Sheet2!S72","v":0},{"$f":"Sheet2!T72","v":0},{"$f":"SUM(#REF!)/3","v":{"$error":"#REF!"}},0,{"$f":"Sheet2!AF72","v":0},{"$f":"Sheet2!AG72","v":0},{"$f":"Sheet2!AH72","v":0},{"$f":"Sheet2!AI72","v":0},{"$f":"Sheet2!H72","v":0},{"$f":"Sheet2!Y72","v":0},{"$f":"Sheet2!Z72","v":0},{"$f":"Sheet2!AA72","v":0},{"$f":"Sheet2!AD72","v":0},{"$f":"Sheet2!AC72","v":0},{"$f":"Sheet2!BI72","v":0},{"$f":"Sheet2!BH72","v":0},{"$f":"Sheet2!AL72","v":0},{"$f":"Sheet2!AM72","v":0},{"$f":"Sheet2!AN72","v":0},{"$f":"Sheet2!AO72","v":0},{"$f":"Sheet2!AP72","v":0},{"$f":"Sheet2!AQ72","v":0},{"$f":"Sheet2!BB72","v":0}]
[null,{"$f":"Sheet2!I73","v":0},{"$f":"Sheet2!J73","v":0},{"$f":"Sheet2!C73","v":0},{"$f":"Sheet2!B73","v":"00:00:00"},{"$f":"Sheet2!K73","v":0},{"$f":"Sheet2!L73","v":0},{"$f":"Sheet2!AK73","v":0},0,0,{"$f":"Sheet2!BC73","v":0},{"$f":"Sheet2!M73","v":0},{"$f":"Sheet2!N73","v":0},{"$f":"Sheet2!V73","v":0},{"$f":"Sheet2!W73","v":0},0,{"$f":"Sheet2!S73","v":0},{"$f":"Sheet2!T73","v":0},{"$f":"SUM(#REF!)/3","v":{"$error":"#REF!"}},0,{"$f":"Sheet2!AF73","v":0},{"$f":"Sheet2!AG73","v":0},{"$f":"Sheet2!AH73","v":0},{"$f":"Sheet2!AI73","v":0},{"$f":"Sheet2!H73","v":0},{"$f":"Sheet2!Y73","v":0},{"$f":"Sheet2!Z73","v":0},{"$f":"Sheet2!AA73","v":0},{"$f":"Sheet2!AD73","v":0},{"$f":"Sheet2!AC73","v":0},{"$f":"Sheet2!BI73","v":0},{"$f":"Sheet2!BH73","v":0},{"$f":"Sheet2!AL73","v":0},{"$f":"Sheet2!AM73","v":0},{"$f":"Sheet2!AN73","v":0},{"$f":"Sheet2!AO73","v":0},{"$f":"Sheet2!AP73","v":0},{"$f":"Sheet2!AQ73","v":0},{"$f":"Sheet2!BB73","v":0}]
[null,{"$f":"Sheet2!I74","v":0},{"$f":"Sheet2!J74","v":0},{"$f":"Sheet2!C74","v":0},{"$f":"Sheet2!B74","v":"00:00:00"},{"$f":"Sheet2!K74","v":0},{"$f":"Sheet2!L74","v":0},{"$f":"Sheet2!AK74","v":0},0,0,{"$f":"Sheet2!BC74","v":0},{"$f":"Sheet2!M74","v":0},{"$f":"Sheet2!N74","v":0},{"$f":"Sheet2!V74","v":0},{"$f":"Sheet2!W74","v":0},0,{"$f":"Sheet2!S74","v":0},{"$f":"Sheet2!T74","v":0},{"$f":"SUM(#REF!)/3","v":{"$error":"#REF!"}},0,{"$f":"Sheet2!AF74","v":0},{"$f":"Sheet2!AG74","v":0},{"$f":"Sheet2!AH74","v":0},{"$f":"Sheet2!AI74","v":0},{"$f":"Sheet2!H74","v":0},{"$f":"Sheet2!Y74","v":0},{"$f":"Sheet2!Z74","v":0},{"$f":"Sheet2!AA74","v":0},{"$f":"Sheet2!AD74","v":0},{"$f":"Sheet2!AC74","v":0},{"$f":"Sheet2!BI74","v":0},{"$f":"Sheet2!BH74","v":0},{"$f":"Sheet2!AL74","v":0},{"$f":"Sheet2!AM74","v":0},{"$f":"Sheet2!AN74","v":0},{"$f":"Sheet2!AO74","v":0},{"$f":"Sheet2!AP74","v":0},{"$f":"Sheet2!AQ74","v":0},{"$f":"Sheet2!BB74","v":0}]
[null,{"$f":"Sheet2!I75","v":0},{"$f":"Sheet2!J75","v":0},{"$f":"Sheet2!C75","v":0},{"$f":"Sheet2!B75","v":"00:00:00"},{"$f":"Sheet2!K75","v":0},{"$f":"Sheet2!L75","v":0},{"$f":"Sheet2!AK75","v":0},0,0,{"$f":"Sheet2!BC75","v":0},{"$f":"Sheet2!M75","v":0},{"$f":"Sheet2!N75","v":0},{"$f":"Sheet2!V75","v":0},{"$f":"Sheet2!W75","v":0},0,{"$f":"Sheet2!S75","v":0},{"$f":"Sheet2!T75","v":0},{"$f":"SUM(#REF!)/3","v":{"$error":"#REF!"}},0,{"$f":"Sheet2!AF75","v":0},{"$f":"Sheet2!AG75","v":0},{"$f":"Sheet2!AH75","v":0},{"$f":"Sheet2!AI75","v":0},{"$f":"Sheet2!H75","v":0},{"$f":"Sheet2!Y75","v":0},{"$f":"Sheet2!Z75","v":0},{"$f":"Sheet2!AA75","v":0},{"$f":"Sheet2!AD75","v":0},{"$f":"Sheet2!AC75","v":0},{"$f":"Sheet2!BI75","v":0},{"$f":"Sheet2!BH75","v":0},{"$f":"Sheet2!AL75","v":0},{"$f":"Sheet2!AM75","v":0},{"$f":"Sheet2!AN75","v":0},{"$f":"Sheet2!AO75","v":0},{"$f":"Sheet2!AP75","v":0},{"$f":"Sheet2!AQ75","v":0},{"$f":"Sheet2!BB75","v":0}]
[null,{"$f":"Sheet2!I76","v":0},{"$f":"Sheet2!J76","v":0},{"$f":"Sheet2!C76","v":0},{"$f":"Sheet2!B76","v":"00:00:00"},{"$f":"Sheet2!K76","v":0},{"$f":"Sheet2!L76","v":0},{"$f":"Sheet2!AK76","v":0},0,0,{"$f":"Sheet2!BC76","v":0},{"$f":"Sheet2!M76","v":0},{"$f":"Sheet2!N76","v":0},{"$f":"Sheet2!V76","v":0},{"$f":"Sheet2!W76","v":0},0,{"$f":"Sheet2!S76","v":0},{"$f":"Sheet2!T76","v":0},{"$f":"SUM(#REF!)/3","v":{"$error":"#REF!"}},0,{"$f":"Sheet2!AF76","v":0},{"$f":"Sheet2!AG76","v":0},{"$f":"Sheet2!AH76","v":0},{"$f":"Sheet2!AI76","v":0},{"$f":"Sheet2!H76","v":0},{"$f":"Sheet2!Y76","v":0},{"$f":"Sheet2!Z76","v":0},{"$f":"Sheet2!AA76","v":0},{"$f":"Sheet2!AD76","v":0},{"$f":"Sheet2!AC76","v":0},{"$f":"Sheet2!BI76","v":0},{"$f":"Sheet2!BH76","v":0},{"$f":"Sheet2!AL76","v":0},{"$f":"Sheet2!AM76","v":0},{"$f":"Sheet2!AN76","v":0},{"$f":"Sheet2!AO76","v":0},{"$f":"Sheet2!AP76","v":0},{"$f":"Sheet2!AQ76","v":0},{"$f":"Sheet2!BB76","v":0}]
[null,{"$f":"Sheet2!I77","v":0},{"$f":"Sheet2!J77","v":0},{"$f":"Sheet2!C77","v":0},{"$f":"Sheet2!B77","v":"00:00:00"},{"$f":"Sheet2!K77","v":0},{"$f":"Sheet2!L77","v":0},{"$f":"Sheet2!AK77","v":0},0,0,{"$f":"Sheet2!BC77","v":0},{"$f":"Sheet2!M77","v":0},{"$f":"Sheet2!N77","v":0},{"$f":"Sheet2!V77","v":0},{"$f":"Sheet2!W77","v":0},0,{"$f":"Sheet2!S77","v":0},{"$f":"Sheet2!T77","v":0},{"$f":"SUM(#REF!)/3","v":{"$error":"#REF!"}},0,{"$f":"Sheet2!AF77","v":0},{"$f":"Sheet2!AG77","v":0},{"$f":"Sheet2!AH77","v":0},{"$f":"Sheet2!AI77","v":0},{"$f":"Sheet2!H77","v":0},{"$f":"Sheet2!Y77","v":0},{"$f":"Sheet2!Z77","v":0},{"$f":"Sheet2!AA77","v":0},{"$f":"Sheet2!AD77","v":0},{"$f":"Sheet2!AC77","v":0},{"$f":"Sheet2!BI77","v":0},{"$f":"Sheet2!BH77","v":0},{"$f":"Sheet2!AL77","v":0},{"$f":"Sheet2!AM77","v":0},{"$f":"Sheet2!AN77","v":0},{"$f":"Sheet2!AO77","v":0},{"$f":"Sheet2!AP77","v":0},{"$f":"Sheet2!AQ77","v":0},{"$f":"Sheet2!BB77","v":0}]
[null,{"$f":"Sheet2!I78","v":0},{"$f":"Sheet2!J78","v":0},{"$f":"Sheet2!C78","v":0},{"$f":"Sheet2!B78","v":"00:00:00"},{"$f":"Sheet2!K78","v":0},{"$f":"Sheet2!L78","v":0},{"$f":"Sheet2!AK78","v":0},0,0,{"$f":"Sheet2!BC78","v":0},{"$f":"Sheet2!M78","v":0},{"$f":"Sheet2!N78","v":0},{"$f":"Sheet2!V78","v":0},{"$f":"Sheet2!W78","v":0},0,{"$f":"Sheet2!S78","v":0},{"$f":"Sheet2!T78","v":0},{"$f":"SUM(#REF!)/3","v":{"$error":"#REF!"}},0,{"$f":"Sheet2!AF78","v":0},{"$f":"Sheet2!AG78","v":0},{"$f":"Sheet2!AH78","v":0},{"$f":"Sheet2!AI78","v":0},{"$f":"Sheet2!H78","v":0},{"$f":"Sheet2!Y78","v":0},{"$f":"Sheet2!Z78","v":0},{"$f":"Sheet2!AA78","v":0},{"$f":"Sheet2!AD78","v":0},{"$f":"Sheet2!AC78","v":0},{"$f":"Sheet2!BI78","v":0},{"$f":"Sheet2!BH78","v":0},{"$f":"Sheet2!AL78","v":0},{"$f":"Sheet2!AM78","v":0},{"$f":"Sheet2!AN78","v":0},{"$f":"Sheet2!AO78","v":0},{"$f":"Sheet2!AP78","v":0},{"$f":"Sheet2!AQ78","v":0},{"$f":"Sheet2!BB78","v":0}]
[null,{"$f":"Sheet2!I79","v":0},{"$f":"Sheet2!J79","v":0},{"$f":"Sheet2!C79","v":0},{"$f":"Sheet2!B79","v":"00:00:00"},{"$f":"Sheet2!K79","v":0},{"$f":"Sheet2!L79","v":0},{"$f":"Sheet2!AK79","v":0},0,0,{"$f":"Sheet2!BC79","v":0},{"$f":"Sheet2!M79","v":0},{"$f":"Sheet2!N79","v":0},{"$f":"Sheet2!V79","v":0},{"$f":"Sheet2!W79","v":0},0,{"$f":"Sheet2!S79","v":0},{"$f":"Sheet2!T79","v":0},{"$f":"SUM(#REF!)/3","v":{"$error":"#REF!"}},0,{"$f":"Sheet2!AF79","v":0},{"$f":"Sheet2!AG79","v":0},{"$f":"Sheet2!AH79","v":0},{"$f":"Sheet2!AI79","v":0},{"$f":"Sheet2!H79","v":0},{"$f":"Sheet2!Y79","v":0},{"$f":"Sheet2!Z79","v":0},{"$f":"Sheet2!AA79","v":0},{"$f":"Sheet2!AD79","v":0},{"$f":"Sheet2!AC79","v":0},{"$f":"Sheet2!BI79","v":0},{"$f":"Sheet2!BH79","v":0},{"$f":"Sheet2!AL79","v":0},{"$f":"Sheet2!AM79","v":0},{"$f":"Sheet2!AN79","v":0},{"$f":"Sheet2!AO79","v":0},{"$f":"Sheet2!AP79","v":0},{"$f":"Sheet2!AQ79","v":0},{"$f":"Sheet2!BB79","v":0}]
[null,{"$f":"Sheet2!I80","v":0},{"$f":"Sheet2!J80","v":0},{"$f":"Sheet2!C80","v":0},{"$f":"Sheet2!B80","v":"00:00:00"},{"$f":"Sheet2!K80","v":0},{"$f":"Sheet2!L80","v":0},{"$f":"Sheet2!AK80","v":0},0,0,{"$f":"Sheet2!BC80","v":0},{"$f":"Sheet2!M80","v":0},{"$f":"Sheet2!N80","v":0},{"$f":"Sheet2!V80","v":0},{"$f":"Sheet2!W80","v":0},0,{"$f":"Sheet2!S80","v":0},{"$f":"Sheet2!T80","v":0},{"$f":"SUM(#REF!)/3","v":{"$error":"#REF!"}},0,{"$f":"Sheet2!AF80","v":0},{"$f":"Sheet2!AG80","v":0},{"$f":"Sheet2!AH80","v":0},{"$f":"Sheet2!AI80","v":0},{"$f":"Sheet2!H80","v":0},{"$f":"Sheet2!Y80","v":0},{"$f":"Sheet2!Z80","v":0},{"$f":"Sheet2!AA80","v":0},{"$f":"Sheet2!AD80","v":0},{"$f":"Sheet2!AC80","v":0},{"$f":"Sheet2!BI80","v":0},{"$f":"Sheet2!BH80","v":0},{"$f":"Sheet2!AL80","v":0},{"$f":"Sheet2!AM80","v":0},{"$f":"Sheet2!AN80","v":0},{"$f":"Sheet2!AO80","v":0},{"$f":"Sheet2!AP80","v":0},{"$f":"Sheet2!AQ80","v":0},{"$f":"Sheet2!BB80","v":0}]
[null,{"$f":"Sheet2!I81","v":0},{"$f":"Sheet2!J81","v":0},{"$f":"Sheet2!C81","v":0},{"$f":"Sheet2!B81","v":"00:00:00"},{"$f":"Sheet2!K81","v":0},{"$f":"Sheet2!L81","v":0},{"$f":"Sheet2!AK81","v":0},0,0,{"$f":"Sheet2!BC81","v":0},{"$f":"Sheet2!M81","v":0},{"$f":"Sheet2!N81","v":0},{"$f":"Sheet2!V81","v":0},{"$f":"Sheet2!W81","v":0},0,{"$f":"Sheet2!S81","v":0},{"$f":"Sheet2!T81","v":0},{"$f":"SUM(#REF!)/3","v":{"$error":"#REF!"}},0,{"$f":"Sheet2!AF81","v":0},{"$f":"Sheet2!AG81","v":0},{"$f":"Sheet2!AH81","v":0},{"$f":"Sheet2!AI81","v":0},{"$f":"Sheet2!H81","v":0},{"$f":"Sheet2!Y81","v":0},{"$f":"Sheet2!Z81","v":0},{"$f":"Sheet2!AA81","v":0},{"$f":"Sheet2!AD81","v":0},{"$f":"Sheet2!AC81","v":0},{"$f":"Sheet2!BI81","v":0},{"$f":"Sheet2!BH81","v":0},{"$f":"Sheet2!AL81","v":0},{"$f":"Sheet2!AM81","v":0},{"$f":"Sheet2!AN81","v":0},{"$f":"Sheet2!AO81","v":0},{"$f":"Sheet2!AP81","v":0},{"$f":"Sheet2!AQ81","v":0},{"$f":"Sheet2!BB81","v":0}]
[null,{"$f":"Sheet2!I82","v":0},{"$f":"Sheet2!J82","v":0},{"$f":"Sheet2!C82","v":0},{"$f":"Sheet2!B82","v":"00:00:00"},{"$f":"Sheet2!K82","v":0},{"$f":"Sheet2!L82","v":0},{"$f":"Sheet2!AK82","v":0},0,0,{"$f":"Sheet2!BC82","v":0},{"$f":"Sheet2!M82","v":0},{"$f":"Sheet2!N82","v":0},{"$f":"Sheet2!V82","v":0},{"$f":"Sheet2!W82","v":0},0,{"$f":"Sheet2!S82","v":0},{"$f":"Sheet2!T82","v":0},{"$f":"SUM(#REF!)/3","v":{"$error":"#REF!"}},0,{"$f":"Sheet2!AF82","v":0},{"$f":"Sheet2!AG82","v":0},{"$f":"Sheet2!AH82","v":0},{"$f":"Sheet2!AI82","v":0},{"$f":"Sheet2!H82","v":0},{"$f":"Sheet2!Y82","v":0},{"$f":"Sheet2!Z82","v":0},{"$f":"Sheet2!AA82","v":0},{"$f":"Sheet2!AD82","v":0},{"$f":"Sheet2!AC82","v":0},{"$f":"Sheet2!BI82","v":0},{"$f":"Sheet2!BH82","v":0},{"$f":"Sheet2!AL82","v":0},{"$f":"Sheet2!AM82","v":0},{"$f":"Sheet2!AN82","v":0},{"$f":"Sheet2!AO82","v":0},{"$f":"Sheet2!AP82","v":0},{"$f":"Sheet2!AQ82","v":0},{"$f":"Sheet2!BB82","v":0}]
[null,{"$f":"Sheet2!I83","v":0},{"$f":"Sheet2!J83","v":0},{"$f":"Sheet2!C83","v":0},{"$f":"Sheet2!B83","v":"00:00:00"},{"$f":"Sheet2!K83","v":0},{"$f":"Sheet2!L83","v":0},{"$f":"Sheet2!AK83","v":0},0,0,{"$f":"Sheet2!BC83","v":0},{"$f":"Sheet2!M83","v":0},{"$f":"Sheet2!N83","v":0},{"$f":"Sheet2!V83","v":0},{"$f":"Sheet2!W83","v":0},0,{"$f":"Sheet2!S83","v":0},{"$f":"Sheet2!T83","v":0},{"$f":"SUM(#REF!)/3","v":{"$error":"#REF!"}},0,{"$f":"Sheet2!AF83","v":0},{"$f":"Sheet2!AG83","v":0},{"$f":"Sheet2!AH83","v":0},{"$f":"Sheet2!AI83","v":0},{"$f":"Sheet2!H83","v":0},{"$f":"Sheet2!Y83","v":0},{"$f":"Sheet2!Z83","v":0},{"$f":"Sheet2!AA83","v":0},{"$f":"Sheet2!AD83","v":0},{"$f":"Sheet2!AC83","v":0},{"$f":"Sheet2!BI83","v":0},{"$f":"Sheet2!BH83","v":0},{"$f":"Sheet2!AL83","v":0},{"$f":"Sheet2!AM83","v":0},{"$f":"Sheet2!AN83","v":0},{"$f":"Sheet2!AO83","v":0},{"$f":"Sheet2!AP83","v":0},{"$f":"Sheet2!AQ83","v":0},{"$f":"Sheet2!BB83","v":0}]
[null,{"$f":"Sheet2!I84","v":0},{"$f":"Sheet2!J84","v":0},{"$f":"Sheet2!C84","v":0},{"$f":"Sheet2!B84","v":"00:00:00"},{"$f":"Sheet2!K84","v":0},{"$f":"Sheet2!L84","v":0},{"$f":"Sheet2!AK84","v":0},0,0,{"$f":"Sheet2!BC84","v":0},{"$f":"Sheet2!M84","v":0},{"$f":"Sheet2!N84","v":0},{"$f":"Sheet2!V84","v":0},{"$f":"Sheet2!W84","v":0},0,{"$f":"Sheet2!S84","v":0},{"$f":"Sheet2!T84","v":0},{"$f":"SUM(#REF!)/3","v":{"$error":"#REF!"}},0,{"$f":"Sheet2!AF84","v":0},{"$f":"Sheet2!AG84","v":0},{"$f":"Sheet2!AH84","v":0},{"$f":"Sheet2!AI84","v":0},{"$f":"Sheet2!H84","v":0},{"$f":"Sheet2!Y84","v":0},{"$f":"Sheet2!Z84","v":0},{"$f":"Sheet2!AA84","v":0},{"$f":"Sheet2!AD84","v":0},{"$f":"Sheet2!AC84","v":0},{"$f":"Sheet2!BI84","v":0},{"$f":"Sheet2!BH84","v":0},{"$f":"Sheet2!AL84","v":0},{"$f":"Sheet2!AM84","v":0},{"$f":"Sheet2!AN84","v":0},{"$f":"Sheet2!AO84","v":0},{"$f":"Sheet2!AP84","v":0},{"$f":"Sheet2!AQ84","v":0},{"$f":"Sheet2!BB84","v":0}]
[null,{"$f":"Sheet2!I85","v":0},{"$f":"Sheet2!J85","v":0},{"$f":"Sheet2!C85","v":0},{"$f":"Sheet2!B85","v":"00:00:00"},{"$f":"Sheet2!K85","v":0},{"$f":"Sheet2!L85","v":0},{"$f":"Sheet2!AK85","v":0},0,0,{"$f":"Sheet2!BC85","v":0},{"$f":"Sheet2!M85","v":0},{"$f":"Sheet2!N85","v":0},{"$f":"Sheet2!V85","v":0},{"$f":"Sheet2!W85","v":0},0,{"$f":"Sheet2!S85","v":0},{"$f":"Sheet2!T85","v":0},{"$f":"SUM(#REF!)/3","v":{"$error":"#REF!"}},0,{"$f":"Sheet2!AF85","v":0},{"$f":"Sheet2!AG85","v":0},{"$f":"Sheet2!AH85","v":0},{"$f":"Sheet2!AI85","v":0},{"$f":"Sheet2!H85","v":0},{"$f":"Sheet2!Y85","v":0},{"$f":"Sheet2!Z85","v":0},{"$f":"Sheet2!AA85","v":0},{"$f":"Sheet2!AD85","v":0},{"$f":"Sheet2!AC85","v":0},{"$f":"Sheet2!BI85","v":0},{"$f":"Sheet2!BH85","v":0},{"$f":"Sheet2!AL85","v":0},{"$f":"Sheet2!AM85","v":0},{"$f":"Sheet2!AN85","v":0},{"$f":"Sheet2!AO85","v":0},{"$f":"Sheet2!AP85","v":0},{"$f":"Sheet2!AQ85","v":0},{"$f":"Sheet2!BB85","v":0}]
[null,{"$f":"Sheet2!I86","v":0},{"$f":"Sheet2!J86","v":0},{"$f":"Sheet2!C86","v":0},{"$f":"Sheet2!B86","v":"00:00:00"},{"$f":"Sheet2!K86","v":0},{"$f":"Sheet2!L86","v":0},{"$f":"Sheet2!AK86","v":0},0,0,{"$f":"Sheet2!BC86","v":0},{"$f":"Sheet2!M86","v":0},{"$f":"Sheet2!N86","v":0},{"$f":"Sheet2!V86","v":0},{"$f":"Sheet2!W86","v":0},0,{"$f":"Sheet2!S86","v":0},{"$f":"Sheet2!T86","v":0},{"$f":"SUM(#REF!)/3","v":{"$error":"#REF!"}},0,{"$f":"Sheet2!AF86","v":0},{"$f":"Sheet2!AG86","v":0},{"$f":"Sheet2!AH86","v":0},{"$f":"Sheet2!AI86","v":0},{"$f":"Sheet2!H86","v":0},{"$f":"Sheet2!Y86","v":0},{"$f":"Sheet2!Z86","v":0},{"$f":"Sheet2!AA86","v":0},{"$f":"Sheet2!AD86","v":0},{"$f":"Sheet2!AC86","v":0},{"$f":"Sheet2!BI86","v":0},{"$f":"Sheet2!BH86","v":0},{"$f":"Sheet2!AL86","v":0},{"$f":"Sheet2!AM86","v":0},{"$f":"Sheet2!AN86","v":0},{"$f":"Sheet2!AO86","v":0},{"$f":"Sheet2!AP86","v":0},{"$f":"Sheet2!AQ86","v":0},{"$f":"Sheet2!BB86","v":0}]
[null,{"$f":"Sheet2!I87","v":0},{"$f":"Sheet2!J87","v":0},{"$f":"Sheet2!C87","v":0},{"$f":"Sheet2!B87","v":"00:00:00"},{"$f":"Sheet2!K87","v":0},{"$f":"Sheet2!L87","v":0},{"$f":"Sheet2!AK87","v":0},0,0,{"$f":"Sheet2!BC87","v":0},{"$f":"Sheet2!M87","v":0},{"$f":"Sheet2!N87","v":0},{"$f":"Sheet2!V87","v":0},{"$f":"Sheet2!W87","v":0},0,{"$f":"Sheet2!S87","v":0},{"$f":"Sheet2!T87","v":0},{"$f":"SUM(#REF!)/3","v":{"$error":"#REF!"}},0,{"$f":"Sheet2!AF87","v":0},{"$f":"Sheet2!AG87","v":0},{"$f":"Sheet2!AH87","v":0},{"$f":"Sheet2!AI87","v":0},{"$f":"Sheet2!H87","v":0},{"$f":"Sheet2!Y87","v":0},{"$f":"Sheet2!Z87","v":0},{"$f":"Sheet2!AA87","v":0},{"$f":"Sheet2!AD87","v":0},{"$f":"Sheet2!AC87","v":0},{"$f":"Sheet2!BI87","v":0},{"$f":"Sheet2!BH87","v":0},{"$f":"Sheet2!AL87","v":0},{"$f":"Sheet2!AM87","v":0},{"$f":"Sheet2!AN87","v":0},{"$f":"Sheet2!AO87","v":0},{"$f":"Sheet2!AP87","v":0},{"$f":"Sheet2!AQ87","v":0},{"$f":"Sheet2!BB87","v":0}]
[null,{"$f":"Sheet2!I88","v":0},{"$f":"Sheet2!J88","v":0},{"$f":"Sheet2!C88","v":0},{"$f":"Sheet2!B88","v":"00:00:00"},{"$f":"Sheet2!K88","v":0},{"$f":"Sheet2!L88","v":0},{"$f":"Sheet2!AK88","v":0},0,0,{"$f":"Sheet2!BC88","v":0},{"$f":"Sheet2!M88","v":0},{"$f":"Sheet2!N88","v":0},{"$f":"Sheet2!V88","v":0},{"$f":"Sheet2!W88","v":0},0,{"$f":"Sheet2!S88","v":0},{"$f":"Sheet2!T88","v":0},{"$f":"SUM(#REF!)/3","v":{"$error":"#REF!"}},0,{"$f":"Sheet2!AF88","v":0},{"$f":"Sheet2!AG88","v":0},{"$f":"Sheet2!AH88","v":0},{"$f":"Sheet2!AI88","v":0},{"$f":"Sheet2!H88","v":0},{"$f":"Sheet2!Y88","v":0},{"$f":"Sheet2!Z88","v":0},{"$f":"Sheet2!AA88","v":0},{"$f":"Sheet2!AD88","v":0},{"$f":"Sheet2!AC88","v":0},{"$f":"Sheet2!BI88","v":0},{"$f":"Sheet2!BH88","v":0},{"$f":"Sheet2!AL88","v":0},{"$f":"Sheet2!AM88","v":0},{"$f":"Sheet2!AN88","v":0},{"$f":"Sheet2!AO88","v":0},{"$f":"Sheet2!AP88","v":0},{"$f":"Sheet2!AQ88","v":0},{"$f":"Sheet2!BB88","v":0}]
[null,{"$f":"Sheet2!I89","v":0},{"$f":"Sheet2!J89","v":0},{"$f":"Sheet2!C89","v":0},{"$f":"Sheet2!B89","v":"00:00:00"},{"$f":"Sheet2!K89","v":0},{"$f":"Sheet2!L89","v":0},{"$f":"Sheet2!AK89","v":0},0,0,{"$f":"Sheet2!BC89","v":0},{"$f":"Sheet2!M89","v":0},{"$f":"Sheet2!N89","v":0},{"$f":"Sheet2!V89","v":0},{"$f":"Sheet2!W89","v":0},0,{"$f":"Sheet2!S89","v":0},{"$f":"Sheet2!T89","v":0},{"$f":"SUM(#REF!)/3","v":{"$error":"#REF!"}},0,{"$f":"Sheet2!AF89","v":0},{"$f":"Sheet2!AG89","v":0},{"$f":"Sheet2!AH89","v":0},{"$f":"Sheet2!AI89","v":0},{"$f":"Sheet2!H89","v":0},{"$f":"Sheet2!Y89","v":0},{"$f":"Sheet2!Z89","v":0},{"$f":"Sheet2!AA89","v":0},{"$f":"Sheet2!AD89","v":0},{"$f":"Sheet2!AC89","v":0},{"$f":"Sheet2!BI89","v":0},{"$f":"Sheet2!BH89","v":0},{"$f":"Sheet2!AL89","v":0},{"$f":"Sheet2!AM89","v":0},{"$f":"Sheet2!AN89","v":0},{"$f":"Sheet2!AO89","v":0},{"$f":"Sheet2!AP89","v":0},{"$f":"Sheet2!AQ89","v":0},{"$f":"Sheet2!BB89","v":0}]
[null,{"$f":"Sheet2!I90","v":0},{"$f":"Sheet2!J90","v":0},{"$f":"Sheet2!C90","v":0},{"$f":"Sheet2!B90","v":"00:00:00"},{"$f":"Sheet2!K90","v":0},{"$f":"Sheet2!L90","v":0},{"$f":"Sheet2!AK90","v":0},0,0,{"$f":"Sheet2!BC90","v":0},{"$f":"Sheet2!M90","v":0},{"$f":"Sheet2!N90","v":0},{"$f":"Sheet2!V90","v":0},{"$f":"Sheet2!W90","v":0},0,{"$f":"Sheet2!S90","v":0},{"$f":"Sheet2!T90","v":0},{"$f":"SUM(#REF!)/3","v":{"$error":"#REF!"}},0,{"$f":"Sheet2!AF90","v":0},{"$f":"Sheet2!AG90","v":0},{"$f":"Sheet2!AH90","v":0},{"$f":"Sheet2!AI90","v":0},{"$f":"Sheet2!H90","v":0},{"$f":"Sheet2!Y90","v":0},{"$f":"Sheet2!Z90","v":0},{"$f":"Sheet2!AA90","v":0},{"$f":"Sheet2!AD90","v":0},{"$f":"Sheet2!AC90","v":0},{"$f":"Sheet2!BI90","v":0},{"$f":"Sheet2!BH90","v":0},{"$f":"Sheet2!AL90","v":0},{"$f":"Sheet2!AM90","v":0},{"$f":"Sheet2!AN90","v":0},{"$f":"Sheet2!AO90","v":0},{"$f":"Sheet2!AP90","v":0},{"$f":"Sheet2!AQ90","v":0},{"$f":"Sheet2!BB90","v":0}]
[null,{"$f":"Sheet2!I91","v":0},{"$f":"Sheet2!J91","v":0},{"$f":"Sheet2!C91","v":0},{"$f":"Sheet2!B91","v":"00:00:00"},{"$f":"Sheet2!K91","v":0},{"$f":"Sheet2!L91","v":0},{"$f":"Sheet2!AK91","v":0},0,0,{"$f":"Sheet2!BC91","v":0},{"$f":"Sheet2!M91","v":0},{"$f":"Sheet2!N91","v":0},{"$f":"Sheet2!V91","v":0},{"$f":"Sheet2!W91","v":0},0,{"$f":"Sheet2!S91","v":0},{"$f":"Sheet2!T91","v":0},{"$f":"SUM(#REF!)/3","v":{"$error":"#REF!"}},0,{"$f":"Sheet2!AF91","v":0},{"$f":"Sheet2!AG91","v":0},{"$f":"Sheet2!AH91","v":0},{"$f":"Sheet2!AI91","v":0},{"$f":"Sheet2!H91","v":0},{"$f":"Sheet2!Y91","v":0},{"$f":"Sheet2!Z91","v":0},{"$f":"Sheet2!AA91","v":0},{"$f":"Sheet2!AD91","v":0},{"$f":"Sheet2!AC91","v":0},{"$f":"Sheet2!BI91","v":0},{"$f":"Sheet2!BH91","v":0},{"$f":"Sheet2!AL91","v":0},{"$f":"Sheet2!AM91","v":0},{"$f":"Sheet2!AN91","v":0},{"$f":"Sheet2!AO91","v":0},{"$f":"Sheet2!AP91","v":0},{"$f":"Sheet2!AQ91","v":0},{"$f":"Sheet2!BB91","v":0}]
[null,{"$f":"Sheet2!I92","v":0},{"$f":"Sheet2!J92","v":0},{"$f":"Sheet2!C92","v":0},{"$f":"Sheet2!B92","v":"00:00:00"},{"$f":"Sheet2!K92","v":0},{"$f":"Sheet2!L92","v":0},{"$f":"Sheet2!AK92","v":0},0,0,{"$f":"Sheet2!BC92","v":0},{"$f":"Sheet2!M92","v":0},{"$f":"Sheet2!N92","v":0},{"$f":"Sheet2!V92","v":0},{"$f":"Sheet2!W92","v":0},0,{"$f":"Sheet2!S92","v":0},{"$f":"Sheet2!T92","v":0},{"$f":"SUM(#REF!)/3","v":{"$error":"#REF!"}},0,{"$f":"Sheet2!AF92","v":0},{"$f":"Sheet2!AG92","v":0},{"$f":"Sheet2!AH92","v":0},{"$f":"Sheet2!AI92","v":0},{"$f":"Sheet2!H92","v":0},{"$f":"Sheet2!Y92","v":0},{"$f":"Sheet2!Z92","v":0},{"$f":"Sheet2!AA92","v":0},{"$f":"Sheet2!AD92","v":0},{"$f":"Sheet2!AC92","v":0},{"$f":"Sheet2!BI92","v":0},{"$f":"Sheet2!BH92","v":0},{"$f":"Sheet2!AL92","v":0},{"$f":"Sheet2!AM92","v":0},{"$f":"Sheet2!AN92","v":0},{"$f":"Sheet2!AO92","v":0},{"$f":"Sheet2!AP92","v":0},{"$f":"Sheet2!AQ92","v":0},{"$f":"Sheet2!BB92","v":0}]
[null,{"$f":"Sheet2!I93","v":0},{"$f":"Sheet2!J93","v":0},{"$f":"Sheet2!C93","v":0},{"$f":"Sheet2!B93","v":"00:00:00"},{"$f":"Sheet2!K93","v":0},{"$f":"Sheet2!L93","v":0},{"$f":"Sheet2!AK93","v":0},0,0,{"$f":"Sheet2!BC93","v":0},{"$f":"Sheet2!M93","v":0},{"$f":"Sheet2!N93","v":0},{"$f":"Sheet2!V93","v":0},{"$f":"Sheet2!W93","v":0},0,{"$f":"Sheet2!S93","v":0},{"$f":"Sheet2!T93","v":0},{"$f":"SUM(#REF!)/3","v":{"$error":"#REF!"}},0,{"$f":"Sheet2!AF93","v":0},{"$f":"Sheet2!AG93","v":0},{"$f":"Sheet2!AH93","v":0},{"$f":"Sheet2!AI93","v":0},{"$f":"Sheet2!H93","v":0},{"$f":"Sheet2!Y93","v":0},{"$f":"Sheet2!Z93","v":0},{"$f":"Sheet2!AA93","v":0},{"$f":"Sheet2!AD93","v":0},{"$f":"Sheet2!AC93","v":0},{"$f":"Sheet2!BI93","v":0},{"$f":"Sheet2!BH93","v":0},{"$f":"Sheet2!AL93","v":0},{"$f":"Sheet2!AM93","v":0},{"$f":"Sheet2!AN93","v":0},{"$f":"Sheet2!AO93","v":0},{"$f":"Sheet2!AP93","v":0},{"$f":"Sheet2!AQ93","v":0},{"$f":"Sheet2!BB93","v":0}]
[null,{"$f":"Sheet2!I94","v":0},{"$f":"Sheet2!J94","v":0},{"$f":"Sheet2!C94","v":0},{"$f":"Sheet2!B94","v":"00:00:00"},{"$f":"Sheet2!K94","v":0},{"$f":"Sheet2!L94","v":0},{"$f":"Sheet2!AK94","v":0},0,0,{"$f":"Sheet2!BC94","v":0},{"$f":"Sheet2!M94","v":0},{"$f":"Sheet2!N94","v":0},{"$f":"Sheet2!V94","v":0},{"$f":"Sheet2!W94","v":0},0,{"$f":"Sheet2!S94","v":0},{"$f":"Sheet2!T94","v":0},{"$f":"SUM(#REF!)/3","v":{"$error":"#REF!"}},0,{"$f":"Sheet2!AF94","v":0},{"$f":"Sheet2!AG94","v":0},{"$f":"Sheet2!AH94","v":0},{"$f":"Sheet2!AI94","v":0},{"$f":"Sheet2!H94","v":0},{"$f":"Sheet2!Y94","v":0},{"$f":"Sheet2!Z94","v":0},{"$f":"Sheet2!AA94","v":0},{"$f":"Sheet2!AD94","v":0},{"$f":"Sheet2!AC94","v":0},{"$f":"Sheet2!BI94","v":0},{"$f":"Sheet2!BH94","v":0},{"$f":"Sheet2!AL94","v":0},{"$f":"Sheet2!AM94","v":0},{"$f":"Sheet2!AN94","v":0},{"$f":"Sheet2!AO94","v":0},{"$f":"Sheet2!AP94","v":0},{"$f":"Sheet2!AQ94","v":0},{"$f":"Sheet2!BB94","v":0}]
[null,{"$f":"Sheet2!I95","v":0},{"$f":"Sheet2!J95","v":0},{"$f":"Sheet2!C95","v":0},{"$f":"Sheet2!B95","v":"00:00:00"},{"$f":"Sheet2!K95","v":0},{"$f":"Sheet2!L95","v":0},{"$f":"Sheet2!AK95","v":0},0,0,{"$f":"Sheet2!BC95","v":0},{"$f":"Sheet2!M95","v":0},{"$f":"Sheet2!N95","v":0},{"$f":"Sheet2!V95","v":0},{"$f":"Sheet2!W95","v":0},0,{"$f":"Sheet2!S95","v":0},{"$f":"Sheet2!T95","v":0},{"$f":"SUM(#REF!)/3","v":{"$error":"#REF!"}},0,{"$f":"Sheet2!AF95","v":0},{"$f":"Sheet2!AG95","v":0},{"$f":"Sheet2!AH95","v":0},{"$f":"Sheet2!AI95","v":0},{"$f":"Sheet2!H95","v":0},{"$f":"Sheet2!Y95","v":0},{"$f":"Sheet2!Z95","v":0},{"$f":"Sheet2!AA95","v":0},{"$f":"Sheet2!AD95","v":0},{"$f":"Sheet2!AC95","v":0},{"$f":"Sheet2!BI95","v":0},{"$f":"Sheet2!BH95","v":0},{"$f":"Sheet2!AL95","v":0},{"$f":"Sheet2!AM95","v":0},{"$f":"Sheet2!AN95","v":0},{"$f":"Sheet2!AO95","v":0},{"$f":"Sheet2!AP95","v":0},{"$f":"Sheet2!AQ95","v":0},{"$f":"Sheet2!BB95","v":0}]
[null,{"$f":"Sheet2!I96","v":0},{"$f":"Sheet2!J96","v":0},{"$f":"Sheet2!C96","v":0},{"$f":"Sheet2!B96","v":"00:00:00"},{"$f":"Sheet2!K96","v":0},{"$f":"Sheet2!L96","v":0},{"$f":"Sheet2!AK96","v":0},0,0,{"$f":"Sheet2!BC96","v":0},{"$f":"Sheet2!M96","v":0},{"$f":"Sheet2!N96","v":0},{"$f":"Sheet2!V96","v":0},{"$f":"Sheet2!W96","v":0},0,{"$f":"Sheet2!S96","v":0},{"$f":"Sheet2!T96","v":0},{"$f":"SUM(#REF!)/3","v":{"$error":"#REF!"}},0,{"$f":"Sheet2!AF96","v":0},{"$f":"Sheet2!AG96","v":0},{"$f":"Sheet2!AH96","v":0},{"$f":"Sheet2!AI96","v":0},{"$f":"Sheet2!H96","v":0},{"$f":"Sheet2!Y96","v":0},{"$f":"Sheet2!Z96","v":0},{"$f":"Sheet2!AA96","v":0},{"$f":"Sheet2!AD96","v":0},{"$f":"Sheet2!AC96","v":0},{"$f":"Sheet2!BI96","v":0},{"$f":"Sheet2!BH96","v":0},{"$f":"Sheet2!AL96","v":0},{"$f":"Sheet2!AM96","v":0},{"$f":"Sheet2!AN96","v":0},{"$f":"Sheet2!AO96","v":0},{"$f":"Sheet2!AP96","v":0},{"$f":"Sheet2!AQ96","v":0},{"$f":"Sheet2!BB96","v":0}]
[null,{"$f":"Sheet2!I97","v":0},{"$f":"Sheet2!J97","v":0},{"$f":"Sheet2!C97","v":0},{"$f":"Sheet2!B97","v":"00:00:00"},{"$f":"Sheet2!K97","v":0},{"$f":"Sheet2!L97","v":0},{"$f":"Sheet2!AK97","v":0},0,0,{"$f":"Sheet2!BC97","v":0},{"$f":"Sheet2!M97","v":0},{"$f":"Sheet2!N97","v":0},{"$f":"Sheet2!V97","v":0},{"$f":"Sheet2!W97","v":0},0,{"$f":"Sheet2!S97","v":0},{"$f":"Sheet2!T97","v":0},{"$f":"SUM(#REF!)/3","v":{"$error":"#REF!"}},0,{"$f":"Sheet2!AF97","v":0},{"$f":"Sheet2!AG97","v":0},{"$f":"Sheet2!AH97","v":0},{"$f":"Sheet2!AI97","v":0},{"$f":"Sheet2!H97","v":0},{"$f":"Sheet2!Y97","v":0},{"$f":"Sheet2!Z97","v":0},{"$f":"Sheet2!AA97","v":0},{"$f":"Sheet2!AD97","v":0},{"$f":"Sheet2!AC97","v":0},{"$f":"Sheet2!BI97","v":0},{"$f":"Sheet2!BH97","v":0},{"$f":"Sheet2!AL97","v":0},{"$f":"Sheet2!AM97","v":0},{"$f":"Sheet2!AN97","v":0},{"$f":"Sheet2!AO97","v":0},{"$f":"Sheet2!AP97","v":0},{"$f":"Sheet2!AQ97","v":0},{"$f":"Sheet2!BB97","v":0}]
[null,{"$f":"Sheet2!I98","v":0},{"$f":"Sheet2!J98","v":0},{"$f":"Sheet2!C98","v":0},{"$f":"Sheet2!B98","v":"00:00:00"},{"$f":"Sheet2!K98","v":0},{"$f":"Sheet2!L98","v":0},{"$f":"Sheet2!AK98","v":0},0,0,{"$f":"Sheet2!BC98","v":0},{"$f":"Sheet2!M98","v":0},{"$f":"Sheet2!N98","v":0},{"$f":"Sheet2!V98","v":0},{"$f":"Sheet2!W98","v":0},0,{"$f":"Sheet2!S98","v":0},{"$f":"Sheet2!T98","v":0},{"$f":"SUM(#REF!)/3","v":{"$error":"#REF!"}},0,{"$f":"Sheet2!AF98","v":0},{"$f":"Sheet2!AG98","v":0},{"$f":"Sheet2!AH98","v":0},{"$f":"Sheet2!AI98","v":0},{"$f":"Sheet2!H98","v":0},{"$f":"Sheet2!Y98","v":0},{"$f":"Sheet2!Z98","v":0},{"$f":"Sheet2!AA98","v":0},{"$f":"Sheet2!AD98","v":0},{"$f":"Sheet2!AC98","v":0},{"$f":"Sheet2!BI98","v":0},{"$f":"Sheet2!BH98","v":0},{"$f":"Sheet2!AL98","v":0},{"$f":"Sheet2!AM98","v":0},{"$f":"Sheet2!AN98","v":0},{"$f":"Sheet2!AO98","v":0},{"$f":"Sheet2!AP98","v":0},{"$f":"Sheet2!AQ98","v":0},{"$f":"Sheet2!BB98","v":0}]
[null,{"$f":"Sheet2!I99","v":0},{"$f":"Sheet2!J99","v":0},{"$f":"Sheet2!C99","v":0},{"$f":"Sheet2!B99","v":"00:00:00"},{"$f":"Sheet2!K99","v":0},{"$f":"Sheet2!L99","v":0},{"$f":"Sheet2!AK99","v":0},0,0,{"$f":"Sheet2!BC99","v":0},{"$f":"Sheet2!M99","v":0},{"$f":"Sheet2!N99","v":0},{"$f":"Sheet2!V99","v":0},{"$f":"Sheet2!W99","v":0},0,{"$f":"Sheet2!S99","v":0},{"$f":"Sheet2!T99","v":0},{"$f":"SUM(#REF!)/3","v":{"$error":"#REF!"}},0,{"$f":"Sheet2!AF99","v":0},{"$f":"Sheet2!AG99","v":0},{"$f":"Sheet2!AH99","v":0},{"$f":"Sheet2!AI99","v":0},{"$f":"Sheet2!H99","v":0},{"$f":"Sheet2!Y99","v":0},{"$f":"Sheet2!Z99","v":0},{"$f":"Sheet2!AA99","v":0},{"$f":"Sheet2!AD99","v":0},{"$f":"Sheet2!AC99","v":0},{"$f":"Sheet2!BI99","v":0},{"$f":"Sheet2!BH99","v":0},{"$f":"Sheet2!AL99","v":0},{"$f":"Sheet2!AM99","v":0},{"$f":"Sheet2!AN99","v":0},{"$f":"Sheet2!AO99","v":0},{"$f":"Sheet2!AP99","v":0},{"$f":"Sheet2!AQ99","v":0},{"$f":"Sheet2!BB99","v":0}]
[null,{"$f":"Sheet2!I100","v":0},{"$f":"Sheet2!J100","v":0},{"$f":"Sheet2!C100","v":0},{"$f":"Sheet2!B100","v":"00:00:00"},{"$f":"Sheet2!K100","v":0},{"$f":"Sheet2!L100","v":0},{"$f":"Sheet2!AK100","v":0},0,0,{"$f":"Sheet2!BC100","v":0},{"$f":"Sheet2!M100","v":0},{"$f":"Sheet2!N100","v":0},{"$f":"Sheet2!V100","v":0},{"$f":"Sheet2!W100","v":0},0,{"$f":"Sheet2!S100","v":0},{"$f":"Sheet2!T100","v":0},{"$f":"SUM(#REF!)/3","v":{"$error":"#REF!"}},0,{"$f":"Sheet2!AF100","v":0},{"$f":"Sheet2!AG100","v":0},{"$f":"Sheet2!AH100","v":0},{"$f":"Sheet2!AI100","v":0},{"$f":"Sheet2!H100","v":0},{"$f":"Sheet2!Y100","v":0},{"$f":"Sheet2!Z100","v":0},{"$f":"Sheet2!AA100","v":0},{"$f":"Sheet2!AD100","v":0},{"$f":"Sheet2!AC100","v":0},{"$f":"Sheet2!BI100","v":0},{"$f":"Sheet2!BH100","v":0},{"$f":"Sheet2!AL100","v":0},{"$f":"Sheet2!AM100","v":0},{"$f":"Sheet2!AN100","v":0},{"$f":"Sheet2!AO100","v":0},{"$f":"Sheet2!AP100","v":0},{"$f":"Sheet2!AQ100","v":0},{"$f":"Sheet2!BB100","v":0}]
[null,{"$f":"Sheet2!I101","v":0},{"$f":"Sheet2!J101","v":0},{"$f":"Sheet2!C101","v":0},{"$f":"Sheet2!B101","v":"00:00:00"},{"$f":"Sheet2!K101","v":0},{"$f":"Sheet2!L101","v":0},{"$f":"Sheet2!AK101","v":0},0,0,{"$f":"Sheet2!BC101","v":0},{"$f":"Sheet2!M101","v":0},{"$f":"Sheet2!N101","v":0},{"$f":"Sheet2!V101","v":0},{"$f":"Sheet2!W101","v":0},0,{"$f":"Sheet2!S101","v":0},{"$f":"Sheet2!T101","v":0},{"$f":"SUM(#REF!)/3","v":{"$error":"#REF!"}},0,{"$f":"Sheet2!AF101","v":0},{"$f":"Sheet2!AG101","v":0},{"$f":"Sheet2!AH101","v":0},{"$f":"Sheet2!AI101","v":0},{"$f":"Sheet2!H101","v":0},{"$f":"Sheet2!Y101","v":0},{"$f":"Sheet2!Z101","v":0},{"$f":"Sheet2!AA101","v":0},{"$f":"Sheet2!AD101","v":0},{"$f":"Sheet2!AC101","v":0},{"$f":"Sheet2!BI101","v":0},{"$f":"Sheet2!BH101","v":0},{"$f":"Sheet2!AL101","v":0},{"$f":"Sheet2!AM101","v":0},{"$f":"Sheet2!AN101","v":0},{"$f":"Sheet2!AO101","v":0},{"$f":"Sheet2!AP101","v":0},{"$f":"Sheet2!AQ101","v":0},{"$f":"Sheet2!BB101","v":0}]
[null,{"$f":"Sheet2!I102","v":0},{"$f":"Sheet2!J102","v":0},{"$f":"Sheet2!C102","v":0},{"$f":"Sheet2!B102","v":"00:00:00"},{"$f":"Sheet2!K102","v":0},{"$f":"Sheet2!L102","v":0},{"$f":"Sheet2!AK102","v":0},0,0,{"$f":"Sheet2!BC102","v":0},{"$f":"Sheet2!M102","v":0},{"$f":"Sheet2!N102","v":0},{"$f":"Sheet2!V102","v":0},{"$f":"Sheet2!W102","v":0},0,{"$f":"Sheet2!S102","v":0},{"$f":"Sheet2!T102","v":0},{"$f":"SUM(#REF!)/3","v":{"$error":"#REF!"}},0,{"$f":"Sheet2!AF102","v":0},{"$f":"Sheet2!AG102","v":0},{"$f":"Sheet2!AH102","v":0},{"$f":"Sheet2!AI102","v":0},{"$f":"Sheet2!H102","v":0},{"$f":"Sheet2!Y102","v":0},{"$f":"Sheet2!Z102","v":0},{"$f":"Sheet2!AA102","v":0},{"$f":"Sheet2!AD102","v":0},{"$f":"Sheet2!AC102","v":0},{"$f":"Sheet2!BI102","v":0},{"$f":"Sheet2!BH102","v":0},{"$f":"Sheet2!AL102","v":0},{"$f":"Sheet2!AM102","v":0},{"$f":"Sheet2!AN102","v":0},{"$f":"Sheet2!AO102","v":0},{"$f":"Sheet2!AP102","v":0},{"$f":"Sheet2!AQ102","v":0},{"$f":"Sheet2!BB102","v":0}]
[null,{"$f":"Sheet2!I103","v":0},{"$f":"Sheet2!J103","v":0},{"$f":"Sheet2!C103","v":0},{"$f":"Sheet2!B103","v":"00:00:00"},{"$f":"Sheet2!K103","v":0},{"$f":"Sheet2!L103","v":0},{"$f":"Sheet2!AK103","v":0},0,0,{"$f":"Sheet2!BC103","v":0},{"$f":"Sheet2!M103","v":0},{"$f":"Sheet2!N103","v":0},{"$f":"Sheet2!V103","v":0},{"$f":"Sheet2!W103","v":0},0,{"$f":"Sheet2!S103","v":0},{"$f":"Sheet2!T103","v":0},{"$f":"SUM(#REF!)/3","v":{"$error":"#REF!"}},0,{"$f":"Sheet2!AF103","v":0},{"$f":"Sheet2!AG103","v":0},{"$f":"Sheet2!AH103","v":0},{"$f":"Sheet2!AI103","v":0},{"$f":"Sheet2!H103","v":0},{"$f":"Sheet2!Y103","v":0},{"$f":"Sheet2!Z103","v":0},{"$f":"Sheet2!AA103","v":0},{"$f":"Sheet2!AD103","v":0},{"$f":"Sheet2!AC103","v":0},{"$f":"Sheet2!BI103","v":0},{"$f":"Sheet2!BH103","v":0},{"$f":"Sheet2!AL103","v":0},{"$f":"Sheet2!AM103","v":0},{"$f":"Sheet2!AN103","v":0},{"$f":"Sheet2!AO103","v":0},{"$f":"Sheet2!AP103","v":0},{"$f":"Sheet2!AQ103","v":0},{"$f":"Sheet2!BB103","v":0}]
[null,{"$f":"Sheet2!I104","v":0},{"$f":"Sheet2!J104","v":0},{"$f":"Sheet2!C104","v":0},{"$f":"Sheet2!B104","v":"00:00:00"},{"$f":"Sheet2!K104","v":0},{"$f":"Sheet2!L104","v":0},{"$f":"Sheet2!AK104","v":0},0,0,{"$f":"Sheet2!BC104","v":0},{"$f":"Sheet2!M104","v":0},{"$f":"Sheet2!N104","v":0},{"$f":"Sheet2!V104","v":0},{"$f":"Sheet2!W104","v":0},0,{"$f":"Sheet2!S104","v":0},{"$f":"Sheet2!T104","v":0},{"$f":"SUM(#REF!)/3","v":{"$error":"#REF!"}},0,{"$f":"Sheet2!AF104","v":0},{"$f":"Sheet2!AG104","v":0},{"$f":"Sheet2!AH104","v":0},{"$f":"Sheet2!AI104","v":0},{"$f":"Sheet2!H104","v":0},{"$f":"Sheet2!Y104","v":0},{"$f":"Sheet2!Z104","v":0},{"$f":"Sheet2!AA104","v":0},{"$f":"Sheet2!AD104","v":0},{"$f":"Sheet2!AC104","v":0},{"$f":"Sheet2!BI104","v":0},{"$f":"Sheet2!BH104","v":0},{"$f":"Sheet2!AL104","v":0},{"$f":"Sheet2!AM104","v":0},{"$f":"Sheet2!AN104","v":0},{"$f":"Sheet2!AO104","v":0},{"$f":"Sheet2!AP104","v":0},{"$f":"Sheet2!AQ104","v":0},{"$f":"Sheet2!BB104","v":0}]
[null,{"$f":"Sheet2!I105","v":0},{"$f":"Sheet2!J105","v":0},{"$f":"Sheet2!C105","v":0},{"$f":"Sheet2!B105","v":"00:00:00"},{"$f":"Sheet2!K105","v":0},{"$f":"Sheet2!L105","v":0},{"$f":"Sheet2!AK105","v":0},0,0,{"$f":"Sheet2!BC105","v":0},{"$f":"Sheet2!M105","v":0},{"$f":"Sheet2!N105","v":0},{"$f":"Sheet2!V105","v":0},{"$f":"Sheet2!W105","v":0},0,{"$f":"Sheet2!S105","v":0},{"$f":"Sheet2!T105","v":0},{"$f":"SUM(#REF!)/3","v":{"$error":"#REF!"}},0,{"$f":"Sheet2!AF105","v":0},{"$f":"Sheet2!AG105","v":0},{"$f":"Sheet2!AH105","v":0},{"$f":"Sheet2!AI105","v":0},{"$f":"Sheet2!H105","v":0},{"$f":"Sheet2!Y105","v":0},{"$f":"Sheet2!Z105","v":0},{"$f":"Sheet2!AA105","v":0},{"$f":"Sheet2!AD105","v":0},{"$f":"Sheet2!AC105","v":0},{"$f":"Sheet2!BI105","v":0},{"$f":"Sheet2!BH105","v":0},{"$f":"Sheet2!AL105","v":0},{"$f":"Sheet2!AM105","v":0},{"$f":"Sheet2!AN105","v":0},{"$f":"Sheet2!AO105","v":0},{"$f":"Sheet2!AP105","v":0},{"$f":"Sheet2!AQ105","v":0},{"$f":"Sheet2!BB105","v":0}]
[null,{"$f":"Sheet2!I106","v":0},{"$f":"Sheet2!J106","v":0},{"$f":"Sheet2!C106","v":0},{"$f":"Sheet2!B106","v":"00:00:00"},{"$f":"Sheet2!K106","v":0},{"$f":"Sheet2!L106","v":0},{"$f":"Sheet2!AK106","v":0},0,0,{"$f":"Sheet2!BC106","v":0},{"$f":"Sheet2!M106","v":0},{"$f":"Sheet2!N106","v":0},{"$f":"Sheet2!V106","v":0},{"$f":"Sheet2!W106","v":0},0,{"$f":"Sheet2!S106","v":0},{"$f":"Sheet2!T106","v":0},{"$f":"SUM(#REF!)/3","v":{"$error":"#REF!"}},0,{"$f":"Sheet2!AF106","v":0},{"$f":"Sheet2!AG106","v":0},{"$f":"Sheet2!AH106","v":0},{"$f":"Sheet2!AI106","v":0},{"$f":"Sheet2!H106","v":0},{"$f":"Sheet2!Y106","v":0},{"$f":"Sheet2!Z106","v":0},{"$f":"Sheet2!AA106","v":0},{"$f":"Sheet2!AD106","v":0},{"$f":"Sheet2!AC106","v":0},{"$f":"Sheet2!BI106","v":0},{"$f":"Sheet2!BH106","v":0},{"$f":"Sheet2!AL106","v":0},{"$f":"Sheet2!AM106","v":0},{"$f":"Sheet2!AN106","v":0},{"$f":"Sheet2!AO106","v":0},{"$f":"Sheet2!AP106","v":0},{"$f":"Sheet2!AQ106","v":0},{"$f":"Sheet2!BB106","v":0}]
[null,{"$f":"Sheet2!I107","v":0},{"$f":"Sheet2!J107","v":0},{"$f":"Sheet2!C107","v":0},{"$f":"Sheet2!B107","v":"00:00:00"},{"$f":"Sheet2!K107","v":0},{"$f":"Sheet2!L107","v":0},{"$f":"Sheet2!AK107","v":0},0,0,{"$f":"Sheet2!BC107","v":0},{"$f":"Sheet2!M107","v":0},{"$f":"Sheet2!N107","v":0},{"$f":"Sheet2!V107","v":0},{"$f":"Sheet2!W107","v":0},0,{"$f":"Sheet2!S107","v":0},{"$f":"Sheet2!T107","v":0},{"$f":"SUM(#REF!)/3","v":{"$error":"#REF!"}},0,{"$f":"Sheet2!AF107","v":0},{"$f":"Sheet2!AG107","v":0},{"$f":"Sheet2!AH107","v":0},{"$f":"Sheet2!AI107","v":0},{"$f":"Sheet2!H107","v":0},{"$f":"Sheet2!Y107","v":0},{"$f":"Sheet2!Z107","v":0},{"$f":"Sheet2!AA107","v":0},{"$f":"Sheet2!AD107","v":0},{"$f":"Sheet2!AC107","v":0},{"$f":"Sheet2!BI107","v":0},{"$f":"Sheet2!BH107","v":0},{"$f":"Sheet2!AL107","v":0},{"$f":"Sheet2!AM107","v":0},{"$f":"Sheet2!AN107","v":0},{"$f":"Sheet2!AO107","v":0},{"$f":"Sheet2!AP107","v":0},{"$f":"Sheet2!AQ107","v":0},{"$f":"Sheet2!BB107","v":0}]
[null,{"$f":"Sheet2!I108","v":0},{"$f":"Sheet2!J108","v":0},{"$f":"Sheet2!C108","v":0},{"$f":"Sheet2!B108","v":"00:00:00"},{"$f":"Sheet2!K108","v":0},{"$f":"Sheet2!L108","v":0},{"$f":"Sheet2!AK108","v":0},0,0,{"$f":"Sheet2!BC108","v":0},{"$f":"Sheet2!M108","v":0},{"$f":"Sheet2!N108","v":0},{"$f":"Sheet2!V108","v":0},{"$f":"Sheet2!W108","v":0},0,{"$f":"Sheet2!S108","v":0},{"$f":"Sheet2!T108","v":0},{"$f":"SUM(#REF!)/3","v":{"$error":"#REF!"}},0,{"$f":"Sheet2!AF108","v":0},{"$f":"Sheet2!AG108","v":0},{"$f":"Sheet2!AH108","v":0},{"$f":"Sheet2!AI108","v":0},{"$f":"Sheet2!H108","v":0},{"$f":"Sheet2!Y108","v":0},{"$f":"Sheet2!Z108","v":0},{"$f":"Sheet2!AA108","v":0},{"$f":"Sheet2!AD108","v":0},{"$f":"Sheet2!AC108","v":0},{"$f":"Sheet2!BI108","v":0},{"$f":"Sheet2!BH108","v":0},{"$f":"Sheet2!AL108","v":0},{"$f":"Sheet2!AM108","v":0},{"$f":"Sheet2!AN108","v":0},{"$f":"Sheet2!AO108","v":0},{"$f":"Sheet2!AP108","v":0},{"$f":"Sheet2!AQ108","v":0},{"$f":"Sheet2!BB108","v":0}]
[null,{"$f":"Sheet2!I109","v":0},{"$f":"Sheet2!J109","v":0},{"$f":"Sheet2!C109","v":0},{"$f":"Sheet2!B109","v":"00:00:00"},{"$f":"Sheet2!K109","v":0},{"$f":"Sheet2!L109","v":0},{"$f":"Sheet2!AK109","v":0},0,0,{"$f":"Sheet2!BC109","v":0},{"$f":"Sheet2!M109","v":0},{"$f":"Sheet2!N109","v":0},{"$f":"Sheet2!V109","v":0},{"$f":"Sheet2!W109","v":0},0,{"$f":"Sheet2!S109","v":0},{"$f":"Sheet2!T109","v":0},{"$f":"SUM(#REF!)/3","v":{"$error":"#REF!"}},0,{"$f":"Sheet2!AF109","v":0},{"$f":"Sheet2!AG109","v":0},{"$f":"Sheet2!AH109","v":0},{"$f":"Sheet2!AI109","v":0},{"$f":"Sheet2!H109","v":0},{"$f":"Sheet2!Y109","v":0},{"$f":"Sheet2!Z109","v":0},{"$f":"Sheet2!AA109","v":0},{"$f":"Sheet2!AD109","v":0},{"$f":"Sheet2!AC109","v":0},{"$f":"Sheet2!BI109","v":0},{"$f":"Sheet2!BH109","v":0},{"$f":"Sheet2!AL109","v":0},{"$f":"Sheet2!AM109","v":0},{"$f":"Sheet2!AN109","v":0},{"$f":"Sheet2!AO109","v":0},{"$f":"Sheet2!AP109","v":0},{"$f":"Sheet2!AQ109","v":0},{"$f":"Sheet2!BB109","v":0}]
[null,{"$f":"Sheet2!I110","v":0},{"$f":"Sheet2!J110","v":0},{"$f":"Sheet2!C110","v":0},{"$f":"Sheet2!B110","v":"00:00:00"},{"$f":"Sheet2!K110","v":0},{"$f":"Sheet2!L110","v":0},{"$f":"Sheet2!AK110","v":0},0,0,{"$f":"Sheet2!BC110","v":0},{"$f":"Sheet2!M110","v":0},{"$f":"Sheet2!N110","v":0},{"$f":"Sheet2!V110","v":0},{"$f":"Sheet2!W110","v":0},0,{"$f":"Sheet2!S110","v":0},{"$f":"Sheet2!T110","v":0},{"$f":"SUM(#REF!)/3","v":{"$error":"#REF!"}},0,{"$f":"Sheet2!AF110","v":0},{"$f":"Sheet2!AG110","v":0},{"$f":"Sheet2!AH110","v":0},{"$f":"Sheet2!AI110","v":0},{"$f":"Sheet2!H110","v":0},{"$f":"Sheet2!Y110","v":0},{"$f":"Sheet2!Z110","v":0},{"$f":"Sheet2!AA110","v":0},{"$f":"Sheet2!AD110","v":0},{"$f":"Sheet2!AC110","v":0},{"$f":"Sheet2!BI110","v":0},{"$f":"Sheet2!BH110","v":0},{"$f":"Sheet2!AL110","v":0},{"$f":"Sheet2!AM110","v":0},{"$f":"Sheet2!AN110","v":0},{"$f":"Sheet2!AO110","v":0},{"$f":"Sheet2!AP110","v":0},{"$f":"Sheet2!AQ110","v":0},{"$f":"Sheet2!BB110","v":0}]
[null,{"$f":"Sheet2!I111","v":0},{"$f":"Sheet2!J111","v":0},{"$f":"Sheet2!C111","v":0},{"$f":"Sheet2!B111","v":"00:00:00"},{"$f":"Sheet2!K111","v":0},{"$f":"Sheet2!L111","v":0},{"$f":"Sheet2!AK111","v":0},0,0,{"$f":"Sheet2!BC111","v":0},{"$f":"Sheet2!M111","v":0},{"$f":"Sheet2!N111","v":0},{"$f":"Sheet2!V111","v":0},{"$f":"Sheet2!W111","v":0},0,{"$f":"Sheet2!S111","v":0},{"$f":"Sheet2!T111","v":0},{"$f":"SUM(#REF!)/3","v":{"$error":"#REF!"}},0,{"$f":"Sheet2!AF111","v":0},{"$f":"Sheet2!AG111","v":0},{"$f":"Sheet2!AH111","v":0},{"$f":"Sheet2!AI111","v":0},{"$f":"Sheet2!H111","v":0},{"$f":"Sheet2!Y111","v":0},{"$f":"Sheet2!Z111","v":0},{"$f":"Sheet2!AA111","v":0},{"$f":"Sheet2!AD111","v":0},{"$f":"Sheet2!AC111","v":0},{"$f":"Sheet2!BI111","v":0},{"$f":"Sheet2!BH111","v":0},{"$f":"Sheet2!AL111","v":0},{"$f":"Sheet2!AM111","v":0},{"$f":"Sheet2!AN111","v":0},{"$f":"Sheet2!AO111","v":0},{"$f":"Sheet2!AP111","v":0},{"$f":"Sheet2!AQ111","v":0},{"$f":"Sheet2!BB111","v":0}]
[null,{"$f":"Sheet2!I112","v":0},{"$f":"Sheet2!J112","v":0},{"$f":"Sheet2!C112","v":0},{"$f":"Sheet2!B112","v":"00:00:00"},{"$f":"Sheet2!K112","v":0},{"$f":"Sheet2!L112","v":0},{"$f":"Sheet2!AK112","v":0},0,0,{"$f":"Sheet2!BC112","v":0},{"$f":"Sheet2!M112","v":0},{"$f":"Sheet2!N112","v":0},{"$f":"Sheet2!V112","v":0},{"$f":"Sheet2!W112","v":0},0,{"$f":"Sheet2!S112","v":0},{"$f":"Sheet2!T112","v":0},{"$f":"SUM(#REF!)/3","v":{"$error":"#REF!"}},0,{"$f":"Sheet2!AF112","v":0},{"$f":"Sheet2!AG112","v":0},{"$f":"Sheet2!AH112","v":0},{"$f":"Sheet2!AI112","v":0},{"$f":"Sheet2!H112","v":0},{"$f":"Sheet2!Y112","v":0},{"$f":"Sheet2!Z112","v":0},{"$f":"Sheet2!AA112","v":0},{"$f":"Sheet2!AD112","v":0},{"$f":"Sheet2!AC112","v":0},{"$f":"Sheet2!BI112","v":0},{"$f":"Sheet2!BH112","v":0},{"$f":"Sheet2!AL112","v":0},{"$f":"Sheet2!AM112","v":0},{"$f":"Sheet2!AN112","v":0},{"$f":"Sheet2!AO112","v":0},{"$f":"Sheet2!AP112","v":0},{"$f":"Sheet2!AQ112","v":0},{"$f":"Sheet2!BB112","v":0}]
[null,{"$f":"Sheet2!I113","v":0},{"$f":"Sheet2!J113","v":0},{"$f":"Sheet2!C113","v":0},{"$f":"Sheet2!B113","v":"00:00:00"},{"$f":"Sheet2!K113","v":0},{"$f":"Sheet2!L113","v":0},{"$f":"Sheet2!AK113","v":0},0,0,{"$f":"Sheet2!BC113","v":0},{"$f":"Sheet2!M113","v":0},{"$f":"Sheet2!N113","v":0},{"$f":"Sheet2!V113","v":0},{"$f":"Sheet2!W113","v":0},0,{"$f":"Sheet2!S113","v":0},{"$f":"Sheet2!T113","v":0},{"$f":"SUM(#REF!)/3","v":{"$error":"#REF!"}},0,{"$f":"Sheet2!AF113","v":0},{"$f":"Sheet2!AG113","v":0},{"$f":"Sheet2!AH113","v":0},{"$f":"Sheet2!AI113","v":0},{"$f":"Sheet2!H113","v":0},{"$f":"Sheet2!Y113","v":0},{"$f":"Sheet2!Z113","v":0},{"$f":"Sheet2!AA113","v":0},{"$f":"Sheet2!AD113","v":0},{"$f":"Sheet2!AC113","v":0},{"$f":"Sheet2!BI113","v":0},{"$f":"Sheet2!BH113","v":0},{"$f":"Sheet2!AL113","v":0},{"$f":"Sheet2!AM113","v":0},{"$f":"Sheet2!AN113","v":0},{"$f":"Sheet2!AO113","v":0},{"$f":"Sheet2!AP113","v":0},{"$f":"Sheet2!AQ113","v":0},{"$f":"Sheet2!BB113","v":0}]
[null,{"$f":"Sheet2!I114","v":0},{"$f":"Sheet2!J114","v":0},{"$f":"Sheet2!C114","v":0},{"$f":"Sheet2!B114","v":"00:00:00"},{"$f":"Sheet2!K114","v":0},{"$f":"Sheet2!L114","v":0},{"$f":"Sheet2!AK114","v":0},0,0,{"$f":"Sheet2!BC114","v":0},{"$f":"Sheet2!M114","v":0},{"$f":"Sheet2!N114","v":0},{"$f":"Sheet2!V114","v":0},{"$f":"Sheet2!W114","v":0},0,{"$f":"Sheet2!S114","v":0},{"$f":"Sheet2!T114","v":0},{"$f":"SUM(#REF!)/3","v":{"$error":"#REF!"}},0,{"$f":"Sheet2!AF114","v":0},{"$f":"Sheet2!AG114","v":0},{"$f":"Sheet2!AH114","v":0},{"$f":"Sheet2!AI114","v":0},{"$f":"Sheet2!H114","v":0},{"$f":"Sheet2!Y114","v":0},{"$f":"Sheet2!Z114","v":0},{"$f":"Sheet2!AA114","v":0},{"$f":"Sheet2!AD114","v":0},{"$f":"Sheet2!AC114","v":0},{"$f":"Sheet2!BI114","v":0},{"$f":"Sheet2!BH114","v":0},{"$f":"Sheet2!AL114","v":0},{"$f":"Sheet2!AM114","v":0},{"$f":"Sheet2!AN114","v":0},{"$f":"Sheet2!AO114","v":0},{"$f":"Sheet2!AP114","v":0},{"$f":"Sheet2!AQ114","v":0},{"$f":"Sheet2!BB114","v":0}]
[null,{"$f":"Sheet2!I115","v":0},{"$f":"Sheet2!J115","v":0},{"$f":"Sheet2!C115","v":0},{"$f":"Sheet2!B115","v":"00:00:00"},{"$f":"Sheet2!K115","v":0},{"$f":"Sheet2!L115","v":0},{"$f":"Sheet2!AK115","v":0},0,0,{"$f":"Sheet2!BC115","v":0},{"$f":"Sheet2!M115","v":0},{"$f":"Sheet2!N115","v":0},{"$f":"Sheet2!V115","v":0},{"$f":"Sheet2!W115","v":0},0,{"$f":"Sheet2!S115","v":0},{"$f":"Sheet2!T115","v":0},{"$f":"SUM(#REF!)/3","v":{"$error":"#REF!"}},0,{"$f":"Sheet2!AF115","v":0},{"$f":"Sheet2!AG115","v":0},{"$f":"Sheet2!AH115","v":0},{"$f":"Sheet2!AI115","v":0},{"$f":"Sheet2!H115","v":0},{"$f":"Sheet2!Y115","v":0},{"$f":"Sheet2!Z115","v":0},{"$f":"Sheet2!AA115","v":0},{"$f":"Sheet2!AD115","v":0},{"$f":"Sheet2!AC115","v":0},{"$f":"Sheet2!BI115","v":0},{"$f":"Sheet2!BH115","v":0},{"$f":"Sheet2!AL115","v":0},{"$f":"Sheet2!AM115","v":0},{"$f":"Sheet2!AN115","v":0},{"$f":"Sheet2!AO115","v":0},{"$f":"Sheet2!AP115","v":0},{"$f":"Sheet2!AQ115","v":0},{"$f":"Sheet2!BB115","v":0}]
[null,{"$f":"Sheet2!I116","v":0},{"$f":"Sheet2!J116","v":0},{"$f":"Sheet2!C116","v":0},{"$f":"Sheet2!B116","v":"00:00:00"},{"$f":"Sheet2!K116","v":0},{"$f":"Sheet2!L116","v":0},{"$f":"Sheet2!AK116","v":0},0,0,{"$f":"Sheet2!BC116","v":0},{"$f":"Sheet2!M116","v":0},{"$f":"Sheet2!N116","v":0},{"$f":"Sheet2!V116","v":0},{"$f":"Sheet2!W116","v":0},0,{"$f":"Sheet2!S116","v":0},{"$f":"Sheet2!T116","v":0},{"$f":"SUM(#REF!)/3","v":{"$error":"#REF!"}},0,{"$f":"Sheet2!AF116","v":0},{"$f":"Sheet2!AG116","v":0},{"$f":"Sheet2!AH116","v":0},{"$f":"Sheet2!AI116","v":0},{"$f":"Sheet2!H116","v":0},{"$f":"Sheet2!Y116","v":0},{"$f":"Sheet2!Z116","v":0},{"$f":"Sheet2!AA116","v":0},{"$f":"Sheet2!AD116","v":0},{"$f":"Sheet2!AC116","v":0},{"$f":"Sheet2!BI116","v":0},{"$f":"Sheet2!BH116","v":0},{"$f":"Sheet2!AL116","v":0},{"$f":"Sheet2!AM116","v":0},{"$f":"Sheet2!AN116","v":0},{"$f":"Sheet2!AO116","v":0},{"$f":"Sheet2!AP116","v":0},{"$f":"Sheet2!AQ116","v":0},{"$f":"Sheet2!BB116","v":0}]
[null,{"$f":"Sheet2!I117","v":0},{"$f":"Sheet2!J117","v":0},{"$f":"Sheet2!C117","v":0},{"$f":"Sheet2!B117","v":"00:00:00"},{"$f":"Sheet2!K117","v":0},{"$f":"Sheet2!L117","v":0},{"$f":"Sheet2!AK117","v":0},0,0,{"$f":"Sheet2!BC117","v":0},{"$f":"Sheet2!M117","v":0},{"$f":"Sheet2!N117","v":0},{"$f":"Sheet2!V117","v":0},{"$f":"Sheet2!W117","v":0},0,{"$f":"Sheet2!S117","v":0},{"$f":"Sheet2!T117","v":0},{"$f":"SUM(#REF!)/3","v":{"$error":"#REF!"}},0,{"$f":"Sheet2!AF117","v":0},{"$f":"Sheet2!AG117","v":0},{"$f":"Sheet2!AH117","v":0},{"$f":"Sheet2!AI117","v":0},{"$f":"Sheet2!H117","v":0},{"$f":"Sheet2!Y117","v":0},{"$f":"Sheet2!Z117","v":0},{"$f":"Sheet2!AA117","v":0},{"$f":"Sheet2!AD117","v":0},{"$f":"Sheet2!AC117","v":0},{"$f":"Sheet2!BI117","v":0},{"$f":"Sheet2!BH117","v":0},{"$f":"Sheet2!AL117","v":0},{"$f":"Sheet2!AM117","v":0},{"$f":"Sheet2!AN117","v":0},{"$f":"Sheet2!AO117","v":0},{"$f":"Sheet2!AP117","v":0},{"$f":"Sheet2!AQ117","v":0},{"$f":"Sheet2!BB117","v":0}]
[null,{"$f":"Sheet2!I118","v":0},{"$f":"Sheet2!J118","v":0},{"$f":"Sheet2!C118","v":0},{"$f":"Sheet2!B118","v":"00:00:00"},{"$f":"Sheet2!K118","v":0},{"$f":"Sheet2!L118","v":0},{"$f":"Sheet2!AK118","v":0},0,0,{"$f":"Sheet2!BC118","v":0},{"$f":"Sheet2!M118","v":0},{"$f":"Sheet2!N118","v":0},{"$f":"Sheet2!V118","v":0},{"$f":"Sheet2!W118","v":0},0,{"$f":"Sheet2!S118","v":0},{"$f":"Sheet2!T118","v":0},{"$f":"SUM(#REF!)/3","v":{"$error":"#REF!"}},0,{"$f":"Sheet2!AF118","v":0},{"$f":"Sheet2!AG118","v":0},{"$f":"Sheet2!AH118","v":0},{"$f":"Sheet2!AI118","v":0},{"$f":"Sheet2!H118","v":0},{"$f":"Sheet2!Y118","v":0},{"$f":"Sheet2!Z118","v":0},{"$f":"Sheet2!AA118","v":0},{"$f":"Sheet2!AD118","v":0},{"$f":"Sheet2!AC118","v":0},{"$f":"Sheet2!BI118","v":0},{"$f":"Sheet2!BH118","v":0},{"$f":"Sheet2!AL118","v":0},{"$f":"Sheet2!AM118","v":0},{"$f":"Sheet2!AN118","v":0},{"$f":"Sheet2!AO118","v":0},{"$f":"Sheet2!AP118","v":0},{"$f":"Sheet2!AQ118","v":0},{"$f":"Sheet2!BB118","v":0}]
[null,{"$f":"Sheet2!I119","v":0},{"$f":"Sheet2!J119","v":0},{"$f":"Sheet2!C119","v":0},{"$f":"Sheet2!B119","v":"00:00:00"},{"$f":"Sheet2!K119","v":0},{"$f":"Sheet2!L119","v":0},{"$f":"Sheet2!AK119","v":0},0,0,{"$f":"Sheet2!BC119","v":0},{"$f":"Sheet2!M119","v":0},{"$f":"Sheet2!N119","v":0},{"$f":"Sheet2!V119","v":0},{"$f":"Sheet2!W119","v":0},0,{"$f":"Sheet2!S119","v":0},{"$f":"Sheet2!T119","v":0},{"$f":"SUM(#REF!)/3","v":{"$error":"#REF!"}},0,{"$f":"Sheet2!AF119","v":0},{"$f":"Sheet2!AG119","v":0},{"$f":"Sheet2!AH119","v":0},{"$f":"Sheet2!AI119","v":0},{"$f":"Sheet2!H119","v":0},{"$f":"Sheet2!Y119","v":0},{"$f":"Sheet2!Z119","v":0},{"$f":"Sheet2!AA119","v":0},{"$f":"Sheet2!AD119","v":0},{"$f":"Sheet2!AC119","v":0},{"$f":"Sheet2!BI119","v":0},{"$f":"Sheet2!BH119","v":0},{"$f":"Sheet2!AL119","v":0},{"$f":"Sheet2!AM119","v":0},{"$f":"Sheet2!AN119","v":0},{"$f":"Sheet2!AO119","v":0},{"$f":"Sheet2!AP119","v":0},{"$f":"Sheet2!AQ119","v":0},{"$f":"Sheet2!BB119","v":0}]
[null,{"$f":"Sheet2!I120","v":0},{"$f":"Sheet2!J120","v":0},{"$f":"Sheet2!C120","v":0},{"$f":"Sheet2!B120","v":"00:00:00"},{"$f":"Sheet2!K120","v":0},{"$f":"Sheet2!L120","v":0},{"$f":"Sheet2!AK120","v":0},0,0,{"$f":"Sheet2!BC120","v":0},{"$f":"Sheet2!M120","v":0},{"$f":"Sheet2!N120","v":0},{"$f":"Sheet2!V120","v":0},{"$f":"Sheet2!W120","v":0},0,{"$f":"Sheet2!S120","v":0},{"$f":"Sheet2!T120","v":0},{"$f":"SUM(#REF!)/3","v":{"$error":"#REF!"}},0,{"$f":"Sheet2!AF120","v":0},{"$f":"Sheet2!AG120","v":0},{"$f":"Sheet2!AH120","v":0},{"$f":"Sheet2!AI120","v":0},{"$f":"Sheet2!H120","v":0},{"$f":"Sheet2!Y120","v":0},{"$f":"Sheet2!Z120","v":0},{"$f":"Sheet2!AA120","v":0},{"$f":"Sheet2!AD120","v":0},{"$f":"Sheet2!AC120","v":0},{"$f":"Sheet2!BI120","v":0},{"$f":"Sheet2!BH120","v":0},{"$f":"Sheet2!AL120","v":0},{"$f":"Sheet2!AM120","v":0},{"$f":"Sheet2!AN120","v":0},{"$f":"Sheet2!AO120","v":0},{"$f":"Sheet2!AP120","v":0},{"$f":"Sheet2!AQ120","v":0},{"$f":"Sheet2!BB120","v":0}]
[null,{"$f":"Sheet2!I121","v":0},{"$f":"Sheet2!J121","v":0},{"$f":"Sheet2!C121","v":0},{"$f":"Sheet2!B121","v":"00:00:00"},{"$f":"Sheet2!K121","v":0},{"$f":"Sheet2!L121","v":0},{"$f":"Sheet2!AK121","v":0},0,0,{"$f":"Sheet2!BC121","v":0},{"$f":"Sheet2!M121","v":0},{"$f":"Sheet2!N121","v":0},{"$f":"Sheet2!V121","v":0},{"$f":"Sheet2!W121","v":0},0,{"$f":"Sheet2!S121","v":0},{"$f":"Sheet2!T121","v":0},{"$f":"SUM(#REF!)/3","v":{"$error":"#REF!"}},0,{"$f":"Sheet2!AF121","v":0},{"$f":"Sheet2!AG121","v":0},{"$f":"Sheet2!AH121","v":0},{"$f":"Sheet2!AI121","v":0},{"$f":"Sheet2!H121","v":0},{"$f":"Sheet2!Y121","v":0},{"$f":"Sheet2!Z121","v":0},{"$f":"Sheet2!AA121","v":0},{"$f":"Sheet2!AD121","v":0},{"$f":"Sheet2!AC121","v":0},{"$f":"Sheet2!BI121","v":0},{"$f":"Sheet2!BH121","v":0},{"$f":"Sheet2!AL121","v":0},{"$f":"Sheet2!AM121","v":0},{"$f":"Sheet2!AN121","v":0},{"$f":"Sheet2!AO121","v":0},{"$f":"Sheet2!AP121","v":0},{"$f":"Sheet2!AQ121","v":0},{"$f":"Sheet2!BB121","v":0}]
[null,{"$f":"Sheet2!I122","v":0},{"$f":"Sheet2!J122","v":0},{"$f":"Sheet2!C122","v":0},{"$f":"Sheet2!B122","v":"00:00:00"},{"$f":"Sheet2!K122","v":0},{"$f":"Sheet2!L122","v":0},{"$f":"Sheet2!AK122","v":0},0,0,{"$f":"Sheet2!BC122","v":0},{"$f":"Sheet2!M122","v":0},{"$f":"Sheet2!N122","v":0},{"$f":"Sheet2!V122","v":0},{"$f":"Sheet2!W122","v":0},0,{"$f":"Sheet2!S122","v":0},{"$f":"Sheet2!T122","v":0},{"$f":"SUM(#REF!)/3","v":{"$error":"#REF!"}},0,{"$f":"Sheet2!AF122","v":0},{"$f":"Sheet2!AG122","v":0},{"$f":"Sheet2!AH122","v":0},{"$f":"Sheet2!AI122","v":0},{"$f":"Sheet2!H122","v":0},{"$f":"Sheet2!Y122","v":0},{"$f":"Sheet2!Z122","v":0},{"$f":"Sheet2!AA122","v":0},{"$f":"Sheet2!AD122","v":0},{"$f":"Sheet2!AC122","v":0},{"$f":"Sheet2!BI122","v":0},{"$f":"Sheet2!BH122","v":0},{"$f":"Sheet2!AL122","v":0},{"$f":"Sheet2!AM122","v":0},{"$f":"Sheet2!AN122","v":0},{"$f":"Sheet2!AO122","v":0},{"$f":"Sheet2!AP122","v":0},{"$f":"Sheet2!AQ122","v":0},{"$f":"Sheet2!BB122","v":0}]
[null,{"$f":"Sheet2!I123","v":0},{"$f":"Sheet2!J123","v":0},{"$f":"Sheet2!C123","v":0},{"$f":"Sheet2!B123","v":"00:00:00"},{"$f":"Sheet2!K123","v":0},{"$f":"Sheet2!L123","v":0},{"$f":"Sheet2!AK123","v":0},0,0,{"$f":"Sheet2!BC123","v":0},{"$f":"Sheet2!M123","v":0},{"$f":"Sheet2!N123","v":0},{"$f":"Sheet2!V123","v":0},{"$f":"Sheet2!W123","v":0},0,{"$f":"Sheet2!S123","v":0},{"$f":"Sheet2!T123","v":0},{"$f":"SUM(#REF!)/3","v":{"$error":"#REF!"}},0,{"$f":"Sheet2!AF123","v":0},{"$f":"Sheet2!AG123","v":0},{"$f":"Sheet2!AH123","v":0},{"$f":"Sheet2!AI123","v":0},{"$f":"Sheet2!H123","v":0},{"$f":"Sheet2!Y123","v":0},{"$f":"Sheet2!Z123","v":0},{"$f":"Sheet2!AA123","v":0},{"$f":"Sheet2!AD123","v":0},{"$f":"Sheet2!AC123","v":0},{"$f":"Sheet2!BI123","v":0},{"$f":"Sheet2!BH123","v":0},{"$f":"Sheet2!AL123","v":0},{"$f":"Sheet2!AM123","v":0},{"$f":"Sheet2!AN123","v":0},{"$f":"Sheet2!AO123","v":0},{"$f":"Sheet2!AP123","v":0},{"$f":"Sheet2!AQ123","v":0},{"$f":"Sheet2!BB123","v":0}]
[null,{"$f":"Sheet2!I124","v":0},{"$f":"Sheet2!J124","v":0},{"$f":"Sheet2!C124","v":0},{"$f":"Sheet2!B124","v":"00:00:00"},{"$f":"Sheet2!K124","v":0},{"$f":"Sheet2!L124","v":0},{"$f":"Sheet2!AK124","v":0},0,0,{"$f":"Sheet2!BC124","v":0},{"$f":"Sheet2!M124","v":0},{"$f":"Sheet2!N124","v":0},{"$f":"Sheet2!V124","v":0},{"$f":"Sheet2!W124","v":0},0,{"$f":"Sheet2!S124","v":0},{"$f":"Sheet2!T124","v":0},{"$f":"SUM(#REF!)/3","v":{"$error":"#REF!"}},0,{"$f":"Sheet2!AF124","v":0},{"$f":"Sheet2!AG124","v":0},{"$f":"Sheet2!AH124","v":0},{"$f":"Sheet2!AI124","v":0},{"$f":"Sheet2!H124","v":0},{"$f":"Sheet2!Y124","v":0},{"$f":"Sheet2!Z124","v":0},{"$f":"Sheet2!AA124","v":0},{"$f":"Sheet2!AD124","v":0},{"$f":"Sheet2!AC124","v":0},{"$f":"Sheet2!BI124","v":0},{"$f":"Sheet2!BH124","v":0},{"$f":"Sheet2!AL124","v":0},{"$f":"Sheet2!AM124","v":0},{"$f":"Sheet2!AN124","v":0},{"$f":"Sheet2!AO124","v":0},{"$f":"Sheet2!AP124","v":0},{"$f":"Sheet2!AQ124","v":0},{"$f":"Sheet2!BB124","v":0}]
[null,{"$f":"Sheet2!I125","v":0},{"$f":"Sheet2!J125","v":0},{"$f":"Sheet2!C125","v":0},{"$f":"Sheet2!B125","v":"00:00:00"},{"$f":"Sheet2!K125","v":0},{"$f":"Sheet2!L125","v":0},{"$f":"Sheet2!AK125","v":0},0,0,{"$f":"Sheet2!BC125","v":0},{"$f":"Sheet2!M125","v":0},{"$f":"Sheet2!N125","v":0},{"$f":"Sheet2!V125","v":0},{"$f":"Sheet2!W125","v":0},0,{"$f":"Sheet2!S125","v":0},{"$f":"Sheet2!T125","v":0},{"$f":"SUM(#REF!)/3","v":{"$error":"#REF!"}},0,{"$f":"Sheet2!AF125","v":0},{"$f":"Sheet2!AG125","v":0},{"$f":"Sheet2!AH125","v":0},{"$f":"Sheet2!AI125","v":0},{"$f":"Sheet2!H125","v":0},{"$f":"Sheet2!Y125","v":0},{"$f":"Sheet2!Z125","v":0},{"$f":"Sheet2!AA125","v":0},{"$f":"Sheet2!AD125","v":0},{"$f":"Sheet2!AC125","v":0},{"$f":"Sheet2!BI125","v":0},{"$f":"Sheet2!BH125","v":0},{"$f":"Sheet2!AL125","v":0},{"$f":"Sheet2!AM125","v":0},{"$f":"Sheet2!AN125","v":0},{"$f":"Sheet2!AO125","v":0},{"$f":"Sheet2!AP125","v":0},{"$f":"Sheet2!AQ125","v":0},{"$f":"Sheet2!BB125","v":0}]
[null,{"$f":"Sheet2!I126","v":0},{"$f":"Sheet2!J126","v":0},{"$f":"Sheet2!C126","v":0},{"$f":"Sheet2!B126","v":"00:00:00"},{"$f":"Sheet2!K126","v":0},{"$f":"Sheet2!L126","v":0},{"$f":"Sheet2!AK126","v":0},0,0,{"$f":"Sheet2!BC126","v":0},{"$f":"Sheet2!M126","v":0},{"$f":"Sheet2!N126","v":0},{"$f":"Sheet2!V126","v":0},{"$f":"Sheet2!W126","v":0},0,{"$f":"Sheet2!S126","v":0},{"$f":"Sheet2!T126","v":0},{"$f":"SUM(#REF!)/3","v":{"$error":"#REF!"}},0,{"$f":"Sheet2!AF126","v":0},{"$f":"Sheet2!AG126","v":0},{"$f":"Sheet2!AH126","v":0},{"$f":"Sheet2!AI126","v":0},{"$f":"Sheet2!H126","v":0},{"$f":"Sheet2!Y126","v":0},{"$f":"Sheet2!Z126","v":0},{"$f":"Sheet2!AA126","v":0},{"$f":"Sheet2!AD126","v":0},{"$f":"Sheet2!AC126","v":0},{"$f":"Sheet2!BI126","v":0},{"$f":"Sheet2!BH126","v":0},{"$f":"Sheet2!AL126","v":0},{"$f":"Sheet2!AM126","v":0},{"$f":"Sheet2!AN126","v":0},{"$f":"Sheet2!AO126","v":0},{"$f":"Sheet2!AP126","v":0},{"$f":"Sheet2!AQ126","v":0},{"$f":"Sheet2!BB126","v":0}]
[null,{"$f":"Sheet2!I127","v":0},{"$f":"Sheet2!J127","v":0},{"$f":"Sheet2!C127","v":0},{"$f":"Sheet2!B127","v":"00:00:00"},{"$f":"Sheet2!K127","v":0},{"$f":"Sheet2!L127","v":0},{"$f":"Sheet2!AK127","v":0},0,0,{"$f":"Sheet2!BC127","v":0},{"$f":"Sheet2!M127","v":0},{"$f":"Sheet2!N127","v":0},{"$f":"Sheet2!V127","v":0},{"$f":"Sheet2!W127","v":0},0,{"$f":"Sheet2!S127","v":0},{"$f":"Sheet2!T127","v":0},{"$f":"SUM(#REF!)/3","v":{"$error":"#REF!"}},0,{"$f":"Sheet2!AF127","v":0},{"$f":"Sheet2!AG127","v":0},{"$f":"Sheet2!AH127","v":0},{"$f":"Sheet2!AI127","v":0},{"$f":"Sheet2!H127","v":0},{"$f":"Sheet2!Y127","v":0},{"$f":"Sheet2!Z127","v":0},{"$f":"Sheet2!AA127","v":0},{"$f":"Sheet2!AD127","v":0},{"$f":"Sheet2!AC127","v":0},{"$f":"Sheet2!BI127","v":0},{"$f":"Sheet2!BH127","v":0},{"$f":"Sheet2!AL127","v":0},{"$f":"Sheet2!AM127","v":0},{"$f":"Sheet2!AN127","v":0},{"$f":"Sheet2!AO127","v":0},{"$f":"Sheet2!AP127","v":0},{"$f":"Sheet2!AQ127","v":0},{"$f":"Sheet2!BB127","v":0}]
[null,{"$f":"Sheet2!I128","v":0},{"$f":"Sheet2!J128","v":0},{"$f":"Sheet2!C128","v":0},{"$f":"Sheet2!B128","v":"00:00:00"},{"$f":"Sheet2!K128","v":0},{"$f":"Sheet2!L128","v":0},{"$f":"Sheet2!AK128","v":0},0,0,{"$f":"Sheet2!BC128","v":0},{"$f":"Sheet2!M128","v":0},{"$f":"Sheet2!N128","v":0},{"$f":"Sheet2!V128","v":0},{"$f":"Sheet2!W128","v":0},0,{"$f":"Sheet2!S128","v":0},{"$f":"Sheet2!T128","v":0},{"$f":"SUM(#REF!)/3","v":{"$error":"#REF!"}},0,{"$f":"Sheet2!AF128","v":0},{"$f":"Sheet2!AG128","v":0},{"$f":"Sheet2!AH128","v":0},{"$f":"Sheet2!AI128","v":0},{"$f":"Sheet2!H128","v":0},{"$f":"Sheet2!Y128","v":0},{"$f":"Sheet2!Z128","v":0},{"$f":"Sheet2!AA128","v":0},{"$f":"Sheet2!AD128","v":0},{"$f":"Sheet2!AC128","v":0},{"$f":"Sheet2!BI128","v":0},{"$f":"Sheet2!BH128","v":0},{"$f":"Sheet2!AL128","v":0},{"$f":"Sheet2!AM128","v":0},{"$f":"Sheet2!AN128","v":0},{"$f":"Sheet2!AO128","v":0},{"$f":"Sheet2!AP128","v":0},{"$f":"Sheet2!AQ128","v":0},{"$f":"Sheet2!BB128","v":0}]
[null,{"$f":"Sheet2!I129","v":0},{"$f":"Sheet2!J129","v":0},{"$f":"Sheet2!C129","v":0},{"$f":"Sheet2!B129","v":"00:00:00"},{"$f":"Sheet2!K129","v":0},{"$f":"Sheet2!L129","v":0},{"$f":"Sheet2!AK129","v":0},0,0,{"$f":"Sheet2!BC129","v":0},{"$f":"Sheet2!M129","v":0},{"$f":"Sheet2!N129","v":0},{"$f":"Sheet2!V129","v":0},{"$f":"Sheet2!W129","v":0},0,{"$f":"Sheet2!S129","v":0},{"$f":"Sheet2!T129","v":0},{"$f":"SUM(#REF!)/3","v":{"$error":"#REF!"}},0,{"$f":"Sheet2!AF129","v":0},{"$f":"Sheet2!AG129","v":0},{"$f":"Sheet2!AH129","v":0},{"$f":"Sheet2!AI129","v":0},{"$f":"Sheet2!H129","v":0},{"$f":"Sheet2!Y129","v":0},{"$f":"Sheet2!Z129","v":0},{"$f":"Sheet2!AA129","v":0},{"$f":"Sheet2!AD129","v":0},{"$f":"Sheet2!AC129","v":0},{"$f":"Sheet2!BI129","v":0},{"$f":"Sheet2!BH129","v":0},{"$f":"Sheet2!AL129","v":0},{"$f":"Sheet2!AM129","v":0},{"$f":"Sheet2!AN129","v":0},{"$f":"Sheet2!AO129","v":0},{"$f":"Sheet2!AP129","v":0},{"$f":"Sheet2!AQ129","v":0},{"$f":"Sheet2!BB129","v":0}]
[null,{"$f":"Sheet2!I130","v":0},{"$f":"Sheet2!J130","v":0},{"$f":"Sheet2!C130","v":0},{"$f":"Sheet2!B130","v":"00:00:00"},{"$f":"Sheet2!K130","v":0},{"$f":"Sheet2!L130","v":0},{"$f":"Sheet2!AK130","v":0},0,0,{"$f":"Sheet2!BC130","v":0},{"$f":"Sheet2!M130","v":0},{"$f":"Sheet2!N130","v":0},{"$f":"Sheet2!V130","v":0},{"$f":"Sheet2!W130","v":0},0,{"$f":"Sheet2!S130","v":0},{"$f":"Sheet2!T130","v":0},{"$f":"SUM(#REF!)/3","v":{"$error":"#REF!"}},0,{"$f":"Sheet2!AF130","v":0},{"$f":"Sheet2!AG130","v":0},{"$f":"Sheet2!AH130","v":0},{"$f":"Sheet2!AI130","v":0},{"$f":"Sheet2!H130","v":0},{"$f":"Sheet2!Y130","v":0},{"$f":"Sheet2!Z130","v":0},{"$f":"Sheet2!AA130","v":0},{"$f":"Sheet2!AD130","v":0},{"$f":"Sheet2!AC130","v":0},{"$f":"Sheet2!BI130","v":0},{"$f":"Sheet2!BH130","v":0},{"$f":"Sheet2!AL130","v":0},{"$f":"Sheet2!AM130","v":0},{"$f":"Sheet2!AN130","v":0},{"$f":"Sheet2!AO130","v":0},{"$f":"Sheet2!AP130","v":0},{"$f":"Sheet2!AQ130","v":0},{"$f":"Sheet2!BB130","v":0}]
[null,{"$f":"Sheet2!I131","v":0},{"$f":"Sheet2!J131","v":0},{"$f":"Sheet2!C131","v":0},{"$f":"Sheet2!B131","v":"00:00:00"},{"$f":"Sheet2!K131","v":0},{"$f":"Sheet2!L131","v":0},{"$f":"Sheet2!AK131","v":0},0,{"$f":"IF(A138=\"X\",I138,0)","v":0},{"$f":"Sheet2!BC131","v":0},{"$f":"Sheet2!M131","v":0},{"$f":"Sheet2!N131","v":0},{"$f":"Sheet2!V131","v":0},{"$f":"Sheet2!W131","v":0},0,{"$f":"Sheet2!S131","v":0},{"$f":"Sheet2!T131","v":0},{"$f":"SUM(#REF!)/3","v":{"$error":"#REF!"}},0,{"$f":"Sheet2!AF131","v":0},{"$f":"Sheet2!AG131","v":0},{"$f":"Sheet2!AH131","v":0},{"$f":"Sheet2!AI131","v":0},{"$f":"Sheet2!H131","v":0},{"$f":"Sheet2!Y131","v":0},{"$f":"Sheet2!Z131","v":0},{"$f":"Sheet2!AA131","v":0},{"$f":"Sheet2!AD131","v":0},{"$f":"Sheet2!AC131","v":0},{"$f":"Sheet2!BI131","v":0},{"$f":"Sheet2!BH131","v":0},{"$f":"Sheet2!AL131","v":0},{"$f":"Sheet2!AM131","v":0},{"$f":"Sheet2!AN131","v":0},{"$f":"Sheet2!AO131","v":0},{"$f":"Sheet2!AP131","v":0},{"$f":"Sheet2!AQ131","v":0},{"$f":"Sheet2!BB131","v":0}]
[null,{"$f":"Sheet2!I132","v":0},{"$f":"Sheet2!J132","v":0},{"$f":"Sheet2!C132","v":0},{"$f":"Sheet2!B132","v":"00:00:00"},{"$f":"Sheet2!K132","v":0},{"$f":"Sheet2!L132","v":0},{"$f":"Sheet2!AK132","v":0},{"$f":"H139/5280","v":0},0,{"$f":"Sheet2!BC132","v":0},{"$f":"Sheet2!M132","v":0},{"$f":"Sheet2!N132","v":0},{"$f":"Sheet2!V132","v":0},{"$f":"Sheet2!W132","v":0},{"$f":"(N139+O139)/5280","v":0},{"$f":"Sheet2!S132","v":0},{"$f":"Sheet2!T132","v":0},{"$f":"SUM(#REF!)/3","v":{"$error":"#REF!"}},{"$f":"IF(P139<>0,(Q139+R139)/P139,0)","v":0},{"$f":"Sheet2!AF132","v":0},{"$f":"Sheet2!AG132","v":0},{"$f":"Sheet2!AH132","v":0},{"$f":"Sheet2!AI132","v":0},{"$f":"Sheet2!H132","v":0},{"$f":"Sheet2!Y132","v":0},{"$f":"Sheet2!Z132","v":0},{"$f":"Sheet2!AA132","v":0},{"$f":"Sheet2!AD132","v":0},{"$f":"Sheet2!AC132","v":0},{"$f":"Sheet2!BI132","v":0},{"$f":"Sheet2!BH132","v":0},{"$f":"Sheet2!AL132","v":0},{"$f":"Sheet2!AM132","v":0},{"$f":"Sheet2!AN132","v":0},{"$f":"Sheet2!AO132","v":0},{"$f":"Sheet2!AP132","v":0},{"$f":"Sheet2!AQ132","v":0},{"$f":"Sheet2!BB132","v":0}]
[null,{"$f":"Sheet2!I133","v":0},{"$f":"Sheet2!J133","v":0},{"$f":"Sheet2!C133","v":0},{"$f":"Sheet2!B133","v":"00:00:00"},{"$f":"Sheet2!K133","v":0},{"$f":"Sheet2!L133","v":0},{"$f":"Sheet2!AK133","v":0},0,0,{"$f":"Sheet2!BC133","v":0},{"$f":"Sheet2!M133","v":0},{"$f":"Sheet2!N133","v":0},{"$f":"Sheet2!V133","v":0},{"$f":"Sheet2!W133","v":0},0,{"$f":"Sheet2!S133","v":0},{"$f":"Sheet2!T133","v":0},{"$f":"SUM(#REF!)/3","v":{"$error":"#REF!"}},0,{"$f":"Sheet2!AF133","v":0},{"$f":"Sheet2!AG133","v":0},{"$f":"Sheet2!AH133","v":0},{"$f":"Sheet2!AI133","v":0},{"$f":"Sheet2!H133","v":0},{"$f":"Sheet2!Y133","v":0},{"$f":"Sheet2!Z133","v":0},{"$f":"Sheet2!AA133","v":0},{"$f":"Sheet2!AD133","v":0},{"$f":"Sheet2!AC133","v":0},{"$f":"Sheet2!BI133","v":0},{"$f":"Sheet2!BH133","v":0},{"$f":"Sheet2!AL133","v":0},{"$f":"Sheet2!AM133","v":0},{"$f":"Sheet2!AN133","v":0},{"$f":"Sheet2!AO133","v":0},{"$f":"Sheet2!AP133","v":0},{"$f":"Sheet2!AQ133","v":0},{"$f":"Sheet2!BB133","v":0}]
[null,{"$f":"Sheet2!I134","v":0},{"$f":"Sheet2!J134","v":0},{"$f":"Sheet2!C134","v":0},{"$f":"Sheet2!B134","v":"00:00:00"},{"$f":"Sheet2!K134","v":0},{"$f":"Sheet2!L134","v":0},{"$f":"Sheet2!AK134","v":0},0,0,{"$f":"Sheet2!BC134","v":0},{"$f":"Sheet2!M134","v":0},{"$f":"Sheet2!N134","v":0},{"$f":"Sheet2!V134","v":0},{"$f":"Sheet2!W134","v":0},0,{"$f":"Sheet2!S134","v":0},{"$f":"Sheet2!T134","v":0},{"$f":"SUM(#REF!)/3","v":{"$error":"#REF!"}},0,{"$f":"Sheet2!AF134","v":0},{"$f":"Sheet2!AG134","v":0},{"$f":"Sheet2!AH134","v":0},{"$f":"Sheet2!AI134","v":0},{"$f":"Sheet2!H134","v":0},{"$f":"Sheet2!Y134","v":0},{"$f":"Sheet2!Z134","v":0},{"$f":"Sheet2!AA134","v":0},{"$f":"Sheet2!AD134","v":0},{"$f":"Sheet2!AC134","v":0},{"$f":"Sheet2!BI134","v":0},{"$f":"Sheet2!BH134","v":0},{"$f":"Sheet2!AL134","v":0},{"$f":"Sheet2!AM134","v":0},{"$f":"Sheet2!AN134","v":0},{"$f":"Sheet2!AO134","v":0},{"$f":"Sheet2!AP134","v":0},{"$f":"Sheet2!AQ134","v":0},{"$f":"Sheet2!BB134","v":0}]
[null,{"$f":"Sheet2!I135","v":0},{"$f":"Sheet2!J135","v":0},{"$f":"Sheet2!C135","v":0},{"$f":"Sheet2!B135","v":"00:00:00"},{"$f":"Sheet2!K135","v":0},{"$f":"Sheet2!L135","v":0},{"$f":"Sheet2!AK135","v":0},0,0,{"$f":"Sheet2!BC135","v":0},{"$f":"Sheet2!M135","v":0},{"$f":"Sheet2!N135","v":0},{"$f":"Sheet2!V135","v":0},{"$f":"Sheet2!W135","v":0},0,{"$f":"Sheet2!S135","v":0},{"$f":"Sheet2!T135","v":0},{"$f":"SUM(#REF!)/3","v":{"$error":"#REF!"}},0,{"$f":"Sheet2!AF135","v":0},{"$f":"Sheet2!AG135","v":0},{"$f":"Sheet2!AH135","v":0},{"$f":"Sheet2!AI135","v":0},{"$f":"Sheet2!H135","v":0},{"$f":"Sheet2!Y135","v":0},{"$f":"Sheet2!Z135","v":0},{"$f":"Sheet2!AA135","v":0},{"$f":"Sheet2!AD135","v":0},{"$f":"Sheet2!AC135","v":0},{"$f":"Sheet2!BI135","v":0},{"$f":"Sheet2!BH135","v":0},{"$f":"Sheet2!AL135","v":0},{"$f":"Sheet2!AM135","v":0},{"$f":"Sheet2!AN135","v":0},{"$f":"Sheet2!AO135","v":0},{"$f":"Sheet2!AP135","v":0},{"$f":"Sheet2!AQ135","v":0},{"$f":"Sheet2!BB135","v":0}]
[null,{"$f":"Sheet2!I136","v":0},{"$f":"Sheet2!J136","v":0},{"$f":"Sheet2!C136","v":0},{"$f":"Sheet2!B136","v":"00:00:00"},{"$f":"Sheet2!K136","v":0},{"$f":"Sheet2!L136","v":0},{"$f":"Sheet2!AK136","v":0},0,0,{"$f":"Sheet2!BC136","v":0},{"$f":"Sheet2!M136","v":0},{"$f":"Sheet2!N136","v":0},{"$f":"Sheet2!V136","v":0},{"$f":"Sheet2!W136","v":0},0,{"$f":"Sheet2!S136","v":0},{"$f":"Sheet2!T136","v":0},{"$f":"SUM(#REF!)/3","v":{"$error":"#REF!"}},0,{"$f":"Sheet2!AF136","v":0},{"$f":"Sheet2!AG136","v":0},{"$f":"Sheet2!AH136","v":0},{"$f":"Sheet2!AI136","v":0},{"$f":"Sheet2!H136","v":0},{"$f":"Sheet2!Y136","v":0},{"$f":"Sheet2!Z136","v":0},{"$f":"Sheet2!AA136","v":0},{"$f":"Sheet2!AD136","v":0},{"$f":"Sheet2!AC136","v":0},{"$f":"Sheet2!BI136","v":0},{"$f":"Sheet2!BH136","v":0},{"$f":"Sheet2!AL136","v":0},{"$f":"Sheet2!AM136","v":0},{"$f":"Sheet2!AN136","v":0},{"$f":"Sheet2!AO136","v":0},{"$f":"Sheet2!AP136","v":0},{"$f":"Sheet2!AQ136","v":0},{"$f":"Sheet2!BB136","v":0}]
[null,{"$f":"Sheet2!I137","v":0},{"$f":"Sheet2!J137","v":0},{"$f":"Sheet2!C137","v":0},{"$f":"Sheet2!B137","v":"00:00:00"},{"$f":"Sheet2!K137","v":0},{"$f":"Sheet2!L137","v":0},{"$f":"Sheet2!AK137","v":0},0,0,{"$f":"Sheet2!BC137","v":0},{"$f":"Sheet2!M137","v":0},{"$f":"Sheet2!N137","v":0},{"$f":"Sheet2!V137","v":0},{"$f":"Sheet2!W137","v":0},0,{"$f":"Sheet2!S137","v":0},{"$f":"Sheet2!T137","v":0},{"$f":"SUM(#REF!)/3","v":{"$error":"#REF!"}},0,{"$f":"Sheet2!AF137","v":0},{"$f":"Sheet2!AG137","v":0},{"$f":"Sheet2!AH137","v":0},{"$f":"Sheet2!AI137","v":0},{"$f":"Sheet2!H137","v":0},{"$f":"Sheet2!Y137","v":0},{"$f":"Sheet2!Z137","v":0},{"$f":"Sheet2!AA137","v":0},{"$f":"Sheet2!AD137","v":0},{"$f":"Sheet2!AC137","v":0},{"$f":"Sheet2!BI137","v":0},{"$f":"Sheet2!BH137","v":0},{"$f":"Sheet2!AL137","v":0},{"$f":"Sheet2!AM137","v":0},{"$f":"Sheet2!AN137","v":0},{"$f":"Sheet2!AO137","v":0},{"$f":"Sheet2!AP137","v":0},{"$f":"Sheet2!AQ137","v":0},{"$f":"Sheet2!BB137","v":0}]
[null,{"$f":"Sheet2!I138","v":0},{"$f":"Sheet2!J138","v":0},{"$f":"Sheet2!C138","v":0},{"$f":"Sheet2!B138","v":"00:00:00"},{"$f":"Sheet2!K138","v":0},{"$f":"Sheet2!L138","v":0},{"$f":"Sheet2!AK138","v":0},0,0,{"$f":"Sheet2!BC138","v":0},{"$f":"Sheet2!M138","v":0},{"$f":"Sheet2!N138","v":0},{"$f":"Sheet2!V138","v":0},{"$f":"Sheet2!W138","v":0},0,{"$f":"Sheet2!S138","v":0},{"$f":"Sheet2!T138","v":0},{"$f":"SUM(#REF!)/3","v":{"$error":"#REF!"}},0,{"$f":"Sheet2!AF138","v":0},{"$f":"Sheet2!AG138","v":0},{"$f":"Sheet2!AH138","v":0},{"$f":"Sheet2!AI138","v":0},{"$f":"Sheet2!H138","v":0},{"$f":"Sheet2!Y138","v":0},{"$f":"Sheet2!Z138","v":0},{"$f":"Sheet2!AA138","v":0},{"$f":"Sheet2!AD138","v":0},{"$f":"Sheet2!AC138","v":0},{"$f":"Sheet2!BI138","v":0},{"$f":"Sheet2!BH138","v":0},{"$f":"Sheet2!AL138","v":0},{"$f":"Sheet2!AM138","v":0},{"$f":"Sheet2!AN138","v":0},{"$f":"Sheet2!AO138","v":0},{"$f":"Sheet2!AP138","v":0},{"$f":"Sheet2!AQ138","v":0},{"$f":"Sheet2!BB138","v":0}]
[null,{"$f":"Sheet2!I139","v":0},{"$f":"Sheet2!J139","v":0},{"$f":"Sheet2!C139","v":0},{"$f":"Sheet2!B139","v":"00:00:00"},{"$f":"Sheet2!K139","v":0},{"$f":"Sheet2!L139","v":0},{"$f":"Sheet2!AK139","v":0},0,0,{"$f":"Sheet2!BC139","v":0},{"$f":"Sheet2!M139","v":0},{"$f":"Sheet2!N139","v":0},{"$f":"Sheet2!V139","v":0},{"$f":"Sheet2!W139","v":0},0,{"$f":"Sheet2!S139","v":0},{"$f":"Sheet2!T139","v":0},{"$f":"SUM(#REF!)/3","v":{"$error":"#REF!"}},0,{"$f":"Sheet2!AF139","v":0},{"$f":"Sheet2!AG139","v":0},{"$f":"Sheet2!AH139","v":0},{"$f":"Sheet2!AI139","v":0},{"$f":"Sheet2!H139","v":0},{"$f":"Sheet2!Y139","v":0},{"$f":"Sheet2!Z139","v":0},{"$f":"Sheet2!AA139","v":0},{"$f":"Sheet2!AD139","v":0},{"$f":"Sheet2!AC139","v":0},{"$f":"Sheet2!BI139","v":0},{"$f":"Sheet2!BH139","v":0},{"$f":"Sheet2!AL139","v":0},{"$f":"Sheet2!AM139","v":0},{"$f":"Sheet2!AN139","v":0},{"$f":"Sheet2!AO139","v":0},{"$f":"Sheet2!AP139","v":0},{"$f":"Sheet2!AQ139","v":0},{"$f":"Sheet2!BB139","v":0}]
[null,{"$f":"Sheet2!I140","v":0},{"$f":"Sheet2!J140","v":0},{"$f":"Sheet2!C140","v":0},{"$f":"Sheet2!B140","v":"00:00:00"},{"$f":"Sheet2!K140","v":0},{"$f":"Sheet2!L140","v":0},{"$f":"Sheet2!AK140","v":0},0,0,{"$f":"Sheet2!BC140","v":0},{"$f":"Sheet2!M140","v":0},{"$f":"Sheet2!N140","v":0},{"$f":"Sheet2!V140","v":0},{"$f":"Sheet2!W140","v":0},0,{"$f":"Sheet2!S140","v":0},{"$f":"Sheet2!T140","v":0},{"$f":"SUM(#REF!)/3","v":{"$error":"#REF!"}},0,{"$f":"Sheet2!AF140","v":0},{"$f":"Sheet2!AG140","v":0},{"$f":"Sheet2!AH140","v":0},{"$f":"Sheet2!AI140","v":0},{"$f":"Sheet2!H140","v":0},{"$f":"Sheet2!Y140","v":0},{"$f":"Sheet2!Z140","v":0},{"$f":"Sheet2!AA140","v":0},{"$f":"Sheet2!AD140","v":0},{"$f":"Sheet2!AC140","v":0},{"$f":"Sheet2!BI140","v":0},{"$f":"Sheet2!BH140","v":0},{"$f":"Sheet2!AL140","v":0},{"$f":"Sheet2!AM140","v":0},{"$f":"Sheet2!AN140","v":0},{"$f":"Sheet2!AO140","v":0},{"$f":"Sheet2!AP140","v":0},{"$f":"Sheet2!AQ140","v":0},{"$f":"Sheet2!BB140","v":0}]
[null,{"$f":"Sheet2!I141","v":0},{"$f":"Sheet2!J141","v":0},{"$f":"Sheet2!C141","v":0},{"$f":"Sheet2!B141","v":"00:00:00"},{"$f":"Sheet2!K141","v":0},{"$f":"Sheet2!L141","v":0},{"$f":"Sheet2!AK141","v":0},0,0,{"$f":"Sheet2!BC141","v":0},{"$f":"Sheet2!M141","v":0},{"$f":"Sheet2!N141","v":0},{"$f":"Sheet2!V141","v":0},{"$f":"Sheet2!W141","v":0},0,{"$f":"Sheet2!S141","v":0},{"$f":"Sheet2!T141","v":0},{"$f":"SUM(#REF!)/3","v":{"$error":"#REF!"}},0,{"$f":"Sheet2!AF141","v":0},{"$f":"Sheet2!AG141","v":0},{"$f":"Sheet2!AH141","v":0},{"$f":"Sheet2!AI141","v":0},{"$f":"Sheet2!H141","v":0},{"$f":"Sheet2!Y141","v":0},{"$f":"Sheet2!Z141","v":0},{"$f":"Sheet2!AA141","v":0},{"$f":"Sheet2!AD141","v":0},{"$f":"Sheet2!AC141","v":0},{"$f":"Sheet2!BI141","v":0},{"$f":"Sheet2!BH141","v":0},{"$f":"Sheet2!AL141","v":0},{"$f":"Sheet2!AM141","v":0},{"$f":"Sheet2!AN141","v":0},{"$f":"Sheet2!AO141","v":0},{"$f":"Sheet2!AP141","v":0},{"$f":"Sheet2!AQ141","v":0},{"$f":"Sheet2!BB141","v":0}]
[null,{"$f":"Sheet2!I142","v":0},{"$f":"Sheet2!J142","v":0},{"$f":"Sheet2!C142","v":0},{"$f":"Sheet2!B142","v":"00:00:00"},{"$f":"Sheet2!K142","v":0},{"$f":"Sheet2!L142","v":0},{"$f":"Sheet2!AK142","v":0},0,0,{"$f":"Sheet2!BC142","v":0},{"$f":"Sheet2!M142","v":0},{"$f":"Sheet2!N142","v":0},{"$f":"Sheet2!V142","v":0},{"$f":"Sheet2!W142","v":0},0,{"$f":"Sheet2!S142","v":0},{"$f":"Sheet2!T142","v":0},{"$f":"SUM(#REF!)/3","v":{"$error":"#REF!"}},0,{"$f":"Sheet2!AF142","v":0},{"$f":"Sheet2!AG142","v":0},{"$f":"Sheet2!AH142","v":0},{"$f":"Sheet2!AI142","v":0},{"$f":"Sheet2!H142","v":0},{"$f":"Sheet2!Y142","v":0},{"$f":"Sheet2!Z142","v":0},{"$f":"Sheet2!AA142","v":0},{"$f":"Sheet2!AD142","v":0},{"$f":"Sheet2!AC142","v":0},{"$f":"Sheet2!BI142","v":0},{"$f":"Sheet2!BH142","v":0},{"$f":"Sheet2!AL142","v":0},{"$f":"Sheet2!AM142","v":0},{"$f":"Sheet2!AN142","v":0},{"$f":"Sheet2!AO142","v":0},{"$f":"Sheet2!AP142","v":0},{"$f":"Sheet2!AQ142","v":0},{"$f":"Sheet2!BB142","v":0}]
[null,{"$f":"Sheet2!I143","v":0},{"$f":"Sheet2!J143","v":0},{"$f":"Sheet2!C143","v":0},{"$f":"Sheet2!B143","v":"00:00:00"},{"$f":"Sheet2!K143","v":0},{"$f":"Sheet2!L143","v":0},{"$f":"Sheet2!AK143","v":0},0,0,{"$f":"Sheet2!BC143","v":0},{"$f":"Sheet2!M143","v":0},{"$f":"Sheet2!N143","v":0},{"$f":"Sheet2!V143","v":0},{"$f":"Sheet2!W143","v":0},0,{"$f":"Sheet2!S143","v":0},{"$f":"Sheet2!T143","v":0},{"$f":"SUM(#REF!)/3","v":{"$error":"#REF!"}},0,{"$f":"Sheet2!AF143","v":0},{"$f":"Sheet2!AG143","v":0},{"$f":"Sheet2!AH143","v":0},{"$f":"Sheet2!AI143","v":0},{"$f":"Sheet2!H143","v":0},{"$f":"Sheet2!Y143","v":0},{"$f":"Sheet2!Z143","v":0},{"$f":"Sheet2!AA143","v":0},{"$f":"Sheet2!AD143","v":0},{"$f":"Sheet2!AC143","v":0},{"$f":"Sheet2!BI143","v":0},{"$f":"Sheet2!BH143","v":0},{"$f":"Sheet2!AL143","v":0},{"$f":"Sheet2!AM143","v":0},{"$f":"Sheet2!AN143","v":0},{"$f":"Sheet2!AO143","v":0},{"$f":"Sheet2!AP143","v":0},{"$f":"Sheet2!AQ143","v":0},{"$f":"Sheet2!BB143","v":0}]
[null,{"$f":"Sheet2!I144","v":0},{"$f":"Sheet2!J144","v":0},{"$f":"Sheet2!C144","v":0},{"$f":"Sheet2!B144","v":"00:00:00"},{"$f":"Sheet2!K144","v":0},{"$f":"Sheet2!L144","v":0},{"$f":"Sheet2!AK144","v":0},0,0,{"$f":"Sheet2!BC144","v":0},{"$f":"Sheet2!M144","v":0},{"$f":"Sheet2!N144","v":0},{"$f":"Sheet2!V144","v":0},{"$f":"Sheet2!W144","v":0},0,{"$f":"Sheet2!S144","v":0},{"$f":"Sheet2!T144","v":0},{"$f":"SUM(#REF!)/3","v":{"$error":"#REF!"}},0,{"$f":"Sheet2!AF144","v":0},{"$f":"Sheet2!AG144","v":0},{"$f":"Sheet2!AH144","v":0},{"$f":"Sheet2!AI144","v":0},{"$f":"Sheet2!H144","v":0},{"$f":"Sheet2!Y144","v":0},{"$f":"Sheet2!Z144","v":0},{"$f":"Sheet2!AA144","v":0},{"$f":"Sheet2!AD144","v":0},{"$f":"Sheet2!AC144","v":0},{"$f":"Sheet2!BI144","v":0},{"$f":"Sheet2!BH144","v":0},{"$f":"Sheet2!AL144","v":0},{"$f":"Sheet2!AM144","v":0},{"$f":"Sheet2!AN144","v":0},{"$f":"Sheet2!AO144","v":0},{"$f":"Sheet2!AP144","v":0},{"$f":"Sheet2!AQ144","v":0},{"$f":"Sheet2!BB144","v":0}]
[null,{"$f":"Sheet2!I145","v":0},{"$f":"Sheet2!J145","v":0},{"$f":"Sheet2!C145","v":0},{"$f":"Sheet2!B145","v":"00:00:00"},{"$f":"Sheet2!K145","v":0},{"$f":"Sheet2!L145","v":0},{"$f":"Sheet2!AK145","v":0},0,0,{"$f":"Sheet2!BC145","v":0},{"$f":"Sheet2!M145","v":0},{"$f":"Sheet2!N145","v":0},{"$f":"Sheet2!V145","v":0},{"$f":"Sheet2!W145","v":0},0,{"$f":"Sheet2!S145","v":0},{"$f":"Sheet2!T145","v":0},{"$f":"SUM(#REF!)/3","v":{"$error":"#REF!"}},0,{"$f":"Sheet2!AF145","v":0},{"$f":"Sheet2!AG145","v":0},{"$f":"Sheet2!AH145","v":0},{"$f":"Sheet2!AI145","v":0},{"$f":"Sheet2!H145","v":0},{"$f":"Sheet2!Y145","v":0},{"$f":"Sheet2!Z145","v":0},{"$f":"Sheet2!AA145","v":0},{"$f":"Sheet2!AD145","v":0},{"$f":"Sheet2!AC145","v":0},{"$f":"Sheet2!BI145","v":0},{"$f":"Sheet2!BH145","v":0},{"$f":"Sheet2!AL145","v":0},{"$f":"Sheet2!AM145","v":0},{"$f":"Sheet2!AN145","v":0},{"$f":"Sheet2!AO145","v":0},{"$f":"Sheet2!AP145","v":0},{"$f":"Sheet2!AQ145","v":0},{"$f":"Sheet2!BB145","v":0}]
[null,{"$f":"Sheet2!I146","v":0},{"$f":"Sheet2!J146","v":0},{"$f":"Sheet2!C146","v":0},{"$f":"Sheet2!B146","v":"00:00:00"},{"$f":"Sheet2!K146","v":0},{"$f":"Sheet2!L146","v":0},{"$f":"Sheet2!AK146","v":0},0,0,{"$f":"Sheet2!BC146","v":0},{"$f":"Sheet2!M146","v":0},{"$f":"Sheet2!N146","v":0},{"$f":"Sheet2!V146","v":0},{"$f":"Sheet2!W146","v":0},0,{"$f":"Sheet2!S146","v":0},{"$f":"Sheet2!T146","v":0},{"$f":"SUM(#REF!)/3","v":{"$error":"#REF!"}},0,{"$f":"Sheet2!AF146","v":0},{"$f":"Sheet2!AG146","v":0},{"$f":"Sheet2!AH146","v":0},{"$f":"Sheet2!AI146","v":0},{"$f":"Sheet2!H146","v":0},{"$f":"Sheet2!Y146","v":0},{"$f":"Sheet2!Z146","v":0},{"$f":"Sheet2!AA146","v":0},{"$f":"Sheet2!AD146","v":0},{"$f":"Sheet2!AC146","v":0},{"$f":"Sheet2!BI146","v":0},{"$f":"Sheet2!BH146","v":0},{"$f":"Sheet2!AL146","v":0},{"$f":"Sheet2!AM146","v":0},{"$f":"Sheet2!AN146","v":0},{"$f":"Sheet2!AO146","v":0},{"$f":"Sheet2!AP146","v":0},{"$f":"Sheet2!AQ146","v":0},{"$f":"Sheet2!BB146","v":0}]
[null,{"$f":"Sheet2!I147","v":0},{"$f":"Sheet2!J147","v":0},{"$f":"Sheet2!C147","v":0},{"$f":"Sheet2!B147","v":"00:00:00"},{"$f":"Sheet2!K147","v":0},{"$f":"Sheet2!L147","v":0},{"$f":"Sheet2!AK147","v":0},0,0,{"$f":"Sheet2!BC147","v":0},{"$f":"Sheet2!M147","v":0},{"$f":"Sheet2!N147","v":0},{"$f":"Sheet2!V147","v":0},{"$f":"Sheet2!W147","v":0},0,{"$f":"Sheet2!S147","v":0},{"$f":"Sheet2!T147","v":0},{"$f":"SUM(#REF!)/3","v":{"$error":"#REF!"}},0,{"$f":"Sheet2!AF147","v":0},{"$f":"Sheet2!AG147","v":0},{"$f":"Sheet2!AH147","v":0},{"$f":"Sheet2!AI147","v":0},{"$f":"Sheet2!H147","v":0},{"$f":"Sheet2!Y147","v":0},{"$f":"Sheet2!Z147","v":0},{"$f":"Sheet2!AA147","v":0},{"$f":"Sheet2!AD147","v":0},{"$f":"Sheet2!AC147","v":0},{"$f":"Sheet2!BI147","v":0},{"$f":"Sheet2!BH147","v":0},{"$f":"Sheet2!AL147","v":0},{"$f":"Sheet2!AM147","v":0},{"$f":"Sheet2!AN147","v":0},{"$f":"Sheet2!AO147","v":0},{"$f":"Sheet2!AP147","v":0},{"$f":"Sheet2!AQ147","v":0},{"$f":"Sheet2!BB147","v":0}]
[null,{"$f":"Sheet2!I148","v":0},{"$f":"Sheet2!J148","v":0},{"$f":"Sheet2!C148","v":0},{"$f":"Sheet2!B148","v":"00:00:00"},{"$f":"Sheet2!K148","v":0},{"$f":"Sheet2!L148","v":0},{"$f":"Sheet2!AK148","v":0},0,0,{"$f":"Sheet2!BC148","v":0},{"$f":"Sheet2!M148","v":0},{"$f":"Sheet2!N148","v":0},{"$f":"Sheet2!V148","v":0},{"$f":"Sheet2!W148","v":0},0,{"$f":"Sheet2!S148","v":0},{"$f":"Sheet2!T148","v":0},{"$f":"SUM(#REF!)/3","v":{"$error":"#REF!"}},0,{"$f":"Sheet2!AF148","v":0},{"$f":"Sheet2!AG148","v":0},{"$f":"Sheet2!AH148","v":0},{"$f":"Sheet2!AI148","v":0},{"$f":"Sheet2!H148","v":0},{"$f":"Sheet2!Y148","v":0},{"$f":"Sheet2!Z148","v":0},{"$f":"Sheet2!AA148","v":0},{"$f":"Sheet2!AD148","v":0},{"$f":"Sheet2!AC148","v":0},{"$f":"Sheet2!BI148","v":0},{"$f":"Sheet2!BH148","v":0},{"$f":"Sheet2!AL148","v":0},{"$f":"Sheet2!AM148","v":0},{"$f":"Sheet2!AN148","v":0},{"$f":"Sheet2!AO148","v":0},{"$f":"Sheet2!AP148","v":0},{"$f":"Sheet2!AQ148","v":0},{"$f":"Sheet2!BB148","v":0}]
[null,{"$f":"Sheet2!I149","v":0},{"$f":"Sheet2!J149","v":0},{"$f":"Sheet2!C149","v":0},{"$f":"Sheet2!B149","v":"00:00:00"},{"$f":"Sheet2!K149","v":0},{"$f":"Sheet2!L149","v":0},{"$f":"Sheet2!AK149","v":0},0,0,{"$f":"Sheet2!BC149","v":0},{"$f":"Sheet2!M149","v":0},{"$f":"Sheet2!N149","v":0},{"$f":"Sheet2!V149","v":0},{"$f":"Sheet2!W149","v":0},0,{"$f":"Sheet2!S149","v":0},{"$f":"Sheet2!T149","v":0},{"$f":"SUM(#REF!)/3","v":{"$error":"#REF!"}},0,{"$f":"Sheet2!AF149","v":0},{"$f":"Sheet2!AG149","v":0},{"$f":"Sheet2!AH149","v":0},{"$f":"Sheet2!AI149","v":0},{"$f":"Sheet2!H149","v":0},{"$f":"Sheet2!Y149","v":0},{"$f":"Sheet2!Z149","v":0},{"$f":"Sheet2!AA149","v":0},{"$f":"Sheet2!AD149","v":0},{"$f":"Sheet2!AC149","v":0},{"$f":"Sheet2!BI149","v":0},{"$f":"Sheet2!BH149","v":0},{"$f":"Sheet2!AL149","v":0},{"$f":"Sheet2!AM149","v":0},{"$f":"Sheet2!AN149","v":0},{"$f":"Sheet2!AO149","v":0},{"$f":"Sheet2!AP149","v":0},{"$f":"Sheet2!AQ149","v":0},{"$f":"Sheet2!BB149","v":0}]
[null,{"$f":"Sheet2!I150","v":0},{"$f":"Sheet2!J150","v":0},{"$f":"Sheet2!C150","v":0},{"$f":"Sheet2!B150","v":"00:00:00"},{"$f":"Sheet2!K150","v":0},{"$f":"Sheet2!L150","v":0},{"$f":"Sheet2!AK150","v":0},0,0,{"$f":"Sheet2!BC150","v":0},{"$f":"Sheet2!M150","v":0},{"$f":"Sheet2!N150","v":0},{"$f":"Sheet2!V150","v":0},{"$f":"Sheet2!W150","v":0},0,{"$f":"Sheet2!S150","v":0},{"$f":"Sheet2!T150","v":0},{"$f":"SUM(#REF!)/3","v":{"$error":"#REF!"}},0,{"$f":"Sheet2!AF150","v":0},{"$f":"Sheet2!AG150","v":0},{"$f":"Sheet2!AH150","v":0},{"$f":"Sheet2!AI150","v":0},{"$f":"Sheet2!H150","v":0},{"$f":"Sheet2!Y150","v":0},{"$f":"Sheet2!Z150","v":0},{"$f":"Sheet2!AA150","v":0},{"$f":"Sheet2!AD150","v":0},{"$f":"Sheet2!AC150","v":0},{"$f":"Sheet2!BI150","v":0},{"$f":"Sheet2!BH150","v":0},{"$f":"Sheet2!AL150","v":0},{"$f":"Sheet2!AM150","v":0},{"$f":"Sheet2!AN150","v":0},{"$f":"Sheet2!AO150","v":0},{"$f":"Sheet2!AP150","v":0},{"$f":"Sheet2!AQ150","v":0},{"$f":"Sheet2!BB150","v":0}]
[null,{"$f":"Sheet2!I151","v":0},{"$f":"Sheet2!J151","v":0},{"$f":"Sheet2!C151","v":0},{"$f":"Sheet2!B151","v":"00:00:00"},{"$f":"Sheet2!K151","v":0},{"$f":"Sheet2!L151","v":0},{"$f":"Sheet2!AK151","v":0},0,0,{"$f":"Sheet2!BC151","v":0},{"$f":"Sheet2!M151","v":0},{"$f":"Sheet2!N151","v":0},{"$f":"Sheet2!V151","v":0},{"$f":"Sheet2!W151","v":0},0,{"$f":"Sheet2!S151","v":0},{"$f":"Sheet2!T151","v":0},{"$f":"SUM(#REF!)/3","v":{"$error":"#REF!"}},0,{"$f":"Sheet2!AF151","v":0},{"$f":"Sheet2!AG151","v":0},{"$f":"Sheet2!AH151","v":0},{"$f":"Sheet2!AI151","v":0},{"$f":"Sheet2!H151","v":0},{"$f":"Sheet2!Y151","v":0},{"$f":"Sheet2!Z151","v":0},{"$f":"Sheet2!AA151","v":0},{"$f":"Sheet2!AD151","v":0},{"$f":"Sheet2!AC151","v":0},{"$f":"Sheet2!BI151","v":0},{"$f":"Sheet2!BH151","v":0},{"$f":"Sheet2!AL151","v":0},{"$f":"Sheet2!AM151","v":0},{"$f":"Sheet2!AN151","v":0},{"$f":"Sheet2!AO151","v":0},{"$f":"Sheet2!AP151","v":0},{"$f":"Sheet2!AQ151","v":0},{"$f":"Sheet2!BB151","v":0}]
[null,{"$f":"Sheet2!I152","v":0},{"$f":"Sheet2!J152","v":0},{"$f":"Sheet2!C152","v":0},{"$f":"Sheet2!B152","v":"00:00:00"},{"$f":"Sheet2!K152","v":0},{"$f":"Sheet2!L152","v":0},{"$f":"Sheet2!AK152","v":0},0,0,{"$f":"Sheet2!BC152","v":0},{"$f":"Sheet2!M152","v":0},{"$f":"Sheet2!N152","v":0},{"$f":"Sheet2!V152","v":0},{"$f":"Sheet2!W152","v":0},0,{"$f":"Sheet2!S152","v":0},{"$f":"Sheet2!T152","v":0},{"$f":"SUM(#REF!)/3","v":{"$error":"#REF!"}},0,{"$f":"Sheet2!AF152","v":0},{"$f":"Sheet2!AG152","v":0},{"$f":"Sheet2!AH152","v":0},{"$f":"Sheet2!AI152","v":0},{"$f":"Sheet2!H152","v":0},{"$f":"Sheet2!Y152","v":0},{"$f":"Sheet2!Z152","v":0},{"$f":"Sheet2!AA152","v":0},{"$f":"Sheet2!AD152","v":0},{"$f":"Sheet2!AC152","v":0},{"$f":"Sheet2!BI152","v":0},{"$f":"Sheet2!BH152","v":0},{"$f":"Sheet2!AL152","v":0},{"$f":"Sheet2!AM152","v":0},{"$f":"Sheet2!AN152","v":0},{"$f":"Sheet2!AO152","v":0},{"$f":"Sheet2!AP152","v":0},{"$f":"Sheet2!AQ152","v":0},{"$f":"Sheet2!BB152","v":0}]
[null,{"$f":"Sheet2!I153","v":0},{"$f":"Sheet2!J153","v":0},{"$f":"Sheet2!C153","v":0},{"$f":"Sheet2!B153","v":"00:00:00"},{"$f":"Sheet2!K153","v":0},{"$f":"Sheet2!L153","v":0},{"$f":"Sheet2!AK153","v":0},0,0,{"$f":"Sheet2!BC153","v":0},{"$f":"Sheet2!M153","v":0},{"$f":"Sheet2!N153","v":0},{"$f":"Sheet2!V153","v":0},{"$f":"Sheet2!W153","v":0},0,{"$f":"Sheet2!S153","v":0},{"$f":"Sheet2!T153","v":0},{"$f":"SUM(#REF!)/3","v":{"$error":"#REF!"}},0,{"$f":"Sheet2!AF153","v":0},{"$f":"Sheet2!AG153","v":0},{"$f":"Sheet2!AH153","v":0},{"$f":"Sheet2!AI153","v":0},{"$f":"Sheet2!H153","v":0},{"$f":"Sheet2!Y153","v":0},{"$f":"Sheet2!Z153","v":0},{"$f":"Sheet2!AA153","v":0},{"$f":"Sheet2!AD153","v":0},{"$f":"Sheet2!AC153","v":0},{"$f":"Sheet2!BI153","v":0},{"$f":"Sheet2!BH153","v":0},{"$f":"Sheet2!AL153","v":0},{"$f":"Sheet2!AM153","v":0},{"$f":"Sheet2!AN153","v":0},{"$f":"Sheet2!AO153","v":0},{"$f":"Sheet2!AP153","v":0},{"$f":"Sheet2!AQ153","v":0},{"$f":"Sheet2!BB153","v":0}]
[null,{"$f":"Sheet2!I154","v":0},{"$f":"Sheet2!J154","v":0},{"$f":"Sheet2!C154","v":0},{"$f":"Sheet2!B154","v":"00:00:00"},{"$f":"Sheet2!K154","v":0},{"$f":"Sheet2!L154","v":0},{"$f":"Sheet2!AK154","v":0},0,0,{"$f":"Sheet2!BC154","v":0},{"$f":"Sheet2!M154","v":0},{"$f":"Sheet2!N154","v":0},{"$f":"Sheet2!V154","v":0},{"$f":"Sheet2!W154","v":0},0,{"$f":"Sheet2!S154","v":0},{"$f":"Sheet2!T154","v":0},{"$f":"SUM(#REF!)/3","v":{"$error":"#REF!"}},0,{"$f":"Sheet2!AF154","v":0},{"$f":"Sheet2!AG154","v":0},{"$f":"Sheet2!AH154","v":0},{"$f":"Sheet2!AI154","v":0},{"$f":"Sheet2!H154","v":0},{"$f":"Sheet2!Y154","v":0},{"$f":"Sheet2!Z154","v":0},{"$f":"Sheet2!AA154","v":0},{"$f":"Sheet2!AD154","v":0},{"$f":"Sheet2!AC154","v":0},{"$f":"Sheet2!BI154","v":0},{"$f":"Sheet2!BH154","v":0},{"$f":"Sheet2!AL154","v":0},{"$f":"Sheet2!AM154","v":0},{"$f":"Sheet2!AN154","v":0},{"$f":"Sheet2!AO154","v":0},{"$f":"Sheet2!AP154","v":0},{"$f":"Sheet2!AQ154","v":0},{"$f":"Sheet2!BB154","v":0}]
[null,{"$f":"Sheet2!I155","v":0},{"$f":"Sheet2!J155","v":0},{"$f":"Sheet2!C155","v":0},{"$f":"Sheet2!B155","v":"00:00:00"},{"$f":"Sheet2!K155","v":0},{"$f":"Sheet2!L155","v":0},{"$f":"Sheet2!AK155","v":0},0,0,{"$f":"Sheet2!BC155","v":0},{"$f":"Sheet2!M155","v":0},{"$f":"Sheet2!N155","v":0},{"$f":"Sheet2!V155","v":0},{"$f":"Sheet2!W155","v":0},0,{"$f":"Sheet2!S155","v":0},{"$f":"Sheet2!T155","v":0},{"$f":"SUM(#REF!)/3","v":{"$error":"#REF!"}},0,{"$f":"Sheet2!AF155","v":0},{"$f":"Sheet2!AG155","v":0},{"$f":"Sheet2!AH155","v":0},{"$f":"Sheet2!AI155","v":0},{"$f":"Sheet2!H155","v":0},{"$f":"Sheet2!Y155","v":0},{"$f":"Sheet2!Z155","v":0},{"$f":"Sheet2!AA155","v":0},{"$f":"Sheet2!AD155","v":0},{"$f":"Sheet2!AC155","v":0},{"$f":"Sheet2!BI155","v":0},{"$f":"Sheet2!BH155","v":0},{"$f":"Sheet2!AL155","v":0},{"$f":"Sheet2!AM155","v":0},{"$f":"Sheet2!AN155","v":0},{"$f":"Sheet2!AO155","v":0},{"$f":"Sheet2!AP155","v":0},{"$f":"Sheet2!AQ155","v":0},{"$f":"Sheet2!BB155","v":0}]
[null,{"$f":"Sheet2!I156","v":0},{"$f":"Sheet2!J156","v":0},{"$f":"Sheet2!C156","v":0},{"$f":"Sheet2!B156","v":"00:00:00"},{"$f":"Sheet2!K156","v":0},{"$f":"Sheet2!L156","v":0},{"$f":"Sheet2!AK156","v":0},0,0,{"$f":"Sheet2!BC156","v":0},{"$f":"Sheet2!M156","v":0},{"$f":"Sheet2!N156","v":0},{"$f":"Sheet2!V156","v":0},{"$f":"Sheet2!W156","v":0},0,{"$f":"Sheet2!S156","v":0},{"$f":"Sheet2!T156","v":0},{"$f":"SUM(#REF!)/3","v":{"$error":"#REF!"}},0,{"$f":"Sheet2!AF156","v":0},{"$f":"Sheet2!AG156","v":0},{"$f":"Sheet2!AH156","v":0},{"$f":"Sheet2!AI156","v":0},{"$f":"Sheet2!H156","v":0},{"$f":"Sheet2!Y156","v":0},{"$f":"Sheet2!Z156","v":0},{"$f":"Sheet2!AA156","v":0},{"$f":"Sheet2!AD156","v":0},{"$f":"Sheet2!AC156","v":0},{"$f":"Sheet2!BI156","v":0},{"$f":"Sheet2!BH156","v":0},{"$f":"Sheet2!AL156","v":0},{"$f":"Sheet2!AM156","v":0},{"$f":"Sheet2!AN156","v":0},{"$f":"Sheet2!AO156","v":0},{"$f":"Sheet2!AP156","v":0},{"$f":"Sheet2!AQ156","v":0},{"$f":"Sheet2!BB156","v":0}]
[null,{"$f":"Sheet2!I157","v":0},{"$f":"Sheet2!J157","v":0},{"$f":"Sheet2!C157","v":0},{"$f":"Sheet2!B157","v":"00:00:00"},{"$f":"Sheet2!K157","v":0},{"$f":"Sheet2!L157","v":0},{"$f":"Sheet2!AK157","v":0},0,0,{"$f":"Sheet2!BC157","v":0},{"$f":"Sheet2!M157","v":0},{"$f":"Sheet2!N157","v":0},{"$f":"Sheet2!V157","v":0},{"$f":"Sheet2!W157","v":0},0,{"$f":"Sheet2!S157","v":0},{"$f":"Sheet2!T157","v":0},{"$f":"SUM(#REF!)/3","v":{"$error":"#REF!"}},0,{"$f":"Sheet2!AF157","v":0},{"$f":"Sheet2!AG157","v":0},{"$f":"Sheet2!AH157","v":0},{"$f":"Sheet2!AI157","v":0},{"$f":"Sheet2!H157","v":0},{"$f":"Sheet2!Y157","v":0},{"$f":"Sheet2!Z157","v":0},{"$f":"Sheet2!AA157","v":0},{"$f":"Sheet2!AD157","v":0},{"$f":"Sheet2!AC157","v":0},{"$f":"Sheet2!BI157","v":0},{"$f":"Sheet2!BH157","v":0},{"$f":"Sheet2!AL157","v":0},{"$f":"Sheet2!AM157","v":0},{"$f":"Sheet2!AN157","v":0},{"$f":"Sheet2!AO157","v":0},{"$f":"Sheet2!AP157","v":0},{"$f":"Sheet2!AQ157","v":0},{"$f":"Sheet2!BB157","v":0}]
[null,{"$f":"Sheet2!I158","v":0},{"$f":"Sheet2!J158","v":0},{"$f":"Sheet2!C158","v":0},{"$f":"Sheet2!B158","v":"00:00:00"},{"$f":"Sheet2!K158","v":0},{"$f":"Sheet2!L158","v":0},{"$f":"Sheet2!AK158","v":0},0,0,{"$f":"Sheet2!BC158","v":0},{"$f":"Sheet2!M158","v":0},{"$f":"Sheet2!N158","v":0},{"$f":"Sheet2!V158","v":0},{"$f":"Sheet2!W158","v":0},0,{"$f":"Sheet2!S158","v":0},{"$f":"Sheet2!T158","v":0},{"$f":"SUM(#REF!)/3","v":{"$error":"#REF!"}},0,{"$f":"Sheet2!AF158","v":0},{"$f":"Sheet2!AG158","v":0},{"$f":"Sheet2!AH158","v":0},{"$f":"Sheet2!AI158","v":0},{"$f":"Sheet2!H158","v":0},{"$f":"Sheet2!Y158","v":0},{"$f":"Sheet2!Z158","v":0},{"$f":"Sheet2!AA158","v":0},{"$f":"Sheet2!AD158","v":0},{"$f":"Sheet2!AC158","v":0},{"$f":"Sheet2!BI158","v":0},{"$f":"Sheet2!BH158","v":0},{"$f":"Sheet2!AL158","v":0},{"$f":"Sheet2!AM158","v":0},{"$f":"Sheet2!AN158","v":0},{"$f":"Sheet2!AO158","v":0},{"$f":"Sheet2!AP158","v":0},{"$f":"Sheet2!AQ158","v":0},{"$f":"Sheet2!BB158","v":0}]
[null,{"$f":"Sheet2!I159","v":0},{"$f":"Sheet2!J159","v":0},{"$f":"Sheet2!C159","v":0},{"$f":"Sheet2!B159","v":"00:00:00"},{"$f":"Sheet2!K159","v":0},{"$f":"Sheet2!L159","v":0},{"$f":"Sheet2!AK159","v":0},0,0,{"$f":"Sheet2!BC159","v":0},{"$f":"Sheet2!M159","v":0},{"$f":"Sheet2!N159","v":0},{"$f":"Sheet2!V159","v":0},{"$f":"Sheet2!W159","v":0},0,{"$f":"Sheet2!S159","v":0},{"$f":"Sheet2!T159","v":0},{"$f":"SUM(#REF!)/3","v":{"$error":"#REF!"}},0,{"$f":"Sheet2!AF159","v":0},{"$f":"Sheet2!AG159","v":0},{"$f":"Sheet2!AH159","v":0},{"$f":"Sheet2!AI159","v":0},{"$f":"Sheet2!H159","v":0},{"$f":"Sheet2!Y159","v":0},{"$f":"Sheet2!Z159","v":0},{"$f":"Sheet2!AA159","v":0},{"$f":"Sheet2!AD159","v":0},{"$f":"Sheet2!AC159","v":0},{"$f":"Sheet2!BI159","v":0},{"$f":"Sheet2!BH159","v":0},{"$f":"Sheet2!AL159","v":0},{"$f":"Sheet2!AM159","v":0},{"$f":"Sheet2!AN159","v":0},{"$f":"Sheet2!AO159","v":0},{"$f":"Sheet2!AP159","v":0},{"$f":"Sheet2!AQ159","v":0},{"$f":"Sheet2!BB159","v":0}]
[null,{"$f":"Sheet2!I160","v":0},{"$f":"Sheet2!J160","v":0},{"$f":"Sheet2!C160","v":0},{"$f":"Sheet2!B160","v":"00:00:00"},{"$f":"Sheet2!K160","v":0},{"$f":"Sheet2!L160","v":0},{"$f":"Sheet2!AK160","v":0},0,0,{"$f":"Sheet2!BC160","v":0},{"$f":"Sheet2!M160","v":0},{"$f":"Sheet2!N160","v":0},{"$f":"Sheet2!V160","v":0},{"$f":"Sheet2!W160","v":0},0,{"$f":"Sheet2!S160","v":0},{"$f":"Sheet2!T160","v":0},{"$f":"SUM(#REF!)/3","v":{"$error":"#REF!"}},0,{"$f":"Sheet2!AF160","v":0},{"$f":"Sheet2!AG160","v":0},{"$f":"Sheet2!AH160","v":0},{"$f":"Sheet2!AI160","v":0},{"$f":"Sheet2!H160","v":0},{"$f":"Sheet2!Y160","v":0},{"$f":"Sheet2!Z160","v":0},{"$f":"Sheet2!AA160","v":0},{"$f":"Sheet2!AD160","v":0},{"$f":"Sheet2!AC160","v":0},{"$f":"Sheet2!BI160","v":0},{"$f":"Sheet2!BH160","v":0},{"$f":"Sheet2!AL160","v":0},{"$f":"Sheet2!AM160","v":0},{"$f":"Sheet2!AN160","v":0},{"$f":"Sheet2!AO160","v":0},{"$f":"Sheet2!AP160","v":0},{"$f":"Sheet2!AQ160","v":0},{"$f":"Sheet2!BB160","v":0}]
[null,{"$f":"Sheet2!I161","v":0},{"$f":"Sheet2!J161","v":0},{"$f":"Sheet2!C161","v":0},{"$f":"Sheet2!B161","v":"00:00:00"},{"$f":"Sheet2!K161","v":0},{"$f":"Sheet2!L161","v":0},{"$f":"Sheet2!AK161","v":0},0,0,{"$f":"Sheet2!BC161","v":0},{"$f":"Sheet2!M161","v":0},{"$f":"Sheet2!N161","v":0},{"$f":"Sheet2!V161","v":0},{"$f":"Sheet2!W161","v":0},0,{"$f":"Sheet2!S161","v":0},{"$f":"Sheet2!T161","v":0},{"$f":"SUM(#REF!)/3","v":{"$error":"#REF!"}},0,{"$f":"Sheet2!AF161","v":0},{"$f":"Sheet2!AG161","v":0},{"$f":"Sheet2!AH161","v":0},{"$f":"Sheet2!AI161","v":0},{"$f":"Sheet2!H161","v":0},{"$f":"Sheet2!Y161","v":0},{"$f":"Sheet2!Z161","v":0},{"$f":"Sheet2!AA161","v":0},{"$f":"Sheet2!AD161","v":0},{"$f":"Sheet2!AC161","v":0},{"$f":"Sheet2!BI161","v":0},{"$f":"Sheet2!BH161","v":0},{"$f":"Sheet2!AL161","v":0},{"$f":"Sheet2!AM161","v":0},{"$f":"Sheet2!AN161","v":0},{"$f":"Sheet2!AO161","v":0},{"$f":"Sheet2!AP161","v":0},{"$f":"Sheet2!AQ161","v":0},{"$f":"Sheet2!BB161","v":0}]
[null,{"$f":"Sheet2!I162","v":0},{"$f":"Sheet2!J162","v":0},{"$f":"Sheet2!C162","v":0},{"$f":"Sheet2!B162","v":"00:00:00"},{"$f":"Sheet2!K162","v":0},{"$f":"Sheet2!L162","v":0},{"$f":"Sheet2!AK162","v":0},0,0,{"$f":"Sheet2!BC162","v":0},{"$f":"Sheet2!M162","v":0},{"$f":"Sheet2!N162","v":0},{"$f":"Sheet2!V162","v":0},{"$f":"Sheet2!W162","v":0},0,{"$f":"Sheet2!S162","v":0},{"$f":"Sheet2!T162","v":0},{"$f":"SUM(#REF!)/3","v":{"$error":"#REF!"}},0,{"$f":"Sheet2!AF162","v":0},{"$f":"Sheet2!AG162","v":0},{"$f":"Sheet2!AH162","v":0},{"$f":"Sheet2!AI162","v":0},{"$f":"Sheet2!H162","v":0},{"$f":"Sheet2!Y162","v":0},{"$f":"Sheet2!Z162","v":0},{"$f":"Sheet2!AA162","v":0},{"$f":"Sheet2!AD162","v":0},{"$f":"Sheet2!AC162","v":0},{"$f":"Sheet2!BI162","v":0},{"$f":"Sheet2!BH162","v":0},{"$f":"Sheet2!AL162","v":0},{"$f":"Sheet2!AM162","v":0},{"$f":"Sheet2!AN162","v":0},{"$f":"Sheet2!AO162","v":0},{"$f":"Sheet2!AP162","v":0},{"$f":"Sheet2!AQ162","v":0},{"$f":"Sheet2!BB162","v":0}]
[null,{"$f":"Sheet2!I163","v":0},{"$f":"Sheet2!J163","v":0},{"$f":"Sheet2!C163","v":0},{"$f":"Sheet2!B163","v":"00:00:00"},{"$f":"Sheet2!K163","v":0},{"$f":"Sheet2!L163","v":0},{"$f":"Sheet2!AK163","v":0},0,0,{"$f":"Sheet2!BC163","v":0},{"$f":"Sheet2!M163","v":0},{"$f":"Sheet2!N163","v":0},{"$f":"Sheet2!V163","v":0},{"$f":"Sheet2!W163","v":0},0,{"$f":"Sheet2!S163","v":0},{"$f":"Sheet2!T163","v":0},{"$f":"SUM(#REF!)/3","v":{"$error":"#REF!"}},0,{"$f":"Sheet2!AF163","v":0},{"$f":"Sheet2!AG163","v":0},{"$f":"Sheet2!AH163","v":0},{"$f":"Sheet2!AI163","v":0},{"$f":"Sheet2!H163","v":0},{"$f":"Sheet2!Y163","v":0},{"$f":"Sheet2!Z163","v":0},{"$f":"Sheet2!AA163","v":0},{"$f":"Sheet2!AD163","v":0},{"$f":"Sheet2!AC163","v":0},{"$f":"Sheet2!BI163","v":0},{"$f":"Sheet2!BH163","v":0},{"$f":"Sheet2!AL163","v":0},{"$f":"Sheet2!AM163","v":0},{"$f":"Sheet2!AN163","v":0},{"$f":"Sheet2!AO163","v":0},{"$f":"Sheet2!AP163","v":0},{"$f":"Sheet2!AQ163","v":0},{"$f":"Sheet2!BB163","v":0}]
[null,{"$f":"Sheet2!I164","v":0},{"$f":"Sheet2!J164","v":0},{"$f":"Sheet2!C164","v":0},{"$f":"Sheet2!B164","v":"00:00:00"},{"$f":"Sheet2!K164","v":0},{"$f":"Sheet2!L164","v":0},{"$f":"Sheet2!AK164","v":0},0,0,{"$f":"Sheet2!BC164","v":0},{"$f":"Sheet2!M164","v":0},{"$f":"Sheet2!N164","v":0},{"$f":"Sheet2!V164","v":0},{"$f":"Sheet2!W164","v":0},0,{"$f":"Sheet2!S164","v":0},{"$f":"Sheet2!T164","v":0},{"$f":"SUM(#REF!)/3","v":{"$error":"#REF!"}},0,{"$f":"Sheet2!AF164","v":0},{"$f":"Sheet2!AG164","v":0},{"$f":"Sheet2!AH164","v":0},{"$f":"Sheet2!AI164","v":0},{"$f":"Sheet2!H164","v":0},{"$f":"Sheet2!Y164","v":0},{"$f":"Sheet2!Z164","v":0},{"$f":"Sheet2!AA164","v":0},{"$f":"Sheet2!AD164","v":0},{"$f":"Sheet2!AC164","v":0},{"$f":"Sheet2!BI164","v":0},{"$f":"Sheet2!BH164","v":0},{"$f":"Sheet2!AL164","v":0},{"$f":"Sheet2!AM164","v":0},{"$f":"Sheet2!AN164","v":0},{"$f":"Sheet2!AO164","v":0},{"$f":"Sheet2!AP164","v":0},{"$f":"Sheet2!AQ164","v":0},{"$f":"Sheet2!BB164","v":0}]
[null,{"$f":"Sheet2!I165","v":0},{"$f":"Sheet2!J165","v":0},{"$f":"Sheet2!C165","v":0},{"$f":"Sheet2!B165","v":"00:00:00"},{"$f":"Sheet2!K165","v":0},{"$f":"Sheet2!L165","v":0},{"$f":"Sheet2!AK165","v":0},0,0,{"$f":"Sheet2!BC165","v":0},{"$f":"Sheet2!M165","v":0},{"$f":"Sheet2!N165","v":0},{"$f":"Sheet2!V165","v":0},{"$f":"Sheet2!W165","v":0},0,{"$f":"Sheet2!S165","v":0},{"$f":"Sheet2!T165","v":0},{"$f":"SUM(#REF!)/3","v":{"$error":"#REF!"}},0,{"$f":"Sheet2!AF165","v":0},{"$f":"Sheet2!AG165","v":0},{"$f":"Sheet2!AH165","v":0},{"$f":"Sheet2!AI165","v":0},{"$f":"Sheet2!H165","v":0},{"$f":"Sheet2!Y165","v":0},{"$f":"Sheet2!Z165","v":0},{"$f":"Sheet2!AA165","v":0},{"$f":"Sheet2!AD165","v":0},{"$f":"Sheet2!AC165","v":0},{"$f":"Sheet2!BI165","v":0},{"$f":"Sheet2!BH165","v":0},{"$f":"Sheet2!AL165","v":0},{"$f":"Sheet2!AM165","v":0},{"$f":"Sheet2!AN165","v":0},{"$f":"Sheet2!AO165","v":0},{"$f":"Sheet2!AP165","v":0},{"$f":"Sheet2!AQ165","v":0},{"$f":"Sheet2!BB165","v":0}]
[null,{"$f":"Sheet2!I166","v":0},{"$f":"Sheet2!J166","v":0},{"$f":"Sheet2!C166","v":0},{"$f":"Sheet2!B166","v":"00:00:00"},{"$f":"Sheet2!K166","v":0},{"$f":"Sheet2!L166","v":0},{"$f":"Sheet2!AK166","v":0},0,0,{"$f":"Sheet2!BC166","v":0},{"$f":"Sheet2!M166","v":0},{"$f":"Sheet2!N166","v":0},{"$f":"Sheet2!V166","v":0},{"$f":"Sheet2!W166","v":0},0,{"$f":"Sheet2!S166","v":0},{"$f":"Sheet2!T166","v":0},{"$f":"SUM(#REF!)/3","v":{"$error":"#REF!"}},0,{"$f":"Sheet2!AF166","v":0},{"$f":"Sheet2!AG166","v":0},{"$f":"Sheet2!AH166","v":0},{"$f":"Sheet2!AI166","v":0},{"$f":"Sheet2!H166","v":0},{"$f":"Sheet2!Y166","v":0},{"$f":"Sheet2!Z166","v":0},{"$f":"Sheet2!AA166","v":0},{"$f":"Sheet2!AD166","v":0},{"$f":"Sheet2!AC166","v":0},{"$f":"Sheet2!BI166","v":0},{"$f":"Sheet2!BH166","v":0},{"$f":"Sheet2!AL166","v":0},{"$f":"Sheet2!AM166","v":0},{"$f":"Sheet2!AN166","v":0},{"$f":"Sheet2!AO166","v":0},{"$f":"Sheet2!AP166","v":0},{"$f":"Sheet2!AQ166","v":0},{"$f":"Sheet2!BB166","v":0}]
[null,{"$f":"Sheet2!I167","v":0},{"$f":"Sheet2!J167","v":0},{"$f":"Sheet2!C167","v":0},{"$f":"Sheet2!B167","v":"00:00:00"},{"$f":"Sheet2!K167","v":0},{"$f":"Sheet2!L167","v":0},{"$f":"Sheet2!AK167","v":0},0,0,{"$f":"Sheet2!BC167","v":0},{"$f":"Sheet2!M167","v":0},{"$f":"Sheet2!N167","v":0},{"$f":"Sheet2!V167","v":0},{"$f":"Sheet2!W167","v":0},0,{"$f":"Sheet2!S167","v":0},{"$f":"Sheet2!T167","v":0},{"$f":"SUM(#REF!)/3","v":{"$error":"#REF!"}},0,{"$f":"Sheet2!AF167","v":0},{"$f":"Sheet2!AG167","v":0},{"$f":"Sheet2!AH167","v":0},{"$f":"Sheet2!AI167","v":0},{"$f":"Sheet2!H167","v":0},{"$f":"Sheet2!Y167","v":0},{"$f":"Sheet2!Z167","v":0},{"$f":"Sheet2!AA167","v":0},{"$f":"Sheet2!AD167","v":0},{"$f":"Sheet2!AC167","v":0},{"$f":"Sheet2!BI167","v":0},{"$f":"Sheet2!BH167","v":0},{"$f":"Sheet2!AL167","v":0},{"$f":"Sheet2!AM167","v":0},{"$f":"Sheet2!AN167","v":0},{"$f":"Sheet2!AO167","v":0},{"$f":"Sheet2!AP167","v":0},{"$f":"Sheet2!AQ167","v":0},{"$f":"Sheet2!BB167","v":0}]
[null,{"$f":"Sheet2!I168","v":0},{"$f":"Sheet2!J168","v":0},{"$f":"Sheet2!C168","v":0},{"$f":"Sheet2!B168","v":"00:00:00"},{"$f":"Sheet2!K168","v":0},{"$f":"Sheet2!L168","v":0},{"$f":"Sheet2!AK168","v":0},0,0,{"$f":"Sheet2!BC168","v":0},{"$f":"Sheet2!M168","v":0},{"$f":"Sheet2!N168","v":0},{"$f":"Sheet2!V168","v":0},{"$f":"Sheet2!W168","v":0},0,{"$f":"Sheet2!S168","v":0},{"$f":"Sheet2!T168","v":0},{"$f":"SUM(#REF!)/3","v":{"$error":"#REF!"}},0,{"$f":"Sheet2!AF168","v":0},{"$f":"Sheet2!AG168","v":0},{"$f":"Sheet2!AH168","v":0},{"$f":"Sheet2!AI168","v":0},{"$f":"Sheet2!H168","v":0},{"$f":"Sheet2!Y168","v":0},{"$f":"Sheet2!Z168","v":0},{"$f":"Sheet2!AA168","v":0},{"$f":"Sheet2!AD168","v":0},{"$f":"Sheet2!AC168","v":0},{"$f":"Sheet2!BI168","v":0},{"$f":"Sheet2!BH168","v":0},{"$f":"Sheet2!AL168","v":0},{"$f":"Sheet2!AM168","v":0},{"$f":"Sheet2!AN168","v":0},{"$f":"Sheet2!AO168","v":0},{"$f":"Sheet2!AP168","v":0},{"$f":"Sheet2!AQ168","v":0},{"$f":"Sheet2!BB168","v":0}]
[null,{"$f":"Sheet2!I169","v":0},{"$f":"Sheet2!J169","v":0},{"$f":"Sheet2!C169","v":0},{"$f":"Sheet2!B169","v":"00:00:00"},{"$f":"Sheet2!K169","v":0},{"$f":"Sheet2!L169","v":0},{"$f":"Sheet2!AK169","v":0},0,0,{"$f":"Sheet2!BC169","v":0},{"$f":"Sheet2!M169","v":0},{"$f":"Sheet2!N169","v":0},{"$f":"Sheet2!V169","v":0},{"$f":"Sheet2!W169","v":0},0,{"$f":"Sheet2!S169","v":0},{"$f":"Sheet2!T169","v":0},{"$f":"SUM(#REF!)/3","v":{"$error":"#REF!"}},0,{"$f":"Sheet2!AF169","v":0},{"$f":"Sheet2!AG169","v":0},{"$f":"Sheet2!AH169","v":0},{"$f":"Sheet2!AI169","v":0},{"$f":"Sheet2!H169","v":0},{"$f":"Sheet2!Y169","v":0},{"$f":"Sheet2!Z169","v":0},{"$f":"Sheet2!AA169","v":0},{"$f":"Sheet2!AD169","v":0},{"$f":"Sheet2!AC169","v":0},{"$f":"Sheet2!BI169","v":0},{"$f":"Sheet2!BH169","v":0},{"$f":"Sheet2!AL169","v":0},{"$f":"Sheet2!AM169","v":0},{"$f":"Sheet2!AN169","v":0},{"$f":"Sheet2!AO169","v":0},{"$f":"Sheet2!AP169","v":0},{"$f":"Sheet2!AQ169","v":0},{"$f":"Sheet2!BB169","v":0}]
[null,{"$f":"Sheet2!I170","v":0},{"$f":"Sheet2!J170","v":0},{"$f":"Sheet2!C170","v":0},{"$f":"Sheet2!B170","v":"00:00:00"},{"$f":"Sheet2!K170","v":0},{"$f":"Sheet2!L170","v":0},{"$f":"Sheet2!AK170","v":0},0,0,{"$f":"Sheet2!BC170","v":0},{"$f":"Sheet2!M170","v":0},{"$f":"Sheet2!N170","v":0},{"$f":"Sheet2!V170","v":0},{"$f":"Sheet2!W170","v":0},0,{"$f":"Sheet2!S170","v":0},{"$f":"Sheet2!T170","v":0},{"$f":"SUM(#REF!)/3","v":{"$error":"#REF!"}},0,{"$f":"Sheet2!AF170","v":0},{"$f":"Sheet2!AG170","v":0},{"$f":"Sheet2!AH170","v":0},{"$f":"Sheet2!AI170","v":0},{"$f":"Sheet2!H170","v":0},{"$f":"Sheet2!Y170","v":0},{"$f":"Sheet2!Z170","v":0},{"$f":"Sheet2!AA170","v":0},{"$f":"Sheet2!AD170","v":0},{"$f":"Sheet2!AC170","v":0},{"$f":"Sheet2!BI170","v":0},{"$f":"Sheet2!BH170","v":0},{"$f":"Sheet2!AL170","v":0},{"$f":"Sheet2!AM170","v":0},{"$f":"Sheet2!AN170","v":0},{"$f":"Sheet2!AO170","v":0},{"$f":"Sheet2!AP170","v":0},{"$f":"Sheet2!AQ170","v":0},{"$f":"Sheet2!BB170","v":0}]
[null,{"$f":"Sheet2!I171","v":0},{"$f":"Sheet2!J171","v":0},{"$f":"Sheet2!C171","v":0},{"$f":"Sheet2!B171","v":"00:00:00"},{"$f":"Sheet2!K171","v":0},{"$f":"Sheet2!L171","v":0},{"$f":"Sheet2!AK171","v":0},0,0,{"$f":"Sheet2!BC171","v":0},{"$f":"Sheet2!M171","v":0},{"$f":"Sheet2!N171","v":0},{"$f":"Sheet2!V171","v":0},{"$f":"Sheet2!W171","v":0},0,{"$f":"Sheet2!S171","v":0},{"$f":"Sheet2!T171","v":0},{"$f":"SUM(#REF!)/3","v":{"$error":"#REF!"}},0,{"$f":"Sheet2!AF171","v":0},{"$f":"Sheet2!AG171","v":0},{"$f":"Sheet2!AH171","v":0},{"$f":"Sheet2!AI171","v":0},{"$f":"Sheet2!H171","v":0},{"$f":"Sheet2!Y171","v":0},{"$f":"Sheet2!Z171","v":0},{"$f":"Sheet2!AA171","v":0},{"$f":"Sheet2!AD171","v":0},{"$f":"Sheet2!AC171","v":0},{"$f":"Sheet2!BI171","v":0},{"$f":"Sheet2!BH171","v":0},{"$f":"Sheet2!AL171","v":0},{"$f":"Sheet2!AM171","v":0},{"$f":"Sheet2!AN171","v":0},{"$f":"Sheet2!AO171","v":0},{"$f":"Sheet2!AP171","v":0},{"$f":"Sheet2!AQ171","v":0},{"$f":"Sheet2!BB171","v":0}]
[null,{"$f":"Sheet2!I172","v":0},{"$f":"Sheet2!J172","v":0},{"$f":"Sheet2!C172","v":0},{"$f":"Sheet2!B172","v":"00:00:00"},{"$f":"Sheet2!K172","v":0},{"$f":"Sheet2!L172","v":0},{"$f":"Sheet2!AK172","v":0},0,0,{"$f":"Sheet2!BC172","v":0},{"$f":"Sheet2!M172","v":0},{"$f":"Sheet2!N172","v":0},{"$f":"Sheet2!V172","v":0},{"$f":"Sheet2!W172","v":0},0,{"$f":"Sheet2!S172","v":0},{"$f":"Sheet2!T172","v":0},{"$f":"SUM(#REF!)/3","v":{"$error":"#REF!"}},0,{"$f":"Sheet2!AF172","v":0},{"$f":"Sheet2!AG172","v":0},{"$f":"Sheet2!AH172","v":0},{"$f":"Sheet2!AI172","v":0},{"$f":"Sheet2!H172","v":0},{"$f":"Sheet2!Y172","v":0},{"$f":"Sheet2!Z172","v":0},{"$f":"Sheet2!AA172","v":0},{"$f":"Sheet2!AD172","v":0},{"$f":"Sheet2!AC172","v":0},{"$f":"Sheet2!BI172","v":0},{"$f":"Sheet2!BH172","v":0},{"$f":"Sheet2!AL172","v":0},{"$f":"Sheet2!AM172","v":0},{"$f":"Sheet2!AN172","v":0},{"$f":"Sheet2!AO172","v":0},{"$f":"Sheet2!AP172","v":0},{"$f":"Sheet2!AQ172","v":0},{"$f":"Sheet2!BB172","v":0}]
[null,{"$f":"Sheet2!I173","v":0},{"$f":"Sheet2!J173","v":0},{"$f":"Sheet2!C173","v":0},{"$f":"Sheet2!B173","v":"00:00:00"},{"$f":"Sheet2!K173","v":0},{"$f":"Sheet2!L173","v":0},{"$f":"Sheet2!AK173","v":0},0,0,{"$f":"Sheet2!BC173","v":0},{"$f":"Sheet2!M173","v":0},{"$f":"Sheet2!N173","v":0},{"$f":"Sheet2!V173","v":0},{"$f":"Sheet2!W173","v":0},0,{"$f":"Sheet2!S173","v":0},{"$f":"Sheet2!T173","v":0},{"$f":"SUM(#REF!)/3","v":{"$error":"#REF!"}},0,{"$f":"Sheet2!AF173","v":0},{"$f":"Sheet2!AG173","v":0},{"$f":"Sheet2!AH173","v":0},{"$f":"Sheet2!AI173","v":0},{"$f":"Sheet2!H173","v":0},{"$f":"Sheet2!Y173","v":0},{"$f":"Sheet2!Z173","v":0},{"$f":"Sheet2!AA173","v":0},{"$f":"Sheet2!AD173","v":0},{"$f":"Sheet2!AC173","v":0},{"$f":"Sheet2!BI173","v":0},{"$f":"Sheet2!BH173","v":0},{"$f":"Sheet2!AL173","v":0},{"$f":"Sheet2!AM173","v":0},{"$f":"Sheet2!AN173","v":0},{"$f":"Sheet2!AO173","v":0},{"$f":"Sheet2!AP173","v":0},{"$f":"Sheet2!AQ173","v":0},{"$f":"Sheet2!BB173","v":0}]
[null,{"$f":"Sheet2!I174","v":0},{"$f":"Sheet2!J174","v":0},{"$f":"Sheet2!C174","v":0},{"$f":"Sheet2!B174","v":"00:00:00"},{"$f":"Sheet2!K174","v":0},{"$f":"Sheet2!L174","v":0},{"$f":"Sheet2!AK174","v":0},0,0,{"$f":"Sheet2!BC174","v":0},{"$f":"Sheet2!M174","v":0},{"$f":"Sheet2!N174","v":0},{"$f":"Sheet2!V174","v":0},{"$f":"Sheet2!W174","v":0},0,{"$f":"Sheet2!S174","v":0},{"$f":"Sheet2!T174","v":0},{"$f":"SUM(#REF!)/3","v":{"$error":"#REF!"}},0,{"$f":"Sheet2!AF174","v":0},{"$f":"Sheet2!AG174","v":0},{"$f":"Sheet2!AH174","v":0},{"$f":"Sheet2!AI174","v":0},{"$f":"Sheet2!H174","v":0},{"$f":"Sheet2!Y174","v":0},{"$f":"Sheet2!Z174","v":0},{"$f":"Sheet2!AA174","v":0},{"$f":"Sheet2!AD174","v":0},{"$f":"Sheet2!AC174","v":0},{"$f":"Sheet2!BI174","v":0},{"$f":"Sheet2!BH174","v":0},{"$f":"Sheet2!AL174","v":0},{"$f":"Sheet2!AM174","v":0},{"$f":"Sheet2!AN174","v":0},{"$f":"Sheet2!AO174","v":0},{"$f":"Sheet2!AP174","v":0},{"$f":"Sheet2!AQ174","v":0},{"$f":"Sheet2!BB174","v":0}]
[null,{"$f":"Sheet2!I175","v":0},{"$f":"Sheet2!J175","v":0},{"$f":"Sheet2!C175","v":0},{"$f":"Sheet2!B175","v":"00:00:00"},{"$f":"Sheet2!K175","v":0},{"$f":"Sheet2!L175","v":0},{"$f":"Sheet2!AK175","v":0},0,0,{"$f":"Sheet2!BC175","v":0},{"$f":"Sheet2!M175","v":0},{"$f":"Sheet2!N175","v":0},{"$f":"Sheet2!V175","v":0},{"$f":"Sheet2!W175","v":0},0,{"$f":"Sheet2!S175","v":0},{"$f":"Sheet2!T175","v":0},{"$f":"SUM(#REF!)/3","v":{"$error":"#REF!"}},0,{"$f":"Sheet2!AF175","v":0},{"$f":"Sheet2!AG175","v":0},{"$f":"Sheet2!AH175","v":0},{"$f":"Sheet2!AI175","v":0},{"$f":"Sheet2!H175","v":0},{"$f":"Sheet2!Y175","v":0},{"$f":"Sheet2!Z175","v":0},{"$f":"Sheet2!AA175","v":0},{"$f":"Sheet2!AD175","v":0},{"$f":"Sheet2!AC175","v":0},{"$f":"Sheet2!BI175","v":0},{"$f":"Sheet2!BH175","v":0},{"$f":"Sheet2!AL175","v":0},{"$f":"Sheet2!AM175","v":0},{"$f":"Sheet2!AN175","v":0},{"$f":"Sheet2!AO175","v":0},{"$f":"Sheet2!AP175","v":0},{"$f":"Sheet2!AQ175","v":0},{"$f":"Sheet2!BB175","v":0}]
[null,{"$f":"Sheet2!I176","v":0},{"$f":"Sheet2!J176","v":0},{"$f":"Sheet2!C176","v":0},{"$f":"Sheet2!B176","v":"00:00:00"},{"$f":"Sheet2!K176","v":0},{"$f":"Sheet2!L176","v":0},{"$f":"Sheet2!AK176","v":0},0,0,{"$f":"Sheet2!BC176","v":0},{"$f":"Sheet2!M176","v":0},{"$f":"Sheet2!N176","v":0},{"$f":"Sheet2!V176","v":0},{"$f":"Sheet2!W176","v":0},0,{"$f":"Sheet2!S176","v":0},{"$f":"Sheet2!T176","v":0},{"$f":"SUM(#REF!)/3","v":{"$error":"#REF!"}},0,{"$f":"Sheet2!AF176","v":0},{"$f":"Sheet2!AG176","v":0},{"$f":"Sheet2!AH176","v":0},{"$f":"Sheet2!AI176","v":0},{"$f":"Sheet2!H176","v":0},{"$f":"Sheet2!Y176","v":0},{"$f":"Sheet2!Z176","v":0},{"$f":"Sheet2!AA176","v":0},{"$f":"Sheet2!AD176","v":0},{"$f":"Sheet2!AC176","v":0},{"$f":"Sheet2!BI176","v":0},{"$f":"Sheet2!BH176","v":0},{"$f":"Sheet2!AL176","v":0},{"$f":"Sheet2!AM176","v":0},{"$f":"Sheet2!AN176","v":0},{"$f":"Sheet2!AO176","v":0},{"$f":"Sheet2!AP176","v":0},{"$f":"Sheet2!AQ176","v":0},{"$f":"Sheet2!BB176","v":0}]
[null,{"$f":"Sheet2!I177","v":0},{"$f":"Sheet2!J177","v":0},{"$f":"Sheet2!C177","v":0},{"$f":"Sheet2!B177","v":"00:00:00"},{"$f":"Sheet2!K177","v":0},{"$f":"Sheet2!L177","v":0},{"$f":"Sheet2!AK177","v":0},0,0,{"$f":"Sheet2!BC177","v":0},{"$f":"Sheet2!M177","v":0},{"$f":"Sheet2!N177","v":0},{"$f":"Sheet2!V177","v":0},{"$f":"Sheet2!W177","v":0},0,{"$f":"Sheet2!S177","v":0},{"$f":"Sheet2!T177","v":0},{"$f":"SUM(#REF!)/3","v":{"$error":"#REF!"}},0,{"$f":"Sheet2!AF177","v":0},{"$f":"Sheet2!AG177","v":0},{"$f":"Sheet2!AH177","v":0},{"$f":"Sheet2!AI177","v":0},{"$f":"Sheet2!H177","v":0},{"$f":"Sheet2!Y177","v":0},{"$f":"Sheet2!Z177","v":0},{"$f":"Sheet2!AA177","v":0},{"$f":"Sheet2!AD177","v":0},{"$f":"Sheet2!AC177","v":0},{"$f":"Sheet2!BI177","v":0},{"$f":"Sheet2!BH177","v":0},{"$f":"Sheet2!AL177","v":0},{"$f":"Sheet2!AM177","v":0},{"$f":"Sheet2!AN177","v":0},{"$f":"Sheet2!AO177","v":0},{"$f":"Sheet2!AP177","v":0},{"$f":"Sheet2!AQ177","v":0},{"$f":"Sheet2!BB177","v":0}]
[null,{"$f":"Sheet2!I178","v":0},{"$f":"Sheet2!J178","v":0},{"$f":"Sheet2!C178","v":0},{"$f":"Sheet2!B178","v":"00:00:00"},{"$f":"Sheet2!K178","v":0},{"$f":"Sheet2!L178","v":0},{"$f":"Sheet2!AK178","v":0},0,0,{"$f":"Sheet2!BC178","v":0},{"$f":"Sheet2!M178","v":0},{"$f":"Sheet2!N178","v":0},{"$f":"Sheet2!V178","v":0},{"$f":"Sheet2!W178","v":0},0,{"$f":"Sheet2!S178","v":0},{"$f":"Sheet2!T178","v":0},{"$f":"SUM(#REF!)/3","v":{"$error":"#REF!"}},0,{"$f":"Sheet2!AF178","v":0},{"$f":"Sheet2!AG178","v":0},{"$f":"Sheet2!AH178","v":0},{"$f":"Sheet2!AI178","v":0},{"$f":"Sheet2!H178","v":0},{"$f":"Sheet2!Y178","v":0},{"$f":"Sheet2!Z178","v":0},{"$f":"Sheet2!AA178","v":0},{"$f":"Sheet2!AD178","v":0},{"$f":"Sheet2!AC178","v":0},{"$f":"Sheet2!BI178","v":0},{"$f":"Sheet2!BH178","v":0},{"$f":"Sheet2!AL178","v":0},{"$f":"Sheet2!AM178","v":0},{"$f":"Sheet2!AN178","v":0},{"$f":"Sheet2!AO178","v":0},{"$f":"Sheet2!AP178","v":0},{"$f":"Sheet2!AQ178","v":0},{"$f":"Sheet2!BB178","v":0}]
[null,{"$f":"Sheet2!I179","v":0},{"$f":"Sheet2!J179","v":0},{"$f":"Sheet2!C179","v":0},{"$f":"Sheet2!B179","v":"00:00:00"},{"$f":"Sheet2!K179","v":0},{"$f":"Sheet2!L179","v":0},{"$f":"Sheet2!AK179","v":0},0,0,{"$f":"Sheet2!BC179","v":0},{"$f":"Sheet2!M179","v":0},{"$f":"Sheet2!N179","v":0},{"$f":"Sheet2!V179","v":0},{"$f":"Sheet2!W179","v":0},0,{"$f":"Sheet2!S179","v":0},{"$f":"Sheet2!T179","v":0},{"$f":"SUM(#REF!)/3","v":{"$error":"#REF!"}},0,{"$f":"Sheet2!AF179","v":0},{"$f":"Sheet2!AG179","v":0},{"$f":"Sheet2!AH179","v":0},{"$f":"Sheet2!AI179","v":0},{"$f":"Sheet2!H179","v":0},{"$f":"Sheet2!Y179","v":0},{"$f":"Sheet2!Z179","v":0},{"$f":"Sheet2!AA179","v":0},{"$f":"Sheet2!AD179","v":0},{"$f":"Sheet2!AC179","v":0},{"$f":"Sheet2!BI179","v":0},{"$f":"Sheet2!BH179","v":0},{"$f":"Sheet2!AL179","v":0},{"$f":"Sheet2!AM179","v":0},{"$f":"Sheet2!AN179","v":0},{"$f":"Sheet2!AO179","v":0},{"$f":"Sheet2!AP179","v":0},{"$f":"Sheet2!AQ179","v":0},{"$f":"Sheet2!BB179","v":0}]
[null,{"$f":"Sheet2!I180","v":0},{"$f":"Sheet2!J180","v":0},{"$f":"Sheet2!C180","v":0},{"$f":"Sheet2!B180","v":"00:00:00"},{"$f":"Sheet2!K180","v":0},{"$f":"Sheet2!L180","v":0},{"$f":"Sheet2!AK180","v":0},0,0,{"$f":"Sheet2!BC180","v":0},{"$f":"Sheet2!M180","v":0},{"$f":"Sheet2!N180","v":0},{"$f":"Sheet2!V180","v":0},{"$f":"Sheet2!W180","v":0},0,{"$f":"Sheet2!S180","v":0},{"$f":"Sheet2!T180","v":0},{"$f":"SUM(#REF!)/3","v":{"$error":"#REF!"}},0,{"$f":"Sheet2!AF180","v":0},{"$f":"Sheet2!AG180","v":0},{"$f":"Sheet2!AH180","v":0},{"$f":"Sheet2!AI180","v":0},{"$f":"Sheet2!H180","v":0},{"$f":"Sheet2!Y180","v":0},{"$f":"Sheet2!Z180","v":0},{"$f":"Sheet2!AA180","v":0},{"$f":"Sheet2!AD180","v":0},{"$f":"Sheet2!AC180","v":0},{"$f":"Sheet2!BI180","v":0},{"$f":"Sheet2!BH180","v":0},{"$f":"Sheet2!AL180","v":0},{"$f":"Sheet2!AM180","v":0},{"$f":"Sheet2!AN180","v":0},{"$f":"Sheet2!AO180","v":0},{"$f":"Sheet2!AP180","v":0},{"$f":"Sheet2!AQ180","v":0},{"$f":"Sheet2!BB180","v":0}]
[null,{"$f":"Sheet2!I181","v":0},{"$f":"Sheet2!J181","v":0},{"$f":"Sheet2!C181","v":0},{"$f":"Sheet2!B181","v":"00:00:00"},{"$f":"Sheet2!K181","v":0},{"$f":"Sheet2!L181","v":0},{"$f":"Sheet2!AK181","v":0},0,0,{"$f":"Sheet2!BC181","v":0},{"$f":"Sheet2!M181","v":0},{"$f":"Sheet2!N181","v":0},{"$f":"Sheet2!V181","v":0},{"$f":"Sheet2!W181","v":0},0,{"$f":"Sheet2!S181","v":0},{"$f":"Sheet2!T181","v":0},{"$f":"SUM(#REF!)/3","v":{"$error":"#REF!"}},0,{"$f":"Sheet2!AF181","v":0},{"$f":"Sheet2!AG181","v":0},{"$f":"Sheet2!AH181","v":0},{"$f":"Sheet2!AI181","v":0},{"$f":"Sheet2!H181","v":0},{"$f":"Sheet2!Y181","v":0},{"$f":"Sheet2!Z181","v":0},{"$f":"Sheet2!AA181","v":0},{"$f":"Sheet2!AD181","v":0},{"$f":"Sheet2!AC181","v":0},{"$f":"Sheet2!BI181","v":0},{"$f":"Sheet2!BH181","v":0},{"$f":"Sheet2!AL181","v":0},{"$f":"Sheet2!AM181","v":0},{"$f":"Sheet2!AN181","v":0},{"$f":"Sheet2!AO181","v":0},{"$f":"Sheet2!AP181","v":0},{"$f":"Sheet2!AQ181","v":0},{"$f":"Sheet2!BB181","v":0}]
[null,{"$f":"Sheet2!I182","v":0},{"$f":"Sheet2!J182","v":0},{"$f":"Sheet2!C182","v":0},{"$f":"Sheet2!B182","v":"00:00:00"},{"$f":"Sheet2!K182","v":0},{"$f":"Sheet2!L182","v":0},{"$f":"Sheet2!AK182","v":0},0,0,{"$f":"Sheet2!BC182","v":0},{"$f":"Sheet2!M182","v":0},{"$f":"Sheet2!N182","v":0},{"$f":"Sheet2!V182","v":0},{"$f":"Sheet2!W182","v":0},0,{"$f":"Sheet2!S182","v":0},{"$f":"Sheet2!T182","v":0},{"$f":"SUM(#REF!)/3","v":{"$error":"#REF!"}},0,{"$f":"Sheet2!AF182","v":0},{"$f":"Sheet2!AG182","v":0},{"$f":"Sheet2!AH182","v":0},{"$f":"Sheet2!AI182","v":0},{"$f":"Sheet2!H182","v":0},{"$f":"Sheet2!Y182","v":0},{"$f":"Sheet2!Z182","v":0},{"$f":"Sheet2!AA182","v":0},{"$f":"Sheet2!AD182","v":0},{"$f":"Sheet2!AC182","v":0},{"$f":"Sheet2!BI182","v":0},{"$f":"Sheet2!BH182","v":0},{"$f":"Sheet2!AL182","v":0},{"$f":"Sheet2!AM182","v":0},{"$f":"Sheet2!AN182","v":0},{"$f":"Sheet2!AO182","v":0},{"$f":"Sheet2!AP182","v":0},{"$f":"Sheet2!AQ182","v":0},{"$f":"Sheet2!BB182","v":0}]
[null,{"$f":"Sheet2!I183","v":0},{"$f":"Sheet2!J183","v":0},{"$f":"Sheet2!C183","v":0},{"$f":"Sheet2!B183","v":"00:00:00"},{"$f":"Sheet2!K183","v":0},{"$f":"Sheet2!L183","v":0},{"$f":"Sheet2!AK183","v":0},0,0,{"$f":"Sheet2!BC183","v":0},{"$f":"Sheet2!M183","v":0},{"$f":"Sheet2!N183","v":0},{"$f":"Sheet2!V183","v":0},{"$f":"Sheet2!W183","v":0},0,{"$f":"Sheet2!S183","v":0},{"$f":"Sheet2!T183","v":0},{"$f":"SUM(#REF!)/3","v":{"$error":"#REF!"}},0,{"$f":"Sheet2!AF183","v":0},{"$f":"Sheet2!AG183","v":0},{"$f":"Sheet2!AH183","v":0},{"$f":"Sheet2!AI183","v":0},{"$f":"Sheet2!H183","v":0},{"$f":"Sheet2!Y183","v":0},{"$f":"Sheet2!Z183","v":0},{"$f":"Sheet2!AA183","v":0},{"$f":"Sheet2!AD183","v":0},{"$f":"Sheet2!AC183","v":0},{"$f":"Sheet2!BI183","v":0},{"$f":"Sheet2!BH183","v":0},{"$f":"Sheet2!AL183","v":0},{"$f":"Sheet2!AM183","v":0},{"$f":"Sheet2!AN183","v":0},{"$f":"Sheet2!AO183","v":0},{"$f":"Sheet2!AP183","v":0},{"$f":"Sheet2!AQ183","v":0},{"$f":"Sheet2!BB183","v":0}]
[null,{"$f":"Sheet2!I184","v":0},{"$f":"Sheet2!J184","v":0},{"$f":"Sheet2!C184","v":0},{"$f":"Sheet2!B184","v":"00:00:00"},{"$f":"Sheet2!K184","v":0},{"$f":"Sheet2!L184","v":0},{"$f":"Sheet2!AK184","v":0},0,0,{"$f":"Sheet2!BC184","v":0},{"$f":"Sheet2!M184","v":0},{"$f":"Sheet2!N184","v":0},{"$f":"Sheet2!V184","v":0},{"$f":"Sheet2!W184","v":0},0,{"$f":"Sheet2!S184","v":0},{"$f":"Sheet2!T184","v":0},{"$f":"SUM(#REF!)/3","v":{"$error":"#REF!"}},0,{"$f":"Sheet2!AF184","v":0},{"$f":"Sheet2!AG184","v":0},{"$f":"Sheet2!AH184","v":0},{"$f":"Sheet2!AI184","v":0},{"$f":"Sheet2!H184","v":0},{"$f":"Sheet2!Y184","v":0},{"$f":"Sheet2!Z184","v":0},{"$f":"Sheet2!AA184","v":0},{"$f":"Sheet2!AD184","v":0},{"$f":"Sheet2!AC184","v":0},{"$f":"Sheet2!BI184","v":0},{"$f":"Sheet2!BH184","v":0},{"$f":"Sheet2!AL184","v":0},{"$f":"Sheet2!AM184","v":0},{"$f":"Sheet2!AN184","v":0},{"$f":"Sheet2!AO184","v":0},{"$f":"Sheet2!AP184","v":0},{"$f":"Sheet2!AQ184","v":0},{"$f":"Sheet2!BB184","v":0}]
[null,{"$f":"Sheet2!I185","v":0},{"$f":"Sheet2!J185","v":0},{"$f":"Sheet2!C185","v":0},{"$f":"Sheet2!B185","v":"00:00:00"},{"$f":"Sheet2!K185","v":0},{"$f":"Sheet2!L185","v":0},{"$f":"Sheet2!AK185","v":0},0,0,{"$f":"Sheet2!BC185","v":0},{"$f":"Sheet2!M185","v":0},{"$f":"Sheet2!N185","v":0},{"$f":"Sheet2!V185","v":0},{"$f":"Sheet2!W185","v":0},0,{"$f":"Sheet2!S185","v":0},{"$f":"Sheet2!T185","v":0},{"$f":"SUM(#REF!)/3","v":{"$error":"#REF!"}},0,{"$f":"Sheet2!AF185","v":0},{"$f":"Sheet2!AG185","v":0},{"$f":"Sheet2!AH185","v":0},{"$f":"Sheet2!AI185","v":0},{"$f":"Sheet2!H185","v":0},{"$f":"Sheet2!Y185","v":0},{"$f":"Sheet2!Z185","v":0},{"$f":"Sheet2!AA185","v":0},{"$f":"Sheet2!AD185","v":0},{"$f":"Sheet2!AC185","v":0},{"$f":"Sheet2!BI185","v":0},{"$f":"Sheet2!BH185","v":0},{"$f":"Sheet2!AL185","v":0},{"$f":"Sheet2!AM185","v":0},{"$f":"Sheet2!AN185","v":0},{"$f":"Sheet2!AO185","v":0},{"$f":"Sheet2!AP185","v":0},{"$f":"Sheet2!AQ185","v":0},{"$f":"Sheet2!BB185","v":0}]
[null,{"$f":"Sheet2!I186","v":0},{"$f":"Sheet2!J186","v":0},{"$f":"Sheet2!C186","v":0},{"$f":"Sheet2!B186","v":"00:00:00"},{"$f":"Sheet2!K186","v":0},{"$f":"Sheet2!L186","v":0},{"$f":"Sheet2!AK186","v":0},0,0,{"$f":"Sheet2!BC186","v":0},{"$f":"Sheet2!M186","v":0},{"$f":"Sheet2!N186","v":0},{"$f":"Sheet2!V186","v":0},{"$f":"Sheet2!W186","v":0},0,{"$f":"Sheet2!S186","v":0},{"$f":"Sheet2!T186","v":0},{"$f":"SUM(#REF!)/3","v":{"$error":"#REF!"}},0,{"$f":"Sheet2!AF186","v":0},{"$f":"Sheet2!AG186","v":0},{"$f":"Sheet2!AH186","v":0},{"$f":"Sheet2!AI186","v":0},{"$f":"Sheet2!H186","v":0},{"$f":"Sheet2!Y186","v":0},{"$f":"Sheet2!Z186","v":0},{"$f":"Sheet2!AA186","v":0},{"$f":"Sheet2!AD186","v":0},{"$f":"Sheet2!AC186","v":0},{"$f":"Sheet2!BI186","v":0},{"$f":"Sheet2!BH186","v":0},{"$f":"Sheet2!AL186","v":0},{"$f":"Sheet2!AM186","v":0},{"$f":"Sheet2!AN186","v":0},{"$f":"Sheet2!AO186","v":0},{"$f":"Sheet2!AP186","v":0},{"$f":"Sheet2!AQ186","v":0},{"$f":"Sheet2!BB186","v":0}]
[null,{"$f":"Sheet2!I187","v":0},{"$f":"Sheet2!J187","v":0},{"$f":"Sheet2!C187","v":0},{"$f":"Sheet2!B187","v":"00:00:00"},{"$f":"Sheet2!K187","v":0},{"$f":"Sheet2!L187","v":0},{"$f":"Sheet2!AK187","v":0},0,0,{"$f":"Sheet2!BC187","v":0},{"$f":"Sheet2!M187","v":0},{"$f":"Sheet2!N187","v":0},{"$f":"Sheet2!V187","v":0},{"$f":"Sheet2!W187","v":0},0,{"$f":"Sheet2!S187","v":0},{"$f":"Sheet2!T187","v":0},{"$f":"SUM(#REF!)/3","v":{"$error":"#REF!"}},0,{"$f":"Sheet2!AF187","v":0},{"$f":"Sheet2!AG187","v":0},{"$f":"Sheet2!AH187","v":0},{"$f":"Sheet2!AI187","v":0},{"$f":"Sheet2!H187","v":0},{"$f":"Sheet2!Y187","v":0},{"$f":"Sheet2!Z187","v":0},{"$f":"Sheet2!AA187","v":0},{"$f":"Sheet2!AD187","v":0},{"$f":"Sheet2!AC187","v":0},{"$f":"Sheet2!BI187","v":0},{"$f":"Sheet2!BH187","v":0},{"$f":"Sheet2!AL187","v":0},{"$f":"Sheet2!AM187","v":0},{"$f":"Sheet2!AN187","v":0},{"$f":"Sheet2!AO187","v":0},{"$f":"Sheet2!AP187","v":0},{"$f":"Sheet2!AQ187","v":0},{"$f":"Sheet2!BB187","v":0}]
[null,{"$f":"Sheet2!I188","v":0},{"$f":"Sheet2!J188","v":0},{"$f":"Sheet2!C188","v":0},{"$f":"Sheet2!B188","v":"00:00:00"},{"$f":"Sheet2!K188","v":0},{"$f":"Sheet2!L188","v":0},{"$f":"Sheet2!AK188","v":0},0,0,{"$f":"Sheet2!BC188","v":0},{"$f":"Sheet2!M188","v":0},{"$f":"Sheet2!N188","v":0},{"$f":"Sheet2!V188","v":0},{"$f":"Sheet2!W188","v":0},0,{"$f":"Sheet2!S188","v":0},{"$f":"Sheet2!T188","v":0},{"$f":"SUM(#REF!)/3","v":{"$error":"#REF!"}},0,{"$f":"Sheet2!AF188","v":0},{"$f":"Sheet2!AG188","v":0},{"$f":"Sheet2!AH188","v":0},{"$f":"Sheet2!AI188","v":0},{"$f":"Sheet2!H188","v":0},{"$f":"Sheet2!Y188","v":0},{"$f":"Sheet2!Z188","v":0},{"$f":"Sheet2!AA188","v":0},{"$f":"Sheet2!AD188","v":0},{"$f":"Sheet2!AC188","v":0},{"$f":"Sheet2!BI188","v":0},{"$f":"Sheet2!BH188","v":0},{"$f":"Sheet2!AL188","v":0},{"$f":"Sheet2!AM188","v":0},{"$f":"Sheet2!AN188","v":0},{"$f":"Sheet2!AO188","v":0},{"$f":"Sheet2!AP188","v":0},{"$f":"Sheet2!AQ188","v":0},{"$f":"Sheet2!BB188","v":0}]
[null,{"$f":"Sheet2!I189","v":0},{"$f":"Sheet2!J189","v":0},{"$f":"Sheet2!C189","v":0},{"$f":"Sheet2!B189","v":"00:00:00"},{"$f":"Sheet2!K189","v":0},{"$f":"Sheet2!L189","v":0},{"$f":"Sheet2!AK189","v":0},0,0,{"$f":"Sheet2!BC189","v":0},{"$f":"Sheet2!M189","v":0},{"$f":"Sheet2!N189","v":0},{"$f":"Sheet2!V189","v":0},{"$f":"Sheet2!W189","v":0},0,{"$f":"Sheet2!S189","v":0},{"$f":"Sheet2!T189","v":0},{"$f":"SUM(#REF!)/3","v":{"$error":"#REF!"}},0,{"$f":"Sheet2!AF189","v":0},{"$f":"Sheet2!AG189","v":0},{"$f":"Sheet2!AH189","v":0},{"$f":"Sheet2!AI189","v":0},{"$f":"Sheet2!H189","v":0},{"$f":"Sheet2!Y189","v":0},{"$f":"Sheet2!Z189","v":0},{"$f":"Sheet2!AA189","v":0},{"$f":"Sheet2!AD189","v":0},{"$f":"Sheet2!AC189","v":0},{"$f":"Sheet2!BI189","v":0},{"$f":"Sheet2!BH189","v":0},{"$f":"Sheet2!AL189","v":0},{"$f":"Sheet2!AM189","v":0},{"$f":"Sheet2!AN189","v":0},{"$f":"Sheet2!AO189","v":0},{"$f":"Sheet2!AP189","v":0},{"$f":"Sheet2!AQ189","v":0},{"$f":"Sheet2!BB189","v":0}]
[null,{"$f":"Sheet2!I190","v":0},{"$f":"Sheet2!J190","v":0},{"$f":"Sheet2!C190","v":0},{"$f":"Sheet2!B190","v":"00:00:00"},{"$f":"Sheet2!K190","v":0},{"$f":"Sheet2!L190","v":0},{"$f":"Sheet2!AK190","v":0},0,0,{"$f":"Sheet2!BC190","v":0},{"$f":"Sheet2!M190","v":0},{"$f":"Sheet2!N190","v":0},{"$f":"Sheet2!V190","v":0},{"$f":"Sheet2!W190","v":0},0,{"$f":"Sheet2!S190","v":0},{"$f":"Sheet2!T190","v":0},{"$f":"SUM(#REF!)/3","v":{"$error":"#REF!"}},0,{"$f":"Sheet2!AF190","v":0},{"$f":"Sheet2!AG190","v":0},{"$f":"Sheet2!AH190","v":0},{"$f":"Sheet2!AI190","v":0},{"$f":"Sheet2!H190","v":0},{"$f":"Sheet2!Y190","v":0},{"$f":"Sheet2!Z190","v":0},{"$f":"Sheet2!AA190","v":0},{"$f":"Sheet2!AD190","v":0},{"$f":"Sheet2!AC190","v":0},{"$f":"Sheet2!BI190","v":0},{"$f":"Sheet2!BH190","v":0},{"$f":"Sheet2!AL190","v":0},{"$f":"Sheet2!AM190","v":0},{"$f":"Sheet2!AN190","v":0},{"$f":"Sheet2!AO190","v":0},{"$f":"Sheet2!AP190","v":0},{"$f":"Sheet2!AQ190","v":0},{"$f":"Sheet2!BB190","v":0}]
[null,{"$f":"Sheet2!I191","v":0},{"$f":"Sheet2!J191","v":0},{"$f":"Sheet2!C191","v":0},{"$f":"Sheet2!B191","v":"00:00:00"},{"$f":"Sheet2!K191","v":0},{"$f":"Sheet2!L191","v":0},{"$f":"Sheet2!AK191","v":0},0,0,{"$f":"Sheet2!BC191","v":0},{"$f":"Sheet2!M191","v":0},{"$f":"Sheet2!N191","v":0},{"$f":"Sheet2!V191","v":0},{"$f":"Sheet2!W191","v":0},0,{"$f":"Sheet2!S191","v":0},{"$f":"Sheet2!T191","v":0},{"$f":"SUM(#REF!)/3","v":{"$error":"#REF!"}},0,{"$f":"Sheet2!AF191","v":0},{"$f":"Sheet2!AG191","v":0},{"$f":"Sheet2!AH191","v":0},{"$f":"Sheet2!AI191","v":0},{"$f":"Sheet2!H191","v":0},{"$f":"Sheet2!Y191","v":0},{"$f":"Sheet2!Z191","v":0},{"$f":"Sheet2!AA191","v":0},{"$f":"Sheet2!AD191","v":0},{"$f":"Sheet2!AC191","v":0},{"$f":"Sheet2!BI191","v":0},{"$f":"Sheet2!BH191","v":0},{"$f":"Sheet2!AL191","v":0},{"$f":"Sheet2!AM191","v":0},{"$f":"Sheet2!AN191","v":0},{"$f":"Sheet2!AO191","v":0},{"$f":"Sheet2!AP191","v":0},{"$f":"Sheet2!AQ191","v":0},{"$f":"Sheet2!BB191","v":0}]
[null,{"$f":"Sheet2!I192","v":0},{"$f":"Sheet2!J192","v":0},{"$f":"Sheet2!C192","v":0},{"$f":"Sheet2!B192","v":"00:00:00"},{"$f":"Sheet2!K192","v":0},{"$f":"Sheet2!L192","v":0},{"$f":"Sheet2!AK192","v":0},0,0,{"$f":"Sheet2!BC192","v":0},{"$f":"Sheet2!M192","v":0},{"$f":"Sheet2!N192","v":0},{"$f":"Sheet2!V192","v":0},{"$f":"Sheet2!W192","v":0},0,{"$f":"Sheet2!S192","v":0},{"$f":"Sheet2!T192","v":0},{"$f":"SUM(#REF!)/3","v":{"$error":"#REF!"}},0,{"$f":"Sheet2!AF192","v":0},{"$f":"Sheet2!AG192","v":0},{"$f":"Sheet2!AH192","v":0},{"$f":"Sheet2!AI192","v":0},{"$f":"Sheet2!H192","v":0},{"$f":"Sheet2!Y192","v":0},{"$f":"Sheet2!Z192","v":0},{"$f":"Sheet2!AA192","v":0},{"$f":"Sheet2!AD192","v":0},{"$f":"Sheet2!AC192","v":0},{"$f":"Sheet2!BI192","v":0},{"$f":"Sheet2!BH192","v":0},{"$f":"Sheet2!AL192","v":0},{"$f":"Sheet2!AM192","v":0},{"$f":"Sheet2!AN192","v":0},{"$f":"Sheet2!AO192","v":0},{"$f":"Sheet2!AP192","v":0},{"$f":"Sheet2!AQ192","v":0},{"$f":"Sheet2!BB192","v":0}]
[null,{"$f":"Sheet2!I193","v":0},{"$f":"Sheet2!J193","v":0},{"$f":"Sheet2!C193","v":0},{"$f":"Sheet2!B193","v":"00:00:00"},{"$f":"Sheet2!K193","v":0},{"$f":"Sheet2!L193","v":0},{"$f":"Sheet2!AK193","v":0},0,0,{"$f":"Sheet2!BC193","v":0},{"$f":"Sheet2!M193","v":0},{"$f":"Sheet2!N193","v":0},{"$f":"Sheet2!V193","v":0},{"$f":"Sheet2!W193","v":0},0,{"$f":"Sheet2!S193","v":0},{"$f":"Sheet2!T193","v":0},{"$f":"SUM(#REF!)/3","v":{"$error":"#REF!"}},0,{"$f":"Sheet2!AF193","v":0},{"$f":"Sheet2!AG193","v":0},{"$f":"Sheet2!AH193","v":0},{"$f":"Sheet2!AI193","v":0},{"$f":"Sheet2!H193","v":0},{"$f":"Sheet2!Y193","v":0},{"$f":"Sheet2!Z193","v":0},{"$f":"Sheet2!AA193","v":0},{"$f":"Sheet2!AD193","v":0},{"$f":"Sheet2!AC193","v":0},{"$f":"Sheet2!BI193","v":0},{"$f":"Sheet2!BH193","v":0},{"$f":"Sheet2!AL193","v":0},{"$f":"Sheet2!AM193","v":0},{"$f":"Sheet2!AN193","v":0},{"$f":"Sheet2!AO193","v":0},{"$f":"Sheet2!AP193","v":0},{"$f":"Sheet2!AQ193","v":0},{"$f":"Sheet2!BB193","v":0}]
[null,{"$f":"Sheet2!I194","v":0},{"$f":"Sheet2!J194","v":0},{"$f":"Sheet2!C194","v":0},{"$f":"Sheet2!B194","v":"00:00:00"},{"$f":"Sheet2!K194","v":0},{"$f":"Sheet2!L194","v":0},{"$f":"Sheet2!AK194","v":0},0,0,{"$f":"Sheet2!BC194","v":0},{"$f":"Sheet2!M194","v":0},{"$f":"Sheet2!N194","v":0},{"$f":"Sheet2!V194","v":0},{"$f":"Sheet2!W194","v":0},0,{"$f":"Sheet2!S194","v":0},{"$f":"Sheet2!T194","v":0},{"$f":"SUM(#REF!)/3","v":{"$error":"#REF!"}},0,{"$f":"Sheet2!AF194","v":0},{"$f":"Sheet2!AG194","v":0},{"$f":"Sheet2!AH194","v":0},{"$f":"Sheet2!AI194","v":0},{"$f":"Sheet2!H194","v":0},{"$f":"Sheet2!Y194","v":0},{"$f":"Sheet2!Z194","v":0},{"$f":"Sheet2!AA194","v":0},{"$f":"Sheet2!AD194","v":0},{"$f":"Sheet2!AC194","v":0},{"$f":"Sheet2!BI194","v":0},{"$f":"Sheet2!BH194","v":0},{"$f":"Sheet2!AL194","v":0},{"$f":"Sheet2!AM194","v":0},{"$f":"Sheet2!AN194","v":0},{"$f":"Sheet2!AO194","v":0},{"$f":"Sheet2!AP194","v":0},{"$f":"Sheet2!AQ194","v":0},{"$f":"Sheet2!BB194","v":0}]
[null,{"$f":"Sheet2!I195","v":0},{"$f":"Sheet2!J195","v":0},{"$f":"Sheet2!C195","v":0},{"$f":"Sheet2!B195","v":"00:00:00"},{"$f":"Sheet2!K195","v":0},{"$f":"Sheet2!L195","v":0},{"$f":"Sheet2!AK195","v":0},0,{"$f":"IF(A202=\"X\",I202,0)","v":0},{"$f":"Sheet2!BC195","v":0},{"$f":"Sheet2!M195","v":0},{"$f":"Sheet2!N195","v":0},{"$f":"Sheet2!V195","v":0},{"$f":"Sheet2!W195","v":0},0,{"$f":"Sheet2!S195","v":0},{"$f":"Sheet2!T195","v":0},{"$f":"SUM(#REF!)/3","v":{"$error":"#REF!"}},0,{"$f":"Sheet2!AF195","v":0},{"$f":"Sheet2!AG195","v":0},{"$f":"Sheet2!AH195","v":0},{"$f":"Sheet2!AI195","v":0},{"$f":"Sheet2!H195","v":0},{"$f":"Sheet2!Y195","v":0},{"$f":"Sheet2!Z195","v":0},{"$f":"Sheet2!AA195","v":0},{"$f":"Sheet2!AD195","v":0},{"$f":"Sheet2!AC195","v":0},{"$f":"Sheet2!BI195","v":0},{"$f":"Sheet2!BH195","v":0},{"$f":"Sheet2!AL195","v":0},{"$f":"Sheet2!AM195","v":0},{"$f":"Sheet2!AN195","v":0},{"$f":"Sheet2!AO195","v":0},{"$f":"Sheet2!AP195","v":0},{"$f":"Sheet2!AQ195","v":0},{"$f":"Sheet2!BB195","v":0}]
[null,{"$f":"Sheet2!I196","v":0},{"$f":"Sheet2!J196","v":0},{"$f":"Sheet2!C196","v":0},{"$f":"Sheet2!B196","v":"00:00:00"},{"$f":"Sheet2!K196","v":0},{"$f":"Sheet2!L196","v":0},{"$f":"Sheet2!AK196","v":0},{"$f":"H203/5280","v":0},0,{"$f":"Sheet2!BC196","v":0},{"$f":"Sheet2!M196","v":0},{"$f":"Sheet2!N196","v":0},{"$f":"Sheet2!V196","v":0},{"$f":"Sheet2!W196","v":0},{"$f":"(N203+O203)/5280","v":0},{"$f":"Sheet2!S196","v":0},{"$f":"Sheet2!T196","v":0},{"$f":"SUM(#REF!)/3","v":{"$error":"#REF!"}},{"$f":"IF(P203<>0,(Q203+R203)/P203,0)","v":0},{"$f":"Sheet2!AF196","v":0},{"$f":"Sheet2!AG196","v":0},{"$f":"Sheet2!AH196","v":0},{"$f":"Sheet2!AI196","v":0},{"$f":"Sheet2!H196","v":0},{"$f":"Sheet2!Y196","v":0},{"$f":"Sheet2!Z196","v":0},{"$f":"Sheet2!AA196","v":0},{"$f":"Sheet2!AD196","v":0},{"$f":"Sheet2!AC196","v":0},{"$f":"Sheet2!BI196","v":0},{"$f":"Sheet2!BH196","v":0},{"$f":"Sheet2!AL196","v":0},{"$f":"Sheet2!AM196","v":0},{"$f":"Sheet2!AN196","v":0},{"$f":"Sheet2!AO196","v":0},{"$f":"Sheet2!AP196","v":0},{"$f":"Sheet2!AQ196","v":0},{"$f":"Sheet2!BB196","v":0}]
[null,{"$f":"Sheet2!I197","v":0},{"$f":"Sheet2!J197","v":0},{"$f":"Sheet2!C197","v":0},{"$f":"Sheet2!B197","v":"00:00:00"},{"$f":"Sheet2!K197","v":0},{"$f":"Sheet2!L197","v":0},{"$f":"Sheet2!AK197","v":0},0,0,{"$f":"Sheet2!BC197","v":0},{"$f":"Sheet2!M197","v":0},{"$f":"Sheet2!N197","v":0},{"$f":"Sheet2!V197","v":0},{"$f":"Sheet2!W197","v":0},0,{"$f":"Sheet2!S197","v":0},{"$f":"Sheet2!T197","v":0},{"$f":"SUM(#REF!)/3","v":{"$error":"#REF!"}},0,{"$f":"Sheet2!AF197","v":0},{"$f":"Sheet2!AG197","v":0},{"$f":"Sheet2!AH197","v":0},{"$f":"Sheet2!AI197","v":0},{"$f":"Sheet2!H197","v":0},{"$f":"Sheet2!Y197","v":0},{"$f":"Sheet2!Z197","v":0},{"$f":"Sheet2!AA197","v":0},{"$f":"Sheet2!AD197","v":0},{"$f":"Sheet2!AC197","v":0},{"$f":"Sheet2!BI197","v":0},{"$f":"Sheet2!BH197","v":0},{"$f":"Sheet2!AL197","v":0},{"$f":"Sheet2!AM197","v":0},{"$f":"Sheet2!AN197","v":0},{"$f":"Sheet2!AO197","v":0},{"$f":"Sheet2!AP197","v":0},{"$f":"Sheet2!AQ197","v":0},{"$f":"Sheet2!BB197","v":0}]
[null,{"$f":"Sheet2!I198","v":0},{"$f":"Sheet2!J198","v":0},{"$f":"Sheet2!C198","v":0},{"$f":"Sheet2!B198","v":"00:00:00"},{"$f":"Sheet2!K198","v":0},{"$f":"Sheet2!L198","v":0},{"$f":"Sheet2!AK198","v":0},0,0,{"$f":"Sheet2!BC198","v":0},{"$f":"Sheet2!M198","v":0},{"$f":"Sheet2!N198","v":0},{"$f":"Sheet2!V198","v":0},{"$f":"Sheet2!W198","v":0},0,{"$f":"Sheet2!S198","v":0},{"$f":"Sheet2!T198","v":0},{"$f":"SUM(#REF!)/3","v":{"$error":"#REF!"}},0,{"$f":"Sheet2!AF198","v":0},{"$f":"Sheet2!AG198","v":0},{"$f":"Sheet2!AH198","v":0},{"$f":"Sheet2!AI198","v":0},{"$f":"Sheet2!H198","v":0},{"$f":"Sheet2!Y198","v":0},{"$f":"Sheet2!Z198","v":0},{"$f":"Sheet2!AA198","v":0},{"$f":"Sheet2!AD198","v":0},{"$f":"Sheet2!AC198","v":0},{"$f":"Sheet2!BI198","v":0},{"$f":"Sheet2!BH198","v":0},{"$f":"Sheet2!AL198","v":0},{"$f":"Sheet2!AM198","v":0},{"$f":"Sheet2!AN198","v":0},{"$f":"Sheet2!AO198","v":0},{"$f":"Sheet2!AP198","v":0},{"$f":"Sheet2!AQ198","v":0},{"$f":"Sheet2!BB198","v":0}]
[null,{"$f":"Sheet2!I199","v":0},{"$f":"Sheet2!J199","v":0},{"$f":"Sheet2!C199","v":0},{"$f":"Sheet2!B199","v":"00:00:00"},{"$f":"Sheet2!K199","v":0},{"$f":"Sheet2!L199","v":0},{"$f":"Sheet2!AK199","v":0},0,0,{"$f":"Sheet2!BC199","v":0},{"$f":"Sheet2!M199","v":0},{"$f":"Sheet2!N199","v":0},{"$f":"Sheet2!V199","v":0},{"$f":"Sheet2!W199","v":0},0,{"$f":"Sheet2!S199","v":0},{"$f":"Sheet2!T199","v":0},{"$f":"SUM(#REF!)/3","v":{"$error":"#REF!"}},0,{"$f":"Sheet2!AF199","v":0},{"$f":"Sheet2!AG199","v":0},{"$f":"Sheet2!AH199","v":0},{"$f":"Sheet2!AI199","v":0},{"$f":"Sheet2!H199","v":0},{"$f":"Sheet2!Y199","v":0},{"$f":"Sheet2!Z199","v":0},{"$f":"Sheet2!AA199","v":0},{"$f":"Sheet2!AD199","v":0},{"$f":"Sheet2!AC199","v":0},{"$f":"Sheet2!BI199","v":0},{"$f":"Sheet2!BH199","v":0},{"$f":"Sheet2!AL199","v":0},{"$f":"Sheet2!AM199","v":0},{"$f":"Sheet2!AN199","v":0},{"$f":"Sheet2!AO199","v":0},{"$f":"Sheet2!AP199","v":0},{"$f":"Sheet2!AQ199","v":0},{"$f":"Sheet2!BB199","v":0}]
[null,{"$f":"Sheet2!I200","v":0},{"$f":"Sheet2!J200","v":0},{"$f":"Sheet2!C200","v":0},{"$f":"Sheet2!B200","v":"00:00:00"},{"$f":"Sheet2!K200","v":0},{"$f":"Sheet2!L200","v":0},{"$f":"Sheet2!AK200","v":0},0,0,{"$f":"Sheet2!BC200","v":0},{"$f":"Sheet2!M200","v":0},{"$f":"Sheet2!N200","v":0},{"$f":"Sheet2!V200","v":0},{"$f":"Sheet2!W200","v":0},0,{"$f":"Sheet2!S200","v":0},{"$f":"Sheet2!T200","v":0},{"$f":"SUM(#REF!)/3","v":{"$error":"#REF!"}},0,{"$f":"Sheet2!AF200","v":0},{"$f":"Sheet2!AG200","v":0},{"$f":"Sheet2!AH200","v":0},{"$f":"Sheet2!AI200","v":0},{"$f":"Sheet2!H200","v":0},{"$f":"Sheet2!Y200","v":0},{"$f":"Sheet2!Z200","v":0},{"$f":"Sheet2!AA200","v":0},{"$f":"Sheet2!AD200","v":0},{"$f":"Sheet2!AC200","v":0},{"$f":"Sheet2!BI200","v":0},{"$f":"Sheet2!BH200","v":0},{"$f":"Sheet2!AL200","v":0},{"$f":"Sheet2!AM200","v":0},{"$f":"Sheet2!AN200","v":0},{"$f":"Sheet2!AO200","v":0},{"$f":"Sheet2!AP200","v":0},{"$f":"Sheet2!AQ200","v":0},{"$f":"Sheet2!BB200","v":0}]
[null,{"$f":"Sheet2!I201","v":0},{"$f":"Sheet2!J201","v":0},{"$f":"Sheet2!C201","v":0},{"$f":"Sheet2!B201","v":"00:00:00"},{"$f":"Sheet2!K201","v":0},{"$f":"Sheet2!L201","v":0},{"$f":"Sheet2!AK201","v":0},0,0,{"$f":"Sheet2!BC201","v":0},{"$f":"Sheet2!M201","v":0},{"$f":"Sheet2!N201","v":0},{"$f":"Sheet2!V201","v":0},{"$f":"Sheet2!W201","v":0},0,{"$f":"Sheet2!S201","v":0},{"$f":"Sheet2!T201","v":0},{"$f":"SUM(#REF!)/3","v":{"$error":"#REF!"}},0,{"$f":"Sheet2!AF201","v":0},{"$f":"Sheet2!AG201","v":0},{"$f":"Sheet2!AH201","v":0},{"$f":"Sheet2!AI201","v":0},{"$f":"Sheet2!H201","v":0},{"$f":"Sheet2!Y201","v":0},{"$f":"Sheet2!Z201","v":0},{"$f":"Sheet2!AA201","v":0},{"$f":"Sheet2!AD201","v":0},{"$f":"Sheet2!AC201","v":0},{"$f":"Sheet2!BI201","v":0},{"$f":"Sheet2!BH201","v":0},{"$f":"Sheet2!AL201","v":0},{"$f":"Sheet2!AM201","v":0},{"$f":"Sheet2!AN201","v":0},{"$f":"Sheet2!AO201","v":0},{"$f":"Sheet2!AP201","v":0},{"$f":"Sheet2!AQ201","v":0},{"$f":"Sheet2!BB201","v":0}]
[null,{"$f":"Sheet2!I202","v":0},{"$f":"Sheet2!J202","v":0},{"$f":"Sheet2!C202","v":0},{"$f":"Sheet2!B202","v":"00:00:00"},{"$f":"Sheet2!K202","v":0},{"$f":"Sheet2!L202","v":0},{"$f":"Sheet2!AK202","v":0},0,0,{"$f":"Sheet2!BC202","v":0},{"$f":"Sheet2!M202","v":0},{"$f":"Sheet2!N202","v":0},{"$f":"Sheet2!V202","v":0},{"$f":"Sheet2!W202","v":0},0,{"$f":"Sheet2!S202","v":0},{"$f":"Sheet2!T202","v":0},{"$f":"SUM(#REF!)/3","v":{"$error":"#REF!"}},0,{"$f":"Sheet2!AF202","v":0},{"$f":"Sheet2!AG202","v":0},{"$f":"Sheet2!AH202","v":0},{"$f":"Sheet2!AI202","v":0},{"$f":"Sheet2!H202","v":0},{"$f":"Sheet2!Y202","v":0},{"$f":"Sheet2!Z202","v":0},{"$f":"Sheet2!AA202","v":0},{"$f":"Sheet2!AD202","v":0},{"$f":"Sheet2!AC202","v":0},{"$f":"Sheet2!BI202","v":0},{"$f":"Sheet2!BH202","v":0},{"$f":"Sheet2!AL202","v":0},{"$f":"Sheet2!AM202","v":0},{"$f":"Sheet2!AN202","v":0},{"$f":"Sheet2!AO202","v":0},{"$f":"Sheet2!AP202","v":0},{"$f":"Sheet2!AQ202","v":0},{"$f":"Sheet2!BB202","v":0}]
[null,{"$f":"Sheet2!I203","v":0},{"$f":"Sheet2!J203","v":0},{"$f":"Sheet2!C203","v":0},{"$f":"Sheet2!B203","v":"00:00:00"},{"$f":"Sheet2!K203","v":0},{"$f":"Sheet2!L203","v":0},{"$f":"Sheet2!AK203","v":0},0,0,{"$f":"Sheet2!BC203","v":0},{"$f":"Sheet2!M203","v":0},{"$f":"Sheet2!N203","v":0},{"$f":"Sheet2!V203","v":0},{"$f":"Sheet2!W203","v":0},0,{"$f":"Sheet2!S203","v":0},{"$f":"Sheet2!T203","v":0},{"$f":"SUM(#REF!)/3","v":{"$error":"#REF!"}},0,{"$f":"Sheet2!AF203","v":0},{"$f":"Sheet2!AG203","v":0},{"$f":"Sheet2!AH203","v":0},{"$f":"Sheet2!AI203","v":0},{"$f":"Sheet2!H203","v":0},{"$f":"Sheet2!Y203","v":0},{"$f":"Sheet2!Z203","v":0},{"$f":"Sheet2!AA203","v":0},{"$f":"Sheet2!AD203","v":0},{"$f":"Sheet2!AC203","v":0},{"$f":"Sheet2!BI203","v":0},{"$f":"Sheet2!BH203","v":0},{"$f":"Sheet2!AL203","v":0},{"$f":"Sheet2!AM203","v":0},{"$f":"Sheet2!AN203","v":0},{"$f":"Sheet2!AO203","v":0},{"$f":"Sheet2!AP203","v":0},{"$f":"Sheet2!AQ203","v":0},{"$f":"Sheet2!BB203","v":0}]
[null,{"$f":"Sheet2!I204","v":0},{"$f":"Sheet2!J204","v":0},{"$f":"Sheet2!C204","v":0},{"$f":"Sheet2!B204","v":"00:00:00"},{"$f":"Sheet2!K204","v":0},{"$f":"Sheet2!L204","v":0},{"$f":"Sheet2!AK204","v":0},0,0,{"$f":"Sheet2!BC204","v":0},{"$f":"Sheet2!M204","v":0},{"$f":"Sheet2!N204","v":0},{"$f":"Sheet2!V204","v":0},{"$f":"Sheet2!W204","v":0},0,{"$f":"Sheet2!S204","v":0},{"$f":"Sheet2!T204","v":0},{"$f":"SUM(#REF!)/3","v":{"$error":"#REF!"}},0,{"$f":"Sheet2!AF204","v":0},{"$f":"Sheet2!AG204","v":0},{"$f":"Sheet2!AH204","v":0},{"$f":"Sheet2!AI204","v":0},{"$f":"Sheet2!H204","v":0},{"$f":"Sheet2!Y204","v":0},{"$f":"Sheet2!Z204","v":0},{"$f":"Sheet2!AA204","v":0},{"$f":"Sheet2!AD204","v":0},{"$f":"Sheet2!AC204","v":0},{"$f":"Sheet2!BI204","v":0},{"$f":"Sheet2!BH204","v":0},{"$f":"Sheet2!AL204","v":0},{"$f":"Sheet2!AM204","v":0},{"$f":"Sheet2!AN204","v":0},{"$f":"Sheet2!AO204","v":0},{"$f":"Sheet2!AP204","v":0},{"$f":"Sheet2!AQ204","v":0},{"$f":"Sheet2!BB204","v":0}]
[null,{"$f":"Sheet2!I205","v":0},{"$f":"Sheet2!J205","v":0},{"$f":"Sheet2!C205","v":0},{"$f":"Sheet2!B205","v":"00:00:00"},{"$f":"Sheet2!K205","v":0},{"$f":"Sheet2!L205","v":0},{"$f":"Sheet2!AK205","v":0},0,0,{"$f":"Sheet2!BC205","v":0},{"$f":"Sheet2!M205","v":0},{"$f":"Sheet2!N205","v":0},{"$f":"Sheet2!V205","v":0},{"$f":"Sheet2!W205","v":0},0,{"$f":"Sheet2!S205","v":0},{"$f":"Sheet2!T205","v":0},{"$f":"SUM(#REF!)/3","v":{"$error":"#REF!"}},0,{"$f":"Sheet2!AF205","v":0},{"$f":"Sheet2!AG205","v":0},{"$f":"Sheet2!AH205","v":0},{"$f":"Sheet2!AI205","v":0},{"$f":"Sheet2!H205","v":0},{"$f":"Sheet2!Y205","v":0},{"$f":"Sheet2!Z205","v":0},{"$f":"Sheet2!AA205","v":0},{"$f":"Sheet2!AD205","v":0},{"$f":"Sheet2!AC205","v":0},{"$f":"Sheet2!BI205","v":0},{"$f":"Sheet2!BH205","v":0},{"$f":"Sheet2!AL205","v":0},{"$f":"Sheet2!AM205","v":0},{"$f":"Sheet2!AN205","v":0},{"$f":"Sheet2!AO205","v":0},{"$f":"Sheet2!AP205","v":0},{"$f":"Sheet2!AQ205","v":0},{"$f":"Sheet2!BB205","v":0}]
[null,{"$f":"Sheet2!I206","v":0},{"$f":"Sheet2!J206","v":0},{"$f":"Sheet2!C206","v":0},{"$f":"Sheet2!B206","v":"00:00:00"},{"$f":"Sheet2!K206","v":0},{"$f":"Sheet2!L206","v":0},{"$f":"Sheet2!AK206","v":0},0,0,{"$f":"Sheet2!BC206","v":0},{"$f":"Sheet2!M206","v":0},{"$f":"Sheet2!N206","v":0},{"$f":"Sheet2!V206","v":0},{"$f":"Sheet2!W206","v":0},0,{"$f":"Sheet2!S206","v":0},{"$f":"Sheet2!T206","v":0},{"$f":"SUM(#REF!)/3","v":{"$error":"#REF!"}},0,{"$f":"Sheet2!AF206","v":0},{"$f":"Sheet2!AG206","v":0},{"$f":"Sheet2!AH206","v":0},{"$f":"Sheet2!AI206","v":0},{"$f":"Sheet2!H206","v":0},{"$f":"Sheet2!Y206","v":0},{"$f":"Sheet2!Z206","v":0},{"$f":"Sheet2!AA206","v":0},{"$f":"Sheet2!AD206","v":0},{"$f":"Sheet2!AC206","v":0},{"$f":"Sheet2!BI206","v":0},{"$f":"Sheet2!BH206","v":0},{"$f":"Sheet2!AL206","v":0},{"$f":"Sheet2!AM206","v":0},{"$f":"Sheet2!AN206","v":0},{"$f":"Sheet2!AO206","v":0},{"$f":"Sheet2!AP206","v":0},{"$f":"Sheet2!AQ206","v":0},{"$f":"Sheet2!BB206","v":0}]
[null,{"$f":"Sheet2!I207","v":0},{"$f":"Sheet2!J207","v":0},{"$f":"Sheet2!C207","v":0},{"$f":"Sheet2!B207","v":"00:00:00"},{"$f":"Sheet2!K207","v":0},{"$f":"Sheet2!L207","v":0},{"$f":"Sheet2!AK207","v":0},0,0,{"$f":"Sheet2!BC207","v":0},{"$f":"Sheet2!M207","v":0},{"$f":"Sheet2!N207","v":0},{"$f":"Sheet2!V207","v":0},{"$f":"Sheet2!W207","v":0},0,{"$f":"Sheet2!S207","v":0},{"$f":"Sheet2!T207","v":0},{"$f":"SUM(#REF!)/3","v":{"$error":"#REF!"}},0,{"$f":"Sheet2!AF207","v":0},{"$f":"Sheet2!AG207","v":0},{"$f":"Sheet2!AH207","v":0},{"$f":"Sheet2!AI207","v":0},{"$f":"Sheet2!H207","v":0},{"$f":"Sheet2!Y207","v":0},{"$f":"Sheet2!Z207","v":0},{"$f":"Sheet2!AA207","v":0},{"$f":"Sheet2!AD207","v":0},{"$f":"Sheet2!AC207","v":0},{"$f":"Sheet2!BI207","v":0},{"$f":"Sheet2!BH207","v":0},{"$f":"Sheet2!AL207","v":0},{"$f":"Sheet2!AM207","v":0},{"$f":"Sheet2!AN207","v":0},{"$f":"Sheet2!AO207","v":0},{"$f":"Sheet2!AP207","v":0},{"$f":"Sheet2!AQ207","v":0},{"$f":"Sheet2!BB207","v":0}]
[null,{"$f":"Sheet2!I208","v":0},{"$f":"Sheet2!J208","v":0},{"$f":"Sheet2!C208","v":0},{"$f":"Sheet2!B208","v":"00:00:00"},{"$f":"Sheet2!K208","v":0},{"$f":"Sheet2!L208","v":0},{"$f":"Sheet2!AK208","v":0},0,0,{"$f":"Sheet2!BC208","v":0},{"$f":"Sheet2!M208","v":0},{"$f":"Sheet2!N208","v":0},{"$f":"Sheet2!V208","v":0},{"$f":"Sheet2!W208","v":0},0,{"$f":"Sheet2!S208","v":0},{"$f":"Sheet2!T208","v":0},{"$f":"SUM(#REF!)/3","v":{"$error":"#REF!"}},0,{"$f":"Sheet2!AF208","v":0},{"$f":"Sheet2!AG208","v":0},{"$f":"Sheet2!AH208","v":0},{"$f":"Sheet2!AI208","v":0},{"$f":"Sheet2!H208","v":0},{"$f":"Sheet2!Y208","v":0},{"$f":"Sheet2!Z208","v":0},{"$f":"Sheet2!AA208","v":0},{"$f":"Sheet2!AD208","v":0},{"$f":"Sheet2!AC208","v":0},{"$f":"Sheet2!BI208","v":0},{"$f":"Sheet2!BH208","v":0},{"$f":"Sheet2!AL208","v":0},{"$f":"Sheet2!AM208","v":0},{"$f":"Sheet2!AN208","v":0},{"$f":"Sheet2!AO208","v":0},{"$f":"Sheet2!AP208","v":0},{"$f":"Sheet2!AQ208","v":0},{"$f":"Sheet2!BB208","v":0}]
[null,{"$f":"Sheet2!I209","v":0},{"$f":"Sheet2!J209","v":0},{"$f":"Sheet2!C209","v":0},{"$f":"Sheet2!B209","v":"00:00:00"},{"$f":"Sheet2!K209","v":0},{"$f":"Sheet2!L209","v":0},{"$f":"Sheet2!AK209","v":0},0,0,{"$f":"Sheet2!BC209","v":0},{"$f":"Sheet2!M209","v":0},{"$f":"Sheet2!N209","v":0},{"$f":"Sheet2!V209","v":0},{"$f":"Sheet2!W209","v":0},0,{"$f":"Sheet2!S209","v":0},{"$f":"Sheet2!T209","v":0},{"$f":"SUM(#REF!)/3","v":{"$error":"#REF!"}},0,{"$f":"Sheet2!AF209","v":0},{"$f":"Sheet2!AG209","v":0},{"$f":"Sheet2!AH209","v":0},{"$f":"Sheet2!AI209","v":0},{"$f":"Sheet2!H209","v":0},{"$f":"Sheet2!Y209","v":0},{"$f":"Sheet2!Z209","v":0},{"$f":"Sheet2!AA209","v":0},{"$f":"Sheet2!AD209","v":0},{"$f":"Sheet2!AC209","v":0},{"$f":"Sheet2!BI209","v":0},{"$f":"Sheet2!BH209","v":0},{"$f":"Sheet2!AL209","v":0},{"$f":"Sheet2!AM209","v":0},{"$f":"Sheet2!AN209","v":0},{"$f":"Sheet2!AO209","v":0},{"$f":"Sheet2!AP209","v":0},{"$f":"Sheet2!AQ209","v":0},{"$f":"Sheet2!BB209","v":0}]
[null,{"$f":"Sheet2!I210","v":0},{"$f":"Sheet2!J210","v":0},{"$f":"Sheet2!C210","v":0},{"$f":"Sheet2!B210","v":"00:00:00"},{"$f":"Sheet2!K210","v":0},{"$f":"Sheet2!L210","v":0},{"$f":"Sheet2!AK210","v":0},0,0,{"$f":"Sheet2!BC210","v":0},{"$f":"Sheet2!M210","v":0},{"$f":"Sheet2!N210","v":0},{"$f":"Sheet2!V210","v":0},{"$f":"Sheet2!W210","v":0},0,{"$f":"Sheet2!S210","v":0},{"$f":"Sheet2!T210","v":0},{"$f":"SUM(#REF!)/3","v":{"$error":"#REF!"}},0,{"$f":"Sheet2!AF210","v":0},{"$f":"Sheet2!AG210","v":0},{"$f":"Sheet2!AH210","v":0},{"$f":"Sheet2!AI210","v":0},{"$f":"Sheet2!H210","v":0},{"$f":"Sheet2!Y210","v":0},{"$f":"Sheet2!Z210","v":0},{"$f":"Sheet2!AA210","v":0},{"$f":"Sheet2!AD210","v":0},{"$f":"Sheet2!AC210","v":0},{"$f":"Sheet2!BI210","v":0},{"$f":"Sheet2!BH210","v":0},{"$f":"Sheet2!AL210","v":0},{"$f":"Sheet2!AM210","v":0},{"$f":"Sheet2!AN210","v":0},{"$f":"Sheet2!AO210","v":0},{"$f":"Sheet2!AP210","v":0},{"$f":"Sheet2!AQ210","v":0},{"$f":"Sheet2!BB210","v":0}]
[null,{"$f":"Sheet2!I211","v":0},{"$f":"Sheet2!J211","v":0},{"$f":"Sheet2!C211","v":0},{"$f":"Sheet2!B211","v":"00:00:00"},{"$f":"Sheet2!K211","v":0},{"$f":"Sheet2!L211","v":0},{"$f":"Sheet2!AK211","v":0},0,0,{"$f":"Sheet2!BC211","v":0},{"$f":"Sheet2!M211","v":0},{"$f":"Sheet2!N211","v":0},{"$f":"Sheet2!V211","v":0},{"$f":"Sheet2!W211","v":0},0,{"$f":"Sheet2!S211","v":0},{"$f":"Sheet2!T211","v":0},{"$f":"SUM(#REF!)/3","v":{"$error":"#REF!"}},0,{"$f":"Sheet2!AF211","v":0},{"$f":"Sheet2!AG211","v":0},{"$f":"Sheet2!AH211","v":0},{"$f":"Sheet2!AI211","v":0},{"$f":"Sheet2!H211","v":0},{"$f":"Sheet2!Y211","v":0},{"$f":"Sheet2!Z211","v":0},{"$f":"Sheet2!AA211","v":0},{"$f":"Sheet2!AD211","v":0},{"$f":"Sheet2!AC211","v":0},{"$f":"Sheet2!BI211","v":0},{"$f":"Sheet2!BH211","v":0},{"$f":"Sheet2!AL211","v":0},{"$f":"Sheet2!AM211","v":0},{"$f":"Sheet2!AN211","v":0},{"$f":"Sheet2!AO211","v":0},{"$f":"Sheet2!AP211","v":0},{"$f":"Sheet2!AQ211","v":0},{"$f":"Sheet2!BB211","v":0}]
[null,{"$f":"Sheet2!I212","v":0},{"$f":"Sheet2!J212","v":0},{"$f":"Sheet2!C212","v":0},{"$f":"Sheet2!B212","v":"00:00:00"},{"$f":"Sheet2!K212","v":0},{"$f":"Sheet2!L212","v":0},{"$f":"Sheet2!AK212","v":0},0,0,{"$f":"Sheet2!BC212","v":0},{"$f":"Sheet2!M212","v":0},{"$f":"Sheet2!N212","v":0},{"$f":"Sheet2!V212","v":0},{"$f":"Sheet2!W212","v":0},0,{"$f":"Sheet2!S212","v":0},{"$f":"Sheet2!T212","v":0},{"$f":"SUM(#REF!)/3","v":{"$error":"#REF!"}},0,{"$f":"Sheet2!AF212","v":0},{"$f":"Sheet2!AG212","v":0},{"$f":"Sheet2!AH212","v":0},{"$f":"Sheet2!AI212","v":0},{"$f":"Sheet2!H212","v":0},{"$f":"Sheet2!Y212","v":0},{"$f":"Sheet2!Z212","v":0},{"$f":"Sheet2!AA212","v":0},{"$f":"Sheet2!AD212","v":0},{"$f":"Sheet2!AC212","v":0},{"$f":"Sheet2!BI212","v":0},{"$f":"Sheet2!BH212","v":0},{"$f":"Sheet2!AL212","v":0},{"$f":"Sheet2!AM212","v":0},{"$f":"Sheet2!AN212","v":0},{"$f":"Sheet2!AO212","v":0},{"$f":"Sheet2!AP212","v":0},{"$f":"Sheet2!AQ212","v":0},{"$f":"Sheet2!BB212","v":0}]
[null,{"$f":"Sheet2!I213","v":0},{"$f":"Sheet2!J213","v":0},{"$f":"Sheet2!C213","v":0},{"$f":"Sheet2!B213","v":"00:00:00"},{"$f":"Sheet2!K213","v":0},{"$f":"Sheet2!L213","v":0},{"$f":"Sheet2!AK213","v":0},0,0,{"$f":"Sheet2!BC213","v":0},{"$f":"Sheet2!M213","v":0},{"$f":"Sheet2!N213","v":0},{"$f":"Sheet2!V213","v":0},{"$f":"Sheet2!W213","v":0},0,{"$f":"Sheet2!S213","v":0},{"$f":"Sheet2!T213","v":0},{"$f":"SUM(#REF!)/3","v":{"$error":"#REF!"}},0,{"$f":"Sheet2!AF213","v":0},{"$f":"Sheet2!AG213","v":0},{"$f":"Sheet2!AH213","v":0},{"$f":"Sheet2!AI213","v":0},{"$f":"Sheet2!H213","v":0},{"$f":"Sheet2!Y213","v":0},{"$f":"Sheet2!Z213","v":0},{"$f":"Sheet2!AA213","v":0},{"$f":"Sheet2!AD213","v":0},{"$f":"Sheet2!AC213","v":0},{"$f":"Sheet2!BI213","v":0},{"$f":"Sheet2!BH213","v":0},{"$f":"Sheet2!AL213","v":0},{"$f":"Sheet2!AM213","v":0},{"$f":"Sheet2!AN213","v":0},{"$f":"Sheet2!AO213","v":0},{"$f":"Sheet2!AP213","v":0},{"$f":"Sheet2!AQ213","v":0},{"$f":"Sheet2!BB213","v":0}]
[null,{"$f":"Sheet2!I214","v":0},{"$f":"Sheet2!J214","v":0},{"$f":"Sheet2!C214","v":0},{"$f":"Sheet2!B214","v":"00:00:00"},{"$f":"Sheet2!K214","v":0},{"$f":"Sheet2!L214","v":0},{"$f":"Sheet2!AK214","v":0},0,0,{"$f":"Sheet2!BC214","v":0},{"$f":"Sheet2!M214","v":0},{"$f":"Sheet2!N214","v":0},{"$f":"Sheet2!V214","v":0},{"$f":"Sheet2!W214","v":0},0,{"$f":"Sheet2!S214","v":0},{"$f":"Sheet2!T214","v":0},{"$f":"SUM(#REF!)/3","v":{"$error":"#REF!"}},0,{"$f":"Sheet2!AF214","v":0},{"$f":"Sheet2!AG214","v":0},{"$f":"Sheet2!AH214","v":0},{"$f":"Sheet2!AI214","v":0},{"$f":"Sheet2!H214","v":0},{"$f":"Sheet2!Y214","v":0},{"$f":"Sheet2!Z214","v":0},{"$f":"Sheet2!AA214","v":0},{"$f":"Sheet2!AD214","v":0},{"$f":"Sheet2!AC214","v":0},{"$f":"Sheet2!BI214","v":0},{"$f":"Sheet2!BH214","v":0},{"$f":"Sheet2!AL214","v":0},{"$f":"Sheet2!AM214","v":0},{"$f":"Sheet2!AN214","v":0},{"$f":"Sheet2!AO214","v":0},{"$f":"Sheet2!AP214","v":0},{"$f":"Sheet2!AQ214","v":0},{"$f":"Sheet2!BB214","v":0}]
[null,{"$f":"Sheet2!I215","v":0},{"$f":"Sheet2!J215","v":0},{"$f":"Sheet2!C215","v":0},{"$f":"Sheet2!B215","v":"00:00:00"},{"$f":"Sheet2!K215","v":0},{"$f":"Sheet2!L215","v":0},{"$f":"Sheet2!AK215","v":0},0,0,{"$f":"Sheet2!BC215","v":0},{"$f":"Sheet2!M215","v":0},{"$f":"Sheet2!N215","v":0},{"$f":"Sheet2!V215","v":0},{"$f":"Sheet2!W215","v":0},0,{"$f":"Sheet2!S215","v":0},{"$f":"Sheet2!T215","v":0},{"$f":"SUM(#REF!)/3","v":{"$error":"#REF!"}},0,{"$f":"Sheet2!AF215","v":0},{"$f":"Sheet2!AG215","v":0},{"$f":"Sheet2!AH215","v":0},{"$f":"Sheet2!AI215","v":0},{"$f":"Sheet2!H215","v":0},{"$f":"Sheet2!Y215","v":0},{"$f":"Sheet2!Z215","v":0},{"$f":"Sheet2!AA215","v":0},{"$f":"Sheet2!AD215","v":0},{"$f":"Sheet2!AC215","v":0},{"$f":"Sheet2!BI215","v":0},{"$f":"Sheet2!BH215","v":0},{"$f":"Sheet2!AL215","v":0},{"$f":"Sheet2!AM215","v":0},{"$f":"Sheet2!AN215","v":0},{"$f":"Sheet2!AO215","v":0},{"$f":"Sheet2!AP215","v":0},{"$f":"Sheet2!AQ215","v":0},{"$f":"Sheet2!BB215","v":0}]
[null,{"$f":"Sheet2!I216","v":0},{"$f":"Sheet2!J216","v":0},{"$f":"Sheet2!C216","v":0},{"$f":"Sheet2!B216","v":"00:00:00"},{"$f":"Sheet2!K216","v":0},{"$f":"Sheet2!L216","v":0},{"$f":"Sheet2!AK216","v":0},0,0,{"$f":"Sheet2!BC216","v":0},{"$f":"Sheet2!M216","v":0},{"$f":"Sheet2!N216","v":0},{"$f":"Sheet2!V216","v":0},{"$f":"Sheet2!W216","v":0},0,{"$f":"Sheet2!S216","v":0},{"$f":"Sheet2!T216","v":0},{"$f":"SUM(#REF!)/3","v":{"$error":"#REF!"}},0,{"$f":"Sheet2!AF216","v":0},{"$f":"Sheet2!AG216","v":0},{"$f":"Sheet2!AH216","v":0},{"$f":"Sheet2!AI216","v":0},{"$f":"Sheet2!H216","v":0},{"$f":"Sheet2!Y216","v":0},{"$f":"Sheet2!Z216","v":0},{"$f":"Sheet2!AA216","v":0},{"$f":"Sheet2!AD216","v":0},{"$f":"Sheet2!AC216","v":0},{"$f":"Sheet2!BI216","v":0},{"$f":"Sheet2!BH216","v":0},{"$f":"Sheet2!AL216","v":0},{"$f":"Sheet2!AM216","v":0},{"$f":"Sheet2!AN216","v":0},{"$f":"Sheet2!AO216","v":0},{"$f":"Sheet2!AP216","v":0},{"$f":"Sheet2!AQ216","v":0},{"$f":"Sheet2!BB216","v":0}]
[null,{"$f":"Sheet2!I217","v":0},{"$f":"Sheet2!J217","v":0},{"$f":"Sheet2!C217","v":0},{"$f":"Sheet2!B217","v":"00:00:00"},{"$f":"Sheet2!K217","v":0},{"$f":"Sheet2!L217","v":0},{"$f":"Sheet2!AK217","v":0},0,0,{"$f":"Sheet2!BC217","v":0},{"$f":"Sheet2!M217","v":0},{"$f":"Sheet2!N217","v":0},{"$f":"Sheet2!V217","v":0},{"$f":"Sheet2!W217","v":0},0,{"$f":"Sheet2!S217","v":0},{"$f":"Sheet2!T217","v":0},{"$f":"SUM(#REF!)/3","v":{"$error":"#REF!"}},0,{"$f":"Sheet2!AF217","v":0},{"$f":"Sheet2!AG217","v":0},{"$f":"Sheet2!AH217","v":0},{"$f":"Sheet2!AI217","v":0},{"$f":"Sheet2!H217","v":0},{"$f":"Sheet2!Y217","v":0},{"$f":"Sheet2!Z217","v":0},{"$f":"Sheet2!AA217","v":0},{"$f":"Sheet2!AD217","v":0},{"$f":"Sheet2!AC217","v":0},{"$f":"Sheet2!BI217","v":0},{"$f":"Sheet2!BH217","v":0},{"$f":"Sheet2!AL217","v":0},{"$f":"Sheet2!AM217","v":0},{"$f":"Sheet2!AN217","v":0},{"$f":"Sheet2!AO217","v":0},{"$f":"Sheet2!AP217","v":0},{"$f":"Sheet2!AQ217","v":0},{"$f":"Sheet2!BB217","v":0}]
[null,{"$f":"Sheet2!I218","v":0},{"$f":"Sheet2!J218","v":0},{"$f":"Sheet2!C218","v":0},{"$f":"Sheet2!B218","v":"00:00:00"},{"$f":"Sheet2!K218","v":0},{"$f":"Sheet2!L218","v":0},{"$f":"Sheet2!AK218","v":0},0,0,{"$f":"Sheet2!BC218","v":0},{"$f":"Sheet2!M218","v":0},{"$f":"Sheet2!N218","v":0},{"$f":"Sheet2!V218","v":0},{"$f":"Sheet2!W218","v":0},0,{"$f":"Sheet2!S218","v":0},{"$f":"Sheet2!T218","v":0},{"$f":"SUM(#REF!)/3","v":{"$error":"#REF!"}},0,{"$f":"Sheet2!AF218","v":0},{"$f":"Sheet2!AG218","v":0},{"$f":"Sheet2!AH218","v":0},{"$f":"Sheet2!AI218","v":0},{"$f":"Sheet2!H218","v":0},{"$f":"Sheet2!Y218","v":0},{"$f":"Sheet2!Z218","v":0},{"$f":"Sheet2!AA218","v":0},{"$f":"Sheet2!AD218","v":0},{"$f":"Sheet2!AC218","v":0},{"$f":"Sheet2!BI218","v":0},{"$f":"Sheet2!BH218","v":0},{"$f":"Sheet2!AL218","v":0},{"$f":"Sheet2!AM218","v":0},{"$f":"Sheet2!AN218","v":0},{"$f":"Sheet2!AO218","v":0},{"$f":"Sheet2!AP218","v":0},{"$f":"Sheet2!AQ218","v":0},{"$f":"Sheet2!BB218","v":0}]
[null,{"$f":"Sheet2!I219","v":0},{"$f":"Sheet2!J219","v":0},{"$f":"Sheet2!C219","v":0},{"$f":"Sheet2!B219","v":"00:00:00"},{"$f":"Sheet2!K219","v":0},{"$f":"Sheet2!L219","v":0},{"$f":"Sheet2!AK219","v":0},0,0,{"$f":"Sheet2!BC219","v":0},{"$f":"Sheet2!M219","v":0},{"$f":"Sheet2!N219","v":0},{"$f":"Sheet2!V219","v":0},{"$f":"Sheet2!W219","v":0},0,{"$f":"Sheet2!S219","v":0},{"$f":"Sheet2!T219","v":0},{"$f":"SUM(#REF!)/3","v":{"$error":"#REF!"}},0,{"$f":"Sheet2!AF219","v":0},{"$f":"Sheet2!AG219","v":0},{"$f":"Sheet2!AH219","v":0},{"$f":"Sheet2!AI219","v":0},{"$f":"Sheet2!H219","v":0},{"$f":"Sheet2!Y219","v":0},{"$f":"Sheet2!Z219","v":0},{"$f":"Sheet2!AA219","v":0},{"$f":"Sheet2!AD219","v":0},{"$f":"Sheet2!AC219","v":0},{"$f":"Sheet2!BI219","v":0},{"$f":"Sheet2!BH219","v":0},{"$f":"Sheet2!AL219","v":0},{"$f":"Sheet2!AM219","v":0},{"$f":"Sheet2!AN219","v":0},{"$f":"Sheet2!AO219","v":0},{"$f":"Sheet2!AP219","v":0},{"$f":"Sheet2!AQ219","v":0},{"$f":"Sheet2!BB219","v":0}]
[null,{"$f":"Sheet2!I220","v":0},{"$f":"Sheet2!J220","v":0},{"$f":"Sheet2!C220","v":0},{"$f":"Sheet2!B220","v":"00:00:00"},{"$f":"Sheet2!K220","v":0},{"$f":"Sheet2!L220","v":0},{"$f":"Sheet2!AK220","v":0},0,0,{"$f":"Sheet2!BC220","v":0},{"$f":"Sheet2!M220","v":0},{"$f":"Sheet2!N220","v":0},{"$f":"Sheet2!V220","v":0},{"$f":"Sheet2!W220","v":0},0,{"$f":"Sheet2!S220","v":0},{"$f":"Sheet2!T220","v":0},{"$f":"SUM(#REF!)/3","v":{"$error":"#REF!"}},0,{"$f":"Sheet2!AF220","v":0},{"$f":"Sheet2!AG220","v":0},{"$f":"Sheet2!AH220","v":0},{"$f":"Sheet2!AI220","v":0},{"$f":"Sheet2!H220","v":0},{"$f":"Sheet2!Y220","v":0},{"$f":"Sheet2!Z220","v":0},{"$f":"Sheet2!AA220","v":0},{"$f":"Sheet2!AD220","v":0},{"$f":"Sheet2!AC220","v":0},{"$f":"Sheet2!BI220","v":0},{"$f":"Sheet2!BH220","v":0},{"$f":"Sheet2!AL220","v":0},{"$f":"Sheet2!AM220","v":0},{"$f":"Sheet2!AN220","v":0},{"$f":"Sheet2!AO220","v":0},{"$f":"Sheet2!AP220","v":0},{"$f":"Sheet2!AQ220","v":0},{"$f":"Sheet2!BB220","v":0}]
[null,{"$f":"Sheet2!I221","v":0},{"$f":"Sheet2!J221","v":0},{"$f":"Sheet2!C221","v":0},{"$f":"Sheet2!B221","v":"00:00:00"},{"$f":"Sheet2!K221","v":0},{"$f":"Sheet2!L221","v":0},{"$f":"Sheet2!AK221","v":0},0,0,{"$f":"Sheet2!BC221","v":0},{"$f":"Sheet2!M221","v":0},{"$f":"Sheet2!N221","v":0},{"$f":"Sheet2!V221","v":0},{"$f":"Sheet2!W221","v":0},0,{"$f":"Sheet2!S221","v":0},{"$f":"Sheet2!T221","v":0},{"$f":"SUM(#REF!)/3","v":{"$error":"#REF!"}},0,{"$f":"Sheet2!AF221","v":0},{"$f":"Sheet2!AG221","v":0},{"$f":"Sheet2!AH221","v":0},{"$f":"Sheet2!AI221","v":0},{"$f":"Sheet2!H221","v":0},{"$f":"Sheet2!Y221","v":0},{"$f":"Sheet2!Z221","v":0},{"$f":"Sheet2!AA221","v":0},{"$f":"Sheet2!AD221","v":0},{"$f":"Sheet2!AC221","v":0},{"$f":"Sheet2!BI221","v":0},{"$f":"Sheet2!BH221","v":0},{"$f":"Sheet2!AL221","v":0},{"$f":"Sheet2!AM221","v":0},{"$f":"Sheet2!AN221","v":0},{"$f":"Sheet2!AO221","v":0},{"$f":"Sheet2!AP221","v":0},{"$f":"Sheet2!AQ221","v":0},{"$f":"Sheet2!BB221","v":0}]
[null,{"$f":"Sheet2!I222","v":0},{"$f":"Sheet2!J222","v":0},{"$f":"Sheet2!C222","v":0},{"$f":"Sheet2!B222","v":"00:00:00"},{"$f":"Sheet2!K222","v":0},{"$f":"Sheet2!L222","v":0},{"$f":"Sheet2!AK222","v":0},0,0,{"$f":"Sheet2!BC222","v":0},{"$f":"Sheet2!M222","v":0},{"$f":"Sheet2!N222","v":0},{"$f":"Sheet2!V222","v":0},{"$f":"Sheet2!W222","v":0},0,{"$f":"Sheet2!S222","v":0},{"$f":"Sheet2!T222","v":0},{"$f":"SUM(#REF!)/3","v":{"$error":"#REF!"}},0,{"$f":"Sheet2!AF222","v":0},{"$f":"Sheet2!AG222","v":0},{"$f":"Sheet2!AH222","v":0},{"$f":"Sheet2!AI222","v":0},{"$f":"Sheet2!H222","v":0},{"$f":"Sheet2!Y222","v":0},{"$f":"Sheet2!Z222","v":0},{"$f":"Sheet2!AA222","v":0},{"$f":"Sheet2!AD222","v":0},{"$f":"Sheet2!AC222","v":0},{"$f":"Sheet2!BI222","v":0},{"$f":"Sheet2!BH222","v":0},{"$f":"Sheet2!AL222","v":0},{"$f":"Sheet2!AM222","v":0},{"$f":"Sheet2!AN222","v":0},{"$f":"Sheet2!AO222","v":0},{"$f":"Sheet2!AP222","v":0},{"$f":"Sheet2!AQ222","v":0},{"$f":"Sheet2!BB222","v":0}]
[null,{"$f":"Sheet2!I223","v":0},{"$f":"Sheet2!J223","v":0},{"$f":"Sheet2!C223","v":0},{"$f":"Sheet2!B223","v":"00:00:00"},{"$f":"Sheet2!K223","v":0},{"$f":"Sheet2!L223","v":0},{"$f":"Sheet2!AK223","v":0},0,0,{"$f":"Sheet2!BC223","v":0},{"$f":"Sheet2!M223","v":0},{"$f":"Sheet2!N223","v":0},{"$f":"Sheet2!V223","v":0},{"$f":"Sheet2!W223","v":0},0,{"$f":"Sheet2!S223","v":0},{"$f":"Sheet2!T223","v":0},{"$f":"SUM(#REF!)/3","v":{"$error":"#REF!"}},0,{"$f":"Sheet2!AF223","v":0},{"$f":"Sheet2!AG223","v":0},{"$f":"Sheet2!AH223","v":0},{"$f":"Sheet2!AI223","v":0},{"$f":"Sheet2!H223","v":0},{"$f":"Sheet2!Y223","v":0},{"$f":"Sheet2!Z223","v":0},{"$f":"Sheet2!AA223","v":0},{"$f":"Sheet2!AD223","v":0},{"$f":"Sheet2!AC223","v":0},{"$f":"Sheet2!BI223","v":0},{"$f":"Sheet2!BH223","v":0},{"$f":"Sheet2!AL223","v":0},{"$f":"Sheet2!AM223","v":0},{"$f":"Sheet2!AN223","v":0},{"$f":"Sheet2!AO223","v":0},{"$f":"Sheet2!AP223","v":0},{"$f":"Sheet2!AQ223","v":0},{"$f":"Sheet2!BB223","v":0}]
[null,{"$f":"Sheet2!I224","v":0},{"$f":"Sheet2!J224","v":0},{"$f":"Sheet2!C224","v":0},{"$f":"Sheet2!B224","v":"00:00:00"},{"$f":"Sheet2!K224","v":0},{"$f":"Sheet2!L224","v":0},{"$f":"Sheet2!AK224","v":0},0,0,{"$f":"Sheet2!BC224","v":0},{"$f":"Sheet2!M224","v":0},{"$f":"Sheet2!N224","v":0},{"$f":"Sheet2!V224","v":0},{"$f":"Sheet2!W224","v":0},0,{"$f":"Sheet2!S224","v":0},{"$f":"Sheet2!T224","v":0},{"$f":"SUM(#REF!)/3","v":{"$error":"#REF!"}},0,{"$f":"Sheet2!AF224","v":0},{"$f":"Sheet2!AG224","v":0},{"$f":"Sheet2!AH224","v":0},{"$f":"Sheet2!AI224","v":0},{"$f":"Sheet2!H224","v":0},{"$f":"Sheet2!Y224","v":0},{"$f":"Sheet2!Z224","v":0},{"$f":"Sheet2!AA224","v":0},{"$f":"Sheet2!AD224","v":0},{"$f":"Sheet2!AC224","v":0},{"$f":"Sheet2!BI224","v":0},{"$f":"Sheet2!BH224","v":0},{"$f":"Sheet2!AL224","v":0},{"$f":"Sheet2!AM224","v":0},{"$f":"Sheet2!AN224","v":0},{"$f":"Sheet2!AO224","v":0},{"$f":"Sheet2!AP224","v":0},{"$f":"Sheet2!AQ224","v":0},{"$f":"Sheet2!BB224","v":0}]
[null,{"$f":"Sheet2!I225","v":0},{"$f":"Sheet2!J225","v":0},{"$f":"Sheet2!C225","v":0},{"$f":"Sheet2!B225","v":"00:00:00"},{"$f":"Sheet2!K225","v":0},{"$f":"Sheet2!L225","v":0},{"$f":"Sheet2!AK225","v":0},0,0,{"$f":"Sheet2!BC225","v":0},{"$f":"Sheet2!M225","v":0},{"$f":"Sheet2!N225","v":0},{"$f":"Sheet2!V225","v":0},{"$f":"Sheet2!W225","v":0},0,{"$f":"Sheet2!S225","v":0},{"$f":"Sheet2!T225","v":0},{"$f":"SUM(#REF!)/3","v":{"$error":"#REF!"}},0,{"$f":"Sheet2!AF225","v":0},{"$f":"Sheet2!AG225","v":0},{"$f":"Sheet2!AH225","v":0},{"$f":"Sheet2!AI225","v":0},{"$f":"Sheet2!H225","v":0},{"$f":"Sheet2!Y225","v":0},{"$f":"Sheet2!Z225","v":0},{"$f":"Sheet2!AA225","v":0},{"$f":"Sheet2!AD225","v":0},{"$f":"Sheet2!AC225","v":0},{"$f":"Sheet2!BI225","v":0},{"$f":"Sheet2!BH225","v":0},{"$f":"Sheet2!AL225","v":0},{"$f":"Sheet2!AM225","v":0},{"$f":"Sheet2!AN225","v":0},{"$f":"Sheet2!AO225","v":0},{"$f":"Sheet2!AP225","v":0},{"$f":"Sheet2!AQ225","v":0},{"$f":"Sheet2!BB225","v":0}]
[null,{"$f":"Sheet2!I226","v":0},{"$f":"Sheet2!J226","v":0},{"$f":"Sheet2!C226","v":0},{"$f":"Sheet2!B226","v":"00:00:00"},{"$f":"Sheet2!K226","v":0},{"$f":"Sheet2!L226","v":0},{"$f":"Sheet2!AK226","v":0},0,0,{"$f":"Sheet2!BC226","v":0},{"$f":"Sheet2!M226","v":0},{"$f":"Sheet2!N226","v":0},{"$f":"Sheet2!V226","v":0},{"$f":"Sheet2!W226","v":0},0,{"$f":"Sheet2!S226","v":0},{"$f":"Sheet2!T226","v":0},{"$f":"SUM(#REF!)/3","v":{"$error":"#REF!"}},0,{"$f":"Sheet2!AF226","v":0},{"$f":"Sheet2!AG226","v":0},{"$f":"Sheet2!AH226","v":0},{"$f":"Sheet2!AI226","v":0},{"$f":"Sheet2!H226","v":0},{"$f":"Sheet2!Y226","v":0},{"$f":"Sheet2!Z226","v":0},{"$f":"Sheet2!AA226","v":0},{"$f":"Sheet2!AD226","v":0},{"$f":"Sheet2!AC226","v":0},{"$f":"Sheet2!BI226","v":0},{"$f":"Sheet2!BH226","v":0},{"$f":"Sheet2!AL226","v":0},{"$f":"Sheet2!AM226","v":0},{"$f":"Sheet2!AN226","v":0},{"$f":"Sheet2!AO226","v":0},{"$f":"Sheet2!AP226","v":0},{"$f":"Sheet2!AQ226","v":0},{"$f":"Sheet2!BB226","v":0}]
[null,{"$f":"Sheet2!I227","v":0},{"$f":"Sheet2!J227","v":0},{"$f":"Sheet2!C227","v":0},{"$f":"Sheet2!B227","v":"00:00:00"},{"$f":"Sheet2!K227","v":0},{"$f":"Sheet2!L227","v":0},{"$f":"Sheet2!AK227","v":0},0,0,{"$f":"Sheet2!BC227","v":0},{"$f":"Sheet2!M227","v":0},{"$f":"Sheet2!N227","v":0},{"$f":"Sheet2!V227","v":0},{"$f":"Sheet2!W227","v":0},0,{"$f":"Sheet2!S227","v":0},{"$f":"Sheet2!T227","v":0},{"$f":"SUM(#REF!)/3","v":{"$error":"#REF!"}},0,{"$f":"Sheet2!AF227","v":0},{"$f":"Sheet2!AG227","v":0},{"$f":"Sheet2!AH227","v":0},{"$f":"Sheet2!AI227","v":0},{"$f":"Sheet2!H227","v":0},{"$f":"Sheet2!Y227","v":0},{"$f":"Sheet2!Z227","v":0},{"$f":"Sheet2!AA227","v":0},{"$f":"Sheet2!AD227","v":0},{"$f":"Sheet2!AC227","v":0},{"$f":"Sheet2!BI227","v":0},{"$f":"Sheet2!BH227","v":0},{"$f":"Sheet2!AL227","v":0},{"$f":"Sheet2!AM227","v":0},{"$f":"Sheet2!AN227","v":0},{"$f":"Sheet2!AO227","v":0},{"$f":"Sheet2!AP227","v":0},{"$f":"Sheet2!AQ227","v":0},{"$f":"Sheet2!BB227","v":0}]

{"sheet":"Short Report for Printing","index":5,"n_rows":88,"n_cols":23,"rows_kept":88,"cut":false,"hidden":false,"merged":[[6,16,6,18],[6,20,6,21],[7,0,7,2],[7,3,7,4],[7,7,7,8],[7,9,7,10],[7,12,7,13],[7,14,7,15],[7,16,7,18],[7,20,7,21],[6,0,6,2],[6,3,6,4],[6,7,6,8],[6,9,6,10],[6,12,6,13],[6,14,6,15],[4,16,4,18],[4,20,4,21],[5,0,5,2],[5,3,5,4],[5,7,5,8],[5,9,5,10],[5,12,5,13],[5,14,5,15],[5,16,5,18],[5,20,5,21],[4,0,4,2],[4,3,4,4],[4,7,4,8],[4,9,4,10],[4,12,4,13],[4,14,4,15],[2,20,2,21],[3,0,3,2],[3,3,3,4],[3,7,3,8],[3,9,3,10],[3,12,3,13],[3,14,3,15],[3,16,3,18],[3,20,3,21],[2,0,2,2],[2,3,2,4],[2,7,2,10],[2,12,2,13],[2,14,2,15],[2,16,2,18]]}
[]
[]
["Project Name",null,null,{"$f":"'Full Report'!D3","v":" "},null,null,null,"Employee Name",null,null,null,null,"Total Yellow Gal.",null,{"$f":"'Full Report'!U3&'Full Report'!V3&'Full Report'!W3&'Full Report'!X3","v":"0"},null,null,null,null,null,"MP",null,"Miles"]
["Date",null,null,{"$f":"'Full Report'!D4","v":"2019-06-14"},null,null,null,{"$f":"'Full Report'!H4&'Full Report'!I4&'Full Report'!J4&'Full Report'!K4&'Full Report'!L4&'Full Report'!M4","v":"Null_"},null,{"$f":"'Full Report'!N4&'Full Report'!O4&'Full Report'!P4&'Full Report'!Q4","v":"Null_"},null,null,"Total White Gal.",null,{"$f":"'Full Report'!U4&'Full Report'!V4&'Full Report'!W4&'Full Report'!X4","v":"93.1567"},null,null,null,null,null,"Days Total CL",null,{"$f":"'Full Report'!AH4","v":0}]
["Start Time",null,null,{"$f":"'Full Report'!D5","v":"6:16:00 PM*"},null,null,null,{"$f":"'Full Report'!H5&'Full Report'!I5&'Full Report'!J5&'Full Report'!K5&'Full Report'!L5&'Full Report'!M5","v":"Null_"},null,{"$f":"'Full Report'!N5&'Full Report'!O5&'Full Report'!P5&'Full Report'!Q5","v":"Null_"},null,null,"Total Bead1 LBS.",null,{"$f":"'Full Report'!U5&'Full Report'!V5&'Full Report'!W5&'Full Report'!X5","v":"540"},null,null,null,null,null,"Days Total SK",null,{"$f":"'Full Report'!AH5","v":0}]
["Finish Time",null,null,{"$f":"'Full Report'!D6","v":"11:20:58 PM*"},null,null,null,{"$f":"'Full Report'!H6&'Full Report'!I6&'Full Report'!J6&'Full Report'!K6&'Full Report'!L6&'Full Report'!M6","v":"Null_"},null,{"$f":"'Full Report'!N6&'Full Report'!O6&'Full Report'!P6&'Full Report'!Q6","v":"Null_"},null,null,"Total Bead2 LBS.",null,{"$f":"'Full Report'!U6&'Full Report'!V6&'Full Report'!W6&'Full Report'!X6","v":"0"},null,null,null,null,null,"Days Total WEL",null,{"$f":"'Full Report'!AH6","v":0}]
["Total Hours",null,null,{"$f":"'Full Report'!D7","v":{"$error":"#VALUE!"}},null,null,null,{"$f":"'Full Report'!H7&'Full Report'!I7&'Full Report'!J7&'Full Report'!K7&'Full Report'!L7&'Full Report'!M7","v":"Null_"},null,{"$f":"'Full Report'!N7&'Full Report'!O7&'Full Report'!P7&'Full Report'!Q7","v":"Null_"},null,null,"Total Lineal FT Yel",null,{"$f":"'Full Report'!U7&'Full Report'!V7&'Full Report'!W7&'Full Report'!X7","v":"0"},null,null,null,null,null,"Days Total Yel",null,{"$f":"'Full Report'!AH7","v":0}]
[null,null,null,null,null,null,null,{"$f":"'Full Report'!H8&'Full Report'!I8&'Full Report'!J8&'Full Report'!K8&'Full Report'!L8&'Full Report'!M8","v":"Null_"},null,{"$f":"'Full Report'!N8&'Full Report'!O8&'Full Report'!P8&'Full Report'!Q8","v":"_"},null,null,"Total Lineal FT Wht",null,{"$f":"'Full Report'!U8&'Full Report'!V8&'Full Report'!W8&'Full Report'!X8","v":"28658"},null,"Bead Avg LBS/Gal.",null,null,{"$f":"'Full Report'!AD8","v":5.7966845111516401},"Days Total CHAN",null,{"$f":"'Full Report'!AH8","v":0}]
["County","County","Route # /Name","Direction","Start Time","Line Item Number","Marking Type","Start Hwy Mark","Road Length (MI)","Line Width","Yel Avg Mils","Wht Avg Mils","Yel Lineal Ft Painted","Wht Lineal Ft Painted ","Miles Painted","Yel Gals Used","Wht Gals Used","Catalyst Gals Used","Gals Painted/Mile","Bead 1 LBS Used","Bead 2 LBS Used","Total Bead LBS Used/Gal.","Avg MPH"]
[{"$f":"'Full Report'!B10","v":"jefferson"},{"$f":"'Full Report'!B10","v":"jefferson"},{"$f":"'Full Report'!C10","v":913},{"$f":"'Full Report'!D10","v":"North "},{"$f":"'Full Report'!E10","v":"8:40:25 PM*"},null,{"$f":"'Full Report'!F10","v":"_WEL"},{"$f":"'Full Report'!G10","v":"1.5-1.8"},{"$f":"'Full Report'!I10","v":0},{"$f":"'Full Report'!K10","v":4},{"$f":"'Full Report'!L10","v":0},{"$f":"'Full Report'!M10","v":20.358899999999998},{"$f":"'Full Report'!N10","v":0},{"$f":"'Full Report'!O10","v":759},{"$f":"'Full Report'!P10","v":0.14374999999999999},{"$f":"'Full Report'!Q10","v":0},{"$f":"'Full Report'!R10","v":3.2122999999999999},{"$f":"'Full Report'!S10","v":{"$error":"#REF!"}},{"$f":"'Full Report'!T10","v":22.346434782608696},{"$f":"'Full Report'!U10","v":2},{"$f":"'Full Report'!V10","v":0},{"$f":"'Full Report'!X10","v":14.631259999999999},{"$f":"'Full Report'!Y10","v":0}]
[{"$f":"'Full Report'!B11","v":"jefferson"},{"$f":"'Full Report'!B11","v":"jefferson"},{"$f":"'Full Report'!C11","v":"1819rs"},{"$f":"'Full Report'!D11","v":"North "},{"$f":"'Full Report'!E11","v":"8:55:08 PM*"},null,{"$f":"'Full Report'!F11","v":"_WEL"},{"$f":"'Full Report'!G11","v":"12.8-13.6"},{"$f":"'Full Report'!I11","v":0},{"$f":"'Full Report'!K11","v":4},{"$f":"'Full Report'!L11","v":0},{"$f":"'Full Report'!M11","v":15.991759999999999},{"$f":"'Full Report'!N11","v":0},{"$f":"'Full Report'!O11","v":3792},{"$f":"'Full Report'!P11","v":0.71818181818181814},{"$f":"'Full Report'!Q11","v":0},{"$f":"'Full Report'!R11","v":12.6021},{"$f":"'Full Report'!S11","v":{"$error":"#REF!"}},{"$f":"'Full Report'!T11","v":17.547227848101265},{"$f":"'Full Report'!U11","v":61},{"$f":"'Full Report'!V11","v":0},{"$f":"'Full Report'!X11","v":5.7926849999999996},{"$f":"'Full Report'!Y11","v":0}]
[{"$f":"'Full Report'!B12","v":"jefferson"},{"$f":"'Full Report'!B12","v":"jefferson"},{"$f":"'Full Report'!C12","v":"1819rs"},{"$f":"'Full Report'!D12","v":"South"},{"$f":"'Full Report'!E12","v":"9:01:58 PM*"},null,{"$f":"'Full Report'!F12","v":"_WEL"},{"$f":"'Full Report'!G12","v":"13.6-12.8"},{"$f":"'Full Report'!I12","v":0.84943181818181823},{"$f":"'Full Report'!K12","v":4},{"$f":"'Full Report'!L12","v":0},{"$f":"'Full Report'!M12","v":15.71594},{"$f":"'Full Report'!N12","v":0},{"$f":"'Full Report'!O12","v":4010},{"$f":"'Full Report'!P12","v":0.75946969696969702},{"$f":"'Full Report'!Q12","v":0},{"$f":"'Full Report'!R12","v":13.096299999999999},{"$f":"'Full Report'!S12","v":{"$error":"#REF!"}},{"$f":"'Full Report'!T12","v":17.244005985037404},{"$f":"'Full Report'!U12","v":56},{"$f":"'Full Report'!V12","v":0},{"$f":"'Full Report'!X12","v":3.8178719999999999},{"$f":"'Full Report'!Y12","v":10}]
[{"$f":"'Full Report'!B13","v":"jefferson"},{"$f":"'Full Report'!B13","v":"jefferson"},{"$f":"'Full Report'!C13","v":2050},{"$f":"'Full Report'!D13","v":"North "},{"$f":"'Full Report'!E13","v":"9:30:41 PM*"},null,{"$f":"'Full Report'!F13","v":"_WEL"},{"$f":"'Full Report'!G13","v":"0-2.1"},{"$f":"'Full Report'!I13","v":0.99261363636363631},{"$f":"'Full Report'!K13","v":4},{"$f":"'Full Report'!L13","v":0},{"$f":"'Full Report'!M13","v":15.774839999999999},{"$f":"'Full Report'!N13","v":0},{"$f":"'Full Report'!O13","v":4221},{"$f":"'Full Report'!P13","v":0.79943181818181819},{"$f":"'Full Report'!Q13","v":0},{"$f":"'Full Report'!R13","v":13.8376},{"$f":"'Full Report'!S13","v":{"$error":"#REF!"}},{"$f":"'Full Report'!T13","v":17.309293532338309},{"$f":"'Full Report'!U13","v":107},{"$f":"'Full Report'!V13","v":0},{"$f":"'Full Report'!X13","v":8.0938890000000008},{"$f":"'Full Report'!Y13","v":8}]
[{"$f":"'Full Report'!B14","v":"jefferson"},{"$f":"'Full Report'!B14","v":"jefferson"},{"$f":"'Full Report'!C14","v":2050},{"$f":"'Full Report'!D14","v":"North "},{"$f":"'Full Report'!E14","v":"9:38:16 PM*"},null,{"$f":"'Full Report'!F14","v":"_WEL"},{"$f":"'Full Report'!G14","v":"0-2.1"},{"$f":"'Full Report'!I14","v":1.9926136363636364},{"$f":"'Full Report'!K14","v":4},{"$f":"'Full Report'!L14","v":0},{"$f":"'Full Report'!M14","v":15.422510000000001},{"$f":"'Full Report'!N14","v":0},{"$f":"'Full Report'!O14","v":8327},{"$f":"'Full Report'!P14","v":1.5770833333333334},{"$f":"'Full Report'!Q14","v":0},{"$f":"'Full Report'!R14","v":26.686800000000002},{"$f":"'Full Report'!S14","v":{"$error":"#REF!"}},{"$f":"'Full Report'!T14","v":16.921616908850726},{"$f":"'Full Report'!U14","v":172},{"$f":"'Full Report'!V14","v":0},{"$f":"'Full Report'!X14","v":7.0917890000000003},{"$f":"'Full Report'!Y14","v":10}]
[{"$f":"'Full Report'!B15","v":"jefferson"},{"$f":"'Full Report'!B15","v":"jefferson"},{"$f":"'Full Report'!C15","v":2050},{"$f":"'Full Report'!D15","v":"North "},{"$f":"'Full Report'!E15","v":"9:40:32 PM*"},null,{"$f":"'Full Report'!F15","v":"_WEL"},{"$f":"'Full Report'!G15","v":"0-2.1"},{"$f":"'Full Report'!I15","v":2.2956439393939392},{"$f":"'Full Report'!K15","v":4},{"$f":"'Full Report'!L15","v":0},{"$f":"'Full Report'!M15","v":15.40302},{"$f":"'Full Report'!N15","v":0},{"$f":"'Full Report'!O15","v":9495},{"$f":"'Full Report'!P15","v":1.7982954545454546},{"$f":"'Full Report'!Q15","v":0},{"$f":"'Full Report'!R15","v":30.3933},{"$f":"'Full Report'!S15","v":{"$error":"#REF!"}},{"$f":"'Full Report'!T15","v":16.901171563981041},{"$f":"'Full Report'!U15","v":203},{"$f":"'Full Report'!V15","v":0},{"$f":"'Full Report'!X15","v":7.2055350000000002},{"$f":"'Full Report'!Y15","v":8}]
[{"$f":"'Full Report'!B16","v":"jefferson"},{"$f":"'Full Report'!B16","v":"jefferson"},{"$f":"'Full Report'!C16","v":2050},{"$f":"'Full Report'!D16","v":"South"},{"$f":"'Full Report'!E16","v":"9:50:54 PM*"},null,{"$f":"'Full Report'!F16","v":"_WEL"},{"$f":"'Full Report'!G16","v":"2.1-0"},{"$f":"'Full Report'!I16","v":0.99696969696969695},{"$f":"'Full Report'!K16","v":4},{"$f":"'Full Report'!L16","v":0},{"$f":"'Full Report'!M16","v":15.444470000000001},{"$f":"'Full Report'!N16","v":0},{"$f":"'Full Report'!O16","v":4927},{"$f":"'Full Report'!P16","v":0.93314393939393936},{"$f":"'Full Report'!Q16","v":0},{"$f":"'Full Report'!R16","v":15.814399999999999},{"$f":"'Full Report'!S16","v":{"$error":"#REF!"}},{"$f":"'Full Report'!T16","v":16.947439009539274},{"$f":"'Full Report'!U16","v":156},{"$f":"'Full Report'!V16","v":0},{"$f":"'Full Report'!X16","v":5.8382149999999999},{"$f":"'Full Report'!Y16","v":9}]
[{"$f":"'Full Report'!B17","v":"jefferson"},{"$f":"'Full Report'!B17","v":"jefferson"},{"$f":"'Full Report'!C17","v":2050},{"$f":"'Full Report'!D17","v":"South"},{"$f":"'Full Report'!E17","v":"9:57:05 PM*"},null,{"$f":"'Full Report'!F17","v":"_WEL"},{"$f":"'Full Report'!G17","v":"2.1-0"},{"$f":"'Full Report'!I17","v":1.9984848484848485},{"$f":"'Full Report'!K17","v":4},{"$f":"'Full Report'!L17","v":0},{"$f":"'Full Report'!M17","v":15.240869999999999},{"$f":"'Full Report'!N17","v":0},{"$f":"'Full Report'!O17","v":8660},{"$f":"'Full Report'!P17","v":1.6401515151515151},{"$f":"'Full Report'!Q17","v":0},{"$f":"'Full Report'!R17","v":27.428100000000001},{"$f":"'Full Report'!S17","v":{"$error":"#REF!"}},{"$f":"'Full Report'!T17","v":16.722906235565819},{"$f":"'Full Report'!U17","v":173},{"$f":"'Full Report'!V17","v":0},{"$f":"'Full Report'!X17","v":7.1570960000000001},{"$f":"'Full Report'!Y17","v":10}]
[{"$f":"'Full Report'!B18","v":"jefferson"},{"$f":"'Full Report'!B18","v":"jefferson"},{"$f":"'Full Report'!C18","v":2050},{"$f":"'Full Report'!D18","v":"South"},{"$f":"'Full Report'!E18","v":"11:20:58 PM*"},null,{"$f":"'Full Report'!F18","v":"_WEL"},{"$f":"'Full Report'!G18","v":"2.1-0"},{"$f":"'Full Report'!I18","v":2.2043560606060608},{"$f":"'Full Report'!K18","v":4},{"$f":"'Full Report'!L18","v":0},{"$f":"'Full Report'!M18","v":15.364459999999999},{"$f":"'Full Report'!N18","v":0},{"$f":"'Full Report'!O18","v":10602},{"$f":"'Full Report'!P18","v":2.0079545454545453},{"$f":"'Full Report'!Q18","v":0},{"$f":"'Full Report'!R18","v":33.852699999999999},{"$f":"'Full Report'!S18","v":{"$error":"#REF!"}},{"$f":"'Full Report'!T18","v":16.85929598189021},{"$f":"'Full Report'!U18","v":218},{"$f":"'Full Report'!V18","v":0},{"$f":"'Full Report'!X18","v":6.5282830000000001},{"$f":"'Full Report'!Y18","v":10}]
[{"$f":"'Full Report'!B19","v":0},{"$f":"'Full Report'!B19","v":0},{"$f":"'Full Report'!C19","v":0},{"$f":"'Full Report'!D19","v":0},{"$f":"'Full Report'!E19","v":0},null,{"$f":"'Full Report'!F19","v":0},{"$f":"'Full Report'!G19","v":0},{"$f":"'Full Report'!I19","v":0},{"$f":"'Full Report'!K19","v":0},{"$f":"'Full Report'!L19","v":0},{"$f":"'Full Report'!M19","v":0},{"$f":"'Full Report'!N19","v":0},{"$f":"'Full Report'!O19","v":0},{"$f":"'Full Report'!P19","v":0},{"$f":"'Full Report'!Q19","v":0},{"$f":"'Full Report'!R19","v":0},{"$f":"'Full Report'!S19","v":{"$error":"#REF!"}},{"$f":"'Full Report'!T19","v":0},{"$f":"'Full Report'!U19","v":0},{"$f":"'Full Report'!V19","v":0},{"$f":"'Full Report'!X19","v":0},{"$f":"'Full Report'!Y19","v":0}]
[{"$f":"'Full Report'!B20","v":0},{"$f":"'Full Report'!B20","v":0},{"$f":"'Full Report'!C20","v":0},{"$f":"'Full Report'!D20","v":0},{"$f":"'Full Report'!E20","v":0},null,{"$f":"'Full Report'!F20","v":0},{"$f":"'Full Report'!G20","v":0},{"$f":"'Full Report'!I20","v":0},{"$f":"'Full Report'!K20","v":0},{"$f":"'Full Report'!L20","v":0},{"$f":"'Full Report'!M20","v":0},{"$f":"'Full Report'!N20","v":0},{"$f":"'Full Report'!O20","v":0},{"$f":"'Full Report'!P20","v":0},{"$f":"'Full Report'!Q20","v":0},{"$f":"'Full Report'!R20","v":0},{"$f":"'Full Report'!S20","v":{"$error":"#REF!"}},{"$f":"'Full Report'!T20","v":0},{"$f":"'Full Report'!U20","v":0},{"$f":"'Full Report'!V20","v":0},{"$f":"'Full Report'!X20","v":0},{"$f":"'Full Report'!Y20","v":0}]
[{"$f":"'Full Report'!B21","v":0},{"$f":"'Full Report'!B21","v":0},{"$f":"'Full Report'!C21","v":0},{"$f":"'Full Report'!D21","v":0},{"$f":"'Full Report'!E21","v":0},null,{"$f":"'Full Report'!F21","v":0},{"$f":"'Full Report'!G21","v":0},{"$f":"'Full Report'!I21","v":0},{"$f":"'Full Report'!K21","v":0},{"$f":"'Full Report'!L21","v":0},{"$f":"'Full Report'!M21","v":0},{"$f":"'Full Report'!N21","v":0},{"$f":"'Full Report'!O21","v":0},{"$f":"'Full Report'!P21","v":0},{"$f":"'Full Report'!Q21","v":0},{"$f":"'Full Report'!R21","v":0},{"$f":"'Full Report'!S21","v":{"$error":"#REF!"}},{"$f":"'Full Report'!T21","v":0},{"$f":"'Full Report'!U21","v":0},{"$f":"'Full Report'!V21","v":0},{"$f":"'Full Report'!X21","v":0},{"$f":"'Full Report'!Y21","v":0}]
[{"$f":"'Full Report'!B22","v":0},{"$f":"'Full Report'!B22","v":0},{"$f":"'Full Report'!C22","v":0},{"$f":"'Full Report'!D22","v":0},{"$f":"'Full Report'!E22","v":0},null,{"$f":"'Full Report'!F22","v":0},{"$f":"'Full Report'!G22","v":0},{"$f":"'Full Report'!I22","v":0},{"$f":"'Full Report'!K22","v":0},{"$f":"'Full Report'!L22","v":0},{"$f":"'Full Report'!M22","v":0},{"$f":"'Full Report'!N22","v":0},{"$f":"'Full Report'!O22","v":0},{"$f":"'Full Report'!P22","v":0},{"$f":"'Full Report'!Q22","v":0},{"$f":"'Full Report'!R22","v":0},{"$f":"'Full Report'!S22","v":{"$error":"#REF!"}},{"$f":"'Full Report'!T22","v":0},{"$f":"'Full Report'!U22","v":0},{"$f":"'Full Report'!V22","v":0},{"$f":"'Full Report'!X22","v":0},{"$f":"'Full Report'!Y22","v":0}]
[{"$f":"'Full Report'!B23","v":0},{"$f":"'Full Report'!B23","v":0},{"$f":"'Full Report'!C23","v":0},{"$f":"'Full Report'!D23","v":0},{"$f":"'Full Report'!E23","v":0},null,{"$f":"'Full Report'!F23","v":0},{"$f":"'Full Report'!G23","v":0},{"$f":"'Full Report'!I23","v":0},{"$f":"'Full Report'!K23","v":0},{"$f":"'Full Report'!L23","v":0},{"$f":"'Full Report'!M23","v":0},{"$f":"'Full Report'!N23","v":0},{"$f":"'Full Report'!O23","v":0},{"$f":"'Full Report'!P23","v":0},{"$f":"'Full Report'!Q23","v":0},{"$f":"'Full Report'!R23","v":0},{"$f":"'Full Report'!S23","v":{"$error":"#REF!"}},{"$f":"'Full Report'!T23","v":0},{"$f":"'Full Report'!U23","v":0},{"$f":"'Full Report'!V23","v":0},{"$f":"'Full Report'!X23","v":0},{"$f":"'Full Report'!Y23","v":0}]
[{"$f":"'Full Report'!B24","v":0},{"$f":"'Full Report'!B24","v":0},{"$f":"'Full Report'!C24","v":0},{"$f":"'Full Report'!D24","v":0},{"$f":"'Full Report'!E24","v":0},null,{"$f":"'Full Report'!F24","v":0},{"$f":"'Full Report'!G24","v":0},{"$f":"'Full Report'!I24","v":0},{"$f":"'Full Report'!K24","v":0},{"$f":"'Full Report'!L24","v":0},{"$f":"'Full Report'!M24","v":0},{"$f":"'Full Report'!N24","v":0},{"$f":"'Full Report'!O24","v":0},{"$f":"'Full Report'!P24","v":0},{"$f":"'Full Report'!Q24","v":0},{"$f":"'Full Report'!R24","v":0},{"$f":"'Full Report'!S24","v":{"$error":"#REF!"}},{"$f":"'Full Report'!T24","v":0},{"$f":"'Full Report'!U24","v":0},{"$f":"'Full Report'!V24","v":0},{"$f":"'Full Report'!X24","v":0},{"$f":"'Full Report'!Y24","v":0}]
[{"$f":"'Full Report'!B25","v":0},{"$f":"'Full Report'!B25","v":0},{"$f":"'Full Report'!C25","v":0},{"$f":"'Full Report'!D25","v":0},{"$f":"'Full Report'!E25","v":0},null,{"$f":"'Full Report'!F25","v":0},{"$f":"'Full Report'!G25","v":0},{"$f":"'Full Report'!I25","v":0},{"$f":"'Full Report'!K25","v":0},{"$f":"'Full Report'!L25","v":0},{"$f":"'Full Report'!M25","v":0},{"$f":"'Full Report'!N25","v":0},{"$f":"'Full Report'!O25","v":0},{"$f":"'Full Report'!P25","v":0},{"$f":"'Full Report'!Q25","v":0},{"$f":"'Full Report'!R25","v":0},{"$f":"'Full Report'!S25","v":{"$error":"#REF!"}},{"$f":"'Full Report'!T25","v":0},{"$f":"'Full Report'!U25","v":0},{"$f":"'Full Report'!V25","v":0},{"$f":"'Full Report'!X25","v":0},{"$f":"'Full Report'!Y25","v":0}]
[{"$f":"'Full Report'!B26","v":0},{"$f":"'Full Report'!B26","v":0},{"$f":"'Full Report'!C26","v":0},{"$f":"'Full Report'!D26","v":0},{"$f":"'Full Report'!E26","v":0},null,{"$f":"'Full Report'!F26","v":0},{"$f":"'Full Report'!G26","v":0},{"$f":"'Full Report'!I26","v":0},{"$f":"'Full Report'!K26","v":0},{"$f":"'Full Report'!L26","v":0},{"$f":"'Full Report'!M26","v":0},{"$f":"'Full Report'!N26","v":0},{"$f":"'Full Report'!O26","v":0},{"$f":"'Full Report'!P26","v":0},{"$f":"'Full Report'!Q26","v":0},{"$f":"'Full Report'!R26","v":0},{"$f":"'Full Report'!S26","v":{"$error":"#REF!"}},{"$f":"'Full Report'!T26","v":0},{"$f":"'Full Report'!U26","v":0},{"$f":"'Full Report'!V26","v":0},{"$f":"'Full Report'!X26","v":0},{"$f":"'Full Report'!Y26","v":0}]
[{"$f":"'Full Report'!B27","v":0},{"$f":"'Full Report'!B27","v":0},{"$f":"'Full Report'!C27","v":0},{"$f":"'Full Report'!D27","v":0},{"$f":"'Full Report'!E27","v":0},null,{"$f":"'Full Report'!F27","v":0},{"$f":"'Full Report'!G27","v":0},{"$f":"'Full Report'!I27","v":0},{"$f":"'Full Report'!K27","v":0},{"$f":"'Full Report'!L27","v":0},{"$f":"'Full Report'!M27","v":0},{"$f":"'Full Report'!N27","v":0},{"$f":"'Full Report'!O27","v":0},{"$f":"'Full Report'!P27","v":0},{"$f":"'Full Report'!Q27","v":0},{"$f":"'Full Report'!R27","v":0},{"$f":"'Full Report'!S27","v":{"$error":"#REF!"}},{"$f":"'Full Report'!T27","v":0},{"$f":"'Full Report'!U27","v":0},{"$f":"'Full Report'!V27","v":0},{"$f":"'Full Report'!X27","v":0},{"$f":"'Full Report'!Y27","v":0}]
[{"$f":"'Full Report'!B28","v":0},{"$f":"'Full Report'!B28","v":0},{"$f":"'Full Report'!C28","v":0},{"$f":"'Full Report'!D28","v":0},{"$f":"'Full Report'!E28","v":0},null,{"$f":"'Full Report'!F28","v":0},{"$f":"'Full Report'!G28","v":0},{"$f":"'Full Report'!I28","v":0},{"$f":"'Full Report'!K28","v":0},{"$f":"'Full Report'!L28","v":0},{"$f":"'Full Report'!M28","v":0},{"$f":"'Full Report'!N28","v":0},{"$f":"'Full Report'!O28","v":0},{"$f":"'Full Report'!P28","v":0},{"$f":"'Full Report'!Q28","v":0},{"$f":"'Full Report'!R28","v":0},{"$f":"'Full Report'!S28","v":{"$error":"#REF!"}},{"$f":"'Full Report'!T28","v":0},{"$f":"'Full Report'!U28","v":0},{"$f":"'Full Report'!V28","v":0},{"$f":"'Full Report'!X28","v":0},{"$f":"'Full Report'!Y28","v":0}]
[{"$f":"'Full Report'!B29","v":0},{"$f":"'Full Report'!B29","v":0},{"$f":"'Full Report'!C29","v":0},{"$f":"'Full Report'!D29","v":0},{"$f":"'Full Report'!E29","v":0},null,{"$f":"'Full Report'!F29","v":0},{"$f":"'Full Report'!G29","v":0},{"$f":"'Full Report'!I29","v":0},{"$f":"'Full Report'!K29","v":0},{"$f":"'Full Report'!L29","v":0},{"$f":"'Full Report'!M29","v":0},{"$f":"'Full Report'!N29","v":0},{"$f":"'Full Report'!O29","v":0},{"$f":"'Full Report'!P29","v":0},{"$f":"'Full Report'!Q29","v":0},{"$f":"'Full Report'!R29","v":0},{"$f":"'Full Report'!S29","v":{"$error":"#REF!"}},{"$f":"'Full Report'!T29","v":0},{"$f":"'Full Report'!U29","v":0},{"$f":"'Full Report'!V29","v":0},{"$f":"'Full Report'!X29","v":0},{"$f":"'Full Report'!Y29","v":0}]
[{"$f":"'Full Report'!B30","v":0},{"$f":"'Full Report'!B30","v":0},{"$f":"'Full Report'!C30","v":0},{"$f":"'Full Report'!D30","v":0},{"$f":"'Full Report'!E30","v":0},null,{"$f":"'Full Report'!F30","v":0},{"$f":"'Full Report'!G30","v":0},{"$f":"'Full Report'!I30","v":0},{"$f":"'Full Report'!K30","v":0},{"$f":"'Full Report'!L30","v":0},{"$f":"'Full Report'!M30","v":0},{"$f":"'Full Report'!N30","v":0},{"$f":"'Full Report'!O30","v":0},{"$f":"'Full Report'!P30","v":0},{"$f":"'Full Report'!Q30","v":0},{"$f":"'Full Report'!R30","v":0},{"$f":"'Full Report'!S30","v":{"$error":"#REF!"}},{"$f":"'Full Report'!T30","v":0},{"$f":"'Full Report'!U30","v":0},{"$f":"'Full Report'!V30","v":0},{"$f":"'Full Report'!X30","v":0},{"$f":"'Full Report'!Y30","v":0}]
[{"$f":"'Full Report'!B31","v":0},{"$f":"'Full Report'!B31","v":0},{"$f":"'Full Report'!C31","v":0},{"$f":"'Full Report'!D31","v":0},{"$f":"'Full Report'!E31","v":0},null,{"$f":"'Full Report'!F31","v":0},{"$f":"'Full Report'!G31","v":0},{"$f":"'Full Report'!I31","v":0},{"$f":"'Full Report'!K31","v":0},{"$f":"'Full Report'!L31","v":0},{"$f":"'Full Report'!M31","v":0},{"$f":"'Full Report'!N31","v":0},{"$f":"'Full Report'!O31","v":0},{"$f":"'Full Report'!P31","v":0},{"$f":"'Full Report'!Q31","v":0},{"$f":"'Full Report'!R31","v":0},{"$f":"'Full Report'!S31","v":{"$error":"#REF!"}},{"$f":"'Full Report'!T31","v":0},{"$f":"'Full Report'!U31","v":0},{"$f":"'Full Report'!V31","v":0},{"$f":"'Full Report'!X31","v":0},{"$f":"'Full Report'!Y31","v":0}]
[{"$f":"'Full Report'!B32","v":0},{"$f":"'Full Report'!B32","v":0},{"$f":"'Full Report'!C32","v":0},{"$f":"'Full Report'!D32","v":0},{"$f":"'Full Report'!E32","v":0},null,{"$f":"'Full Report'!F32","v":0},{"$f":"'Full Report'!G32","v":0},{"$f":"'Full Report'!I32","v":0},{"$f":"'Full Report'!K32","v":0},{"$f":"'Full Report'!L32","v":0},{"$f":"'Full Report'!M32","v":0},{"$f":"'Full Report'!N32","v":0},{"$f":"'Full Report'!O32","v":0},{"$f":"'Full Report'!P32","v":0},{"$f":"'Full Report'!Q32","v":0},{"$f":"'Full Report'!R32","v":0},{"$f":"'Full Report'!S32","v":{"$error":"#REF!"}},{"$f":"'Full Report'!T32","v":0},{"$f":"'Full Report'!U32","v":0},{"$f":"'Full Report'!V32","v":0},{"$f":"'Full Report'!X32","v":0},{"$f":"'Full Report'!Y32","v":0}]
[{"$f":"'Full Report'!B33","v":0},{"$f":"'Full Report'!B33","v":0},{"$f":"'Full Report'!C33","v":0},{"$f":"'Full Report'!D33","v":0},{"$f":"'Full Report'!E33","v":0},null,{"$f":"'Full Report'!F33","v":0},{"$f":"'Full Report'!G33","v":0},{"$f":"'Full Report'!I33","v":0},{"$f":"'Full Report'!K33","v":0},{"$f":"'Full Report'!L33","v":0},{"$f":"'Full Report'!M33","v":0},{"$f":"'Full Report'!N33","v":0},{"$f":"'Full Report'!O33","v":0},{"$f":"'Full Report'!P33","v":0},{"$f":"'Full Report'!Q33","v":0},{"$f":"'Full Report'!R33","v":0},{"$f":"'Full Report'!S33","v":{"$error":"#REF!"}},{"$f":"'Full Report'!T33","v":0},{"$f":"'Full Report'!U33","v":0},{"$f":"'Full Report'!V33","v":0},{"$f":"'Full Report'!X33","v":0},{"$f":"'Full Report'!Y33","v":0}]
[{"$f":"'Full Report'!B34","v":0},{"$f":"'Full Report'!B34","v":0},{"$f":"'Full Report'!C34","v":0},{"$f":"'Full Report'!D34","v":0},{"$f":"'Full Report'!E34","v":0},null,{"$f":"'Full Report'!F34","v":0},{"$f":"'Full Report'!G34","v":0},{"$f":"'Full Report'!I34","v":0},{"$f":"'Full Report'!K34","v":0},{"$f":"'Full Report'!L34","v":0},{"$f":"'Full Report'!M34","v":0},{"$f":"'Full Report'!N34","v":0},{"$f":"'Full Report'!O34","v":0},{"$f":"'Full Report'!P34","v":0},{"$f":"'Full Report'!Q34","v":0},{"$f":"'Full Report'!R34","v":0},{"$f":"'Full Report'!S34","v":{"$error":"#REF!"}},{"$f":"'Full Report'!T34","v":0},{"$f":"'Full Report'!U34","v":0},{"$f":"'Full Report'!V34","v":0},{"$f":"'Full Report'!X34","v":0},{"$f":"'Full Report'!Y34","v":0}]
[{"$f":"'Full Report'!B35","v":0},{"$f":"'Full Report'!B35","v":0},{"$f":"'Full Report'!C35","v":0},{"$f":"'Full Report'!D35","v":0},{"$f":"'Full Report'!E35","v":0},null,{"$f":"'Full Report'!F35","v":0},{"$f":"'Full Report'!G35","v":0},{"$f":"'Full Report'!I35","v":0},{"$f":"'Full Report'!K35","v":0},{"$f":"'Full Report'!L35","v":0},{"$f":"'Full Report'!M35","v":0},{"$f":"'Full Report'!N35","v":0},{"$f":"'Full Report'!O35","v":0},{"$f":"'Full Report'!P35","v":0},{"$f":"'Full Report'!Q35","v":0},{"$f":"'Full Report'!R35","v":0},{"$f":"'Full Report'!S35","v":{"$error":"#REF!"}},{"$f":"'Full Report'!T35","v":0},{"$f":"'Full Report'!U35","v":0},{"$f":"'Full Report'!V35","v":0},{"$f":"'Full Report'!X35","v":0},{"$f":"'Full Report'!Y35","v":0}]
[{"$f":"'Full Report'!B36","v":0},{"$f":"'Full Report'!B36","v":0},{"$f":"'Full Report'!C36","v":0},{"$f":"'Full Report'!D36","v":0},{"$f":"'Full Report'!E36","v":0},null,{"$f":"'Full Report'!F36","v":0},{"$f":"'Full Report'!G36","v":0},{"$f":"'Full Report'!I36","v":0},{"$f":"'Full Report'!K36","v":0},{"$f":"'Full Report'!L36","v":0},{"$f":"'Full Report'!M36","v":0},{"$f":"'Full Report'!N36","v":0},{"$f":"'Full Report'!O36","v":0},{"$f":"'Full Report'!P36","v":0},{"$f":"'Full Report'!Q36","v":0},{"$f":"'Full Report'!R36","v":0},{"$f":"'Full Report'!S36","v":{"$error":"#REF!"}},{"$f":"'Full Report'!T36","v":0},{"$f":"'Full Report'!U36","v":0},{"$f":"'Full Report'!V36","v":0},{"$f":"'Full Report'!X36","v":0},{"$f":"'Full Report'!Y36","v":0}]
[{"$f":"'Full Report'!B37","v":0},{"$f":"'Full Report'!B37","v":0},{"$f":"'Full Report'!C37","v":0},{"$f":"'Full Report'!D37","v":0},{"$f":"'Full Report'!E37","v":0},null,{"$f":"'Full Report'!F37","v":0},{"$f":"'Full Report'!G37","v":0},{"$f":"'Full Report'!I37","v":0},{"$f":"'Full Report'!K37","v":0},{"$f":"'Full Report'!L37","v":0},{"$f":"'Full Report'!M37","v":0},{"$f":"'Full Report'!N37","v":0},{"$f":"'Full Report'!O37","v":0},{"$f":"'Full Report'!P37","v":0},{"$f":"'Full Report'!Q37","v":0},{"$f":"'Full Report'!R37","v":0},{"$f":"'Full Report'!S37","v":{"$error":"#REF!"}},{"$f":"'Full Report'!T37","v":0},{"$f":"'Full Report'!U37","v":0},{"$f":"'Full Report'!V37","v":0},{"$f":"'Full Report'!X37","v":0},{"$f":"'Full Report'!Y37","v":0}]
[{"$f":"'Full Report'!B38","v":0},{"$f":"'Full Report'!B38","v":0},{"$f":"'Full Report'!C38","v":0},{"$f":"'Full Report'!D38","v":0},{"$f":"'Full Report'!E38","v":0},null,{"$f":"'Full Report'!F38","v":0},{"$f":"'Full Report'!G38","v":0},{"$f":"'Full Report'!I38","v":0},{"$f":"'Full Report'!K38","v":0},{"$f":"'Full Report'!L38","v":0},{"$f":"'Full Report'!M38","v":0},{"$f":"'Full Report'!N38","v":0},{"$f":"'Full Report'!O38","v":0},{"$f":"'Full Report'!P38","v":0},{"$f":"'Full Report'!Q38","v":0},{"$f":"'Full Report'!R38","v":0},{"$f":"'Full Report'!S38","v":{"$error":"#REF!"}},{"$f":"'Full Report'!T38","v":0},{"$f":"'Full Report'!U38","v":0},{"$f":"'Full Report'!V38","v":0},{"$f":"'Full Report'!X38","v":0},{"$f":"'Full Report'!Y38","v":0}]
[{"$f":"'Full Report'!B39","v":0},{"$f":"'Full Report'!B39","v":0},{"$f":"'Full Report'!C39","v":0},{"$f":"'Full Report'!D39","v":0},{"$f":"'Full Report'!E39","v":0},null,{"$f":"'Full Report'!F39","v":0},{"$f":"'Full Report'!G39","v":0},{"$f":"'Full Report'!I39","v":0},{"$f":"'Full Report'!K39","v":0},{"$f":"'Full Report'!L39","v":0},{"$f":"'Full Report'!M39","v":0},{"$f":"'Full Report'!N39","v":0},{"$f":"'Full Report'!O39","v":0},{"$f":"'Full Report'!P39","v":0},{"$f":"'Full Report'!Q39","v":0},{"$f":"'Full Report'!R39","v":0},{"$f":"'Full Report'!S39","v":{"$error":"#REF!"}},{"$f":"'Full Report'!T39","v":0},{"$f":"'Full Report'!U39","v":0},{"$f":"'Full Report'!V39","v":0},{"$f":"'Full Report'!X39","v":0},{"$f":"'Full Report'!Y39","v":0}]
[{"$f":"'Full Report'!B40","v":0},{"$f":"'Full Report'!B40","v":0},{"$f":"'Full Report'!C40","v":0},{"$f":"'Full Report'!D40","v":0},{"$f":"'Full Report'!E40","v":0},null,{"$f":"'Full Report'!F40","v":0},{"$f":"'Full Report'!G40","v":0},{"$f":"'Full Report'!I40","v":0},{"$f":"'Full Report'!K40","v":0},{"$f":"'Full Report'!L40","v":0},{"$f":"'Full Report'!M40","v":0},{"$f":"'Full Report'!N40","v":0},{"$f":"'Full Report'!O40","v":0},{"$f":"'Full Report'!P40","v":0},{"$f":"'Full Report'!Q40","v":0},{"$f":"'Full Report'!R40","v":0},{"$f":"'Full Report'!S40","v":{"$error":"#REF!"}},{"$f":"'Full Report'!T40","v":0},{"$f":"'Full Report'!U40","v":0},{"$f":"'Full Report'!V40","v":0},{"$f":"'Full Report'!X40","v":0},{"$f":"'Full Report'!Y40","v":0}]
[{"$f":"'Full Report'!B41","v":0},{"$f":"'Full Report'!B41","v":0},{"$f":"'Full Report'!C41","v":0},{"$f":"'Full Report'!D41","v":0},{"$f":"'Full Report'!E41","v":0},null,{"$f":"'Full Report'!F41","v":0},{"$f":"'Full Report'!G41","v":0},{"$f":"'Full Report'!I41","v":0},{"$f":"'Full Report'!K41","v":0},{"$f":"'Full Report'!L41","v":0},{"$f":"'Full Report'!M41","v":0},{"$f":"'Full Report'!N41","v":0},{"$f":"'Full Report'!O41","v":0},{"$f":"'Full Report'!P41","v":0},{"$f":"'Full Report'!Q41","v":0},{"$f":"'Full Report'!R41","v":0},{"$f":"'Full Report'!S41","v":{"$error":"#REF!"}},{"$f":"'Full Report'!T41","v":0},{"$f":"'Full Report'!U41","v":0},{"$f":"'Full Report'!V41","v":0},{"$f":"'Full Report'!X41","v":0},{"$f":"'Full Report'!Y41","v":0}]
[{"$f":"'Full Report'!B42","v":0},{"$f":"'Full Report'!B42","v":0},{"$f":"'Full Report'!C42","v":0},{"$f":"'Full Report'!D42","v":0},{"$f":"'Full Report'!E42","v":0},null,{"$f":"'Full Report'!F42","v":0},{"$f":"'Full Report'!G42","v":0},{"$f":"'Full Report'!I42","v":0},{"$f":"'Full Report'!K42","v":0},{"$f":"'Full Report'!L42","v":0},{"$f":"'Full Report'!M42","v":0},{"$f":"'Full Report'!N42","v":0},{"$f":"'Full Report'!O42","v":0},{"$f":"'Full Report'!P42","v":0},{"$f":"'Full Report'!Q42","v":0},{"$f":"'Full Report'!R42","v":0},{"$f":"'Full Report'!S42","v":{"$error":"#REF!"}},{"$f":"'Full Report'!T42","v":0},{"$f":"'Full Report'!U42","v":0},{"$f":"'Full Report'!V42","v":0},{"$f":"'Full Report'!X42","v":0},{"$f":"'Full Report'!Y42","v":0}]
[{"$f":"'Full Report'!B43","v":0},{"$f":"'Full Report'!B43","v":0},{"$f":"'Full Report'!C43","v":0},{"$f":"'Full Report'!D43","v":0},{"$f":"'Full Report'!E43","v":0},null,{"$f":"'Full Report'!F43","v":0},{"$f":"'Full Report'!G43","v":0},{"$f":"'Full Report'!I43","v":0},{"$f":"'Full Report'!K43","v":0},{"$f":"'Full Report'!L43","v":0},{"$f":"'Full Report'!M43","v":0},{"$f":"'Full Report'!N43","v":0},{"$f":"'Full Report'!O43","v":0},{"$f":"'Full Report'!P43","v":0},{"$f":"'Full Report'!Q43","v":0},{"$f":"'Full Report'!R43","v":0},{"$f":"'Full Report'!S43","v":{"$error":"#REF!"}},{"$f":"'Full Report'!T43","v":0},{"$f":"'Full Report'!U43","v":0},{"$f":"'Full Report'!V43","v":0},{"$f":"'Full Report'!X43","v":0},{"$f":"'Full Report'!Y43","v":0}]
[{"$f":"'Full Report'!B44","v":0},{"$f":"'Full Report'!B44","v":0},{"$f":"'Full Report'!C44","v":0},{"$f":"'Full Report'!D44","v":0},{"$f":"'Full Report'!E44","v":0},null,{"$f":"'Full Report'!F44","v":0},{"$f":"'Full Report'!G44","v":0},{"$f":"'Full Report'!I44","v":0},{"$f":"'Full Report'!K44","v":0},{"$f":"'Full Report'!L44","v":0},{"$f":"'Full Report'!M44","v":0},{"$f":"'Full Report'!N44","v":0},{"$f":"'Full Report'!O44","v":0},{"$f":"'Full Report'!P44","v":0},{"$f":"'Full Report'!Q44","v":0},{"$f":"'Full Report'!R44","v":0},{"$f":"'Full Report'!S44","v":{"$error":"#REF!"}},{"$f":"'Full Report'!T44","v":0},{"$f":"'Full Report'!U44","v":0},{"$f":"'Full Report'!V44","v":0},{"$f":"'Full Report'!X44","v":0},{"$f":"'Full Report'!Y44","v":0}]
[{"$f":"'Full Report'!B45","v":0},{"$f":"'Full Report'!B45","v":0},{"$f":"'Full Report'!C45","v":0},{"$f":"'Full Report'!D45","v":0},{"$f":"'Full Report'!E45","v":0},null,{"$f":"'Full Report'!F45","v":0},{"$f":"'Full Report'!G45","v":0},{"$f":"'Full Report'!I45","v":0},{"$f":"'Full Report'!K45","v":0},{"$f":"'Full Report'!L45","v":0},{"$f":"'Full Report'!M45","v":0},{"$f":"'Full Report'!N45","v":0},{"$f":"'Full Report'!O45","v":0},{"$f":"'Full Report'!P45","v":0},{"$f":"'Full Report'!Q45","v":0},{"$f":"'Full Report'!R45","v":0},{"$f":"'Full Report'!S45","v":{"$error":"#REF!"}},{"$f":"'Full Report'!T45","v":0},{"$f":"'Full Report'!U45","v":0},{"$f":"'Full Report'!V45","v":0},{"$f":"'Full Report'!X45","v":0},{"$f":"'Full Report'!Y45","v":0}]
[{"$f":"'Full Report'!B46","v":0},{"$f":"'Full Report'!B46","v":0},{"$f":"'Full Report'!C46","v":0},{"$f":"'Full Report'!D46","v":0},{"$f":"'Full Report'!E46","v":0},null,{"$f":"'Full Report'!F46","v":0},{"$f":"'Full Report'!G46","v":0},{"$f":"'Full Report'!I46","v":0},{"$f":"'Full Report'!K46","v":0},{"$f":"'Full Report'!L46","v":0},{"$f":"'Full Report'!M46","v":0},{"$f":"'Full Report'!N46","v":0},{"$f":"'Full Report'!O46","v":0},{"$f":"'Full Report'!P46","v":0},{"$f":"'Full Report'!Q46","v":0},{"$f":"'Full Report'!R46","v":0},{"$f":"'Full Report'!S46","v":{"$error":"#REF!"}},{"$f":"'Full Report'!T46","v":0},{"$f":"'Full Report'!U46","v":0},{"$f":"'Full Report'!V46","v":0},{"$f":"'Full Report'!X46","v":0},{"$f":"'Full Report'!Y46","v":0}]
[{"$f":"'Full Report'!B47","v":0},{"$f":"'Full Report'!B47","v":0},{"$f":"'Full Report'!C47","v":0},{"$f":"'Full Report'!D47","v":0},{"$f":"'Full Report'!E47","v":0},null,{"$f":"'Full Report'!F47","v":0},{"$f":"'Full Report'!G47","v":0},{"$f":"'Full Report'!I47","v":0},{"$f":"'Full Report'!K47","v":0},{"$f":"'Full Report'!L47","v":0},{"$f":"'Full Report'!M47","v":0},{"$f":"'Full Report'!N47","v":0},{"$f":"'Full Report'!O47","v":0},{"$f":"'Full Report'!P47","v":0},{"$f":"'Full Report'!Q47","v":0},{"$f":"'Full Report'!R47","v":0},{"$f":"'Full Report'!S47","v":{"$error":"#REF!"}},{"$f":"'Full Report'!T47","v":0},{"$f":"'Full Report'!U47","v":0},{"$f":"'Full Report'!V47","v":0},{"$f":"'Full Report'!X47","v":0},{"$f":"'Full Report'!Y47","v":0}]
[{"$f":"'Full Report'!B48","v":0},{"$f":"'Full Report'!B48","v":0},{"$f":"'Full Report'!C48","v":0},{"$f":"'Full Report'!D48","v":0},{"$f":"'Full Report'!E48","v":0},null,{"$f":"'Full Report'!F48","v":0},{"$f":"'Full Report'!G48","v":0},{"$f":"'Full Report'!I48","v":0},{"$f":"'Full Report'!K48","v":0},{"$f":"'Full Report'!L48","v":0},{"$f":"'Full Report'!M48","v":0},{"$f":"'Full Report'!N48","v":0},{"$f":"'Full Report'!O48","v":0},{"$f":"'Full Report'!P48","v":0},{"$f":"'Full Report'!Q48","v":0},{"$f":"'Full Report'!R48","v":0},{"$f":"'Full Report'!S48","v":{"$error":"#REF!"}},{"$f":"'Full Report'!T48","v":0},{"$f":"'Full Report'!U48","v":0},{"$f":"'Full Report'!V48","v":0},{"$f":"'Full Report'!X48","v":0},{"$f":"'Full Report'!Y48","v":0}]
[{"$f":"'Full Report'!B49","v":0},{"$f":"'Full Report'!B49","v":0},{"$f":"'Full Report'!C49","v":0},{"$f":"'Full Report'!D49","v":0},{"$f":"'Full Report'!E49","v":0},null,{"$f":"'Full Report'!F49","v":0},{"$f":"'Full Report'!G49","v":0},{"$f":"'Full Report'!I49","v":0},{"$f":"'Full Report'!K49","v":0},{"$f":"'Full Report'!L49","v":0},{"$f":"'Full Report'!M49","v":0},{"$f":"'Full Report'!N49","v":0},{"$f":"'Full Report'!O49","v":0},{"$f":"'Full Report'!P49","v":0},{"$f":"'Full Report'!Q49","v":0},{"$f":"'Full Report'!R49","v":0},{"$f":"'Full Report'!S49","v":{"$error":"#REF!"}},{"$f":"'Full Report'!T49","v":0},{"$f":"'Full Report'!U49","v":0},{"$f":"'Full Report'!V49","v":0},{"$f":"'Full Report'!X49","v":0},{"$f":"'Full Report'!Y49","v":0}]
[{"$f":"'Full Report'!B50","v":0},{"$f":"'Full Report'!B50","v":0},{"$f":"'Full Report'!C50","v":0},{"$f":"'Full Report'!D50","v":0},{"$f":"'Full Report'!E50","v":0},null,{"$f":"'Full Report'!F50","v":0},{"$f":"'Full Report'!G50","v":0},{"$f":"'Full Report'!I50","v":0},{"$f":"'Full Report'!K50","v":0},{"$f":"'Full Report'!L50","v":0},{"$f":"'Full Report'!M50","v":0},{"$f":"'Full Report'!N50","v":0},{"$f":"'Full Report'!O50","v":0},{"$f":"'Full Report'!P50","v":0},{"$f":"'Full Report'!Q50","v":0},{"$f":"'Full Report'!R50","v":0},{"$f":"'Full Report'!S50","v":{"$error":"#REF!"}},{"$f":"'Full Report'!T50","v":0},{"$f":"'Full Report'!U50","v":0},{"$f":"'Full Report'!V50","v":0},{"$f":"'Full Report'!X50","v":0},{"$f":"'Full Report'!Y50","v":0}]
[{"$f":"'Full Report'!B51","v":0},{"$f":"'Full Report'!B51","v":0},{"$f":"'Full Report'!C51","v":0},{"$f":"'Full Report'!D51","v":0},{"$f":"'Full Report'!E51","v":0},null,{"$f":"'Full Report'!F51","v":0},{"$f":"'Full Report'!G51","v":0},{"$f":"'Full Report'!I51","v":0},{"$f":"'Full Report'!K51","v":0},{"$f":"'Full Report'!L51","v":0},{"$f":"'Full Report'!M51","v":0},{"$f":"'Full Report'!N51","v":0},{"$f":"'Full Report'!O51","v":0},{"$f":"'Full Report'!P51","v":0},{"$f":"'Full Report'!Q51","v":0},{"$f":"'Full Report'!R51","v":0},{"$f":"'Full Report'!S51","v":{"$error":"#REF!"}},{"$f":"'Full Report'!T51","v":0},{"$f":"'Full Report'!U51","v":0},{"$f":"'Full Report'!V51","v":0},{"$f":"'Full Report'!X51","v":0},{"$f":"'Full Report'!Y51","v":0}]
[{"$f":"'Full Report'!B52","v":0},{"$f":"'Full Report'!B52","v":0},{"$f":"'Full Report'!C52","v":0},{"$f":"'Full Report'!D52","v":0},{"$f":"'Full Report'!E52","v":0},null,{"$f":"'Full Report'!F52","v":0},{"$f":"'Full Report'!G52","v":0},{"$f":"'Full Report'!I52","v":0},{"$f":"'Full Report'!K52","v":0},{"$f":"'Full Report'!L52","v":0},{"$f":"'Full Report'!M52","v":0},{"$f":"'Full Report'!N52","v":0},{"$f":"'Full Report'!O52","v":0},{"$f":"'Full Report'!P52","v":0},{"$f":"'Full Report'!Q52","v":0},{"$f":"'Full Report'!R52","v":0},{"$f":"'Full Report'!S52","v":{"$error":"#REF!"}},{"$f":"'Full Report'!T52","v":0},{"$f":"'Full Report'!U52","v":0},{"$f":"'Full Report'!V52","v":0},{"$f":"'Full Report'!X52","v":0},{"$f":"'Full Report'!Y52","v":0}]
[{"$f":"'Full Report'!B53","v":0},{"$f":"'Full Report'!B53","v":0},{"$f":"'Full Report'!C53","v":0},{"$f":"'Full Report'!D53","v":0},{"$f":"'Full Report'!E53","v":0},null,{"$f":"'Full Report'!F53","v":0},{"$f":"'Full Report'!G53","v":0},{"$f":"'Full Report'!I53","v":0},{"$f":"'Full Report'!K53","v":0},{"$f":"'Full Report'!L53","v":0},{"$f":"'Full Report'!M53","v":0},{"$f":"'Full Report'!N53","v":0},{"$f":"'Full Report'!O53","v":0},{"$f":"'Full Report'!P53","v":0},{"$f":"'Full Report'!Q53","v":0},{"$f":"'Full Report'!R53","v":0},{"$f":"'Full Report'!S53","v":{"$error":"#REF!"}},{"$f":"'Full Report'!T53","v":0},{"$f":"'Full Report'!U53","v":0},{"$f":"'Full Report'!V53","v":0},{"$f":"'Full Report'!X53","v":0},{"$f":"'Full Report'!Y53","v":0}]
[{"$f":"'Full Report'!B54","v":0},{"$f":"'Full Report'!B54","v":0},{"$f":"'Full Report'!C54","v":0},{"$f":"'Full Report'!D54","v":0},{"$f":"'Full Report'!E54","v":0},null,{"$f":"'Full Report'!F54","v":0},{"$f":"'Full Report'!G54","v":0},{"$f":"'Full Report'!I54","v":0},{"$f":"'Full Report'!K54","v":0},{"$f":"'Full Report'!L54","v":0},{"$f":"'Full Report'!M54","v":0},{"$f":"'Full Report'!N54","v":0},{"$f":"'Full Report'!O54","v":0},{"$f":"'Full Report'!P54","v":0},{"$f":"'Full Report'!Q54","v":0},{"$f":"'Full Report'!R54","v":0},{"$f":"'Full Report'!S54","v":{"$error":"#REF!"}},{"$f":"'Full Report'!T54","v":0},{"$f":"'Full Report'!U54","v":0},{"$f":"'Full Report'!V54","v":0},{"$f":"'Full Report'!X54","v":0},{"$f":"'Full Report'!Y54","v":0}]
[{"$f":"'Full Report'!B55","v":0},{"$f":"'Full Report'!B55","v":0},{"$f":"'Full Report'!C55","v":0},{"$f":"'Full Report'!D55","v":0},{"$f":"'Full Report'!E55","v":0},null,{"$f":"'Full Report'!F55","v":0},{"$f":"'Full Report'!G55","v":0},{"$f":"'Full Report'!I55","v":0},{"$f":"'Full Report'!K55","v":0},{"$f":"'Full Report'!L55","v":0},{"$f":"'Full Report'!M55","v":0},{"$f":"'Full Report'!N55","v":0},{"$f":"'Full Report'!O55","v":0},{"$f":"'Full Report'!P55","v":0},{"$f":"'Full Report'!Q55","v":0},{"$f":"'Full Report'!R55","v":0},{"$f":"'Full Report'!S55","v":{"$error":"#REF!"}},{"$f":"'Full Report'!T55","v":0},{"$f":"'Full Report'!U55","v":0},{"$f":"'Full Report'!V55","v":0},{"$f":"'Full Report'!X55","v":0},{"$f":"'Full Report'!Y55","v":0}]
[{"$f":"'Full Report'!B56","v":0},{"$f":"'Full Report'!B56","v":0},{"$f":"'Full Report'!C56","v":0},{"$f":"'Full Report'!D56","v":0},{"$f":"'Full Report'!E56","v":0},null,{"$f":"'Full Report'!F56","v":0},{"$f":"'Full Report'!G56","v":0},{"$f":"'Full Report'!I56","v":0},{"$f":"'Full Report'!K56","v":0},{"$f":"'Full Report'!L56","v":0},{"$f":"'Full Report'!M56","v":0},{"$f":"'Full Report'!N56","v":0},{"$f":"'Full Report'!O56","v":0},{"$f":"'Full Report'!P56","v":0},{"$f":"'Full Report'!Q56","v":0},{"$f":"'Full Report'!R56","v":0},{"$f":"'Full Report'!S56","v":{"$error":"#REF!"}},{"$f":"'Full Report'!T56","v":0},{"$f":"'Full Report'!U56","v":0},{"$f":"'Full Report'!V56","v":0},{"$f":"'Full Report'!X56","v":0},{"$f":"'Full Report'!Y56","v":0}]
[{"$f":"'Full Report'!B57","v":0},{"$f":"'Full Report'!B57","v":0},{"$f":"'Full Report'!C57","v":0},{"$f":"'Full Report'!D57","v":0},{"$f":"'Full Report'!E57","v":0},null,{"$f":"'Full Report'!F57","v":0},{"$f":"'Full Report'!G57","v":0},{"$f":"'Full Report'!I57","v":0},{"$f":"'Full Report'!K57","v":0},{"$f":"'Full Report'!L57","v":0},{"$f":"'Full Report'!M57","v":0},{"$f":"'Full Report'!N57","v":0},{"$f":"'Full Report'!O57","v":0},{"$f":"'Full Report'!P57","v":0},{"$f":"'Full Report'!Q57","v":0},{"$f":"'Full Report'!R57","v":0},{"$f":"'Full Report'!S57","v":{"$error":"#REF!"}},{"$f":"'Full Report'!T57","v":0},{"$f":"'Full Report'!U57","v":0},{"$f":"'Full Report'!V57","v":0},{"$f":"'Full Report'!X57","v":0},{"$f":"'Full Report'!Y57","v":0}]
[{"$f":"'Full Report'!B58","v":0},{"$f":"'Full Report'!B58","v":0},{"$f":"'Full Report'!C58","v":0},{"$f":"'Full Report'!D58","v":0},{"$f":"'Full Report'!E58","v":0},null,{"$f":"'Full Report'!F58","v":0},{"$f":"'Full Report'!G58","v":0},{"$f":"'Full Report'!I58","v":0},{"$f":"'Full Report'!K58","v":0},{"$f":"'Full Report'!L58","v":0},{"$f":"'Full Report'!M58","v":0},{"$f":"'Full Report'!N58","v":0},{"$f":"'Full Report'!O58","v":0},{"$f":"'Full Report'!P58","v":0},{"$f":"'Full Report'!Q58","v":0},{"$f":"'Full Report'!R58","v":0},{"$f":"'Full Report'!S58","v":{"$error":"#REF!"}},{"$f":"'Full Report'!T58","v":0},{"$f":"'Full Report'!U58","v":0},{"$f":"'Full Report'!V58","v":0},{"$f":"'Full Report'!X58","v":0},{"$f":"'Full Report'!Y58","v":0}]
[{"$f":"'Full Report'!B59","v":0},{"$f":"'Full Report'!B59","v":0},{"$f":"'Full Report'!C59","v":0},{"$f":"'Full Report'!D59","v":0},{"$f":"'Full Report'!E59","v":0},null,{"$f":"'Full Report'!F59","v":0},{"$f":"'Full Report'!G59","v":0},{"$f":"'Full Report'!I59","v":0},{"$f":"'Full Report'!K59","v":0},{"$f":"'Full Report'!L59","v":0},{"$f":"'Full Report'!M59","v":0},{"$f":"'Full Report'!N59","v":0},{"$f":"'Full Report'!O59","v":0},{"$f":"'Full Report'!P59","v":0},{"$f":"'Full Report'!Q59","v":0},{"$f":"'Full Report'!R59","v":0},{"$f":"'Full Report'!S59","v":{"$error":"#REF!"}},{"$f":"'Full Report'!T59","v":0},{"$f":"'Full Report'!U59","v":0},{"$f":"'Full Report'!V59","v":0},{"$f":"'Full Report'!X59","v":0},{"$f":"'Full Report'!Y59","v":0}]
[{"$f":"'Full Report'!B60","v":0},{"$f":"'Full Report'!B60","v":0},{"$f":"'Full Report'!C60","v":0},{"$f":"'Full Report'!D60","v":0},{"$f":"'Full Report'!E60","v":0},null,{"$f":"'Full Report'!F60","v":0},{"$f":"'Full Report'!G60","v":0},{"$f":"'Full Report'!I60","v":0},{"$f":"'Full Report'!K60","v":0},{"$f":"'Full Report'!L60","v":0},{"$f":"'Full Report'!M60","v":0},{"$f":"'Full Report'!N60","v":0},{"$f":"'Full Report'!O60","v":0},{"$f":"'Full Report'!P60","v":0},{"$f":"'Full Report'!Q60","v":0},{"$f":"'Full Report'!R60","v":0},{"$f":"'Full Report'!S60","v":{"$error":"#REF!"}},{"$f":"'Full Report'!T60","v":0},{"$f":"'Full Report'!U60","v":0},{"$f":"'Full Report'!V60","v":0},{"$f":"'Full Report'!X60","v":0},{"$f":"'Full Report'!Y60","v":0}]
[{"$f":"'Full Report'!B61","v":0},{"$f":"'Full Report'!B61","v":0},{"$f":"'Full Report'!C61","v":0},{"$f":"'Full Report'!D61","v":0},{"$f":"'Full Report'!E61","v":0},null,{"$f":"'Full Report'!F61","v":0},{"$f":"'Full Report'!G61","v":0},{"$f":"'Full Report'!I61","v":0},{"$f":"'Full Report'!K61","v":0},{"$f":"'Full Report'!L61","v":0},{"$f":"'Full Report'!M61","v":0},{"$f":"'Full Report'!N61","v":0},{"$f":"'Full Report'!O61","v":0},{"$f":"'Full Report'!P61","v":0},{"$f":"'Full Report'!Q61","v":0},{"$f":"'Full Report'!R61","v":0},{"$f":"'Full Report'!S61","v":{"$error":"#REF!"}},{"$f":"'Full Report'!T61","v":0},{"$f":"'Full Report'!U61","v":0},{"$f":"'Full Report'!V61","v":0},{"$f":"'Full Report'!X61","v":0},{"$f":"'Full Report'!Y61","v":0}]
[{"$f":"'Full Report'!B62","v":0},{"$f":"'Full Report'!B62","v":0},{"$f":"'Full Report'!C62","v":0},{"$f":"'Full Report'!D62","v":0},{"$f":"'Full Report'!E62","v":0},null,{"$f":"'Full Report'!F62","v":0},{"$f":"'Full Report'!G62","v":0},{"$f":"'Full Report'!I62","v":0},{"$f":"'Full Report'!K62","v":0},{"$f":"'Full Report'!L62","v":0},{"$f":"'Full Report'!M62","v":0},{"$f":"'Full Report'!N62","v":0},{"$f":"'Full Report'!O62","v":0},{"$f":"'Full Report'!P62","v":0},{"$f":"'Full Report'!Q62","v":0},{"$f":"'Full Report'!R62","v":0},{"$f":"'Full Report'!S62","v":{"$error":"#REF!"}},{"$f":"'Full Report'!T62","v":0},{"$f":"'Full Report'!U62","v":0},{"$f":"'Full Report'!V62","v":0},{"$f":"'Full Report'!X62","v":0},{"$f":"'Full Report'!Y62","v":0}]
[{"$f":"'Full Report'!B63","v":0},{"$f":"'Full Report'!B63","v":0},{"$f":"'Full Report'!C63","v":0},{"$f":"'Full Report'!D63","v":0},{"$f":"'Full Report'!E63","v":0},null,{"$f":"'Full Report'!F63","v":0},{"$f":"'Full Report'!G63","v":0},{"$f":"'Full Report'!I63","v":0},{"$f":"'Full Report'!K63","v":0},{"$f":"'Full Report'!L63","v":0},{"$f":"'Full Report'!M63","v":0},{"$f":"'Full Report'!N63","v":0},{"$f":"'Full Report'!O63","v":0},{"$f":"'Full Report'!P63","v":0},{"$f":"'Full Report'!Q63","v":0},{"$f":"'Full Report'!R63","v":0},{"$f":"'Full Report'!S63","v":{"$error":"#REF!"}},{"$f":"'Full Report'!T63","v":0},{"$f":"'Full Report'!U63","v":0},{"$f":"'Full Report'!V63","v":0},{"$f":"'Full Report'!X63","v":0},{"$f":"'Full Report'!Y63","v":0}]
[{"$f":"'Full Report'!B64","v":0},{"$f":"'Full Report'!B64","v":0},{"$f":"'Full Report'!C64","v":0},{"$f":"'Full Report'!D64","v":0},{"$f":"'Full Report'!E64","v":0},null,{"$f":"'Full Report'!F64","v":0},{"$f":"'Full Report'!G64","v":0},{"$f":"'Full Report'!I64","v":0},{"$f":"'Full Report'!K64","v":0},{"$f":"'Full Report'!L64","v":0},{"$f":"'Full Report'!M64","v":0},{"$f":"'Full Report'!N64","v":0},{"$f":"'Full Report'!O64","v":0},{"$f":"'Full Report'!P64","v":0},{"$f":"'Full Report'!Q64","v":0},{"$f":"'Full Report'!R64","v":0},{"$f":"'Full Report'!S64","v":{"$error":"#REF!"}},{"$f":"'Full Report'!T64","v":0},{"$f":"'Full Report'!U64","v":0},{"$f":"'Full Report'!V64","v":0},{"$f":"'Full Report'!X64","v":0},{"$f":"'Full Report'!Y64","v":0}]
[{"$f":"'Full Report'!B65","v":0},{"$f":"'Full Report'!B65","v":0},{"$f":"'Full Report'!C65","v":0},{"$f":"'Full Report'!D65","v":0},{"$f":"'Full Report'!E65","v":0},null,{"$f":"'Full Report'!F65","v":0},{"$f":"'Full Report'!G65","v":0},{"$f":"'Full Report'!I65","v":0},{"$f":"'Full Report'!K65","v":0},{"$f":"'Full Report'!L65","v":0},{"$f":"'Full Report'!M65","v":0},{"$f":"'Full Report'!N65","v":0},{"$f":"'Full Report'!O65","v":0},{"$f":"'Full Report'!P65","v":0},{"$f":"'Full Report'!Q65","v":0},{"$f":"'Full Report'!R65","v":0},{"$f":"'Full Report'!S65","v":{"$error":"#REF!"}},{"$f":"'Full Report'!T65","v":0},{"$f":"'Full Report'!U65","v":0},{"$f":"'Full Report'!V65","v":0},{"$f":"'Full Report'!X65","v":0},{"$f":"'Full Report'!Y65","v":0}]
[{"$f":"'Full Report'!B66","v":0},{"$f":"'Full Report'!B66","v":0},{"$f":"'Full Report'!C66","v":0},{"$f":"'Full Report'!D66","v":0},{"$f":"'Full Report'!E66","v":0},null,{"$f":"'Full Report'!F66","v":0},{"$f":"'Full Report'!G66","v":0},{"$f":"'Full Report'!I66","v":0},{"$f":"'Full Report'!K66","v":0},{"$f":"'Full Report'!L66","v":0},{"$f":"'Full Report'!M66","v":0},{"$f":"'Full Report'!N66","v":0},{"$f":"'Full Report'!O66","v":0},{"$f":"'Full Report'!P66","v":0},{"$f":"'Full Report'!Q66","v":0},{"$f":"'Full Report'!R66","v":0},{"$f":"'Full Report'!S66","v":{"$error":"#REF!"}},{"$f":"'Full Report'!T66","v":0},{"$f":"'Full Report'!U66","v":0},{"$f":"'Full Report'!V66","v":0},{"$f":"'Full Report'!X66","v":0},{"$f":"'Full Report'!Y66","v":0}]
[{"$f":"'Full Report'!B67","v":0},{"$f":"'Full Report'!B67","v":0},{"$f":"'Full Report'!C67","v":0},{"$f":"'Full Report'!D67","v":0},{"$f":"'Full Report'!E67","v":0},null,{"$f":"'Full Report'!F67","v":0},{"$f":"'Full Report'!G67","v":0},{"$f":"'Full Report'!I67","v":0},{"$f":"'Full Report'!K67","v":0},{"$f":"'Full Report'!L67","v":0},{"$f":"'Full Report'!M67","v":0},{"$f":"'Full Report'!N67","v":0},{"$f":"'Full Report'!O67","v":0},{"$f":"'Full Report'!P67","v":0},{"$f":"'Full Report'!Q67","v":0},{"$f":"'Full Report'!R67","v":0},{"$f":"'Full Report'!S67","v":{"$error":"#REF!"}},{"$f":"'Full Report'!T67","v":0},{"$f":"'Full Report'!U67","v":0},{"$f":"'Full Report'!V67","v":0},{"$f":"'Full Report'!X67","v":0},{"$f":"'Full Report'!Y67","v":0}]
[{"$f":"'Full Report'!B68","v":0},{"$f":"'Full Report'!B68","v":0},{"$f":"'Full Report'!C68","v":0},{"$f":"'Full Report'!D68","v":0},{"$f":"'Full Report'!E68","v":0},null,{"$f":"'Full Report'!F68","v":0},{"$f":"'Full Report'!G68","v":0},{"$f":"'Full Report'!I68","v":0},{"$f":"'Full Report'!K68","v":0},{"$f":"'Full Report'!L68","v":0},{"$f":"'Full Report'!M68","v":0},{"$f":"'Full Report'!N68","v":0},{"$f":"'Full Report'!O68","v":0},{"$f":"'Full Report'!P68","v":0},{"$f":"'Full Report'!Q68","v":0},{"$f":"'Full Report'!R68","v":0},{"$f":"'Full Report'!S68","v":{"$error":"#REF!"}},{"$f":"'Full Report'!T68","v":0},{"$f":"'Full Report'!U68","v":0},{"$f":"'Full Report'!V68","v":0},{"$f":"'Full Report'!X68","v":0},{"$f":"'Full Report'!Y68","v":0}]
[{"$f":"'Full Report'!B69","v":0},{"$f":"'Full Report'!B69","v":0},{"$f":"'Full Report'!C69","v":0},{"$f":"'Full Report'!D69","v":0},{"$f":"'Full Report'!E69","v":0},null,{"$f":"'Full Report'!F69","v":0},{"$f":"'Full Report'!G69","v":0},{"$f":"'Full Report'!I69","v":0},{"$f":"'Full Report'!K69","v":0},{"$f":"'Full Report'!L69","v":0},{"$f":"'Full Report'!M69","v":0},{"$f":"'Full Report'!N69","v":0},{"$f":"'Full Report'!O69","v":0},{"$f":"'Full Report'!P69","v":0},{"$f":"'Full Report'!Q69","v":0},{"$f":"'Full Report'!R69","v":0},{"$f":"'Full Report'!S69","v":{"$error":"#REF!"}},{"$f":"'Full Report'!T69","v":0},{"$f":"'Full Report'!U69","v":0},{"$f":"'Full Report'!V69","v":0},{"$f":"'Full Report'!X69","v":0},{"$f":"'Full Report'!Y69","v":0}]
[{"$f":"'Full Report'!B70","v":0},{"$f":"'Full Report'!B70","v":0},{"$f":"'Full Report'!C70","v":0},{"$f":"'Full Report'!D70","v":0},{"$f":"'Full Report'!E70","v":0},null,{"$f":"'Full Report'!F70","v":0},{"$f":"'Full Report'!G70","v":0},{"$f":"'Full Report'!I70","v":0},{"$f":"'Full Report'!K70","v":0},{"$f":"'Full Report'!L70","v":0},{"$f":"'Full Report'!M70","v":0},{"$f":"'Full Report'!N70","v":0},{"$f":"'Full Report'!O70","v":0},{"$f":"'Full Report'!P70","v":0},{"$f":"'Full Report'!Q70","v":0},{"$f":"'Full Report'!R70","v":0},{"$f":"'Full Report'!S70","v":{"$error":"#REF!"}},{"$f":"'Full Report'!T70","v":0},{"$f":"'Full Report'!U70","v":0},{"$f":"'Full Report'!V70","v":0},{"$f":"'Full Report'!X70","v":0},{"$f":"'Full Report'!Y70","v":0}]
[{"$f":"'Full Report'!B71","v":0},{"$f":"'Full Report'!B71","v":0},{"$f":"'Full Report'!C71","v":0},{"$f":"'Full Report'!D71","v":0},{"$f":"'Full Report'!E71","v":0},null,{"$f":"'Full Report'!F71","v":0},{"$f":"'Full Report'!G71","v":0},{"$f":"'Full Report'!I71","v":0},{"$f":"'Full Report'!K71","v":0},{"$f":"'Full Report'!L71","v":0},{"$f":"'Full Report'!M71","v":0},{"$f":"'Full Report'!N71","v":0},{"$f":"'Full Report'!O71","v":0},{"$f":"'Full Report'!P71","v":0},{"$f":"'Full Report'!Q71","v":0},{"$f":"'Full Report'!R71","v":0},{"$f":"'Full Report'!S71","v":{"$error":"#REF!"}},{"$f":"'Full Report'!T71","v":0},{"$f":"'Full Report'!U71","v":0},{"$f":"'Full Report'!V71","v":0},{"$f":"'Full Report'!X71","v":0},{"$f":"'Full Report'!Y71","v":0}]
[{"$f":"'Full Report'!B72","v":0},{"$f":"'Full Report'!B72","v":0},{"$f":"'Full Report'!C72","v":0},{"$f":"'Full Report'!D72","v":0},{"$f":"'Full Report'!E72","v":0},null,{"$f":"'Full Report'!F72","v":0},{"$f":"'Full Report'!G72","v":0},{"$f":"'Full Report'!I72","v":0},{"$f":"'Full Report'!K72","v":0},{"$f":"'Full Report'!L72","v":0},{"$f":"'Full Report'!M72","v":0},{"$f":"'Full Report'!N72","v":0},{"$f":"'Full Report'!O72","v":0},{"$f":"'Full Report'!P72","v":0},{"$f":"'Full Report'!Q72","v":0},{"$f":"'Full Report'!R72","v":0},{"$f":"'Full Report'!S72","v":{"$error":"#REF!"}},{"$f":"'Full Report'!T72","v":0},{"$f":"'Full Report'!U72","v":0},{"$f":"'Full Report'!V72","v":0},{"$f":"'Full Report'!X72","v":0},{"$f":"'Full Report'!Y72","v":0}]
[{"$f":"'Full Report'!B73","v":0},{"$f":"'Full Report'!B73","v":0},{"$f":"'Full Report'!C73","v":0},{"$f":"'Full Report'!D73","v":0},{"$f":"'Full Report'!E73","v":0},null,{"$f":"'Full Report'!F73","v":0},{"$f":"'Full Report'!G73","v":0},{"$f":"'Full Report'!I73","v":0},{"$f":"'Full Report'!K73","v":0},{"$f":"'Full Report'!L73","v":0},{"$f":"'Full Report'!M73","v":0},{"$f":"'Full Report'!N73","v":0},{"$f":"'Full Report'!O73","v":0},{"$f":"'Full Report'!P73","v":0},{"$f":"'Full Report'!Q73","v":0},{"$f":"'Full Report'!R73","v":0},{"$f":"'Full Report'!S73","v":{"$error":"#REF!"}},{"$f":"'Full Report'!T73","v":0},{"$f":"'Full Report'!U73","v":0},{"$f":"'Full Report'!V73","v":0},{"$f":"'Full Report'!X73","v":0},{"$f":"'Full Report'!Y73","v":0}]
[{"$f":"'Full Report'!B74","v":0},{"$f":"'Full Report'!B74","v":0},{"$f":"'Full Report'!C74","v":0},{"$f":"'Full Report'!D74","v":0},{"$f":"'Full Report'!E74","v":0},null,{"$f":"'Full Report'!F74","v":0},{"$f":"'Full Report'!G74","v":0},{"$f":"'Full Report'!I74","v":0},{"$f":"'Full Report'!K74","v":0},{"$f":"'Full Report'!L74","v":0},{"$f":"'Full Report'!M74","v":0},{"$f":"'Full Report'!N74","v":0},{"$f":"'Full Report'!O74","v":0},{"$f":"'Full Report'!P74","v":0},{"$f":"'Full Report'!Q74","v":0},{"$f":"'Full Report'!R74","v":0},{"$f":"'Full Report'!S74","v":{"$error":"#REF!"}},{"$f":"'Full Report'!T74","v":0},{"$f":"'Full Report'!U74","v":0},{"$f":"'Full Report'!V74","v":0},{"$f":"'Full Report'!X74","v":0},{"$f":"'Full Report'!Y74","v":0}]
[{"$f":"'Full Report'!B75","v":0},{"$f":"'Full Report'!B75","v":0},{"$f":"'Full Report'!C75","v":0},{"$f":"'Full Report'!D75","v":0},{"$f":"'Full Report'!E75","v":0},null,{"$f":"'Full Report'!F75","v":0},{"$f":"'Full Report'!G75","v":0},{"$f":"'Full Report'!I75","v":0},{"$f":"'Full Report'!K75","v":0},{"$f":"'Full Report'!L75","v":0},{"$f":"'Full Report'!M75","v":0},{"$f":"'Full Report'!N75","v":0},{"$f":"'Full Report'!O75","v":0},{"$f":"'Full Report'!P75","v":0},{"$f":"'Full Report'!Q75","v":0},{"$f":"'Full Report'!R75","v":0},{"$f":"'Full Report'!S75","v":{"$error":"#REF!"}},{"$f":"'Full Report'!T75","v":0},{"$f":"'Full Report'!U75","v":0},{"$f":"'Full Report'!V75","v":0},{"$f":"'Full Report'!X75","v":0},{"$f":"'Full Report'!Y75","v":0}]
[{"$f":"'Full Report'!B76","v":0},{"$f":"'Full Report'!B76","v":0},{"$f":"'Full Report'!C76","v":0},{"$f":"'Full Report'!D76","v":0},{"$f":"'Full Report'!E76","v":0},null,{"$f":"'Full Report'!F76","v":0},{"$f":"'Full Report'!G76","v":0},{"$f":"'Full Report'!I76","v":0},{"$f":"'Full Report'!K76","v":0},{"$f":"'Full Report'!L76","v":0},{"$f":"'Full Report'!M76","v":0},{"$f":"'Full Report'!N76","v":0},{"$f":"'Full Report'!O76","v":0},{"$f":"'Full Report'!P76","v":0},{"$f":"'Full Report'!Q76","v":0},{"$f":"'Full Report'!R76","v":0},{"$f":"'Full Report'!S76","v":{"$error":"#REF!"}},{"$f":"'Full Report'!T76","v":0},{"$f":"'Full Report'!U76","v":0},{"$f":"'Full Report'!V76","v":0},{"$f":"'Full Report'!X76","v":0},{"$f":"'Full Report'!Y76","v":0}]
[{"$f":"'Full Report'!B77","v":0},{"$f":"'Full Report'!B77","v":0},{"$f":"'Full Report'!C77","v":0},{"$f":"'Full Report'!D77","v":0},{"$f":"'Full Report'!E77","v":0},null,{"$f":"'Full Report'!F77","v":0},{"$f":"'Full Report'!G77","v":0},{"$f":"'Full Report'!I77","v":0},{"$f":"'Full Report'!K77","v":0},{"$f":"'Full Report'!L77","v":0},{"$f":"'Full Report'!M77","v":0},{"$f":"'Full Report'!N77","v":0},{"$f":"'Full Report'!O77","v":0},{"$f":"'Full Report'!P77","v":0},{"$f":"'Full Report'!Q77","v":0},{"$f":"'Full Report'!R77","v":0},{"$f":"'Full Report'!S77","v":{"$error":"#REF!"}},{"$f":"'Full Report'!T77","v":0},{"$f":"'Full Report'!U77","v":0},{"$f":"'Full Report'!V77","v":0},{"$f":"'Full Report'!X77","v":0},{"$f":"'Full Report'!Y77","v":0}]
[{"$f":"'Full Report'!B78","v":0},{"$f":"'Full Report'!B78","v":0},{"$f":"'Full Report'!C78","v":0},{"$f":"'Full Report'!D78","v":0},{"$f":"'Full Report'!E78","v":0},null,{"$f":"'Full Report'!F78","v":0},{"$f":"'Full Report'!G78","v":0},{"$f":"'Full Report'!I78","v":0},{"$f":"'Full Report'!K78","v":0},{"$f":"'Full Report'!L78","v":0},{"$f":"'Full Report'!M78","v":0},{"$f":"'Full Report'!N78","v":0},{"$f":"'Full Report'!O78","v":0},{"$f":"'Full Report'!P78","v":0},{"$f":"'Full Report'!Q78","v":0},{"$f":"'Full Report'!R78","v":0},{"$f":"'Full Report'!S78","v":{"$error":"#REF!"}},{"$f":"'Full Report'!T78","v":0},{"$f":"'Full Report'!U78","v":0},{"$f":"'Full Report'!V78","v":0},{"$f":"'Full Report'!X78","v":0},{"$f":"'Full Report'!Y78","v":0}]
[{"$f":"'Full Report'!B79","v":0},{"$f":"'Full Report'!B79","v":0},{"$f":"'Full Report'!C79","v":0},{"$f":"'Full Report'!D79","v":0},{"$f":"'Full Report'!E79","v":0},null,{"$f":"'Full Report'!F79","v":0},{"$f":"'Full Report'!G79","v":0},{"$f":"'Full Report'!I79","v":0},{"$f":"'Full Report'!K79","v":0},{"$f":"'Full Report'!L79","v":0},{"$f":"'Full Report'!M79","v":0},{"$f":"'Full Report'!N79","v":0},{"$f":"'Full Report'!O79","v":0},{"$f":"'Full Report'!P79","v":0},{"$f":"'Full Report'!Q79","v":0},{"$f":"'Full Report'!R79","v":0},{"$f":"'Full Report'!S79","v":{"$error":"#REF!"}},{"$f":"'Full Report'!T79","v":0},{"$f":"'Full Report'!U79","v":0},{"$f":"'Full Report'!V79","v":0},{"$f":"'Full Report'!X79","v":0},{"$f":"'Full Report'!Y79","v":0}]
[{"$f":"'Full Report'!B80","v":0},{"$f":"'Full Report'!B80","v":0},{"$f":"'Full Report'!C80","v":0},{"$f":"'Full Report'!D80","v":0},{"$f":"'Full Report'!E80","v":0},null,{"$f":"'Full Report'!F80","v":0},{"$f":"'Full Report'!G80","v":0},{"$f":"'Full Report'!I80","v":0},{"$f":"'Full Report'!K80","v":0},{"$f":"'Full Report'!L80","v":0},{"$f":"'Full Report'!M80","v":0},{"$f":"'Full Report'!N80","v":0},{"$f":"'Full Report'!O80","v":0},{"$f":"'Full Report'!P80","v":0},{"$f":"'Full Report'!Q80","v":0},{"$f":"'Full Report'!R80","v":0},{"$f":"'Full Report'!S80","v":{"$error":"#REF!"}},{"$f":"'Full Report'!T80","v":0},{"$f":"'Full Report'!U80","v":0},{"$f":"'Full Report'!V80","v":0},{"$f":"'Full Report'!X80","v":0},{"$f":"'Full Report'!Y80","v":0}]
[{"$f":"'Full Report'!B81","v":0},{"$f":"'Full Report'!B81","v":0},{"$f":"'Full Report'!C81","v":0},{"$f":"'Full Report'!D81","v":0},{"$f":"'Full Report'!E81","v":0},null,{"$f":"'Full Report'!F81","v":0},{"$f":"'Full Report'!G81","v":0},{"$f":"'Full Report'!I81","v":0},{"$f":"'Full Report'!K81","v":0},{"$f":"'Full Report'!L81","v":0},{"$f":"'Full Report'!M81","v":0},{"$f":"'Full Report'!N81","v":0},{"$f":"'Full Report'!O81","v":0},{"$f":"'Full Report'!P81","v":0},{"$f":"'Full Report'!Q81","v":0},{"$f":"'Full Report'!R81","v":0},{"$f":"'Full Report'!S81","v":{"$error":"#REF!"}},{"$f":"'Full Report'!T81","v":0},{"$f":"'Full Report'!U81","v":0},{"$f":"'Full Report'!V81","v":0},{"$f":"'Full Report'!X81","v":0},{"$f":"'Full Report'!Y81","v":0}]
[{"$f":"'Full Report'!B82","v":0},{"$f":"'Full Report'!B82","v":0},{"$f":"'Full Report'!C82","v":0},{"$f":"'Full Report'!D82","v":0},{"$f":"'Full Report'!E82","v":0},null,{"$f":"'Full Report'!F82","v":0},{"$f":"'Full Report'!G82","v":0},{"$f":"'Full Report'!I82","v":0},{"$f":"'Full Report'!K82","v":0},{"$f":"'Full Report'!L82","v":0},{"$f":"'Full Report'!M82","v":0},{"$f":"'Full Report'!N82","v":0},{"$f":"'Full Report'!O82","v":0},{"$f":"'Full Report'!P82","v":0},{"$f":"'Full Report'!Q82","v":0},{"$f":"'Full Report'!R82","v":0},{"$f":"'Full Report'!S82","v":{"$error":"#REF!"}},{"$f":"'Full Report'!T82","v":0},{"$f":"'Full Report'!U82","v":0},{"$f":"'Full Report'!V82","v":0},{"$f":"'Full Report'!X82","v":0},{"$f":"'Full Report'!Y82","v":0}]
[{"$f":"'Full Report'!B83","v":0},{"$f":"'Full Report'!B83","v":0},{"$f":"'Full Report'!C83","v":0},{"$f":"'Full Report'!D83","v":0},{"$f":"'Full Report'!E83","v":0},null,{"$f":"'Full Report'!F83","v":0},{"$f":"'Full Report'!G83","v":0},{"$f":"'Full Report'!I83","v":0},{"$f":"'Full Report'!K83","v":0},{"$f":"'Full Report'!L83","v":0},{"$f":"'Full Report'!M83","v":0},{"$f":"'Full Report'!N83","v":0},{"$f":"'Full Report'!O83","v":0},{"$f":"'Full Report'!P83","v":0},{"$f":"'Full Report'!Q83","v":0},{"$f":"'Full Report'!R83","v":0},{"$f":"'Full Report'!S83","v":{"$error":"#REF!"}},{"$f":"'Full Report'!T83","v":0},{"$f":"'Full Report'!U83","v":0},{"$f":"'Full Report'!V83","v":0},{"$f":"'Full Report'!X83","v":0},{"$f":"'Full Report'!Y83","v":0}]
[{"$f":"'Full Report'!B84","v":0},{"$f":"'Full Report'!B84","v":0},{"$f":"'Full Report'!C84","v":0},{"$f":"'Full Report'!D84","v":0},{"$f":"'Full Report'!E84","v":0},null,{"$f":"'Full Report'!F84","v":0},{"$f":"'Full Report'!G84","v":0},{"$f":"'Full Report'!I84","v":0},{"$f":"'Full Report'!K84","v":0},{"$f":"'Full Report'!L84","v":0},{"$f":"'Full Report'!M84","v":0},{"$f":"'Full Report'!N84","v":0},{"$f":"'Full Report'!O84","v":0},{"$f":"'Full Report'!P84","v":0},{"$f":"'Full Report'!Q84","v":0},{"$f":"'Full Report'!R84","v":0},{"$f":"'Full Report'!S84","v":{"$error":"#REF!"}},{"$f":"'Full Report'!T84","v":0},{"$f":"'Full Report'!U84","v":0},{"$f":"'Full Report'!V84","v":0},{"$f":"'Full Report'!X84","v":0},{"$f":"'Full Report'!Y84","v":0}]
[{"$f":"'Full Report'!B85","v":0},{"$f":"'Full Report'!B85","v":0},{"$f":"'Full Report'!C85","v":0},{"$f":"'Full Report'!D85","v":0},{"$f":"'Full Report'!E85","v":0},null,{"$f":"'Full Report'!F85","v":0},{"$f":"'Full Report'!G85","v":0},{"$f":"'Full Report'!I85","v":0},{"$f":"'Full Report'!K85","v":0},{"$f":"'Full Report'!L85","v":0},{"$f":"'Full Report'!M85","v":0},{"$f":"'Full Report'!N85","v":0},{"$f":"'Full Report'!O85","v":0},{"$f":"'Full Report'!P85","v":0},{"$f":"'Full Report'!Q85","v":0},{"$f":"'Full Report'!R85","v":0},{"$f":"'Full Report'!S85","v":{"$error":"#REF!"}},{"$f":"'Full Report'!T85","v":0},{"$f":"'Full Report'!U85","v":0},{"$f":"'Full Report'!V85","v":0},{"$f":"'Full Report'!X85","v":0},{"$f":"'Full Report'!Y85","v":0}]
[{"$f":"'Full Report'!B86","v":0},{"$f":"'Full Report'!B86","v":0},{"$f":"'Full Report'!C86","v":0},{"$f":"'Full Report'!D86","v":0},{"$f":"'Full Report'!E86","v":0},null,{"$f":"'Full Report'!F86","v":0},{"$f":"'Full Report'!G86","v":0},{"$f":"'Full Report'!I86","v":0},{"$f":"'Full Report'!K86","v":0},{"$f":"'Full Report'!L86","v":0},{"$f":"'Full Report'!M86","v":0},{"$f":"'Full Report'!N86","v":0},{"$f":"'Full Report'!O86","v":0},{"$f":"'Full Report'!P86","v":0},{"$f":"'Full Report'!Q86","v":0},{"$f":"'Full Report'!R86","v":0},{"$f":"'Full Report'!S86","v":{"$error":"#REF!"}},{"$f":"'Full Report'!T86","v":0},{"$f":"'Full Report'!U86","v":0},{"$f":"'Full Report'!V86","v":0},{"$f":"'Full Report'!X86","v":0},{"$f":"'Full Report'!Y86","v":0}]
[{"$f":"'Full Report'!B87","v":0},{"$f":"'Full Report'!B87","v":0},{"$f":"'Full Report'!C87","v":0},{"$f":"'Full Report'!D87","v":0},{"$f":"'Full Report'!E87","v":0},null,{"$f":"'Full Report'!F87","v":0},{"$f":"'Full Report'!G87","v":0},{"$f":"'Full Report'!I87","v":0},{"$f":"'Full Report'!K87","v":0},{"$f":"'Full Report'!L87","v":0},{"$f":"'Full Report'!M87","v":0},{"$f":"'Full Report'!N87","v":0},{"$f":"'Full Report'!O87","v":0},{"$f":"'Full Report'!P87","v":0},{"$f":"'Full Report'!Q87","v":0},{"$f":"'Full Report'!R87","v":0},{"$f":"'Full Report'!S87","v":{"$error":"#REF!"}},{"$f":"'Full Report'!T87","v":0},{"$f":"'Full Report'!U87","v":0},{"$f":"'Full Report'!V87","v":0},{"$f":"'Full Report'!X87","v":0},{"$f":"'Full Report'!Y87","v":0}]
[{"$f":"'Full Report'!B88","v":0},{"$f":"'Full Report'!B88","v":0},{"$f":"'Full Report'!C88","v":0},{"$f":"'Full Report'!D88","v":0},{"$f":"'Full Report'!E88","v":0},null,{"$f":"'Full Report'!F88","v":0},{"$f":"'Full Report'!G88","v":0},{"$f":"'Full Report'!I88","v":0},{"$f":"'Full Report'!K88","v":0},{"$f":"'Full Report'!L88","v":0},{"$f":"'Full Report'!M88","v":0},{"$f":"'Full Report'!N88","v":0},{"$f":"'Full Report'!O88","v":0},{"$f":"'Full Report'!P88","v":0},{"$f":"'Full Report'!Q88","v":0},{"$f":"'Full Report'!R88","v":0},{"$f":"'Full Report'!S88","v":{"$error":"#REF!"}},{"$f":"'Full Report'!T88","v":0},{"$f":"'Full Report'!U88","v":0},{"$f":"'Full Report'!V88","v":0},{"$f":"'Full Report'!X88","v":0},{"$f":"'Full Report'!Y88","v":0}]