{"text_format":"1","workbook":"xlsx","n_sheets":37,"sheets":["Pay Values","Project Items","Calculations","Superpave","Cores","Super Verify","Gradation","0.45 Chart","Control Charts","Comments","Accept. Grad. # 1","Accept. Grad. # 2","Accept. Grad. # 3","Accept. Grad. # 4","PG Producer","Producer supplier",".45 Data","Performance Specimens","KYCT Data Sublot # 1","KYCT Data Sublot # 2","KYCT Data Sublot # 3","KYCT Data Sublot # 4","Hamburg Data","Cert. Techs","AMAMAW","Workbook Edits","discipline","t_smpl","t_cont_smpl","t_rmks_dtl","t_smpl_tst","t_smpl_tstr","t_tst_rslt_hdr","t_tst_rslt_dtl","Drop_Downs_and_Tables","Module1","Dialog1"],"not_rendered":{"charts":7,"images":20,"macros":1,"external_links":4,"defined_names":256,"comments":12,"pivot_tables":0},"unopened":[{"sheet":"0.45 Chart","index":7,"reason":"not_a_worksheet"},{"sheet":"Module1","index":35,"reason":"part_missing"},{"sheet":"Dialog1","index":36,"reason":"not_a_worksheet"}],"bounds":{"document_bytes":16777216,"sheet_cells":100000,"rows_first":2000,"rows_last":500,"rows_between":2000,"halvings":0,"cell_chars":16384,"cell_head_chars":4096},"cells_cut":0,"cells_raw":0,"read":"whole","date_system":"1900"}

{"sheet":"Pay Values","index":0,"n_rows":50,"n_cols":63,"rows_kept":50,"cut":false,"hidden":false,"merged":[[34,7,34,10],[8,8,8,10],[2,8,2,10],[45,2,45,4],[45,6,45,7],[45,9,45,10],[6,3,6,4],[23,9,23,10],[22,9,22,10],[21,9,21,10],[30,1,30,2],[31,1,31,2],[32,1,32,2],[28,3,28,4],[29,3,29,4],[33,1,33,2],[33,3,33,4],[30,5,30,6],[31,5,31,6],[32,7,32,8],[33,7,33,8],[32,5,32,6],[33,5,33,6],[30,7,30,8],[31,7,31,8],[30,3,30,4],[31,3,31,4],[32,3,32,4],[4,8,4,10],[5,8,5,10],[19,9,19,10],[25,6,25,10],[29,5,29,6],[28,7,28,8],[29,7,29,8],[28,5,28,6],[24,2,24,5],[20,9,20,10],[28,1,28,2],[29,1,29,2],[7,8,7,10]]}
["PAY VALUE (%) PER LOT",null,null,null,null,null,null,null,null,null,"Version 13.0",null,null,null,null,null,null,null,null,null,null,null,null,null,null,null,null,null,null,null,null,null,null,null,null,null,null,null,null,null,null,null,null,null,null,null,null,null,null,null,null,null,null,null,null,null,null,null,null,null,null,null,"3"]
[" CONTROL AND ACCEPTANCE OF ASPHALT MIXTURES "]
["Sample ID:",null,"Item Code:",null,"Lot #:",{"$f":"VALUE(Calculations!BK1)","v":0},null,"County:"]
["Contract I.D.",null,null,null,"TON",null,null,"ESAL Class:  "]
["Type Mix:",{"$f":"IF(Calculations!J1=0,\"\",LOOKUP(Calculations!J1,Calculations!A1:A14,Calculations!B1:B14))","v":""},"Mix used for:",null,"Unit Price ($):",50,null,"KYTC Lab ID:"]
["Producer/Supplier Code:",null,{"$f":"VLOOKUP(D6,'Producer supplier'!B3:C102,2,FALSE)","v":{"$error":"#N/A"}},{"$error":"#N/A"},null,"Acceptance Method:",null,"P/S Lab ID:"]
[null,null,"Approved Mix Design:",null,null,null,null,"Approval Authorized By"]
[null,null,null,null," ",null,null,"Name:"]
[null,"Matl. Code:",{"$f":"VLOOKUP(D9,Calculations!BB3:BF349,5,FALSE)","v":{"$error":"#N/A"}},null,null,null,null,"ID:"]
["Binder Content",null,null,null,"Air Voids",null,null,"VMA"]
["JMF","Sublot","Deviation","Pay","Target","Sublot","Pay","Min.","Sublot","Deviation","Pay"]
["% AC","% AC","from JMF","Value (%)","(%)","% AV","Value (%)","% VMA","% VMA","from Min.","Value (%)"]
[null,{"$f":"IF(Calculations!H13=1,\"\",IF(Gradation!D33=\"\",Gradation!D34,Gradation!D33))","v":""},{"$f":"IF(B13=\"\",\"\",(B13-A13))","v":""},{"$f":"IF(B13=\"\",\"\",IF(AND(F3=1,ROUND(ABS(C13),1)<0.7),100,IF(ROUND(ABS(C13),1)<=0.5,100,IF(ROUND(ABS(C13),1)<=0.6,95,IF(ROUND(ABS(C13),1)<=0.7,90,\"MCL\")))))","v":""},{"$f":"IF(Calculations!H13=1,\"\",IF(Calculations!J1=0,\"\",LOOKUP(Calculations!J1,Calculations!A1:A14,Calculations!F1:F14)))","v":""},{"$f":"IF(Calculations!H13=1,\"\",IF(Calculations!J1<=5,Superpave!J14,IF(Calculations!J1=14,Superpave!J14,\"\")))","v":""},{"$f":"IF(F13=\"\",\"\",IF(Calculations!H13=1,\"\",IF(AND(F3=1,Calculations!AH9>=90),100,Calculations!AH9)))","v":""},null,{"$f":"IF(Calculations!H13=1,\"\",IF(Calculations!J1<=5,Superpave!M14,IF(Calculations!J1=14,Superpave!M14,\"\")))","v":""},{"$f":"IF(I13=\"\",\"\",(I13-H13))","v":""},{"$f":"IF(AND(F3=1,Calculations!E54>=90,Calculations!E54<>\"\"),100,IF(J13=\"\",\"\",Calculations!E54))","v":""}]
[null,{"$f":"IF(Calculations!H13=1,\"\",IF(Gradation!G33=\"\",Gradation!G34,Gradation!G33))","v":""},{"$f":"IF(B14=\"\",\"\",(B14-A14))","v":""},{"$f":"IF(B14=\"\",\"\",IF(ROUND(ABS(C14),1)<=0.5,100,IF(ROUND(ABS(C14),1)<=0.6,95,IF(ROUND(ABS(C14),1)<=0.7,90,\"MCL\"))))","v":""},{"$f":"E13","v":""},{"$f":"IF(Calculations!H13=1,\"\",IF(Calculations!J1<=5,Superpave!J20,IF(Calculations!J1=14,Superpave!J20,\"\")))","v":""},{"$f":"IF(Calculations!H13=1,\"\",IF(F14=\"\",\"\",Calculations!AJ9))","v":""},null,{"$f":"IF(Calculations!H13=1,\"\",IF(Calculations!J1<=5,Superpave!M20,IF(Calculations!J1=14,Superpave!M20,\"\")))","v":""},{"$f":"IF(I14=\"\",\"\",(I14-H14))","v":""},{"$f":"Calculations!F54","v":""}]
[null,{"$f":"IF(Calculations!H13=1,\"\",IF(Gradation!J33=\"\",Gradation!J34,Gradation!J33))","v":""},{"$f":"IF(B15=\"\",\"\",(B15-A15))","v":""},{"$f":"IF(B15=\"\",\"\",IF(ROUND(ABS(C15),1)<=0.5,100,IF(ROUND(ABS(C15),1)<=0.6,95,IF(ROUND(ABS(C15),1)<=0.7,90,\"MCL\"))))","v":""},{"$f":"E13","v":""},{"$f":"IF(Calculations!H13=1,\"\",IF(Calculations!J1<=5,Superpave!J26,IF(Calculations!J1=14,Superpave!J26,\"\")))","v":""},{"$f":"IF(Calculations!H13=1,\"\",IF(F15=\"\",\"\",Calculations!AL9))","v":""},null,{"$f":"IF(Calculations!H13=1,\"\",IF(Calculations!J1<=5,Superpave!M26,IF(Calculations!J1=14,Superpave!M26,\"\")))","v":""},{"$f":"IF(I15=\"\",\"\",(I15-H15))","v":""},{"$f":"Calculations!G54","v":""}]
[null,{"$f":"IF(Calculations!H13=1,\"\",IF(Gradation!M33=\"\",Gradation!M34,Gradation!M33))","v":""},{"$f":"IF(B16=\"\",\"\",(B16-A16))","v":""},{"$f":"IF(B16=\"\",\"\",IF(ROUND(ABS(C16),1)<=0.5,100,IF(ROUND(ABS(C16),1)<=0.6,95,IF(ROUND(ABS(C16),1)<=0.7,90,\"MCL\"))))","v":""},{"$f":"E13","v":""},{"$f":"IF(Calculations!H13=1,\"\",IF(Calculations!J1<=5,Superpave!J32,IF(Calculations!J1=14,Superpave!J32,\"\")))","v":""},{"$f":"IF(Calculations!H13=1,\"\",IF(F16=\"\",\"\",Calculations!AN9))","v":""},null,{"$f":"IF(Calculations!H13=1,\"\",IF(Calculations!J1<=5,Superpave!M32,IF(Calculations!J1=14,Superpave!M32,\"\")))","v":""},{"$f":"IF(I16=\"\",\"\",(I16-H16))","v":""},{"$f":"Calculations!H54","v":""}]
["Lot Average",null,null,{"$f":"IF(Calculations!H13=3,100,IF(AND(D13=\"\",D14=\"\",D15=\"\",D16=\"\"),\"\",IF(OR(D13=\"MCL\",D14=\"MCL\",D15=\"MCL\",D16=\"MCL\"),\"MCL\",AVERAGE(VALUE(RIGHT(D13,5)),D14,D15,D16))))","v":""},"Lot Average",null,{"$f":"IF(Calculations!H13=3,100,IF(AND(G13=\"\",G14=\"\",G15=\"\",G16=\"\"),\"\",IF(OR(G13=\"MCL\",G14=\"MCL\",G15=\"MCL\",G16=\"MCL\"),\"MCL\",AVERAGE(VALUE(RIGHT(G13,5)),G14,G15,G16))))","v":""},"Lot Average",null,null,{"$f":"IF(Calculations!H13=3,100,IF(AND(K13=\"\",K14=\"\",K15=\"\",K16=\"\"),\"\",IF(OR(K13=\"MCL\",K14=\"MCL\",K15=\"MCL\",K16=\"MCL\"),\"MCL\",AVERAGE(K13:K16))))","v":""}]
[null,null,null,null,{"$f":"IF(F3=1,\"*For Sublot # 1 Only\",\"\")","v":""}]
["Density",null,null,"Property","% Pay",null,"Final Pay Values And Adjustments"]
["Sublot Avg.","Pay Value (%)",null,"Joint Density",{"$f":"IF(AND(Calculations!H11=1,Calculations!H12=1,Calculations!H13=2),15,IF(AND(Calculations!H11=2,Calculations!H12=1,Calculations!H13=2),0,IF(AND(Calculations!H11=2,Calculations!H12=2,Calculations!H13=2),0,0)))","v":0},null,"Pavement Wedge Tons**"]
["Joint Density",{"$f":"IF(Calculations!H11=2,\"\",IF(Calculations!H13=1,\"\",IF(Cores!J45=\"\",100,Cores!J45)))","v":""},null,"Lane Density",{"$f":"IF(AND(Calculations!H11=1,Calculations!H12=1,Calculations!H13=2),30,IF(AND(Calculations!H11=2,Calculations!H12=1,Calculations!H13=2),40,IF(AND(Calculations!H11=2,Calculations!H12=2,Calculations!H13=2),0,0)))","v":0},null,"Final Pay Value Mainline (%)***",null,null,{"$f":"IF(ISERROR(Calculations!A71),\"\",Calculations!A71)","v":""}]
["LaneDensity",{"$f":"IF(Calculations!H13=1,\"\",Cores!J30)","v":""}," ","% AC",{"$f":"IF(AND(Calculations!H11=1,Calculations!H12=1,Calculations!H13=2),5,IF(AND(Calculations!H11=2,Calculations!H12=1,Calculations!H13=2),10,IF(AND(Calculations!H11=2,Calculations!H12=2,Calculations!H13=2),35,0)))","v":0},null,"For Lot #",null,null,{"$f":"IF(Calculations!BK1=\"\",\"\",Calculations!BK1)","v":""}]
[null,null," ","% AV",{"$f":"IF(AND(Calculations!H11=1,Calculations!H12=1,Calculations!H13=2),25,IF(AND(Calculations!H11=2,Calculations!H12=1,Calculations!H13=2),25,IF(AND(Calculations!H11=2,Calculations!H12=2,Calculations!H13=2),40,0)))","v":0},null,"Lot Tonnage Adjustment",null,null,{"$f":"IF(J21=\"\",\"\",(((J21-100)*(F4-J20)/100)))","v":""}]
[null,null,null,"% VMA",{"$f":"IF(AND(Calculations!H11=1,Calculations!H12=1,Calculations!H13=2),25,IF(AND(Calculations!H11=2,Calculations!H12=1,Calculations!H13=2),25,IF(AND(Calculations!H11=2,Calculations!H12=2,Calculations!H13=2),25,0)))","v":0},null,"Lot Pay Adjustment ($)",null,null,{"$f":"IF(J21=\"\",\"\",(((J21-100)*(F4-J20)*F5/100)))","v":""}]
[null,null,{"$f":"IF(Calculations!H13=\"\",\"\",IF(Calculations!H13=2,\"\",\"* Volumetric Pay Values Do Not Apply.\"))","v":""},null,null,null,"** Only when placed Monolithically with Mainline"]
[null,null,null,null,null,null,"***Final Pay should be made at 100% Maximum"]
[null,"Aggregate Information"]
[null,"Aggr. Prod. Name",null,"Aggr. Code #  ",null,"Matl. Type & Size     ",null,"Matl. Code  #",null,"%"]
[null,null,null,null,null,null,null,{"$f":"IF(F29=\"\",\"\",VLOOKUP(F29,Calculations!$BM$1:$BN$133,2,FALSE))","v":""}]
[null,null,null,null,null,null,null,{"$f":"IF(F30=\"\",\"\",VLOOKUP(F30,Calculations!$BM$1:$BN$133,2,FALSE))","v":""}]
[null,null,null,null,null,null,null,{"$f":"IF(F31=\"\",\"\",VLOOKUP(F31,Calculations!$BM$1:$BN$133,2,FALSE))","v":""}]
[null,null,null,null,null,null,null,{"$f":"IF(F32=\"\",\"\",VLOOKUP(F32,Calculations!$BM$1:$BN$133,2,FALSE))","v":""}]
[null,null,null,null,null,null,null,{"$f":"IF(F33=\"\",\"\",VLOOKUP(F33,Calculations!$BM$1:$BN$133,2,FALSE))","v":""}]
[null,null,null,null,null,null,null,{"$f":"IF(F34=\"\",\"\",VLOOKUP(F34,Calculations!$BM$1:$BN$133,2,FALSE))","v":""}]
["Pay Values for Acceptance by Gradation and Asphalt Binder Content",null,null,null,null,"Sublot Verified",null,"Verification Results"]
["Sublot","Target JMF or FM","Test Result","Deviation","Pay Value",null,null,"Test","Results","1 vs. 1","1 vs. 3"]
[1,{"$f":"IF(OR(Calculations!H13=2,E37=\"\"),\"\",IF(VLOOKUP(E37,Calculations!K37:P51,3,FALSE)=\"F.M.\",CONCATENATE(VLOOKUP(E37,Calculations!K37:P51,3,FALSE),\" = \",FIXED(VLOOKUP(E37,Calculations!K37:P51,2,FALSE),2)),IF(VLOOKUP(E37,Calculations!K37:P51,3,FALSE)=\"% AC\",CONCATENATE(VLOOKUP(E37,Calculations!K37:P51,3,FALSE),\" = \",FIXED(VLOOKUP(E37,Calculations!K37:P51,2,FALSE),1)),CONCATENATE(VLOOKUP(E37,Calculations!K37:P51,3,FALSE),\" = \",FIXED(VLOOKUP(E37,Calculations!K37:P51,2,FALSE),0)))))","v":""},{"$f":"IF(OR(Calculations!H13=2,E37=\"\"),\"\",IF(VLOOKUP(E37,Calculations!K37:P51,3,FALSE)=\"F.M.\",FIXED(VLOOKUP(E37,Calculations!K37:P51,5,FALSE),2),IF(VLOOKUP(E37,Calculations!K37:P51,3,FALSE)=\"% AC\",FIXED(VLOOKUP(E37,Calculations!K37:P51,5,FALSE),1),FIXED(VLOOKUP(E37,Calculations!K37:P51,5,FALSE),0))))","v":""},{"$f":"IF(OR(Calculations!H13=2,E37=\"\"),\"\",IF(VLOOKUP(E37,Calculations!K37:P51,3,FALSE)=\"F.M.\",FIXED(VLOOKUP(E37,Calculations!K37:P51,6,FALSE),2),IF(VLOOKUP(E37,Calculations!K37:P51,3,FALSE)=\"% AC\",FIXED(VLOOKUP(E37,Calculations!K37:P51,6,FALSE),1),IF(VLOOKUP(E37,Calculations!K37:P51,3,FALSE)=\"# 200\",FIXED(VLOOKUP(E37,Calculations!K37:P51,6,FALSE),1),FIXED(VLOOKUP(E37,Calculations!K37:P51,6,FALSE),0)))))","v":""},{"$f":"IF(OR(Calculations!H13=2,Calculations!H13=\"\"),\"\",IF(AND(F3=1,MIN('Accept. Grad. # 1'!H8:H22))>=90,100,IF(MIN('Accept. Grad. # 1'!H8:H22)=0,\"\",MIN('Accept. Grad. # 1'!H8:H22))))","v":""},null,null,"% AC",{"$f":"IF(AND(Calculations!J1<=5,'Super Verify'!B10=\"\"),\"\",IF(Calculations!J1<=5,'Super Verify'!B10,IF(Calculations!J1=14,'Super Verify'!B10)))","v":""},{"$f":"IF(I37=\"\",\"\",Calculations!R4)","v":""},{"$f":"Calculations!U62","v":""}]
[2,{"$f":"IF(OR(Calculations!H13=2,E38=\"\"),\"\",IF(VLOOKUP(E38,Calculations!Q37:V51,3,FALSE)=\"F.M.\",CONCATENATE(VLOOKUP(E38,Calculations!Q37:V51,3,FALSE),\" = \",FIXED(VLOOKUP(E38,Calculations!Q37:V51,2,FALSE),2)),IF(VLOOKUP(E38,Calculations!Q37:V51,3,FALSE)=\"% AC\",CONCATENATE(VLOOKUP(E38,Calculations!Q37:V51,3,FALSE),\" = \",FIXED(VLOOKUP(E38,Calculations!Q37:V51,2,FALSE),1)),CONCATENATE(VLOOKUP(E38,Calculations!Q37:V51,3,FALSE),\" = \",FIXED(VLOOKUP(E38,Calculations!Q37:V51,2,FALSE),0)))))","v":""},{"$f":"IF(OR(Calculations!H13=2,E38=\"\"),\"\",IF(VLOOKUP(E38,Calculations!Q37:V51,3,FALSE)=\"F.M.\",FIXED(VLOOKUP(E38,Calculations!Q37:V51,5,FALSE),2),IF(VLOOKUP(E38,Calculations!Q37:V51,3,FALSE)=\"% AC\",FIXED(VLOOKUP(E38,Calculations!Q37:V51,5,FALSE),1),FIXED(VLOOKUP(E38,Calculations!Q37:V51,5,FALSE),0))))","v":""},{"$f":"IF(OR(Calculations!H13=2,E38=\"\"),\"\",IF(VLOOKUP(E38,Calculations!Q37:V51,3,FALSE)=\"F.M.\",FIXED(VLOOKUP(E38,Calculations!Q37:V51,6,FALSE),2),IF(VLOOKUP(E38,Calculations!Q37:V51,3,FALSE)=\"% AC\",FIXED(VLOOKUP(E38,Calculations!Q37:V51,6,FALSE),1),IF(VLOOKUP(E37,Calculations!K37:P51,3,FALSE)=\"# 200\",FIXED(VLOOKUP(E38,Calculations!K37:P51,6,FALSE),1),FIXED(VLOOKUP(E38,Calculations!Q37:V51,6,FALSE),0)))))","v":""},{"$f":"IF(Calculations!H13=2,\"\",IF(MIN('Accept. Grad. # 2'!H8:H22)=0,\"\",MIN('Accept. Grad. # 2'!H8:H22)))","v":""},null,null,"% AV",{"$f":"IF(AND(Calculations!J1<=5,'Super Verify'!J10=\"\"),\"\",IF(Calculations!J1<=5,'Super Verify'!J10,IF(Calculations!J1=14,'Super Verify'!J10)))","v":""},{"$f":"IF(I38=\"\",\"\",Calculations!R5)","v":""},{"$f":"Calculations!W62","v":""}]
[3,{"$f":"IF(OR(Calculations!H13=2,E39=\"\"),\"\",IF(VLOOKUP(E39,Calculations!W37:AB51,3,FALSE)=\"F.M.\",CONCATENATE(VLOOKUP(E39,Calculations!W37:AB51,3,FALSE),\" = \",FIXED(VLOOKUP(E39,Calculations!W37:AB51,2,FALSE),2)),IF(VLOOKUP(E39,Calculations!W37:AB51,3,FALSE)=\"% AC\",CONCATENATE(VLOOKUP(E39,Calculations!W37:AB51,3,FALSE),\" = \",FIXED(VLOOKUP(E39,Calculations!W37:AB51,2,FALSE),1)),CONCATENATE(VLOOKUP(E39,Calculations!W37:AB51,3,FALSE),\" = \",FIXED(VLOOKUP(E39,Calculations!W37:AB51,2,FALSE),0)))))","v":""},{"$f":"IF(OR(Calculations!H13=2,E39=\"\"),\"\",IF(VLOOKUP(E39,Calculations!W37:AB51,3,FALSE)=\"F.M.\",FIXED(VLOOKUP(E39,Calculations!W37:AB51,5,FALSE),2),IF(VLOOKUP(E39,Calculations!W37:AB51,3,FALSE)=\"% AC\",FIXED(VLOOKUP(E39,Calculations!W37:AB51,5,FALSE),1),FIXED(VLOOKUP(E39,Calculations!W37:AB51,5,FALSE),0))))","v":""},{"$f":"IF(OR(Calculations!H13=2,E39=\"\"),\"\",IF(VLOOKUP(E39,Calculations!W37:AB51,3,FALSE)=\"F.M.\",FIXED(VLOOKUP(E39,Calculations!W37:AB51,6,FALSE),2),IF(VLOOKUP(E39,Calculations!W37:AB51,3,FALSE)=\"% AC\",FIXED(VLOOKUP(E39,Calculations!W37:AB51,6,FALSE),1),IF(VLOOKUP(E37,Calculations!K37:P51,3,FALSE)=\"# 200\",FIXED(VLOOKUP(E39,Calculations!K37:P51,6,FALSE),1),FIXED(VLOOKUP(E39,Calculations!W37:AB51,6,FALSE),0)))))","v":""},{"$f":"IF(Calculations!H13=2,\"\",IF(MIN('Accept. Grad. # 3'!H8:H22)=0,\"\",MIN('Accept. Grad. # 3'!H8:H22)))","v":""},null,null,"% VMA",{"$f":"IF(AND(Calculations!J1<=5,'Super Verify'!L10=\"\"),\"\",IF(Calculations!J1<=5,'Super Verify'!L10,IF(Calculations!J1=14,'Super Verify'!L10)))","v":""},{"$f":"IF(I39=\"\",\"\",Calculations!R6)","v":""},{"$f":"Calculations!Y62","v":""}]
[4,{"$f":"IF(OR(Calculations!H13=2,E40=\"\"),\"\",IF(VLOOKUP(E40,Calculations!AC36:AH51,3,FALSE)=\"F.M.\",CONCATENATE(VLOOKUP(E40,Calculations!AC36:AH51,3,FALSE),\" = \",FIXED(VLOOKUP(E40,Calculations!AC36:AH51,2,FALSE),2)),IF(VLOOKUP(E40,Calculations!AC36:AH51,3,FALSE)=\"% AC\",CONCATENATE(VLOOKUP(E40,Calculations!AC36:AH51,3,FALSE),\" = \",FIXED(VLOOKUP(E40,Calculations!AC36:AH51,2,FALSE),1)),CONCATENATE(VLOOKUP(E40,Calculations!AC36:AH51,3,FALSE),\" = \",FIXED(VLOOKUP(E40,Calculations!AC36:AH51,2,FALSE),0)))))","v":""},{"$f":"IF(OR(Calculations!H13=2,E40=\"\"),\"\",IF(VLOOKUP(E40,Calculations!AC36:AH51,3,FALSE)=\"F.M.\",FIXED(VLOOKUP(E40,Calculations!AC36:AH51,5,FALSE),2),IF(VLOOKUP(E40,Calculations!AC36:AH51,3,FALSE)=\"% AC\",FIXED(VLOOKUP(E40,Calculations!AC36:AH51,5,FALSE),1),FIXED(VLOOKUP(E40,Calculations!AC36:AH51,5,FALSE),0))))","v":""},{"$f":"IF(OR(Calculations!H13=2,E40=\"\"),\"\",IF(VLOOKUP(E40,Calculations!AC37:AH51,3,FALSE)=\"F.M.\",FIXED(VLOOKUP(E40,Calculations!AC37:AH51,6,FALSE),2),IF(VLOOKUP(E40,Calculations!AC37:AH51,3,FALSE)=\"% AC\",FIXED(VLOOKUP(E40,Calculations!AC37:AH51,6,FALSE),1),IF(VLOOKUP(E37,Calculations!K37:P51,3,FALSE)=\"# 200\",FIXED(VLOOKUP(E40,Calculations!K37:P51,6,FALSE),1),FIXED(VLOOKUP(E40,Calculations!AC37:AH51,6,FALSE),0)))))","v":""},{"$f":"IF(Calculations!H13=2,\"\",IF(MIN('Accept. Grad. # 4'!H8:H22)=0,\"\",MIN('Accept. Grad. # 4'!H8:H22)))","v":""},"Sublot Verified",null,"Verification Results"]
["Lot Average ",null,null,null,{"$f":"IF(Calculations!H13=2,\"\",IF(AND(E37=\"\",E38=\"\",E39=\"\",E40=\"\"),\"\",AVERAGE(E37:E40)))","v":""},null,null,"Test","Results","1 vs. 1","1 vs. 3"]
["PG-Binder Info.","Sublot # 1","Sublot # 2","Sublot # 3","Sublot # 4",null,null,"% AC",{"$f":"IF(AND(Calculations!J1<=5,'Super Verify'!B17=\"\"),\"\",IF(Calculations!J1<=5,'Super Verify'!B17,IF(Calculations!J1=14,'Super Verify'!B17)))","v":""},{"$f":"IF(I42=\"\",\"\",Calculations!X4)","v":""},{"$f":"Calculations!V62","v":""}]
["PG-Binder Lot #'s",null,null,null,null,null,null,"% AV",{"$f":"IF(AND(Calculations!J1<=5,'Super Verify'!J17=\"\"),\"\",IF(Calculations!J1<=5,'Super Verify'!J17,IF(Calculations!J1=14,'Super Verify'!J17)))","v":""},{"$f":"IF(I43=\"\",\"\",Calculations!X5)","v":""},{"$f":"Calculations!X62","v":""}]
["Tack Oil Lot #'s",null,null,null,null,null,null,"% VMA",{"$f":"IF(AND(Calculations!J1<=5,'Super Verify'!L17=\"\"),\"\",IF(Calculations!J1<=5,'Super Verify'!L17,IF(Calculations!J1=14,'Super Verify'!L17)))","v":""},{"$f":"IF(I44=\"\",\"\",Calculations!X6)","v":""},{"$f":"Calculations!Z62","v":""}]
["PG-Grade","Manufacturer","% & Type Additive (if used)",null,null,"Sublot Verified By"]
[null,"",null,null,null,"Name",null,null,"ID #"]
[]
[]
[]
[{"$f":"IF(Calculations!H12=1,\"Option A\",\"Option B\")","v":"Option B"},{"$f":"IF(Calculations!H13=1,\"Gradation\",IF(Calculations!H13=2,\"Volumetrics\",\"Visual\"))","v":"Visual"},{"$f":"Calculations!L1","v":0},{"$f":"IF(Calculations!M1,\"Yes\",\"No\")","v":"No"},{"$f":"Calculations!L2","v":0},{"$f":"IF(Calculations!M2,\"Yes\",\"No\")","v":"No"},{"$f":"IF(AND('Super Verify'!B48<>\"\",Calculations!H13=1),\"Yes\",\"N.M.\")","v":"N.M."},{"$f":"IF(AND('Super Verify'!E48<>\"\",Calculations!H13=1),\"Yes\",\"N.M.\")","v":"N.M."},null,null,null,null,null,null,null,null,null,null,null,"huskers"]

{"sheet":"Project Items","index":1,"n_rows":5,"n_cols":7,"rows_kept":5,"cut":false,"hidden":false,"merged":[]}
["Project","Line Item","Represented","Item",null,null,"Read-Only"]
[null,"Number","Quantity","Code",null,null,"Contractor Entries"]
[null,null,"(in item code unit)","Unit",null,null,"   (Add as many rows as required)"]
["t_cont_smpl","t_cont_smpl","t_cont_smpl","N/A"]
["prj_nbr","ln_itm_nbr","repr_qty","Not Stored on the SM database"]

{"sheet":"Calculations","index":2,"n_rows":334,"n_cols":94,"rows_kept":334,"cut":false,"hidden":true,"merged":[[131,1,131,3],[12,48,12,49],[35,46,35,50],[36,46,36,50],[37,46,37,50],[31,46,31,50],[32,46,32,50],[33,46,33,50],[34,46,34,50],[82,15,82,17],[83,15,83,17],[78,15,78,17],[79,15,79,17],[80,15,80,17],[81,15,81,17],[74,15,74,17],[75,15,75,17],[76,15,76,17],[77,15,77,17],[70,15,70,17],[71,15,71,17],[72,15,72,17],[73,15,73,17],[81,13,81,14],[82,13,82,14],[69,13,69,14],[70,13,70,14],[71,13,71,14],[72,13,72,14],[77,13,77,14],[78,13,78,14],[79,13,79,14],[80,13,80,14],[75,13,75,14],[76,13,76,14],[73,13,73,14],[74,13,74,14],[67,13,67,14],[68,13,68,14],[61,13,61,14],[62,13,62,14],[63,13,63,14],[64,13,64,14],[69,15,69,17],[60,13,60,14],[45,0,45,7],[53,0,53,3],[55,13,55,14],[56,13,56,14],[58,13,58,14],[57,13,57,14],[55,15,55,17],[56,15,56,17],[57,15,57,17],[59,13,59,14],[59,15,59,17],[58,15,58,17],[65,13,65,14],[66,13,66,14],[54,19,55,19],[54,20,54,21],[54,22,54,23],[54,24,54,25],[68,15,68,17],[60,15,60,17],[63,15,63,17],[64,15,64,17],[65,15,65,17],[67,15,67,17],[66,15,66,17],[61,15,61,17],[62,15,62,17]]}
[1,"Superpave 1.5 ",null,null,null,3.5,"A",null,null,null,null,null,null,null,{"$f":"IF(M1,1,2)","v":2},null,null,null,null,null,null,null,null,null,null,1,"Mainline",null,null,null,null,null,"Corrected Air Voids Pay Values",null,null,null,null,null,null,null,null,null,"PG64-22",null,null,{"$f":"IF('Super Verify'!B5=\"\",\"\",'Super Verify'!B5)","v":""},{"$f":"IF('Super Verify'!B12=\"\",\"\",'Super Verify'!B12)","v":""},null,null,null,null,null,null,"Bid Item",null,null,null,"Mat. Code",null,{"$f":"VLOOKUP(J1,BE3:BF173,2,FALSE)","v":{"$error":"#N/A"}},null,1,null,null,null,null,null,null,null,null,null,null,null,null,null,null,null,null,null,null,null,"Recycle","RAP",null,"Type","Nom. Max","Item","Min","Max","Virgin","Sublot 1","Sublot 2","Sublot 3","Sublot 4"]
[2,"Superpave 1.0",null,null,null,3.5,"B",null,null,null,null,null,null,null,{"$f":"IF(M2,1,2)","v":2},null,null,null,null,null,null,null,null,null,null,2,"Shoulders",null,null,null,null,null,{"$f":"IF(AND(E37>=3,E37<=4),E37,\"\")","v":{"$error":"#VALUE!"}},{"$f":"IF(AND(AG2>2.9,AG2<4.1),105,\"\")","v":{"$error":"#VALUE!"}},{"$f":"IF(AND(F37>=3,F37<=4),F37,\"\")","v":{"$error":"#VALUE!"}},{"$f":"IF(AND(AI2>2.9,AI2<4.1),105,\"\")","v":{"$error":"#VALUE!"}},{"$f":"IF(AND(G37>=3,G37<=4),G37,\"\")","v":{"$error":"#VALUE!"}},{"$f":"IF(AND(AK2>2.9,AK2<4.1),105,\"\")","v":{"$error":"#VALUE!"}},{"$f":"IF(AND(H37>=3,H37<=4),H37,\"\")","v":{"$error":"#VALUE!"}},{"$f":"IF(AND(AM2>2.9,AM2<4.1),105,\"\")","v":{"$error":"#VALUE!"}},null,null,"PG58-28",null,null,{"$f":"IF('Super Verify'!K10=\"\",\"\",(100-Gradation!C23)/'Super Verify'!K10)","v":""},{"$f":"IF('Super Verify'!K17=\"\",\"\",(100-Gradation!C23)/'Super Verify'!K17)","v":""},null,null,null,null,null,"Code","Description","Nom. Max.",null,null,null,null,null,null,{"$f":"BJ1+1","v":2},null,null,"Dol. #10's Unwashed","10293",null,null,null,null,null,null,null,null,null,null,null,null,null,null,null,"Nom. Max.",{"$f":"MID(VLOOKUP(J1,A1:B14,2,FALSE),11,LEN(VLOOKUP(J1,A1:B14,2,FALSE)))","v":{"$error":"#N/A"}},null,"RAP","0.5, 0.38, #4","PG64-22",0,20,"PG64-22",{"$f":"IF(AND($CE$1=CG2,$CE$3=CH2,$CE$4=CI2,$CE$5>=CJ2,$CE$5<=CK2),CL2,\"NO\")","v":{"$error":"#N/A"}},{"$f":"IF(AND($CE$1=CG2,$CE$3=CH2,$CE$4=CI2,$CE$6>=CJ2,$CE$6<=CK2),CL2,\"NO\")","v":{"$error":"#N/A"}},{"$f":"IF(AND($CE$1=CG2,$CE$3=CH2,$CE$4=CI2,$CE$7>=CJ2,$CE$7<=CK2),CL2,\"NO\")","v":{"$error":"#N/A"}},{"$f":"IF(AND($CE$1=CG2,$CE$3=CH2,$CE$4=CI2,$CE$8>=CJ2,$CE$8<=CK2),CL2,\"NO\")","v":{"$error":"#N/A"}}]
[3,"Superpave 0.75",null,null,null,3.5,"C",null,1,2,3,4,1,2,3,4,"Dev.",null,5,6,7,8,"Dev.",null,null,3,"Medians",null,null,null,null,null,{"$f":"IF(AND((OR(D15=1,D15=2)),(AND(E37<=2.9,E37>=1.5))),E37,\"\")","v":{"$error":"#VALUE!"}},{"$f":"IF(AG3=\"\",\"\",100*(1+(0.1*(AG3-3))))","v":{"$error":"#VALUE!"}},{"$f":"IF(AND((OR(D15=1,D15=2)),(AND(F37<=2.9,F37>=1.5))),F37,\"\")","v":{"$error":"#VALUE!"}},{"$f":"IF(AI3=\"\",\"\",100*(1+(0.1*(AI3-3))))","v":{"$error":"#VALUE!"}},{"$f":"IF(AND((OR(D15=1,D15=2)),(AND(G37<=2.9,G37>=1.5))),G37,\"\")","v":{"$error":"#VALUE!"}},{"$f":"IF(AK3=\"\",\"\",100*(1+(0.1*(AK3-3))))","v":{"$error":"#VALUE!"}},{"$f":"IF(AND((OR(D15=1,D15=2)),(AND(H37<=2.9,H37>=1.5))),H37,\"\")","v":{"$error":"#VALUE!"}},{"$f":"IF(AM3=\"\",\"\",100*(1+(0.1*(AM3-3))))","v":{"$error":"#VALUE!"}},null,null,"PG76-22",null,null,{"$f":"IF('Super Verify'!K10=\"\",\"\",(100-Gradation!F23)/'Super Verify'!K10)","v":""},{"$f":"IF('Super Verify'!K17=\"\",\"\",(100-Gradation!F23)/'Super Verify'!K17)","v":""},null,null,null,null,null,"25025","00018 DRAINAGE BLANKET-TYPE II-ASPH",null,null,1,"25025",null,null,null,{"$f":"BJ2+1","v":3},null,null,"Dol. #10's Washed","10290",null,null,null,null,null,null,null,null,null,null,null,null,null,null,null,"Range",{"$f":"IF(OR(CE2=\"0.50\",CE2=\"0.38\",CE2=\"No.4\"),\"0.5, 0.38, #4\",IF(OR(TRIM(CE2)=\"1.5\",CE2=\"1.0\",CE2=\"0.75\"),\"1.50, 1.00, 0.75\",\"\"))","v":{"$error":"#N/A"}},null,"RAP","0.5, 0.38, #4","PG64-22",21,30,"PG58-28",{"$f":"IF(AND($CE$1=CG3,$CE$3=CH3,$CE$4=CI3,$CE$5>=CJ3,$CE$5<=CK3),CL3,\"NO\")","v":{"$error":"#N/A"}},{"$f":"IF(AND($CE$1=CG3,$CE$3=CH3,$CE$4=CI3,$CE$6>=CJ3,$CE$6<=CK3),CL3,\"NO\")","v":{"$error":"#N/A"}},{"$f":"IF(AND($CE$1=CG3,$CE$3=CH3,$CE$4=CI3,$CE$7>=CJ3,$CE$7<=CK3),CL3,\"NO\")","v":{"$error":"#N/A"}},{"$f":"IF(AND($CE$1=CG3,$CE$3=CH3,$CE$4=CI3,$CE$8>=CJ3,$CE$8<=CK3),CL3,\"NO\")","v":{"$error":"#N/A"}}]
[4,"Superpave 0.50",null,null,null,3.5,"D","AC",{"$f":"'Pay Values'!B13","v":""},{"$f":"'Pay Values'!B14","v":""},{"$f":"'Pay Values'!B15","v":""},{"$f":"'Pay Values'!B16","v":""},{"$f":"IF(L1<>1,\"N/A\",IF(I4=0,\"N/A\",'Pay Values'!I37-I4))","v":"N/A"},{"$f":"IF(L1<>2,\"N/A\",IF(J4=0,\"N/A\",'Pay Values'!I37-J4))","v":"N/A"},{"$f":"IF(L1<>3,\"N/A\",IF(K4=0,\"N/A\",'Pay Values'!I37-K4))","v":"N/A"},{"$f":"IF(L1<>4,\"N/A\",IF(L4=0,\"N/A\",'Pay Values'!I37-L4))","v":"N/A"},{"$f":"IF(AND(L1=1,ISNUMBER(M4)),M4,IF(AND(L1=2,ISNUMBER(N4)),N4,IF(AND(L1=3,ISNUMBER(O4)),O4,IF(AND(L1=4,ISNUMBER(P4)),P4,\"N/A\"))))","v":"N/A"},{"$f":"IF(Q4=\"N/A\",\"N/A\",(IF(ABS(Q4)<=H9,Q4,CONCATENATE(\"*\",TEXT(Q4,\"0.0\")))))","v":"N/A"},{"$f":"IF(L2<>1,\"N/A\",IF(I4=0,\"N/A\",'Pay Values'!I42-I4))","v":"N/A"},{"$f":"IF(L2<>2,\"N/A\",IF(J4=0,\"N/A\",'Pay Values'!I42-J4))","v":"N/A"},{"$f":"IF(L2<>3,\"N/A\",IF(K4=0,\"N/A\",'Pay Values'!I42-K4))","v":"N/A"},{"$f":"IF(L2<>4,\"N/A\",IF(L4=0,\"N/A\",'Pay Values'!I42-L4))","v":"N/A"},{"$f":"IF(AND(L2=1,ISNUMBER(S4)),S4,IF(AND(L2=2,ISNUMBER(T4)),T4,IF(AND(L2=3,ISNUMBER(U4)),U4,IF(AND(L2=4,ISNUMBER(V4)),V4,\"N/A\"))))","v":"N/A"},{"$f":"IF(W4=\"N/A\",\"N/A\",(IF(ABS(W4)<=H9,W4,CONCATENATE(\"*\",TEXT(W4,\"0.0\")))))","v":"N/A"},null,4,"Base Failures",null,null,null,null,null,{"$f":"IF(AND((OR(D15=3,D15=4)),(AND(E37<=2.9,E37>=2))),E37,\"\")","v":{"$error":"#VALUE!"}},{"$f":"IF(AG4=\"\",\"\",100*(1+(0.1*(AG4-3))))","v":{"$error":"#VALUE!"}},{"$f":"IF(AND((OR(D15=3,D15=4)),(AND(F37<=2.9,F37>=2))),F37,\"\")","v":{"$error":"#VALUE!"}},{"$f":"IF(AI4=\"\",\"\",100*(1+(0.1*(AI4-3))))","v":{"$error":"#VALUE!"}},{"$f":"IF(AND((OR(D15=3,D15=4)),(AND(G37<=2.9,G37>=2))),G37,\"\")","v":{"$error":"#VALUE!"}},{"$f":"IF(AK4=\"\",\"\",100*(1+(0.1*(AK4-3))))","v":{"$error":"#VALUE!"}},{"$f":"IF(AND((OR(D15=3,D15=4)),(AND(H37<=2.9,H37>=2))),H37,\"\")","v":{"$error":"#VALUE!"}},{"$f":"IF(AM4=\"\",\"\",100*(1+(0.1*(AM4-3))))","v":{"$error":"#VALUE!"}},null,null,"Other",null,null,{"$f":"IF('Super Verify'!K10=\"\",\"\",(100-Gradation!I23)/'Super Verify'!K10)","v":""},{"$f":"IF('Super Verify'!K17=\"\",\"\",(100-Gradation!I23)/'Super Verify'!K17)","v":""},null,null,null,null,null,"27100","00101 SAMI (STRESS-ABSORB MEMBRANE INTERLAYER)",null,null,2,"27100",null,null,null,4,null,null,"Dol. #11's Unwashed","10297",null,null,null,null,null,null,null,null,null,null,20025,{"$f":"BY4+5000","v":25025},null,null,null,"Item  AC",{"$f":"MID('Pay Values'!D9,FIND(\"PG\",'Pay Values'!D9),7)","v":{"$error":"#VALUE!"}},null,"RAP","0.5, 0.38, #4","PG76-22",0,20,"PG76-22",{"$error":"#N/A"},{"$error":"#N/A"},{"$error":"#N/A"},{"$error":"#N/A"}]
[5,"Superpave 0.38",null,null,null,3.5,"E","AV",{"$f":"'Pay Values'!F13","v":""},{"$f":"'Pay Values'!F14","v":""},{"$f":"'Pay Values'!F15","v":""},{"$f":"'Pay Values'!F16","v":""},{"$f":"IF(L1<>1,\"N/A\",IF(I5=0,\"N/A\",'Pay Values'!I38-I5))","v":"N/A"},{"$f":"IF(L1<>2,\"N/A\",IF(J5=0,\"N/A\",'Pay Values'!I38-J5))","v":"N/A"},{"$f":"IF(L1<>3,\"N/A\",IF(K5=0,\"N/A\",'Pay Values'!I38-K5))","v":"N/A"},{"$f":"IF(L1<>4,\"N/A\",IF(L5=0,\"N/A\",'Pay Values'!I38-L5))","v":"N/A"},{"$f":"IF(AND(L1=1,ISNUMBER(M5)),M5,IF(AND(L1=2,ISNUMBER(N5)),N5,IF(AND(L1=3,ISNUMBER(O5)),O5,IF(AND(L1=4,ISNUMBER(P5)),P5,\"N/A\"))))","v":"N/A"},{"$f":"IF(Q5=\"N/A\",\"N/A\",(IF(AND(ABS(Q5)<=J9,O1=1),Q5,(IF(AND(ABS(Q5)<=M9,O1=2),Q5,CONCATENATE(\"*\",TEXT(Q5,\"0.0\")))))))","v":"N/A"},{"$f":"IF(L2<>1,\"N/A\",IF(I5=0,\"N/A\",'Pay Values'!I43-I5))","v":"N/A"},{"$f":"IF(L2<>2,\"N/A\",IF(J5=0,\"N/A\",'Pay Values'!I43-J5))","v":"N/A"},{"$f":"IF(L2<>3,\"N/A\",IF(K5=0,\"N/A\",'Pay Values'!I43-K5))","v":"N/A"},{"$f":"IF(L2<>4,\"N/A\",IF(L5=0,\"N/A\",'Pay Values'!I43-L5))","v":"N/A"},{"$f":"IF(AND(L2=1,ISNUMBER(S5)),S5,IF(AND(L2=2,ISNUMBER(T5)),T5,IF(AND(L2=3,ISNUMBER(U5)),U5,IF(AND(L2=4,ISNUMBER(V5)),V5,\"N/A\"))))","v":"N/A"},{"$f":"IF(W5=\"N/A\",\"N/A\",(IF(AND(ABS(W5)<=J9,O2=1),W5,(IF(AND(ABS(W5)<=M9,O2=2),W5,CONCATENATE(\"*\",TEXT(W5,\"0.0\")))))))","v":"N/A"},null,5,"Leveling ",null,null,null,null,null,{"$f":"IF(AND((OR(D15=1,D15=2,D15=3,D15=4)),(AND(E37<=6,E37>=4.1))),E37,\"\")","v":{"$error":"#VALUE!"}},{"$f":"IF(AG5=\"\",\"\",100*(1+(0.1*(4.5-AG5))))","v":{"$error":"#VALUE!"}},{"$f":"IF(AND((OR(D15=1,D15=2,D15=3,D15=4)),(AND(F37<=6,F37>=4.1))),F37,\"\")","v":{"$error":"#VALUE!"}},{"$f":"IF(AI5=\"\",\"\",100*(1+(0.1*(4.5-AI5))))","v":{"$error":"#VALUE!"}},{"$f":"IF(AND((OR(D15=1,D15=2,D15=3,D15=4)),(AND(G37<=6,G37>=4.1))),G37,\"\")","v":{"$error":"#VALUE!"}},{"$f":"IF(AK5=\"\",\"\",100*(1+(0.1*(4.5-AK5))))","v":{"$error":"#VALUE!"}},{"$f":"IF(AND((OR(D15=1,D15=2,D15=3,D15=4)),(AND(H37<=6,H37>=4.1))),H37,\"\")","v":{"$error":"#VALUE!"}},{"$f":"IF(AM5=\"\",\"\",100*(1+(0.1*(4.5-AM5))))","v":{"$error":"#VALUE!"}},null,null,null,null,null,{"$f":"IF('Super Verify'!K10=\"\",\"\",(100-Gradation!L23)/'Super Verify'!K10)","v":""},{"$f":"IF('Super Verify'!K17=\"\",\"\",(100-Gradation!L23)/'Super Verify'!K17)","v":""},null,null,null,null,null,"25240","00190 LEVELING & WEDGING (NO. 4) PG64-22",null,null,3,"25240",null,null,null,5,null,null,"Dol. #11's Washed","10295",null,null,null,null,null,null,null,null,null,null,20025,{"$f":"BY5+5000","v":25025},null,null,null,"Sublot 1",{"$f":"Superpave!R13","v":""},null,"RAP","1.50, 1.00, 0.75","PG64-22",0,25,"PG64-22",{"$error":"#N/A"},{"$error":"#N/A"},{"$error":"#N/A"},{"$error":"#N/A"}]
[6,"ATDB",null,null,null,null,"F","VMA",{"$f":"'Pay Values'!I13","v":""},{"$f":"'Pay Values'!I14","v":""},{"$f":"'Pay Values'!I15","v":""},{"$f":"'Pay Values'!I16","v":""},{"$f":"IF(L1<>1,\"N/A\",IF(I6=0,\"N/A\",'Pay Values'!I39-I6))","v":"N/A"},{"$f":"IF(L1<>2,\"N/A\",IF(J6=0,\"N/A\",'Pay Values'!I39-J6))","v":"N/A"},{"$f":"IF(L1<>3,\"N/A\",IF(K6=0,\"N/A\",'Pay Values'!I39-K6))","v":"N/A"},{"$f":"IF(L1<>4,\"N/A\",IF(L6=0,\"N/A\",'Pay Values'!I39-L6))","v":"N/A"},{"$f":"IF(AND(L1=1,ISNUMBER(M6)),M6,IF(AND(L1=2,ISNUMBER(N6)),N6,IF(AND(L1=3,ISNUMBER(O6)),O6,IF(AND(L1=4,ISNUMBER(P6)),P6,\"N/A\"))))","v":"N/A"},{"$f":"IF(Q6=\"N/A\",\"N/A\",(IF(AND(ABS(Q6)<=J9,O1=1),Q6,(IF(AND(ABS(Q6)<=M9,O1=2),Q6,CONCATENATE(\"*\",TEXT(Q6,\"0.0\")))))))","v":"N/A"},{"$f":"IF(L2<>1,\"N/A\",IF(I6=0,\"N/A\",'Pay Values'!I44-I6))","v":"N/A"},{"$f":"IF(L2<>2,\"N/A\",IF(J6=0,\"N/A\",'Pay Values'!I44-J6))","v":"N/A"},{"$f":"IF(L2<>3,\"N/A\",IF(K6=0,\"N/A\",'Pay Values'!I44-K6))","v":"N/A"},{"$f":"IF(L2<>4,\"N/A\",IF(L6=0,\"N/A\",'Pay Values'!I44-L6))","v":"N/A"},{"$f":"IF(AND(L2=1,ISNUMBER(S6)),S6,IF(AND(L2=2,ISNUMBER(T6)),T6,IF(AND(L2=3,ISNUMBER(U6)),U6,IF(AND(L2=4,ISNUMBER(V6)),V6,\"N/A\"))))","v":"N/A"},{"$f":"IF(W6=\"N/A\",\"N/A\",(IF(AND(ABS(W6)<=J9,O2=1),W6,(IF(AND(ABS(W6)<=M9,O2=2),W6,CONCATENATE(\"*\",TEXT(W6,\"0.0\")))))))","v":"N/A"},null,6,"Incidental",null,null,null,null,null,{"$f":"IF(AND((OR(D15=1,D15=2)),(AND(E37>=6.1,E37<=6.5))),75,\"\")","v":{"$error":"#VALUE!"}},{"$f":"AG6","v":{"$error":"#VALUE!"}},{"$f":"IF(AND((OR(D15=1,D15=2)),(AND(F37>=6.1,F37<=6.5))),75,\"\")","v":{"$error":"#VALUE!"}},{"$f":"AI6","v":{"$error":"#VALUE!"}},{"$f":"IF(AND((OR(D15=1,D15=2)),(AND(G37>=6.1,G37<=6.5))),75,\"\")","v":{"$error":"#VALUE!"}},{"$f":"AK6","v":{"$error":"#VALUE!"}},{"$f":"IF(AND((OR(D15=1,D15=2)),(AND(H37>=6.1,H37<=6.5))),75,\"\")","v":{"$error":"#VALUE!"}},{"$f":"AM6","v":{"$error":"#VALUE!"}},null,null,null,null,null,{"$f":"IF(AT1=\"\",\"\",IF(AT1=1,AT2,IF(AT1=2,AT3,IF(AT1=3,AT4,IF(AT1=4,AT5)))))","v":""},{"$f":"IF(AU1=\"\",\"\",IF(AU1=1,AU2,IF(AU1=2,AU3,IF(AU1=3,AU4,IF(AU1=4,AU5)))))","v":""},null,null,null,null,null,"25250","00190 LEVELING & WEDGING (0.38-IN.) PG64-22",null,null,4,"25250",null,null,null,6,null,null,"Dolomite #67's","10350",null,null,null,null,null,null,null,null,null,null,20250,25250,null,null,null,"Sublot 2",{"$f":"Superpave!S13","v":""},null,"RAP","1.50, 1.00, 0.75","PG64-22",26,35,"PG58-28",{"$error":"#N/A"},{"$error":"#N/A"},{"$error":"#N/A"},{"$error":"#N/A"}]
[7,"Sand Asphalt Type I",null,null,null,null,"G",null,null,null,null,null,null,null,null,null,null,null,null,null,null,null,null,null,null,7,"Temporary",null,null,null,null,null,{"$f":"IF(AND((OR(D15=1,D15=2)),(OR(E37<=1.4,E37>=6.6))),\"MCL\",\"\")","v":{"$error":"#VALUE!"}},{"$f":"AG7","v":{"$error":"#VALUE!"}},{"$f":"IF(AND((OR(D15=1,D15=2)),(OR(F37<=1.4,F37>=6.6))),\"MCL\",\"\")","v":{"$error":"#VALUE!"}},{"$f":"AI7","v":{"$error":"#VALUE!"}},{"$f":"IF(AND((OR(D15=1,D15=2)),(OR(G37<=1.4,G37>=6.6))),\"MCL\",\"\")","v":{"$error":"#VALUE!"}},{"$f":"AK7","v":{"$error":"#VALUE!"}},{"$f":"IF(AND((OR(D15=1,D15=2)),(OR(H37<=1.4,H37>=6.6))),\"MCL\",\"\")","v":{"$error":"#VALUE!"}},{"$f":"AM7","v":{"$error":"#VALUE!"}},null,null,null,null,null,{"$f":"IF(AT6=\"\",\"\",IF(AT6>1.6,\">1.6\",IF(AT6<0.6,\"<0.6\",AT6)))","v":""},{"$f":"IF(AU6=\"\",\"\",IF(AU6>1.6,\">1.6\",IF(AU6<0.6,\"<0.6\",AU6)))","v":""},null,null,null,null,null,"25275","00190 LEVELING & WEDGING (0.50-IN.) PG64-22",null,null,5,"25275",null,null,null,7,null,null,"Dolomite #67's Class A","10355",null,null,null,null,null,null,null,null,null,null,20275,25275,null,null,null,"Sublot 3",{"$f":"Superpave!T13","v":""},null,"RAP","1.50, 1.00, 0.75","PG76-22",0,25,"PG76-22",{"$error":"#N/A"},{"$error":"#N/A"},{"$error":"#N/A"},{"$error":"#N/A"}]
[8,"Sand Asphalt Type II",null,null,null,null,"H","BC","AV & VMA (Same)",null,null,"AV & VMA (Diff.)",null,null,null,null,null,null,null,null,null,null,null,null,null,8,"Trenching",null,null,null,null,null,{"$f":"IF(AND((OR(D15=3,D15=4)),(OR(E37<2,E37>6))),\"MCL\",\"\")","v":{"$error":"#VALUE!"}},{"$f":"AG8","v":{"$error":"#VALUE!"}},{"$f":"IF(AND((OR(D15=3,D15=4)),(OR(F37<2,F37>6))),\"MCL\",\"\")","v":{"$error":"#VALUE!"}},{"$f":"AI8","v":{"$error":"#VALUE!"}},{"$f":"IF(AND((OR(D15=3,D15=4)),(OR(G37<2,G37>6))),\"MCL\",\"\")","v":{"$error":"#VALUE!"}},{"$f":"AK8","v":{"$error":"#VALUE!"}},{"$f":"IF(AND((OR(D15=3,D15=4)),(OR(H37<2,H37>6))),\"MCL\",\"\")","v":{"$error":"#VALUE!"}},{"$f":"AM8","v":{"$error":"#VALUE!"}},null,null,null,null,null,null,null,null,null,null,null,null,"25300","00190 LEVELING & WEDGING (0.75-IN.) PG64-22",null,null,6,"25300",null,null,null,8,null,null,"Dolomite #67's Class B","10360",null,null,null,null,null,null,null,null,null,null,20300,25300,null,null,null,"Sublot 4",{"$f":"Superpave!U13","v":""},null,"RAS","0.5, 0.38, #4","PG64-22",0,13,"PG64-22",{"$error":"#N/A"},{"$error":"#N/A"},{"$error":"#N/A"},{"$error":"#N/A"}]
[9,"Asphalt Wedge",null,"20907ES403 CL4 ASPH SURF 0.38D PG76-22",null,null,"I",0.5,null,1,null,null,1.5,null,null,null,null,null,null,null,null,null,null,null,null,9,"Interstate",null,null,null,null,null,null,{"$f":"IF(OR(AH7=\"MCL\",AH8=\"MCL\"),\"MCL\",SUM(AH2:AH8))","v":{"$error":"#VALUE!"}},null,{"$f":"IF(OR(AJ7=\"MCL\",AJ8=\"MCL\"),\"MCL\",SUM(AJ2:AJ8))","v":{"$error":"#VALUE!"}},null,{"$f":"IF(OR(AL7=\"MCL\",AL8=\"MCL\"),\"MCL\",SUM(AL2:AL8))","v":{"$error":"#VALUE!"}},null,{"$f":"IF(OR(AN7=\"MCL\",AN8=\"MCL\"),\"MCL\",SUM(AN2:AN8))","v":{"$error":"#VALUE!"}},null,null,null,null,null,null,null,null,null,null,null,null,"25325","00190 LEVELING & WEDGING (1.00-IN.) PG64-22",null,null,7,"25325",null,null,null,9,null,null,"Dolomite #68's","10365",null,null,null,null,null,null,null,null,null,null,20325,25325,null,null,null,null,null,null,"RAS","0.5, 0.38, #4","PG64-22",14,20,"PG58-28",{"$error":"#N/A"},{"$error":"#N/A"},{"$error":"#N/A"},{"$error":"#N/A"}]
[10,"Slurry Seal",null,null,null,null,"J",null,null,null,null,null,null,null,null,null,null,null,null,null,null,null,null,null,null,10,"Shoulder Wedge",null,null,null,null,null,null,null,null,null,null,null,null,null,null,null,null,null,null,null,null,null,null,null,null,null,"25350","00190 LEVELING & WEDGING (1.50-IN.) PG64-22",null,null,8,"25350",null,null,null,10,null,null,"Dolomite #68's Class A","10370",null,null,null,null,null,null,null,null,null,null,20350,25350,null,null,null,null,null,null,"RAS","1.50, 1.00, 0.75","PG64-22",0,16,"PG64-22",{"$error":"#N/A"},{"$error":"#N/A"},{"$error":"#N/A"},{"$error":"#N/A"}]
[11,"Curb/Median Mix",null,null,null,null,"K",{"$f":"IF(M11,1,2)","v":2},"Joint Density",null,null,null,false,null,null,null,null,null,null,null,null,null,null,null,null,null,null,null,null,null,null,null,null,null,null,null,null,null,null,null,null,null,null,null,null,null,null,null,null,null,null,null,"25490","00190 LEVELING & WEDGING (NO. 4) ASPHALT SURFACE PG64-22",null,null,9,"25490",null,null,null,11,null,null,"Dolomite #68's Class B","10375",null,null,null,null,null,null,null,null,null,null,20250,25250,null,null,null,null,null,null,"RAS","1.50, 1.00, 0.75","PG64-22",17,24,"PG58-28",{"$error":"#N/A"},{"$error":"#N/A"},{"$error":"#N/A"},{"$error":"#N/A"}]
[12,"Open Graded Friction Course",null,null,null,null,"L",null,"Density Option",null,null,null,"1=A, 2=B",null,null,null,null,null,null,null,null,null,null,null,null,null,null,null,null,null,null,null,null,null,null,null,null,null,null,null,null,null,null,null,null,null,null,null,null,null,null,null,"25500","00190 LEVELING & WEDGING (0.38-IN) ASPHALT SURFACE PG64-22",null,null,10,"25500",null,null,null,12,null,null,"Dolomite #78's","10380",null,null,null,null,null,null,null,null,null,null,20275,25275,null,null,null,null,null,null,"BOTH","0.5, 0.38, #4","PG64-22",0,15,"PG64-22",{"$error":"#N/A"},{"$error":"#N/A"},{"$error":"#N/A"},{"$error":"#N/A"}]
[13,"Sand Seal",null,null,null,null,"M",{"$f":"IF(H20=\"Gradation\",1,IF(H20=\"Volumetrics\",2,IF(H20=\"Visual\",3,\"\")))","v":""},"Acceptance Option",null,null,null,"1=Grad., 2=Vol., 3=Vis.",null,null,null,null,null,null,null,null,null,1.5,null,1,null,0.75,null,0.5,null,0.38,null,"ATDB",null,"SAT  I",null,"SAT  II",null,"Wedge",null,"Slurry",null,"Curb",null,"OGFC",null,"Sand Seal",null,0.4,null,null,null,"25525","00190 LEVELING & WEDGING ( 0.50-IN) ASPHALT SURFACE PG64-22",null,null,11,"25525",null,null,null,13,null,null,"Dolomite #78's Class A","10385",null,null,null,null,null,null,null,null,null,null,20300,25300,null,null,null,null,null,null,"BOTH","0.5, 0.38, #4","PG64-22",16,25,"PG58-28",{"$error":"#N/A"},{"$error":"#N/A"},{"$error":"#N/A"},{"$error":"#N/A"}]
[14,"Superpave No.4","ESAL CLASS",null,null,3.5,null,null,null,null,null,null,null,null,null,null,null,null,null,null,null,null,1,1,2,2,3,3,4,4,5,5,6,6,7,7,8,8,9,9,10,10,11,11,12,12,13,13,14,14,"Master",null,"25550","00190 LEVELING & WEDGING (0.50-IN) ASPHALT BINDER PG64-22",null,null,12,"25550",null,null,null,14,null,null,"Dolomite #78's Class B","10390",null,null,null,null,null,null,null,null,null,null,20325,25325,null,null,null,null,null,null,"BOTH","1.50, 1.00, 0.75","PG64-22",0,18,"PG64-22",{"$error":"#N/A"},{"$error":"#N/A"},{"$error":"#N/A"},{"$error":"#N/A"}]
[null,null,1,null,null,null,null,{"$f":"IF(J1=\"\",\"\",VLOOKUP(J1,A1:G13,7))","v":""},"Mixture Type",null,null,null,null,null,"Type Aggregate",null,null,null,null,null,null,null,"Min.","Max.","Min.","Max.","Min.","Max.","Min.","Max.","Min.","Max.","Min.","Max.","Min.","Max.","Min.","Max.","Min.","Max.","Min.","Max.","Min.","Max.","Min.","Max.","Min.","Max.","Min.","Max.","Min.","Max.","25575","00190 LEVELING & WEDGING ( 0.75-IN) ASPHALT BASE PG64-22",null,null,13,"25575",null,null,null,15,null,null,"Dolomite #8's","10395",null,null,null,null,null,null,null,null,null,null,20350,25350,null,null,null,null,null,null,"BOTH","1.50, 1.00, 0.75","PG64-22",19,30,"PG58-28",{"$error":"#N/A"},{"$error":"#N/A"},{"$error":"#N/A"},{"$error":"#N/A"}]
[null,null,2,null,65,null,null,null,null,null,null,null,null,null,1,"A",null,null,null,null,null,"2 \"",100,100,null,null,null,null,null,null,null,null,null,null,null,null,null,null,null,null,null,null,null,null,null,null,null,null,null,null,{"$f":"HLOOKUP(J1,W14:AX30,3,FALSE)","v":{"$error":"#N/A"}},{"$f":"IF(HLOOKUP(J1,W14:AX30,3,TRUE)=0,100,HLOOKUP(J1,W14:AX30,3,TRUE))","v":{"$error":"#N/A"}},"25600","00190 LEVELING & WEDGING (1.00-IN) ASPHALT BASE PG64-22",null,null,14,"25600",null,null,null,16,null,null,"Dolomite #8's Class A","10400",null,null,null,null,null,null,null,null,null,null,20375,25375,null,null,null,null,null,null,null,null,null,null,null,null,{"$f":"IF(ISERROR(VLOOKUP(\"PG*\",CM2:CM15,1,FALSE)),\"Error\",VLOOKUP(\"PG*\",CM2:CM15,1,FALSE))","v":"Error"},{"$f":"IF(ISERROR(VLOOKUP(\"PG*\",CN2:CN15,1,FALSE)),\"Error\",VLOOKUP(\"PG*\",CN2:CN15,1,FALSE))","v":"Error"},{"$f":"IF(ISERROR(VLOOKUP(\"PG*\",CO2:CO15,1,FALSE)),\"Error\",VLOOKUP(\"PG*\",CO2:CO15,1,FALSE))","v":"Error"},{"$f":"IF(ISERROR(VLOOKUP(\"PG*\",CP2:CP15,1,FALSE)),\"Error\",VLOOKUP(\"PG*\",CP2:CP15,1,FALSE))","v":"Error"}]
[null,null,3,null,65,null,null,"Gradation",null,null,null,null,null,null,2,"B",null,null,null,null,null,"1 1/2 \"",90,100,100,100,null,null,null,null,null,null,100,100,null,null,null,null,100,100,null,null,null,null,null,null,null,null,null,null,{"$f":"HLOOKUP(J1,W14:AX30,4,FALSE)","v":{"$error":"#N/A"}},{"$f":"IF(HLOOKUP(J1,W14:AX30,4,TRUE)=0,100,HLOOKUP(J1,W14:AX30,4,TRUE))","v":{"$error":"#N/A"}},"25625","00190 LEVELING & WEDGING (1.50-IN) ASPHALT BASE PG64-22",null,null,15,"25625",null,null,null,17,null,null,"Dolomite #8's Class B","10405",null,null,null,null,null,null,null,null,null,null,20400,25400,null,null,null,null,null,null,null,null,null,null,null,null,{"$f":"IF($E$147=CM16,\"OK\",\"*\")","v":{"$error":"#N/A"}},{"$f":"IF($E$147=CN16,\"OK\",\"*\")","v":{"$error":"#N/A"}},{"$f":"IF($E$147=CO16,\"OK\",\"*\")","v":{"$error":"#N/A"}},{"$f":"IF($E$147=CP16,\"OK\",\"*\")","v":{"$error":"#N/A"}}]
[null,null,4,null,65,null,null,"Volumetrics",null,null,null,null,null,null,3,"C",null,null,null,null,null,"1 \"",null,90,90,100,100,100,null,null,null,null,null,null,null,null,null,null,null,null,null,null,null,null,null,null,null,null,null,null,{"$f":"HLOOKUP(J1,W14:AX30,5,FALSE)","v":{"$error":"#N/A"}},{"$f":"IF(HLOOKUP(J1,W14:AX30,5,TRUE)=0,100,HLOOKUP(J1,W14:AX30,5,TRUE))","v":{"$error":"#N/A"}},"25365","00191 ASPHALT SCRATCH COURSE (NO. 4) PG64-22 ",null,null,16,"25365",null,null,null,18,null,null,"Dolomite #9M's","10410",null,null,null,null,null,null,null,null,null,null,20425,25425]
[null,null,null,null,null,null,null,"Visual",null,null,null,null,null,null,4,"D",null,null,null,null,null,"3/4 \"",null,null,null,90,90,100,100,100,null,null,85,100,null,null,null,null,70,100,null,null,null,null,null,null,null,null,null,null,{"$f":"HLOOKUP(J1,W14:AX30,6,FALSE)","v":{"$error":"#N/A"}},{"$f":"IF(HLOOKUP(J1,W14:AX30,6,TRUE)=0,100,HLOOKUP(J1,W14:AX30,6,TRUE))","v":{"$error":"#N/A"}},"25375","00191 ASPHALT SCRATCH COURSE (0.38-IN.) PG64-22",null,null,17,"25375",null,null,null,19,null,null,"Dolomite #9M's Class A","10415",null,null,null,null,null,null,null,null,null,null,20450,25450]
[null,null,false,"Warm-Mix Asphalt",null,null,null,null,null,null,null,null,null,null,null,null,null,null,null,null,null,"1/2 \" ",null,null,null,null,null,90,90,100,100,100,35,65,null,null,null,null,null,null,null,null,100,100,100,100,null,null,null,null,{"$f":"HLOOKUP(J1,W14:AX30,7,FALSE)","v":{"$error":"#N/A"}},{"$f":"IF(HLOOKUP(J1,W14:AX30,7,TRUE)=0,100,HLOOKUP(J1,W14:AX30,7,TRUE))","v":{"$error":"#N/A"}},"25400","00191 ASPHALT SCRATCH COURSE (0.50-IN.) PG64-22",null,null,18,"25400",null,null,null,20,null,null,"Dolomite #9M's Class B","10420",null,null,null,null,null,null,null,null,null,null,20475,25475]
["Core Calculations",null,null,null,null,null,null,null,null,null,null,null,null,null,null,null,null,null,null,null,null,"3/8 \"",null,null,null,null,null,null,null,90,90,100,null,null,null,null,null,null,45,80,100,100,null,null,90,100,null,null,100,100,{"$f":"HLOOKUP(J1,W14:AX30,8,FALSE)","v":{"$error":"#N/A"}},{"$f":"IF(HLOOKUP(J1,W14:AX30,8,TRUE)=0,100,HLOOKUP(J1,W14:AX30,8,TRUE))","v":{"$error":"#N/A"}},"25425","00191 ASPHALT SCRATCH COURSE (0.75-IN.) PG64-22",null,null,19,"25425",null,null,null,21,null,null,"Dolomite Comb.-NSG","10300",null,null,null,null,null,null,null,null,null,null,20375,25375]
[null,null,null,null,{"$f":"ROUND(Cores!I10,1)","v":{"$error":"#VALUE!"}},{"$f":"ROUND(Cores!I11,1)","v":{"$error":"#VALUE!"}},{"$f":"ROUND(Cores!I12,1)","v":{"$error":"#VALUE!"}},{"$f":"ROUND(Cores!I13,1)","v":{"$error":"#VALUE!"}},{"$f":"ROUND(Cores!I15,1)","v":{"$error":"#VALUE!"}},{"$f":"ROUND(Cores!I16,1)","v":{"$error":"#VALUE!"}},{"$f":"ROUND(Cores!I17,1)","v":{"$error":"#VALUE!"}},{"$f":"ROUND(Cores!I18,1)","v":{"$error":"#VALUE!"}},{"$f":"ROUND(Cores!I20,1)","v":{"$error":"#VALUE!"}},{"$f":"ROUND(Cores!I21,1)","v":{"$error":"#VALUE!"}},{"$f":"ROUND(Cores!I22,1)","v":{"$error":"#VALUE!"}},{"$f":"ROUND(Cores!I23,1)","v":{"$error":"#VALUE!"}},{"$f":"ROUND(Cores!I25,1)","v":{"$error":"#VALUE!"}},{"$f":"ROUND(Cores!I26,1)","v":{"$error":"#VALUE!"}},{"$f":"ROUND(Cores!I27,1)","v":{"$error":"#VALUE!"}},{"$f":"ROUND(Cores!I28,1)","v":{"$error":"#VALUE!"}},null,"1/4 \"",null,null,null,null,null,null,null,null,null,null,null,null,100,100,100,100,null,null,null,null,null,null,null,null,100,100,95,100,{"$f":"HLOOKUP(J1,W14:AX30,9,FALSE)","v":{"$error":"#N/A"}},{"$f":"IF(HLOOKUP(J1,W14:AX30,9,TRUE)=0,100,HLOOKUP(J1,W14:AX30,9,TRUE))","v":{"$error":"#N/A"}},"25450","00191 ASPHALT SCRATCH COURSE (1.00-IN.) PG64-22",null,null,20,"25450",null,null,null,22,null,null,"Dolomite NSG Class A","10430",null,null,null,null,null,null,null,null,null,null,20400,25400]
["Type Mix","Min","Max","Factor",1,2,3,4,5,6,7,8,9,10,11,12,13,14,15,16,null,"# 4",null,null,null,null,null,null,null,null,null,90,0,20,null,null,null,null,30,60,90,100,60,80,25,50,null,null,90,100,{"$f":"HLOOKUP(J1,W14:AX30,10,FALSE)","v":{"$error":"#N/A"}},{"$f":"IF(HLOOKUP(J1,W14:AX30,10,TRUE)=0,100,HLOOKUP(J1,W14:AX30,10,TRUE))","v":{"$error":"#N/A"}},"25475","00191 ASPHALT SCRATCH COURSE (1.50-IN.) PG64-22",null,null,21,"25475",null,null,null,23,null,null,"Dolomite NSG Class B","10435",null,null,null,null,null,null,null,null,null,null,20425,25425]
["1,2,3,4,5,14",94,96,105,{"$f":"IF(AND((OR(J1=1,J1=2,J1=3,J1=4,J1=5,J1=14)),(AND(E22>=B24,E22<=C24))),D24,0)","v":{"$error":"#VALUE!"}},{"$f":"IF(AND((OR(J1=1,J1=2,J1=3,J1=4,J1=5,J1=14)),(AND(F22>=B24,F22<=C24))),D24,0)","v":{"$error":"#VALUE!"}},{"$f":"IF(AND((OR(J1=1,J1=2,J1=3,J1=4,J1=5,J1=14)),(AND(G22>=B24,G22<=C24))),D24,0)","v":{"$error":"#VALUE!"}},{"$f":"IF(AND((OR(J1=1,J1=2,J1=3,J1=4,J1=5,J1=14)),(AND(H22>=B24,H22<=C24))),D24,0)","v":{"$error":"#VALUE!"}},{"$f":"IF(AND((OR(J1=1,J1=2,J1=3,J1=4,J1=5,J1=14)),(AND(I22>=B24,I22<=C24))),D24,0)","v":{"$error":"#VALUE!"}},{"$f":"IF(AND((OR(J1=1,J1=2,J1=3,J1=4,J1=5,J1=14)),(AND(J22>=B24,J22<=C24))),D24,0)","v":{"$error":"#VALUE!"}},{"$f":"IF(AND((OR(J1=1,J1=2,J1=3,J1=4,J1=5,J1=14)),(AND(K22>=B24,K22<=C24))),D24,0)","v":{"$error":"#VALUE!"}},{"$f":"IF(AND((OR(J1=1,J1=2,J1=3,J1=4,J1=5,J1=14)),(AND(L22>=B24,L22<=C24))),D24,0)","v":{"$error":"#VALUE!"}},{"$f":"IF(AND((OR(J1=1,J1=2,J1=3,J1=4,J1=5,J1=14)),(AND(M22>=B24,M22<=C24))),D24,0)","v":{"$error":"#VALUE!"}},{"$f":"IF(AND((OR(J1=1,J1=2,J1=3,J1=4,J1=5,J1=14)),(AND(N22>=B24,N22<=C24))),D24,0)","v":{"$error":"#VALUE!"}},{"$f":"IF(AND((OR(J1=1,J1=2,J1=3,J1=4,J1=5,J1=14)),(AND(O22>=B24,O22<=C24))),D24,0)","v":{"$error":"#VALUE!"}},{"$f":"IF(AND((OR(J1=1,J1=2,J1=3,J1=4,J1=5,J1=14)),(AND(P22>=B24,P22<=C24))),D24,0)","v":{"$error":"#VALUE!"}},{"$f":"IF(AND((OR(J1=1,J1=2,J1=3,J1=4,J1=5,J1=14)),(AND(Q22>=B24,Q22<=C24))),D24,0)","v":{"$error":"#VALUE!"}},{"$f":"IF(AND((OR(J1=1,J1=2,J1=3,J1=4,J1=5,J1=14)),(AND(R22>=B24,R22<=C24))),D24,0)","v":{"$error":"#VALUE!"}},{"$f":"IF(AND((OR(J1=1,J1=2,J1=3,J1=4,J1=5,J1=14)),(AND(S22>=B24,S22<=C24))),D24,0)","v":{"$error":"#VALUE!"}},{"$f":"IF(AND((OR(J1=1,J1=2,J1=3,J1=4,J1=5,J1=14)),(AND(T22>=B24,T22<=C24))),D24,0)","v":{"$error":"#VALUE!"}},null,"# 8",15,41,19,45,23,49,28,58,32,67,0,10,75,100,50,90,20,45,65,90,45,65,5,15,50,90,null,null,{"$f":"HLOOKUP(J1,W14:AX30,11,FALSE)","v":{"$error":"#N/A"}},{"$f":"IF(HLOOKUP(J1,W14:AX30,11,TRUE)=0,100,HLOOKUP(J1,W14:AX30,11,TRUE))","v":{"$error":"#N/A"}},"25490","00191 ASPHALT SCRATCH COURSE (NO. 4) ASPHALT SURFACE PG64-22",null,null,22,"25490",null,null,null,24,null,null,"Dol. NSG Fine (Unwashed)","10323",null,null,null,null,null,null,null,null,null,null,20450,25450]
["1,2,3,4,5,14",92,93.9,100,{"$f":"IF(AND((OR(J1=1,J1=2,J1=3,J1=4,J1=5,J1=14)),(AND(E22>=B25,E22<=C25))),D25,0)","v":{"$error":"#VALUE!"}},{"$f":"IF(AND((OR(J1=1,J1=2,J1=3,J1=4,J1=5,J1=14)),(AND(F22>=B25,F22<=C25))),D25,0)","v":{"$error":"#VALUE!"}},{"$f":"IF(AND((OR(J1=1,J1=2,J1=3,J1=4,J1=5,J1=14)),(AND(G22>=B25,G22<=C25))),D25,0)","v":{"$error":"#VALUE!"}},{"$f":"IF(AND((OR(J1=1,J1=2,J1=3,J1=4,J1=5,J1=14)),(AND(H22>=B25,H22<=C25))),D25,0)","v":{"$error":"#VALUE!"}},{"$f":"IF(AND((OR(J1=1,J1=2,J1=3,J1=4,J1=5,J1=14)),(AND(I22>=B25,I22<=C25))),D25,0)","v":{"$error":"#VALUE!"}},{"$f":"IF(AND((OR(J1=1,J1=2,J1=3,J1=4,J1=5,J1=14)),(AND(J22>=B25,J22<=C25))),D25,0)","v":{"$error":"#VALUE!"}},{"$f":"IF(AND((OR(J1=1,J1=2,J1=3,J1=4,J1=5,J1=14)),(AND(K22>=B25,K22<=C25))),D25,0)","v":{"$error":"#VALUE!"}},{"$f":"IF(AND((OR(J1=1,J1=2,J1=3,J1=4,J1=5,J1=14)),(AND(L22>=B25,L22<=C25))),D25,0)","v":{"$error":"#VALUE!"}},{"$f":"IF(AND((OR(J1=1,J1=2,J1=3,J1=4,J1=5,J1=14)),(AND(M22>=B25,M22<=C25))),D25,0)","v":{"$error":"#VALUE!"}},{"$f":"IF(AND((OR(J1=1,J1=2,J1=3,J1=4,J1=5,J1=14)),(AND(N22>=B25,N22<=C25))),D25,0)","v":{"$error":"#VALUE!"}},{"$f":"IF(AND((OR(J1=1,J1=2,J1=3,J1=4,J1=5,J1=14)),(AND(O22>=B25,O22<=C25))),D25,0)","v":{"$error":"#VALUE!"}},{"$f":"IF(AND((OR(J1=1,J1=2,J1=3,J1=4,J1=5,J1=14)),(AND(P22>=B25,P22<=C25))),D25,0)","v":{"$error":"#VALUE!"}},{"$f":"IF(AND((OR(J1=1,J1=2,J1=3,J1=4,J1=5,J1=14)),(AND(Q22>=B25,Q22<=C25))),D25,0)","v":{"$error":"#VALUE!"}},{"$f":"IF(AND((OR(J1=1,J1=2,J1=3,J1=4,J1=5,J1=14)),(AND(R22>=B25,R22<=C25))),D25,0)","v":{"$error":"#VALUE!"}},{"$f":"IF(AND((OR(J1=1,J1=2,J1=3,J1=4,J1=5,J1=14)),(AND(S22>=B25,S22<=C25))),D25,0)","v":{"$error":"#VALUE!"}},{"$f":"IF(AND((OR(J1=1,J1=2,J1=3,J1=4,J1=5,J1=14)),(AND(T22>=B25,T22<=C25))),D25,0)","v":{"$error":"#VALUE!"}},null,"# 16",null,null,null,null,null,null,null,null,null,null,null,null,60,90,25,65,15,35,45,70,null,null,null,null,25,65,30,60,{"$f":"HLOOKUP(J1,W14:AX30,12,FALSE)","v":{"$error":"#N/A"}},{"$f":"IF(HLOOKUP(J1,W14:AX30,12,TRUE)=0,100,HLOOKUP(J1,W14:AX30,12,TRUE))","v":{"$error":"#N/A"}},"25500","00191 ASPHALT SCRATCH COURSE (0.38-IN.) ASPHALT SURFACE PG64-22",null,null,23,"25500",null,null,null,25,null,null,"Dol. NSG Fine (Washed)","10320",null,null,null,null,null,null,null,null,null,null,20475,25475]
["1,2,3,4,5,14",91,91.9,95,{"$f":"IF(AND((OR(J1=1,J1=2,J1=3,J1=4,J1=5,J1=14)),(AND(E22>=B26,E22<=C26))),D26,0)","v":{"$error":"#VALUE!"}},{"$f":"IF(AND((OR(J1=1,J1=2,J1=3,J1=4,J1=5,J1=14)),(AND(F22>=B26,F22<=C26))),D26,0)","v":{"$error":"#VALUE!"}},{"$f":"IF(AND((OR(J1=1,J1=2,J1=3,J1=4,J1=5,J1=14)),(AND(G22>=B26,G22<=C26))),D26,0)","v":{"$error":"#VALUE!"}},{"$f":"IF(AND((OR(J1=1,J1=2,J1=3,J1=4,J1=5,J1=14)),(AND(H22>=B26,H22<=C26))),D26,0)","v":{"$error":"#VALUE!"}},{"$f":"IF(AND((OR(J1=1,J1=2,J1=3,J1=4,J1=5,J1=14)),(AND(I22>=B26,I22<=C26))),D26,0)","v":{"$error":"#VALUE!"}},{"$f":"IF(AND((OR(J1=1,J1=2,J1=3,J1=4,J1=5,J1=14)),(AND(J22>=B26,J22<=C26))),D26,0)","v":{"$error":"#VALUE!"}},{"$f":"IF(AND((OR(J1=1,J1=2,J1=3,J1=4,J1=5,J1=14)),(AND(K22>=B26,K22<=C26))),D26,0)","v":{"$error":"#VALUE!"}},{"$f":"IF(AND((OR(J1=1,J1=2,J1=3,J1=4,J1=5,J1=14)),(AND(L22>=B26,L22<=C26))),D26,0)","v":{"$error":"#VALUE!"}},{"$f":"IF(AND((OR(J1=1,J1=2,J1=3,J1=4,J1=5,J1=14)),(AND(M22>=B26,M22<=C26))),D26,0)","v":{"$error":"#VALUE!"}},{"$f":"IF(AND((OR(J1=1,J1=2,J1=3,J1=4,J1=5,J1=14)),(AND(N22>=B26,N22<=C26))),D26,0)","v":{"$error":"#VALUE!"}},{"$f":"IF(AND((OR(J1=1,J1=2,J1=3,J1=4,J1=5,J1=14)),(AND(O22>=B26,O22<=C26))),D26,0)","v":{"$error":"#VALUE!"}},{"$f":"IF(AND((OR(J1=1,J1=2,J1=3,J1=4,J1=5,J1=14)),(AND(P22>=B26,P22<=C26))),D26,0)","v":{"$error":"#VALUE!"}},{"$f":"IF(AND((OR(J1=1,J1=2,J1=3,J1=4,J1=5,J1=14)),(AND(Q22>=B26,Q22<=C26))),D26,0)","v":{"$error":"#VALUE!"}},{"$f":"IF(AND((OR(J1=1,J1=2,J1=3,J1=4,J1=5,J1=14)),(AND(R22>=B26,R22<=C26))),D26,0)","v":{"$error":"#VALUE!"}},{"$f":"IF(AND((OR(J1=1,J1=2,J1=3,J1=4,J1=5,J1=14)),(AND(S22>=B26,S22<=C26))),D26,0)","v":{"$error":"#VALUE!"}},{"$f":"IF(AND((OR(J1=1,J1=2,J1=3,J1=4,J1=5,J1=14)),(AND(T22>=B26,T22<=C26))),D26,0)","v":{"$error":"#VALUE!"}},null,"# 30",null,null,null,null,null,null,null,null,null,null,null,null,45,75,15,45,null,null,30,50,null,null,null,null,15,45,null,null,{"$f":"HLOOKUP(J1,W14:AX30,13,FALSE)","v":{"$error":"#N/A"}},{"$f":"IF(HLOOKUP(J1,W14:AX30,13,TRUE)=0,100,HLOOKUP(J1,W14:AX30,13,TRUE))","v":{"$error":"#N/A"}},"25525","00191 ASPHALT SCRATCH COURSE (0.50-IN.) ASPHALT SURFACE PG64-22",null,null,24,"25525",null,null,null,26,null,null,"Dolomite NSG-Coarse","10440",null,null,null,null,null,null,null,null,null,null,20375,25375]
["1,2,3,4,5,14",96.1,97,100,{"$f":"IF(AND((OR(J1=1,J1=2,J1=3,J1=4,J1=5,J1=14)),(AND(E22>=B27,E22<=C27))),D27,0)","v":{"$error":"#VALUE!"}},{"$f":"IF(AND((OR(J1=1,J1=2,J1=3,J1=4,J1=5,J1=14)),(AND(F22>=B27,F22<=C27))),D27,0)","v":{"$error":"#VALUE!"}},{"$f":"IF(AND((OR(J1=1,J1=2,J1=3,J1=4,J1=5,J1=14)),(AND(G22>=B27,G22<=C27))),D27,0)","v":{"$error":"#VALUE!"}},{"$f":"IF(AND((OR(J1=1,J1=2,J1=3,J1=4,J1=5,J1=14)),(AND(H22>=B27,H22<=C27))),D27,0)","v":{"$error":"#VALUE!"}},{"$f":"IF(AND((OR(J1=1,J1=2,J1=3,J1=4,J1=5,J1=14)),(AND(I22>=B27,I22<=C27))),D27,0)","v":{"$error":"#VALUE!"}},{"$f":"IF(AND((OR(J1=1,J1=2,J1=3,J1=4,J1=5,J1=14)),(AND(J22>=B27,J22<=C27))),D27,0)","v":{"$error":"#VALUE!"}},{"$f":"IF(AND((OR(J1=1,J1=2,J1=3,J1=4,J1=5,J1=14)),(AND(K22>=B27,K22<=C27))),D27,0)","v":{"$error":"#VALUE!"}},{"$f":"IF(AND((OR(J1=1,J1=2,J1=3,J1=4,J1=5,J1=14)),(AND(L22>=B27,L22<=C27))),D27,0)","v":{"$error":"#VALUE!"}},{"$f":"IF(AND((OR(J1=1,J1=2,J1=3,J1=4,J1=5,J1=14)),(AND(M22>=B27,M22<=C27))),D27,0)","v":{"$error":"#VALUE!"}},{"$f":"IF(AND((OR(J1=1,J1=2,J1=3,J1=4,J1=5,J1=14)),(AND(N22>=B27,N22<=C27))),D27,0)","v":{"$error":"#VALUE!"}},{"$f":"IF(AND((OR(J1=1,J1=2,J1=3,J1=4,J1=5,J1=14)),(AND(O22>=B27,O22<=C27))),D27,0)","v":{"$error":"#VALUE!"}},{"$f":"IF(AND((OR(J1=1,J1=2,J1=3,J1=4,J1=5,J1=14)),(AND(P22>=B27,P22<=C27))),D27,0)","v":{"$error":"#VALUE!"}},{"$f":"IF(AND((OR(J1=1,J1=2,J1=3,J1=4,J1=5,J1=14)),(AND(Q22>=B27,Q22<=C27))),D27,0)","v":{"$error":"#VALUE!"}},{"$f":"IF(AND((OR(J1=1,J1=2,J1=3,J1=4,J1=5,J1=14)),(AND(R22>=B27,R22<=C27))),D27,0)","v":{"$error":"#VALUE!"}},{"$f":"IF(AND((OR(J1=1,J1=2,J1=3,J1=4,J1=5,J1=14)),(AND(S22>=B27,S22<=C27))),D27,0)","v":{"$error":"#VALUE!"}},{"$f":"IF(AND((OR(J1=1,J1=2,J1=3,J1=4,J1=5,J1=14)),(AND(T22>=B27,T22<=C27))),D27,0)","v":{"$error":"#VALUE!"}},null,"# 50",null,null,null,null,null,null,null,null,null,null,null,null,15,45,5,30,5,20,18,30,13,25,null,null,5,30,null,null,{"$f":"HLOOKUP(J1,W14:AX30,14,FALSE)","v":{"$error":"#N/A"}},{"$f":"IF(HLOOKUP(J1,W14:AX30,14,TRUE)=0,100,HLOOKUP(J1,W14:AX30,14,TRUE))","v":{"$error":"#N/A"}},"25550","00191 ASPHALT SCRATCH COURSE (0.50-IN) ASPHALT BINDER PG64-22",null,null,25,"25550",null,null,null,27,null,null,"Dol. Sand (Unwashed)","10313",null,null,null,null,null,null,null,null,null,null,20400,25400]
["1,2,3,4,5,14",90,90.9,90,{"$f":"IF(AND((OR(J1=1,J1=2,J1=3,J1=4,J1=5,J1=14)),(AND(E22>=B28,E22<=C28))),D28,0)","v":{"$error":"#VALUE!"}},{"$f":"IF(AND((OR(J1=1,J1=2,J1=3,J1=4,J1=5,J1=14)),(AND(F22>=B28,F22<=C28))),D28,0)","v":{"$error":"#VALUE!"}},{"$f":"IF(AND((OR(J1=1,J1=2,J1=3,J1=4,J1=5,J1=14)),(AND(G22>=B28,G22<=C28))),D28,0)","v":{"$error":"#VALUE!"}},{"$f":"IF(AND((OR(J1=1,J1=2,J1=3,J1=4,J1=5,J1=14)),(AND(H22>=B28,H22<=C28))),D28,0)","v":{"$error":"#VALUE!"}},{"$f":"IF(AND((OR(J1=1,J1=2,J1=3,J1=4,J1=5,J1=14)),(AND(I22>=B28,I22<=C28))),D28,0)","v":{"$error":"#VALUE!"}},{"$f":"IF(AND((OR(J1=1,J1=2,J1=3,J1=4,J1=5,J1=14)),(AND(J22>=B28,J22<=C28))),D28,0)","v":{"$error":"#VALUE!"}},{"$f":"IF(AND((OR(J1=1,J1=2,J1=3,J1=4,J1=5,J1=14)),(AND(K22>=B28,K22<=C28))),D28,0)","v":{"$error":"#VALUE!"}},{"$f":"IF(AND((OR(J1=1,J1=2,J1=3,J1=4,J1=5,J1=14)),(AND(L22>=B28,L22<=C28))),D28,0)","v":{"$error":"#VALUE!"}},{"$f":"IF(AND((OR(J1=1,J1=2,J1=3,J1=4,J1=5,J1=14)),(AND(M22>=B28,M22<=C28))),D28,0)","v":{"$error":"#VALUE!"}},{"$f":"IF(AND((OR(J1=1,J1=2,J1=3,J1=4,J1=5,J1=14)),(AND(N22>=B28,N22<=C28))),D28,0)","v":{"$error":"#VALUE!"}},{"$f":"IF(AND((OR(J1=1,J1=2,J1=3,J1=4,J1=5,J1=14)),(AND(O22>=B28,O22<=C28))),D28,0)","v":{"$error":"#VALUE!"}},{"$f":"IF(AND((OR(J1=1,J1=2,J1=3,J1=4,J1=5,J1=14)),(AND(P22>=B28,P22<=C28))),D28,0)","v":{"$error":"#VALUE!"}},{"$f":"IF(AND((OR(J1=1,J1=2,J1=3,J1=4,J1=5,J1=14)),(AND(Q22>=B28,Q22<=C28))),D28,0)","v":{"$error":"#VALUE!"}},{"$f":"IF(AND((OR(J1=1,J1=2,J1=3,J1=4,J1=5,J1=14)),(AND(R22>=B28,R22<=C28))),D28,0)","v":{"$error":"#VALUE!"}},{"$f":"IF(AND((OR(J1=1,J1=2,J1=3,J1=4,J1=5,J1=14)),(AND(S22>=B28,S22<=C28))),D28,0)","v":{"$error":"#VALUE!"}},{"$f":"IF(AND((OR(J1=1,J1=2,J1=3,J1=4,J1=5,J1=14)),(AND(T22>=B28,T22<=C28))),D28,0)","v":{"$error":"#VALUE!"}},null,"# 100",null,null,null,null,null,null,null,null,null,null,null,null,5,15,3,20,3,10,10,21,null,null,null,null,3,20,null,null,{"$f":"HLOOKUP(J1,W14:AX30,15,FALSE)","v":{"$error":"#N/A"}},{"$f":"IF(HLOOKUP(J1,W14:AX30,15,TRUE)=0,100,HLOOKUP(J1,W14:AX30,15,TRUE))","v":{"$error":"#N/A"}},"25575","00191 ASPHALT SCRATCH COURSE (0.75-IN) ASPHALT BASE PG64-22",null,null,26,"25575",null,null,null,28,null,null,"Dol. Sand (Washed)","10310",null,null,null,null,null,null,null,null,null,null,20425,25425]
["1,2,3,4,5,14",97.1,97.5,90,{"$f":"IF(AND((OR(J1=1,J1=2,J1=3,J1=4,J1=5,J1=14)),(AND(E22>=B29,E22<=C29))),D29,0)","v":{"$error":"#VALUE!"}},{"$f":"IF(AND((OR(J1=1,J1=2,J1=3,J1=4,J1=5,J1=14)),(AND(F22>=B29,F22<=C29))),D29,0)","v":{"$error":"#VALUE!"}},{"$f":"IF(AND((OR(J1=1,J1=2,J1=3,J1=4,J1=5,J1=14)),(AND(G22>=B29,G22<=C29))),D29,0)","v":{"$error":"#VALUE!"}},{"$f":"IF(AND((OR(J1=1,J1=2,J1=3,J1=4,J1=5,J1=14)),(AND(H22>=B29,H22<=C29))),D29,0)","v":{"$error":"#VALUE!"}},{"$f":"IF(AND((OR(J1=1,J1=2,J1=3,J1=4,J1=5,J1=14)),(AND(I22>=B29,I22<=C29))),D29,0)","v":{"$error":"#VALUE!"}},{"$f":"IF(AND((OR(J1=1,J1=2,J1=3,J1=4,J1=5,J1=14)),(AND(J22>=B29,J22<=C29))),D29,0)","v":{"$error":"#VALUE!"}},{"$f":"IF(AND((OR(J1=1,J1=2,J1=3,J1=4,J1=5,J1=14)),(AND(K22>=B29,K22<=C29))),D29,0)","v":{"$error":"#VALUE!"}},{"$f":"IF(AND((OR(J1=1,J1=2,J1=3,J1=4,J1=5,J1=14)),(AND(L22>=B29,L22<=C29))),D29,0)","v":{"$error":"#VALUE!"}},{"$f":"IF(AND((OR(J1=1,J1=2,J1=3,J1=4,J1=5,J1=14)),(AND(M22>=B29,M22<=C29))),D29,0)","v":{"$error":"#VALUE!"}},{"$f":"IF(AND((OR(J1=1,J1=2,J1=3,J1=4,J1=5,J1=14)),(AND(N22>=B29,N22<=C29))),D29,0)","v":{"$error":"#VALUE!"}},{"$f":"IF(AND((OR(J1=1,J1=2,J1=3,J1=4,J1=5,J1=14)),(AND(O22>=B29,O22<=C29))),D29,0)","v":{"$error":"#VALUE!"}},{"$f":"IF(AND((OR(J1=1,J1=2,J1=3,J1=4,J1=5,J1=14)),(AND(P22>=B29,P22<=C29))),D29,0)","v":{"$error":"#VALUE!"}},{"$f":"IF(AND((OR(J1=1,J1=2,J1=3,J1=4,J1=5,J1=14)),(AND(Q22>=B29,Q22<=C29))),D29,0)","v":{"$error":"#VALUE!"}},{"$f":"IF(AND((OR(J1=1,J1=2,J1=3,J1=4,J1=5,J1=14)),(AND(R22>=B29,R22<=C29))),D29,0)","v":{"$error":"#VALUE!"}},{"$f":"IF(AND((OR(J1=1,J1=2,J1=3,J1=4,J1=5,J1=14)),(AND(S22>=B29,S22<=C29))),D29,0)","v":{"$error":"#VALUE!"}},{"$f":"IF(AND((OR(J1=1,J1=2,J1=3,J1=4,J1=5,J1=14)),(AND(T22>=B29,T22<=C29))),D29,0)","v":{"$error":"#VALUE!"}},null,"# 200",0,6,1,7,2,8,2,10,2,10,0,4,2,6,2,6,null,null,5,15,6,12,2,5,2,6,6,12,{"$f":"HLOOKUP(J1,W14:AX30,16,FALSE)","v":{"$error":"#N/A"}},{"$f":"IF(HLOOKUP(J1,W14:AX30,16,TRUE)=0,100,HLOOKUP(J1,W14:AX30,16,TRUE))","v":{"$error":"#N/A"}},"25600","00191 ASPHALT SCRATCH COURSE (1.00-IN) ASPHALT BASEPG64-22",null,null,27,"25600",null,null,null,29,null,null,"Dolomite Sand Class A","10436",null,null,null,null,null,null,null,null,null,null,20450,25450]
["1,2,3,4,5,14",97.6,98.5,{"$f":"IF(D15=2,85,0)","v":0},{"$f":"IF(AND((OR(J1=1,J1=2,J1=3,J1=4,J1=5,J1=14)),(AND(E22>=B30,E22<=C30))),D30,0)","v":{"$error":"#VALUE!"}},{"$f":"IF(AND((OR(J1=1,J1=2,J1=3,J1=4,J1=5,J1=14)),(AND(F22>=B30,F22<=C30))),D30,0)","v":{"$error":"#VALUE!"}},{"$f":"IF(AND((OR(J1=1,J1=2,J1=3,J1=4,J1=5,J1=14)),(AND(G22>=B30,G22<=C30))),D30,0)","v":{"$error":"#VALUE!"}},{"$f":"IF(AND((OR(J1=1,J1=2,J1=3,J1=4,J1=5,J1=14)),(AND(H22>=B30,H22<=C30))),D30,0)","v":{"$error":"#VALUE!"}},{"$f":"IF(AND((OR(J1=1,J1=2,J1=3,J1=4,J1=5,J1=14)),(AND(I22>=B30,I22<=C30))),D30,0)","v":{"$error":"#VALUE!"}},{"$f":"IF(AND((OR(J1=1,J1=2,J1=3,J1=4,J1=5,J1=14)),(AND(J22>=B30,J22<=C30))),D30,0)","v":{"$error":"#VALUE!"}},{"$f":"IF(AND((OR(J1=1,J1=2,J1=3,J1=4,J1=5,J1=14)),(AND(K22>=B30,K22<=C30))),D30,0)","v":{"$error":"#VALUE!"}},{"$f":"IF(AND((OR(J1=1,J1=2,J1=3,J1=4,J1=5,J1=14)),(AND(L22>=B30,L22<=C30))),D30,0)","v":{"$error":"#VALUE!"}},{"$f":"IF(AND((OR(J1=1,J1=2,J1=3,J1=4,J1=5,J1=14)),(AND(M22>=B30,M22<=C30))),D30,0)","v":{"$error":"#VALUE!"}},{"$f":"IF(AND((OR(J1=1,J1=2,J1=3,J1=4,J1=5,J1=14)),(AND(N22>=B30,N22<=C30))),D30,0)","v":{"$error":"#VALUE!"}},{"$f":"IF(AND((OR(J1=1,J1=2,J1=3,J1=4,J1=5,J1=14)),(AND(O22>=B30,O22<=C30))),D30,0)","v":{"$error":"#VALUE!"}},{"$f":"IF(AND((OR(J1=1,J1=2,J1=3,J1=4,J1=5,J1=14)),(AND(P22>=B30,P22<=C30))),D30,0)","v":{"$error":"#VALUE!"}},{"$f":"IF(AND((OR(J1=1,J1=2,J1=3,J1=4,J1=5,J1=14)),(AND(Q22>=B30,Q22<=C30))),D30,0)","v":{"$error":"#VALUE!"}},{"$f":"IF(AND((OR(J1=1,J1=2,J1=3,J1=4,J1=5,J1=14)),(AND(R22>=B30,R22<=C30))),D30,0)","v":{"$error":"#VALUE!"}},{"$f":"IF(AND((OR(J1=1,J1=2,J1=3,J1=4,J1=5,J1=14)),(AND(S22>=B30,S22<=C30))),D30,0)","v":{"$error":"#VALUE!"}},{"$f":"IF(AND((OR(J1=1,J1=2,J1=3,J1=4,J1=5,J1=14)),(AND(T22>=B30,T22<=C30))),D30,0)","v":{"$error":"#VALUE!"}},null,"% AC",0.5,null,0.5,null,0.5,null,0.5,null,0.5,null,0.5,null,0.5,null,0.5,null,0.5,null,0.5,null,0.5,null,0.4,null,0.5,null,0.5,null,{"$f":"HLOOKUP(J1,W14:AX30,17,FALSE)","v":{"$error":"#N/A"}},null,"25625","00191 ASPHALT SCRATCH COURSE (1.50) ASPHALT BASE PG64-22",null,null,28,"25625",null,null,null,30,null,null,"Dolomite Sand Class B","10437",null,null,null,null,null,null,null,null,null,null,20475,25475]
["1,2,3,4,5,14",89,89.9,{"$f":"IF(D15=2,75,0)","v":0},{"$f":"IF(AND((OR(J1=1,J1=2,J1=3,J1=4,J1=5,J1=14)),(AND(E22>=B31,E22<=C31))),D31,0)","v":{"$error":"#VALUE!"}},{"$f":"IF(AND((OR(J1=1,J1=2,J1=3,J1=4,J1=5,J1=14)),(AND(F22>=B31,F22<=C31))),D31,0)","v":{"$error":"#VALUE!"}},{"$f":"IF(AND((OR(J1=1,J1=2,J1=3,J1=4,J1=5,J1=14)),(AND(G22>=B31,G22<=C31))),D31,0)","v":{"$error":"#VALUE!"}},{"$f":"IF(AND((OR(J1=1,J1=2,J1=3,J1=4,J1=5,J1=14)),(AND(H22>=B31,H22<=C31))),D31,0)","v":{"$error":"#VALUE!"}},{"$f":"IF(AND((OR(J1=1,J1=2,J1=3,J1=4,J1=5,J1=14)),(AND(I22>=B31,I22<=C31))),D31,0)","v":{"$error":"#VALUE!"}},{"$f":"IF(AND((OR(J1=1,J1=2,J1=3,J1=4,J1=5,J1=14)),(AND(J22>=B31,J22<=C31))),D31,0)","v":{"$error":"#VALUE!"}},{"$f":"IF(AND((OR(J1=1,J1=2,J1=3,J1=4,J1=5,J1=14)),(AND(K22>=B31,K22<=C31))),D31,0)","v":{"$error":"#VALUE!"}},{"$f":"IF(AND((OR(J1=1,J1=2,J1=3,J1=4,J1=5,J1=14)),(AND(L22>=B31,L22<=C31))),D31,0)","v":{"$error":"#VALUE!"}},{"$f":"IF(AND((OR(J1=1,J1=2,J1=3,J1=4,J1=5,J1=14)),(AND(M22>=B31,M22<=C31))),D31,0)","v":{"$error":"#VALUE!"}},{"$f":"IF(AND((OR(J1=1,J1=2,J1=3,J1=4,J1=5,J1=14)),(AND(N22>=B31,N22<=C31))),D31,0)","v":{"$error":"#VALUE!"}},{"$f":"IF(AND((OR(J1=1,J1=2,J1=3,J1=4,J1=5,J1=14)),(AND(O22>=B31,O22<=C31))),D31,0)","v":{"$error":"#VALUE!"}},{"$f":"IF(AND((OR(J1=1,J1=2,J1=3,J1=4,J1=5,J1=14)),(AND(P22>=B31,P22<=C31))),D31,0)","v":{"$error":"#VALUE!"}},{"$f":"IF(AND((OR(J1=1,J1=2,J1=3,J1=4,J1=5,J1=14)),(AND(Q22>=B31,Q22<=C31))),D31,0)","v":{"$error":"#VALUE!"}},{"$f":"IF(AND((OR(J1=1,J1=2,J1=3,J1=4,J1=5,J1=14)),(AND(R22>=B31,R22<=C31))),D31,0)","v":{"$error":"#VALUE!"}},{"$f":"IF(AND((OR(J1=1,J1=2,J1=3,J1=4,J1=5,J1=14)),(AND(S22>=B31,S22<=C31))),D31,0)","v":{"$error":"#VALUE!"}},{"$f":"IF(AND((OR(J1=1,J1=2,J1=3,J1=4,J1=5,J1=14)),(AND(T22>=B31,T22<=C31))),D31,0)","v":{"$error":"#VALUE!"}},null,null,null,null,null,null,null,null,null,null,null,null,null,null,null,null,null,null,null,null,null,null,null,null,null,null,null,null,null,null,null,null,"25365","00193 ASPHALT SCRATCH COURSE (NO. 4) PG76-22",null,null,29,"25365",null,null,null,31,null,null,"Granite #67's","10355",null,null,null,null,null,null,null,null,null,null,20375,25375]
["1,2,3,4,5,14",0,{"$f":"IF(D15=2,88.9,89.9)","v":89.9},65,{"$f":"IF(AND((OR(J1=1,J1=2,J1=3,J1=4,J1=5,J1=14)),(AND(E22>=B32,E22<=C32))),D32,0)","v":{"$error":"#VALUE!"}},{"$f":"IF(AND((OR(J1=1,J1=2,J1=3,J1=4,J1=5,J1=14)),(AND(F22>=B32,F22<=C32))),D32,0)","v":{"$error":"#VALUE!"}},{"$f":"IF(AND((OR(J1=1,J1=2,J1=3,J1=4,J1=5,J1=14)),(AND(G22>=B32,G22<=C32))),D32,0)","v":{"$error":"#VALUE!"}},{"$f":"IF(AND((OR(J1=1,J1=2,J1=3,J1=4,J1=5,J1=14)),(AND(H22>=B32,H22<=C32))),D32,0)","v":{"$error":"#VALUE!"}},{"$f":"IF(AND((OR(J1=1,J1=2,J1=3,J1=4,J1=5,J1=14)),(AND(I22>=B32,I22<=C32))),D32,0)","v":{"$error":"#VALUE!"}},{"$f":"IF(AND((OR(J1=1,J1=2,J1=3,J1=4,J1=5,J1=14)),(AND(J22>=B32,J22<=C32))),D32,0)","v":{"$error":"#VALUE!"}},{"$f":"IF(AND((OR(J1=1,J1=2,J1=3,J1=4,J1=5,J1=14)),(AND(K22>=B32,K22<=C32))),D32,0)","v":{"$error":"#VALUE!"}},{"$f":"IF(AND((OR(J1=1,J1=2,J1=3,J1=4,J1=5,J1=14)),(AND(L22>=B32,L22<=C32))),D32,0)","v":{"$error":"#VALUE!"}},{"$f":"IF(AND((OR(J1=1,J1=2,J1=3,J1=4,J1=5,J1=14)),(AND(M22>=B32,M22<=C32))),D32,0)","v":{"$error":"#VALUE!"}},{"$f":"IF(AND((OR(J1=1,J1=2,J1=3,J1=4,J1=5,J1=14)),(AND(N22>=B32,N22<=C32))),D32,0)","v":{"$error":"#VALUE!"}},{"$f":"IF(AND((OR(J1=1,J1=2,J1=3,J1=4,J1=5,J1=14)),(AND(O22>=B32,O22<=C32))),D32,0)","v":{"$error":"#VALUE!"}},{"$f":"IF(AND((OR(J1=1,J1=2,J1=3,J1=4,J1=5,J1=14)),(AND(P22>=B32,P22<=C32))),D32,0)","v":{"$error":"#VALUE!"}},{"$f":"IF(AND((OR(J1=1,J1=2,J1=3,J1=4,J1=5,J1=14)),(AND(Q22>=B32,Q22<=C32))),D32,0)","v":{"$error":"#VALUE!"}},{"$f":"IF(AND((OR(J1=1,J1=2,J1=3,J1=4,J1=5,J1=14)),(AND(R22>=B32,R22<=C32))),D32,0)","v":{"$error":"#VALUE!"}},{"$f":"IF(AND((OR(J1=1,J1=2,J1=3,J1=4,J1=5,J1=14)),(AND(S22>=B32,S22<=C32))),D32,0)","v":{"$error":"#VALUE!"}},{"$f":"IF(AND((OR(J1=1,J1=2,J1=3,J1=4,J1=5,J1=14)),(AND(T22>=B32,T22<=C32))),D32,0)","v":{"$error":"#VALUE!"}},null,null,null,null,null,null,null,null,null,null,null,null,null,null,null,null,"Extraction",null,null,null,null,null,null,null,null,null,"Site Manager Info",null,null,null,null,null,"25375","00193 ASPHALT SCRATCH COURSE (0.38-IN.) PG76-22",null,null,30,"25375",null,null,null,32,null,null,"Granite #78's","10385",null,null,null,null,null,null,null,null,null,null,20400,25400]
["1,2,3,4,5,14",{"$f":"IF(D15=2,98.6,97.6)","v":97.6},200,65,{"$f":"IF(AND((OR(J1=1,J1=2,J1=3,J1=4,J1=5,J1=14)),(AND(E22>=B33,E22<=C33))),D33,0)","v":{"$error":"#VALUE!"}},{"$f":"IF(AND((OR(J1=1,J1=2,J1=3,J1=4,J1=5,J1=14)),(AND(F22>=B33,F22<=C33))),D33,0)","v":{"$error":"#VALUE!"}},{"$f":"IF(AND((OR(J1=1,J1=2,J1=3,J1=4,J1=5,J1=14)),(AND(G22>=B33,G22<=C33))),D33,0)","v":{"$error":"#VALUE!"}},{"$f":"IF(AND((OR(J1=1,J1=2,J1=3,J1=4,J1=5,J1=14)),(AND(H22>=B33,H22<=C33))),D33,0)","v":{"$error":"#VALUE!"}},{"$f":"IF(AND((OR(J1=1,J1=2,J1=3,J1=4,J1=5,J1=14)),(AND(I22>=B33,I22<=C33))),D33,0)","v":{"$error":"#VALUE!"}},{"$f":"IF(AND((OR(J1=1,J1=2,J1=3,J1=4,J1=5,J1=14)),(AND(J22>=B33,J22<=C33))),D33,0)","v":{"$error":"#VALUE!"}},{"$f":"IF(AND((OR(J1=1,J1=2,J1=3,J1=4,J1=5,J1=14)),(AND(K22>=B33,K22<=C33))),D33,0)","v":{"$error":"#VALUE!"}},{"$f":"IF(AND((OR(J1=1,J1=2,J1=3,J1=4,J1=5,J1=14)),(AND(L22>=B33,L22<=C33))),D33,0)","v":{"$error":"#VALUE!"}},{"$f":"IF(AND((OR(J1=1,J1=2,J1=3,J1=4,J1=5,J1=14)),(AND(M22>=B33,M22<=C33))),D33,0)","v":{"$error":"#VALUE!"}},{"$f":"IF(AND((OR(J1=1,J1=2,J1=3,J1=4,J1=5,J1=14)),(AND(N22>=B33,N22<=C33))),D33,0)","v":{"$error":"#VALUE!"}},{"$f":"IF(AND((OR(J1=1,J1=2,J1=3,J1=4,J1=5,J1=14)),(AND(O22>=B33,O22<=C33))),D33,0)","v":{"$error":"#VALUE!"}},{"$f":"IF(AND((OR(J1=1,J1=2,J1=3,J1=4,J1=5,J1=14)),(AND(P22>=B33,P22<=C33))),D33,0)","v":{"$error":"#VALUE!"}},{"$f":"IF(AND((OR(J1=1,J1=2,J1=3,J1=4,J1=5,J1=14)),(AND(Q22>=B33,Q22<=C33))),D33,0)","v":{"$error":"#VALUE!"}},{"$f":"IF(AND((OR(J1=1,J1=2,J1=3,J1=4,J1=5,J1=14)),(AND(R22>=B33,R22<=C33))),D33,0)","v":{"$error":"#VALUE!"}},{"$f":"IF(AND((OR(J1=1,J1=2,J1=3,J1=4,J1=5,J1=14)),(AND(S22>=B33,S22<=C33))),D33,0)","v":{"$error":"#VALUE!"}},{"$f":"IF(AND((OR(J1=1,J1=2,J1=3,J1=4,J1=5,J1=14)),(AND(T22>=B33,T22<=C33))),D33,0)","v":{"$error":"#VALUE!"}},null,null,null,null,null,null,null,null,null,null,null,null,null,null,null,1,"Back-Calculation of MSG",null,null,null,null,null,"Super Verify # 1",null,null,null,{"$f":"IF(AP33=\"\",\"\",VLOOKUP(AP33,AJ$33:AK$37,2,FALSE))","v":""},null,null,null,null,"QA01","25400","00193 ASPHALT SCRATCH COURSE (0.50-IN.) PG76-22",null,null,31,"25400",null,null,null,33,null,null,"Granite #8's","10400",null,null,null,null,null,null,null,null,null,null,20425,25425]
["Pay Value (%)",null,null,null,{"$f":"IF(SUM(E24:E33)=0,\"MCL\",SUM(E24:E33))","v":{"$error":"#VALUE!"}},{"$f":"IF(SUM(F24:F33)=0,\"MCL\",SUM(F24:F33))","v":{"$error":"#VALUE!"}},{"$error":"#VALUE!"},{"$error":"#VALUE!"},{"$error":"#VALUE!"},{"$error":"#VALUE!"},{"$error":"#VALUE!"},{"$error":"#VALUE!"},{"$error":"#VALUE!"},{"$error":"#VALUE!"},{"$error":"#VALUE!"},{"$error":"#VALUE!"},{"$error":"#VALUE!"},{"$error":"#VALUE!"},{"$error":"#VALUE!"},{"$error":"#VALUE!"},null,null,null,null,null,null,null,null,null,null,null,null,null,null,null,2,"Extraction",null,null,null,null,null,"Super Verify # 2",null,null,null,"",null,null,null,null,"IQ01","25425","00193 ASPHALT SCRATCH COURSE (0.75-IN.) PG76-22",null,null,32,"25425",null,null,null,34,null,null,"Granite #9M's","10415",null,null,null,null,null,null,null,null,null,null,20450,25450]
[null,null,null,null,null,null,null,null,null,null,null,null,null,null,null,null,null,null,null,null,null,null,null,null,null,null,null,null,null,null,null,null,null,null,null,3,"Ignition Furnace",null,null,null,null,null,"Gradation # 1",null,null,null,"",null,null,null,null,"QC01","25450","00193 ASPHALT SCRATCH COURSE (1.00-IN.) PG76-22",null,null,33,"25450",null,null,null,35,null,null,"Granite Sand","10436",null,null,null,null,null,null,null,null,null,null,20475,25475]
["Air Voids",null,null,null,null,null,null,null,null,null,"Pay Factors for Gradation Calculations",null,null,null,null,null,null,null,null,null,null,null,null,null,null,null,null,null,null,null,null,null,null,{"$f":"'Accept. Grad. # 4'!G8","v":""},null,4,"NACG",null,null,null,null,null,"Gradation # 2",null,null,null,"",null,null,null,null,"QC02","25475","00193 ASPHALT SCRATCH COURSE (1.50-IN.) PG76-22",null,null,34,"25475",null,null,null,36,null,null,"Gravel #57's","10345",null,null,null,null,null,null,null,null,null,null,20375,25375]
[null,null,null,null,{"$f":"ROUND('Pay Values'!F13,1)","v":{"$error":"#VALUE!"}},{"$f":"ROUND('Pay Values'!F14,1)","v":{"$error":"#VALUE!"}},{"$f":"ROUND('Pay Values'!F15,1)","v":{"$error":"#VALUE!"}},{"$f":"ROUND('Pay Values'!F16,1)","v":{"$error":"#VALUE!"}},null,null,{"$f":"'Accept. Grad. # 1'!H8","v":""},{"$f":"'Accept. Grad. # 1'!B8","v":0},{"$f":"'Accept. Grad. # 1'!A8","v":"2 \""},null,{"$f":"'Accept. Grad. # 1'!F8","v":""},{"$f":"'Accept. Grad. # 1'!G8","v":""},{"$f":"'Accept. Grad. # 2'!H8","v":""},{"$f":"'Accept. Grad. # 2'!B8","v":0},{"$f":"'Accept. Grad. # 2'!A8","v":"2 \""},null,{"$f":"'Accept. Grad. # 2'!F8","v":""},{"$f":"'Accept. Grad. # 2'!G8","v":""},{"$f":"'Accept. Grad. # 3'!H8","v":""},{"$f":"'Accept. Grad. # 3'!B8","v":0},{"$f":"'Accept. Grad. # 3'!A8","v":"2 \""},null,{"$f":"'Accept. Grad. # 3'!F8","v":""},{"$f":"'Accept. Grad. # 3'!G8","v":""},{"$f":"'Accept. Grad. # 4'!H8","v":""},{"$f":"'Accept. Grad. # 4'!B8","v":0},{"$f":"'Accept. Grad. # 4'!A8","v":"2 \""},null,{"$f":"'Accept. Grad. # 4'!F8","v":""},{"$f":"'Accept. Grad. # 4'!G8","v":""},null,5,"Printed Ticket",null,null,null,null,null,"Gradation # 3",null,null,null,"",null,null,null,null,"QC03","25490","00193 ASPHALT SCRATCH COURSE (NO. 4) ASPHALT SURFACE PG76-22",null,null,35,"25490",null,null,null,37,null,null,"Gravel #67's","10355",null,null,null,null,null,null,null,null,null,null,20400,25400]
["Type Mix","Min","Max","Factor",1,2,3,4,null,null,{"$f":"'Accept. Grad. # 1'!H9","v":""},{"$f":"'Accept. Grad. # 1'!B9","v":0},{"$f":"'Accept. Grad. # 1'!A9","v":"1 1/2 \""},null,{"$f":"'Accept. Grad. # 1'!F9","v":""},{"$f":"'Accept. Grad. # 1'!G9","v":""},{"$f":"'Accept. Grad. # 2'!H9","v":""},{"$f":"'Accept. Grad. # 2'!B9","v":0},{"$f":"'Accept. Grad. # 2'!A9","v":"1 1/2 \""},null,{"$f":"'Accept. Grad. # 2'!F9","v":""},{"$f":"'Accept. Grad. # 2'!G9","v":""},{"$f":"'Accept. Grad. # 3'!H9","v":""},{"$f":"'Accept. Grad. # 3'!B9","v":0},{"$f":"'Accept. Grad. # 3'!A9","v":"1 1/2 \""},null,{"$f":"'Accept. Grad. # 3'!F9","v":""},{"$f":"'Accept. Grad. # 3'!G9","v":""},{"$f":"'Accept. Grad. # 4'!H9","v":""},{"$f":"'Accept. Grad. # 4'!B9","v":0},{"$f":"'Accept. Grad. # 4'!A9","v":"1 1/2 \""},null,{"$f":"'Accept. Grad. # 4'!F9","v":""},{"$f":"'Accept. Grad. # 4'!G9","v":""},null,null,null,null,null,null,null,null,"Gradation # 4",null,null,null,"",null,null,null,null,"QC04","25500","00193 ASPHALT SCRATCH COURSE (0.38-IN) ASPHALT SURFACE PG76-22",null,null,36,"25500",null,null,null,38,null,null,"Gravel #78's","10385",null,null,null,null,null,null,null,null,null,null,20425,25425]
["1,2,3,4,5,14",3,4,105,{"$f":"IF(AND((OR(J1=1,J1=2,J1=3,J1=4,J1=5,J1=14)),(AND(E37>=B39,E37<=C39))),D39,0)","v":{"$error":"#VALUE!"}},{"$f":"IF(AND((OR(J1=1,J1=2,J1=3,J1=4,J1=5,J1=14)),(AND(F37>=B39,F37<=C39))),D39,0)","v":{"$error":"#VALUE!"}},{"$f":"IF(AND((OR(J1=1,J1=2,J1=3,J1=4,J1=5,J1=14)),(AND(G37>=B39,G37<=C39))),D39,0)","v":{"$error":"#VALUE!"}},{"$f":"IF(AND((OR(J1=1,J1=2,J1=3,J1=4,J1=5,J1=14)),(AND(H37>=B39,H37<=C39))),D39,0)","v":{"$error":"#VALUE!"}},null,null,{"$f":"'Accept. Grad. # 1'!H10","v":""},{"$f":"'Accept. Grad. # 1'!B10","v":0},{"$f":"'Accept. Grad. # 1'!A10","v":"1 \""},null,{"$f":"'Accept. Grad. # 1'!F10","v":""},{"$f":"'Accept. Grad. # 1'!G10","v":""},{"$f":"'Accept. Grad. # 2'!H10","v":""},{"$f":"'Accept. Grad. # 2'!B10","v":0},{"$f":"'Accept. Grad. # 2'!A10","v":"1 \""},null,{"$f":"'Accept. Grad. # 2'!F10","v":""},{"$f":"'Accept. Grad. # 2'!G10","v":""},{"$f":"'Accept. Grad. # 3'!H10","v":""},{"$f":"'Accept. Grad. # 3'!B10","v":0},{"$f":"'Accept. Grad. # 3'!A10","v":"1 \""},null,{"$f":"'Accept. Grad. # 3'!F10","v":""},{"$f":"'Accept. Grad. # 3'!G10","v":""},{"$f":"'Accept. Grad. # 4'!H10","v":""},{"$f":"'Accept. Grad. # 4'!B10","v":0},{"$f":"'Accept. Grad. # 4'!A10","v":"1 \""},null,{"$f":"'Accept. Grad. # 4'!F10","v":""},{"$f":"'Accept. Grad. # 4'!G10","v":""},null,null,"Wt. of Bowl:",null,null,null,null,null,"Accept. Grad. # 1",null,null,null,null,null,null,null,null,null,"25525","00193 ASPHALT SCRATCH COURSE (0.50-IN) ASPHALT SURFACE PG76-22",null,null,37,"25525",null,null,null,39,null,null,"Gravel #8's","10400",null,null,null,null,null,null,null,null,null,null,20450,25450]
["1,2,3,4,5,14",{"$f":"IF(D15=2,1.5,2)","v":2},2.9,0,{"$f":"IF(AND((OR(J1=1,J1=2,J1=3,J1=4,J1=5,J1=14)),(AND(E37>=B40,E37<=C40))),(1+(0.1*(E37-3)))*100,0)","v":{"$error":"#VALUE!"}},{"$f":"IF(AND((OR(J1=1,J1=2,J1=3,J1=4,J1=5,J1=14)),(AND(F37>=B40,F37<=C40))),(1+(0.1*(F37-3)))*100,0)","v":{"$error":"#VALUE!"}},{"$f":"IF(AND((OR(J1=1,J1=2,J1=3,J1=4,J1=5,J1=14)),(AND(G37>=B40,G37<=C40))),(1+(0.1*(G37-3)))*100,0)","v":{"$error":"#VALUE!"}},{"$f":"IF(AND((OR(J1=1,J1=2,J1=3,J1=4,J1=5,J1=14)),(AND(H37>=B40,H37<=C40))),(1+(0.1*(H37-3)))*100,0)","v":{"$error":"#VALUE!"}},null,null,{"$f":"'Accept. Grad. # 1'!H11","v":""},{"$f":"'Accept. Grad. # 1'!B11","v":0},{"$f":"'Accept. Grad. # 1'!A11","v":"3/4 \""},null,{"$f":"'Accept. Grad. # 1'!F11","v":""},{"$f":"'Accept. Grad. # 1'!G11","v":""},{"$f":"'Accept. Grad. # 2'!H11","v":""},{"$f":"'Accept. Grad. # 2'!B11","v":0},{"$f":"'Accept. Grad. # 2'!A11","v":"3/4 \""},null,{"$f":"'Accept. Grad. # 2'!F11","v":""},{"$f":"'Accept. Grad. # 2'!G11","v":""},{"$f":"'Accept. Grad. # 3'!H11","v":""},{"$f":"'Accept. Grad. # 3'!B11","v":0},{"$f":"'Accept. Grad. # 3'!A11","v":"3/4 \""},null,{"$f":"'Accept. Grad. # 3'!F11","v":""},{"$f":"'Accept. Grad. # 3'!G11","v":""},{"$f":"'Accept. Grad. # 4'!H11","v":""},{"$f":"'Accept. Grad. # 4'!B11","v":0},{"$f":"'Accept. Grad. # 4'!A11","v":"3/4 \""},null,{"$f":"'Accept. Grad. # 4'!F11","v":""},{"$f":"'Accept. Grad. # 4'!G11","v":""},null,null,"Wt. of Bowl & Sample:",null,null,null,null,null,"Accept. Grad. # 2",null,null,null,null,null,null,null,null,null,"25550","00193 ASPHALT SCRATCH COURSE (0.50-IN) ASPHALT BINDER PG76-22",null,null,38,"25550",null,null,null,40,null,null,"Gravel #9M's","10415",null,null,null,null,null,null,null,null,null,null,20475,25475]
["1,2,3,4,5,14",4.0999999999999996,6,0,{"$f":"IF(AND((OR(J1=1,J1=2,J1=3,J1=4,J1=5,J1=14)),(AND(E37>=B41,E37<=C41))),(1+(0.1*(4.5-E37)))*100,0)","v":{"$error":"#VALUE!"}},{"$f":"IF(AND((OR(J1=1,J1=2,J1=3,J1=4,J1=5,J1=14)),(AND(F37>=B41,F37<=C41))),(1+(0.1*(4.5-F37)))*100,0)","v":{"$error":"#VALUE!"}},{"$f":"IF(AND((OR(J1=1,J1=2,J1=3,J1=4,J1=5,J1=14)),(AND(G37>=B41,G37<=C41))),(1+(0.1*(4.5-G37)))*100,0)","v":{"$error":"#VALUE!"}},{"$f":"IF(AND((OR(J1=1,J1=2,J1=3,J1=4,J1=5,J1=14)),(AND(H37>=B41,H37<=C41))),(1+(0.1*(4.5-H37)))*100,0)","v":{"$error":"#VALUE!"}},null,null,{"$f":"'Accept. Grad. # 1'!H12","v":""},{"$f":"'Accept. Grad. # 1'!B12","v":0},{"$f":"'Accept. Grad. # 1'!A12","v":"1/2 \" "},null,{"$f":"'Accept. Grad. # 1'!F12","v":""},{"$f":"'Accept. Grad. # 1'!G12","v":""},{"$f":"'Accept. Grad. # 2'!H12","v":""},{"$f":"'Accept. Grad. # 2'!B12","v":0},{"$f":"'Accept. Grad. # 2'!A12","v":"1/2 \" "},null,{"$f":"'Accept. Grad. # 2'!F12","v":""},{"$f":"'Accept. Grad. # 2'!G12","v":""},{"$f":"'Accept. Grad. # 3'!H12","v":""},{"$f":"'Accept. Grad. # 3'!B12","v":0},{"$f":"'Accept. Grad. # 3'!A12","v":"1/2 \" "},null,{"$f":"'Accept. Grad. # 3'!F12","v":""},{"$f":"'Accept. Grad. # 3'!G12","v":""},{"$f":"'Accept. Grad. # 4'!H12","v":""},{"$f":"'Accept. Grad. # 4'!B12","v":0},{"$f":"'Accept. Grad. # 4'!A12","v":"1/2 \" "},null,{"$f":"'Accept. Grad. # 4'!F12","v":""},{"$f":"'Accept. Grad. # 4'!G12","v":""},null,null,"Pad Gain:",null,null,null,null,null,"Accept. Grad. # 3",null,null,null,null,null,null,null,null,null,"25575","00193 ASPHALT SCRATCH COURSE (0.75-IN) ASPHALT BASE PG76-22",null,null,39,"25575",null,null,null,41,null,null,"Gravel Sand-Crushed","10305",null,null,null,null,null,null,null,null,null,null,20375,25375]
["1,2,3,4,5,14",{"$f":"IF(D15=2,6.1,0)","v":0},{"$f":"IF(D15=2,6.5,0)","v":0},75,{"$f":"IF(AND((OR(J1=1,J1=2,J1=3,J1=4,J1=5,J1=14)),(AND(E37>=B42,E37<=C42))),D42,0)","v":{"$error":"#VALUE!"}},{"$f":"IF(AND((OR(J1=1,J1=2,J1=3,J1=4,J1=5,J1=14)),(AND(F37>=B42,F37<=C42))),D42,0)","v":{"$error":"#VALUE!"}},{"$f":"IF(AND((OR(J1=1,J1=2,J1=3,J1=4,J1=5,J1=14)),(AND(G37>=B42,G37<=C42))),D42,0)","v":{"$error":"#VALUE!"}},{"$f":"IF(AND((OR(J1=1,J1=2,J1=3,J1=4,J1=5,J1=14)),(AND(H37>=B42,H37<=C42))),D42,0)","v":{"$error":"#VALUE!"}},null,null,{"$f":"'Accept. Grad. # 1'!H13","v":""},{"$f":"'Accept. Grad. # 1'!B13","v":0},{"$f":"'Accept. Grad. # 1'!A13","v":"3/8 \""},null,{"$f":"'Accept. Grad. # 1'!F13","v":""},{"$f":"'Accept. Grad. # 1'!G13","v":""},{"$f":"'Accept. Grad. # 2'!H13","v":""},{"$f":"'Accept. Grad. # 2'!B13","v":0},{"$f":"'Accept. Grad. # 2'!A13","v":"3/8 \""},null,{"$f":"'Accept. Grad. # 2'!F13","v":""},{"$f":"'Accept. Grad. # 2'!G13","v":""},{"$f":"'Accept. Grad. # 3'!H13","v":""},{"$f":"'Accept. Grad. # 3'!B13","v":0},{"$f":"'Accept. Grad. # 3'!A13","v":"3/8 \""},null,{"$f":"'Accept. Grad. # 3'!F13","v":""},{"$f":"'Accept. Grad. # 3'!G13","v":""},{"$f":"'Accept. Grad. # 4'!H13","v":""},{"$f":"'Accept. Grad. # 4'!B13","v":0},{"$f":"'Accept. Grad. # 4'!A13","v":"3/8 \""},null,{"$f":"'Accept. Grad. # 4'!F13","v":""},{"$f":"'Accept. Grad. # 4'!G13","v":""},null,null,"Wt. of Dry Agg.:",null,null,null,null,null,"Accept. Grad. # 4",null,null,null,null,null,null,null,null,null,"25600","00193 ASPHALT SCRATCH COURSE (1.00-IN) ASPHALT BASE PG76-22",null,null,40,"25600",null,null,null,42,null,null,"LS #10's (Unwashed)","10293",null,null,null,null,null,null,null,null,null,null,20400,25400]
["1,2,3,4,5,14",{"$f":"IF(D15=2,1.4,1.9)","v":1.9},{"$f":"IF(D15=2,6.6,6.1)","v":6.1},65,{"$f":"IF(AND((OR(J1=1,J1=2,J1=3,J1=4,J1=5,J1=14)),(OR(E37>=B43,E37<=C43))),D43,0)","v":{"$error":"#VALUE!"}},{"$f":"IF(AND((OR(J1=1,J1=2,J1=3,J1=4,J1=5,J1=14)),(OR(F37>=B43,F37<=C43))),D43,0)","v":{"$error":"#VALUE!"}},{"$f":"IF(AND((OR(J1=1,J1=2,J1=3,J1=4,J1=5,J1=14)),(OR(G37>=B43,G37<=C43))),D43,0)","v":{"$error":"#VALUE!"}},{"$f":"IF(AND((OR(J1=1,J1=2,J1=3,J1=4,J1=5,J1=14)),(OR(H37>=B43,H37<=C43))),D43,0)","v":{"$error":"#VALUE!"}},null,null,{"$f":"'Accept. Grad. # 1'!H14","v":""},{"$f":"'Accept. Grad. # 1'!B14","v":0},{"$f":"'Accept. Grad. # 1'!A14","v":"# 4"},null,{"$f":"'Accept. Grad. # 1'!F14","v":""},{"$f":"'Accept. Grad. # 1'!G14","v":""},{"$f":"'Accept. Grad. # 2'!H14","v":""},{"$f":"'Accept. Grad. # 2'!B14","v":0},{"$f":"'Accept. Grad. # 2'!A14","v":"# 4"},null,{"$f":"'Accept. Grad. # 2'!F14","v":""},{"$f":"'Accept. Grad. # 2'!G14","v":""},{"$f":"'Accept. Grad. # 3'!H14","v":""},{"$f":"'Accept. Grad. # 3'!B14","v":0},{"$f":"'Accept. Grad. # 3'!A14","v":"# 4"},null,{"$f":"'Accept. Grad. # 3'!F14","v":""},{"$f":"'Accept. Grad. # 3'!G14","v":""},{"$f":"'Accept. Grad. # 4'!H14","v":""},{"$f":"'Accept. Grad. # 4'!B14","v":0},{"$f":"'Accept. Grad. # 4'!A14","v":"# 4"},null,{"$f":"'Accept. Grad. # 4'!F14","v":""},{"$f":"'Accept. Grad. # 4'!G14","v":""},null,null,null,null,null,null,null,null,null,null,null,null,null,null,null,null,null,null,"25625","00193 ASPHALT SCRATCH COURSE (1.50-IN) ASPHALT BASE PG76-22",null,null,41,"25625",null,null,null,43,null,null,"LS #10's (Washed)","10290",null,null,null,null,null,null,null,null,null,null,20425,25425]
["Pay Value (%)",null,null,null,{"$f":"MAX(E39:E43)","v":{"$error":"#VALUE!"}},{"$f":"MAX(F39:F43)","v":{"$error":"#VALUE!"}},{"$f":"MAX(G39:G43)","v":{"$error":"#VALUE!"}},{"$f":"MAX(H39:H43)","v":{"$error":"#VALUE!"}},null,null,{"$f":"'Accept. Grad. # 1'!H15","v":""},{"$f":"'Accept. Grad. # 1'!B15","v":0},{"$f":"'Accept. Grad. # 1'!A15","v":"# 8"},null,{"$f":"'Accept. Grad. # 1'!F15","v":""},{"$f":"'Accept. Grad. # 1'!G15","v":""},{"$f":"'Accept. Grad. # 2'!H15","v":""},{"$f":"'Accept. Grad. # 2'!B15","v":0},{"$f":"'Accept. Grad. # 2'!A15","v":"# 8"},null,{"$f":"'Accept. Grad. # 2'!F15","v":""},{"$f":"'Accept. Grad. # 2'!G15","v":""},{"$f":"'Accept. Grad. # 3'!H15","v":""},{"$f":"'Accept. Grad. # 3'!B15","v":0},{"$f":"'Accept. Grad. # 3'!A15","v":"# 8"},null,{"$f":"'Accept. Grad. # 3'!F15","v":""},{"$f":"'Accept. Grad. # 3'!G15","v":""},{"$f":"'Accept. Grad. # 4'!H15","v":""},{"$f":"'Accept. Grad. # 4'!B15","v":0},{"$f":"'Accept. Grad. # 4'!A15","v":"# 8"},null,{"$f":"'Accept. Grad. # 4'!F15","v":""},{"$f":"'Accept. Grad. # 4'!G15","v":""},null,null,null,null,null,null,null,null,null,null,null,null,null,null,null,null,null,null,"25240","00194 LEVELING & WEDGING (NO. 4) PG76-22",null,null,42,"25240",null,null,null,44,null,null,"LS #11's (Unwashed)","10297",null,null,null,null,null,null,null,null,null,null,20450,25450]
[null,null,null,null,null,null,null,null,null,null,{"$f":"'Accept. Grad. # 1'!H16","v":""},{"$f":"'Accept. Grad. # 1'!B16","v":0},{"$f":"'Accept. Grad. # 1'!A16","v":"# 16"},null,{"$f":"'Accept. Grad. # 1'!F16","v":""},{"$f":"'Accept. Grad. # 1'!G16","v":""},{"$f":"'Accept. Grad. # 2'!H16","v":""},{"$f":"'Accept. Grad. # 2'!B16","v":0},{"$f":"'Accept. Grad. # 2'!A16","v":"# 16"},null,{"$f":"'Accept. Grad. # 2'!F16","v":""},{"$f":"'Accept. Grad. # 2'!G16","v":""},{"$f":"'Accept. Grad. # 3'!H16","v":""},{"$f":"'Accept. Grad. # 3'!B16","v":0},{"$f":"'Accept. Grad. # 3'!A16","v":"# 16"},null,{"$f":"'Accept. Grad. # 3'!F16","v":""},{"$f":"'Accept. Grad. # 3'!G16","v":""},{"$f":"'Accept. Grad. # 4'!H16","v":""},{"$f":"'Accept. Grad. # 4'!B16","v":0},{"$f":"'Accept. Grad. # 4'!A16","v":"# 16"},null,{"$f":"'Accept. Grad. # 4'!F16","v":""},{"$f":"'Accept. Grad. # 4'!G16","v":""},null,null,null,null,null,null,null,null,null,null,null,null,null,null,null,null,null,null,"25250","00194 LEVELING & WEDGING (0.38-IN.) PG76-22",null,null,43,"25250",null,null,null,45,null,null,"LS #11's (Washed)","10295",null,null,null,null,null,null,null,null,null,null,20475,25475]
["VMA",null,null,null,null,null,null,null,null,null,{"$f":"'Accept. Grad. # 1'!H17","v":""},{"$f":"'Accept. Grad. # 1'!B17","v":0},{"$f":"'Accept. Grad. # 1'!A17","v":"# 30"},null,{"$f":"'Accept. Grad. # 1'!F17","v":""},{"$f":"'Accept. Grad. # 1'!G17","v":""},{"$f":"'Accept. Grad. # 2'!H17","v":""},{"$f":"'Accept. Grad. # 2'!B17","v":0},{"$f":"'Accept. Grad. # 2'!A17","v":"# 30"},null,{"$f":"'Accept. Grad. # 2'!F17","v":""},{"$f":"'Accept. Grad. # 2'!G17","v":""},{"$f":"'Accept. Grad. # 3'!H17","v":""},{"$f":"'Accept. Grad. # 3'!B17","v":0},{"$f":"'Accept. Grad. # 3'!A17","v":"# 30"},null,{"$f":"'Accept. Grad. # 3'!F17","v":""},{"$f":"'Accept. Grad. # 3'!G17","v":""},{"$f":"'Accept. Grad. # 4'!H17","v":""},{"$f":"'Accept. Grad. # 4'!B17","v":0},{"$f":"'Accept. Grad. # 4'!A17","v":"# 30"},null,{"$f":"'Accept. Grad. # 4'!F17","v":""},{"$f":"'Accept. Grad. # 4'!G17","v":""},null,null,null,null,null,null,null,null,null,null,null,null,null,null,null,null,null,null,"25275","00194 LEVELING & WEDGING (0.50-IN.) PG76-22",null,null,44,"25275",null,null,null,46,null,null,"Limestone #357's","10325",null,null,null,null,null,null,null,null,null,null,20250,25250]
[null,null,null,null,{"$f":"IF('Pay Values'!J13=\"\",\"\",ROUND('Pay Values'!J13,1))","v":""},{"$f":"IF('Pay Values'!J14=\"\",\"\",ROUND('Pay Values'!J14,1))","v":""},{"$f":"IF('Pay Values'!J15=\"\",\"\",ROUND('Pay Values'!J15,1))","v":""},{"$f":"IF('Pay Values'!J16=\"\",\"\",ROUND('Pay Values'!J16,1))","v":""},null,null,{"$f":"'Accept. Grad. # 1'!H18","v":""},{"$f":"'Accept. Grad. # 1'!B18","v":0},{"$f":"'Accept. Grad. # 1'!A18","v":"# 50"},null,{"$f":"'Accept. Grad. # 1'!F18","v":""},{"$f":"'Accept. Grad. # 1'!G18","v":""},{"$f":"'Accept. Grad. # 2'!H18","v":""},{"$f":"'Accept. Grad. # 2'!B18","v":0},{"$f":"'Accept. Grad. # 2'!A18","v":"# 50"},null,{"$f":"'Accept. Grad. # 2'!F18","v":""},{"$f":"'Accept. Grad. # 2'!G18","v":""},{"$f":"'Accept. Grad. # 3'!H18","v":""},{"$f":"'Accept. Grad. # 3'!B18","v":0},{"$f":"'Accept. Grad. # 3'!A18","v":"# 50"},null,{"$f":"'Accept. Grad. # 3'!F18","v":""},{"$f":"'Accept. Grad. # 3'!G18","v":""},{"$f":"'Accept. Grad. # 4'!H18","v":""},{"$f":"'Accept. Grad. # 4'!B18","v":0},{"$f":"'Accept. Grad. # 4'!A18","v":"# 50"},null,{"$f":"'Accept. Grad. # 4'!F18","v":""},{"$f":"'Accept. Grad. # 4'!G18","v":""},null,null,null,null,null,null,null,null,null,null,null,null,null,null,null,null,null,null,"25300","00194 LEVELING & WEDGING (0.75-IN.) PG76-22",null,null,45,"25300",null,null,null,47,null,null,"Limestone #467's","10335",null,null,null,null,null,null,null,null,null,null,20275,25275]
["Type Mix","Min","Max","Factor",1,2,3,4,null,null,{"$f":"'Accept. Grad. # 1'!H19","v":""},{"$f":"'Accept. Grad. # 1'!B19","v":0},{"$f":"'Accept. Grad. # 1'!A19","v":"# 100"},null,{"$f":"'Accept. Grad. # 1'!F19","v":""},{"$f":"'Accept. Grad. # 1'!G19","v":""},{"$f":"'Accept. Grad. # 2'!H19","v":""},{"$f":"'Accept. Grad. # 2'!B19","v":0},{"$f":"'Accept. Grad. # 2'!A19","v":"# 100"},null,{"$f":"'Accept. Grad. # 2'!F19","v":""},{"$f":"'Accept. Grad. # 2'!G19","v":""},{"$f":"'Accept. Grad. # 3'!H19","v":""},{"$f":"'Accept. Grad. # 3'!B19","v":0},{"$f":"'Accept. Grad. # 3'!A19","v":"# 100"},null,{"$f":"'Accept. Grad. # 3'!F19","v":""},{"$f":"'Accept. Grad. # 3'!G19","v":""},{"$f":"'Accept. Grad. # 4'!H19","v":""},{"$f":"'Accept. Grad. # 4'!B19","v":0},{"$f":"'Accept. Grad. # 4'!A19","v":"# 100"},null,{"$f":"'Accept. Grad. # 4'!F19","v":""},{"$f":"'Accept. Grad. # 4'!G19","v":""},null,null,null,null,null,null,null,null,null,null,null,null,null,null,null,null,null,null,"25325","00194 LEVELING & WEDGING (1.00-IN.) PG76-22",null,null,46,"25325",null,null,null,48,null,null,"Limestone #4's","10330",null,null,null,null,null,null,null,null,null,null,20300,25300]
["1,2,3,4,5,14",0,200,100,{"$f":"IF(AND((OR(J1=1,J1=2,J1=3,J1=4,J1=5,J1=14)),(AND(E47>=B49,E47<=C49))),D49,0)","v":0},{"$f":"IF(AND((OR(J1=1,J1=2,J1=3,J1=4,J1=5,J1=14)),(AND(F47>=B49,F47<=C49))),D49,0)","v":0},{"$f":"IF(AND((OR(J1=1,J1=2,J1=3,J1=4,J1=5,J1=14)),(AND(G47>=B49,G47<=C49))),D49,0)","v":0},{"$f":"IF(AND((OR(J1=1,J1=2,J1=3,J1=4,J1=5,J1=14)),(AND(H47>=B49,H47<=C49))),D49,0)","v":0},null,null,{"$f":"'Accept. Grad. # 1'!H20","v":""},{"$f":"'Accept. Grad. # 1'!B20","v":0},{"$f":"'Accept. Grad. # 1'!A20","v":"# 200"},null,{"$f":"'Accept. Grad. # 1'!F20","v":""},{"$f":"'Accept. Grad. # 1'!G20","v":""},{"$f":"'Accept. Grad. # 2'!H20","v":""},{"$f":"'Accept. Grad. # 2'!B20","v":0},{"$f":"'Accept. Grad. # 2'!A20","v":"# 200"},null,{"$f":"'Accept. Grad. # 2'!F20","v":""},{"$f":"'Accept. Grad. # 2'!G20","v":""},{"$f":"'Accept. Grad. # 3'!H20","v":""},{"$f":"'Accept. Grad. # 3'!B20","v":0},{"$f":"'Accept. Grad. # 3'!A20","v":"# 200"},null,{"$f":"'Accept. Grad. # 3'!F20","v":""},{"$f":"'Accept. Grad. # 3'!G20","v":""},{"$f":"'Accept. Grad. # 4'!H20","v":""},{"$f":"'Accept. Grad. # 4'!B20","v":0},{"$f":"'Accept. Grad. # 4'!A20","v":"# 200"},null,{"$f":"'Accept. Grad. # 4'!F20","v":""},{"$f":"'Accept. Grad. # 4'!G20","v":""},null,null,null,null,null,null,null,null,null,null,null,null,null,null,null,null,null,null,"25350","00194 LEVELING & WEDGING (1.50-IN.) PG76-22",null,null,47,"25350",null,null,null,49,null,null,"Limestone #57's","10345",null,null,null,null,null,null,null,null,null,null,20325,25325]
["1,2,3,4,5,14",-0.5,-0.1,95,{"$f":"IF(AND((OR(J1=1,J1=2,J1=3,J1=4,J1=5,J1=14)),(AND(E47>=B50,E47<=C50))),D50,0)","v":0},{"$f":"IF(AND((OR(J1=1,J1=2,J1=3,J1=4,J1=5,J1=14)),(AND(F47>=B50,F47<=C50))),D50,0)","v":0},{"$f":"IF(AND((OR(J1=1,J1=2,J1=3,J1=4,J1=5,J1=14)),(AND(G47>=B50,G47<=C50))),D50,0)","v":0},{"$f":"IF(AND((OR(J1=1,J1=2,J1=3,J1=4,J1=5,J1=14)),(AND(H47>=B50,H47<=C50))),D50,0)","v":0},null,null,{"$f":"'Accept. Grad. # 1'!H21","v":""},{"$f":"'Accept. Grad. # 1'!B21","v":0},{"$f":"'Accept. Grad. # 1'!A21","v":"% AC"},null,{"$f":"'Accept. Grad. # 1'!F21","v":""},{"$f":"'Accept. Grad. # 1'!G21","v":""},{"$f":"'Accept. Grad. # 2'!H21","v":""},{"$f":"'Accept. Grad. # 2'!B21","v":0},{"$f":"'Accept. Grad. # 2'!A21","v":"% AC"},null,{"$f":"'Accept. Grad. # 2'!F21","v":""},{"$f":"'Accept. Grad. # 2'!G21","v":""},{"$f":"'Accept. Grad. # 3'!H21","v":""},{"$f":"'Accept. Grad. # 3'!B21","v":0},{"$f":"'Accept. Grad. # 3'!A21","v":"% AC"},null,{"$f":"'Accept. Grad. # 3'!F21","v":""},{"$f":"'Accept. Grad. # 3'!G21","v":""},{"$f":"'Accept. Grad. # 4'!H21","v":""},{"$f":"'Accept. Grad. # 4'!B21","v":0},{"$f":"'Accept. Grad. # 4'!A21","v":"% AC"},null,{"$f":"'Accept. Grad. # 4'!F21","v":""},{"$f":"'Accept. Grad. # 4'!G21","v":""},null,null,{"$f":"AK45:AK49","v":{"$error":"#VALUE!"}},null,null,null,null,null,null,null,null,null,null,null,null,null,null,null,"25490","00194 LEVELING & WEDGING (NO. 4) ASPHALT SURFACE PG76-22",null,null,48,"25490",null,null,null,50,null,null,"Limestone #5's","10340",null,null,null,null,null,null,null,null,null,null,20350,25350]
["1,2,3,4,5,14",-1,-0.6,90,{"$f":"IF(AND((OR(J1=1,J1=2,J1=3,J1=4,J1=5,J1=14)),(AND(E47>=B51,E47<=C51))),D51,0)","v":0},{"$f":"IF(AND((OR(J1=1,J1=2,J1=3,J1=4,J1=5,J1=14)),(AND(F47>=B51,F47<=C51))),D51,0)","v":0},{"$f":"IF(AND((OR(J1=1,J1=2,J1=3,J1=4,J1=5,J1=14)),(AND(G47>=B51,G47<=C51))),D51,0)","v":0},{"$f":"IF(AND((OR(J1=1,J1=2,J1=3,J1=4,J1=5,J1=14)),(AND(H47>=B51,H47<=C51))),D51,0)","v":0},null,null,{"$f":"'Accept. Grad. # 1'!H22","v":""},{"$f":"'Accept. Grad. # 1'!B22","v":""},{"$f":"'Accept. Grad. # 1'!A22","v":"F.M."},null,{"$f":"'Accept. Grad. # 1'!F22","v":""},{"$f":"'Accept. Grad. # 1'!G22","v":""},{"$f":"'Accept. Grad. # 2'!H22","v":""},{"$f":"'Accept. Grad. # 2'!B22","v":""},{"$f":"'Accept. Grad. # 2'!A22","v":"F.M."},null,{"$f":"'Accept. Grad. # 2'!F22","v":""},{"$f":"'Accept. Grad. # 2'!G22","v":""},{"$f":"'Accept. Grad. # 3'!H22","v":""},{"$f":"'Accept. Grad. # 3'!B22","v":""},{"$f":"'Accept. Grad. # 3'!A22","v":"F.M."},null,{"$f":"'Accept. Grad. # 3'!F22","v":""},{"$f":"'Accept. Grad. # 3'!G22","v":""},{"$f":"'Accept. Grad. # 4'!H22","v":""},{"$f":"'Accept. Grad. # 4'!B22","v":""},{"$f":"'Accept. Grad. # 4'!A22","v":"F.M."},null,{"$f":"'Accept. Grad. # 4'!F22","v":""},{"$f":"'Accept. Grad. # 4'!G22","v":""},null,null,null,null,null,null,null,null,null,null,null,null,null,null,null,null,null,null,"25500","00194 LEVELING & WEDGING (0.38-IN) ASPHALT SURFACE PG76-22",null,null,49,"25500",null,null,null,51,null,null,"Limestone #67's","10350",null,null,null,null,null,null,null,null,null,null,20250,25250]
["1,2,3,4,5,14",null,null,"MCL",{"$f":"IF(AND((OR(J1=1,J1=2,J1=3,J1=4,J1=5,J1=14)),(AND(E47>=B52,E47<=C52))),D52,0)","v":0},{"$f":"IF(AND((OR(J1=1,J1=2,J1=3,J1=4,J1=5,J1=14)),(AND(F47>=B52,F47<=C52))),D52,0)","v":0},{"$f":"IF(AND((OR(J1=1,J1=2,J1=3,J1=4,J1=5,J1=14)),(AND(G47>=B52,G47<=C52))),D52,0)","v":0},{"$f":"IF(AND((OR(J1=1,J1=2,J1=3,J1=4,J1=5,J1=14)),(AND(H47>=B52,H47<=C52))),D52,0)","v":0},null,null,null,null,null,null,null,null,null,null,null,null,null,null,null,null,null,null,null,null,null,null,null,null,null,null,null,null,null,null,null,null,null,null,null,null,null,null,null,null,null,null,null,null,"25525","00194 LEVELING & WEDGING (0.50-IN) ASPHALT SURFACE PG76-22",null,null,50,"25525",null,null,null,52,null,null,"LS #67's Class A","10355",null,null,null,null,null,null,null,null,null,null,20275,25275]
["1,2,3,4,5,14",null,-1.1000000000000001,"MCL",{"$f":"IF(AND((OR(J1=1,J1=2,J1=3,J1=4,J1=5,J1=14)),(OR(E47<B51))),D53,0)","v":0},{"$f":"IF(AND((OR(J1=1,J1=2,J1=3,J1=4,J1=5,J1=14)),(AND(F47<B51))),D53,0)","v":0},{"$f":"IF(AND((OR(J1=1,J1=2,J1=3,J1=4,J1=5,J1=14)),(AND(G47<B51))),D53,0)","v":0},{"$f":"IF(AND((OR(J1=1,J1=2,J1=3,J1=4,J1=5,J1=14)),(AND(H47<B51))),D53,0)","v":0},null,null,null,null,null,null,null,null,null,null,null,null,null,null,null,null,null,null,null,null,null,null,null,null,null,null,null,null,null,null,null,null,null,null,null,null,null,null,null,null,null,null,null,null,"25550","00194 LEVELING & WEDGING (0.50-IN) ASPHALT BINDER PG76-22",null,null,51,"25550",null,null,null,53,null,null,"LS #67's Class B","10360",null,null,null,null,null,null,null,null,null,null,20300,25300]
["Pay Value (%)",null,null,null,{"$f":"IF(E47=\"\",\"\",IF(E53=\"MCL\",\"MCL\",MAX(E49:E53)))","v":""},{"$f":"IF(F47=\"\",\"\",IF(F53=\"MCL\",\"MCL\",MAX(F49:F53)))","v":""},{"$f":"IF(G47=\"\",\"\",IF(G53=\"MCL\",\"MCL\",MAX(G49:G53)))","v":""},{"$f":"IF(H47=\"\",\"\",IF(H53=\"MCL\",\"MCL\",MAX(H49:H53)))","v":""},null,null,null,null,null,null,null,null,null,null,null,null,null,null,null,null,null,null,null,null,null,null,null,null,null,null,null,null,null,null,null,null,null,null,null,null,null,null,null,null,null,null,null,null,"25575","00194 LEVELING & WEDGING (0.75-IN) ASPHALT BASE PG76-22",null,null,52,"25575",null,null,null,54,null,null,"Limestone #68's","10365",null,null,null,null,null,null,null,null,null,null,20325,25325]
["Joint Density",null,null,null,null,null,null,null,null,null,null,null,null,null,null,"Site Manager Test Charges ",null,null,null,"Sublot","% BC",null,"% AV",null,"% VMA",null,null,null,null,null,null,null,null,null,null,null,null,null,null,null,null,null,null,null,null,null,null,null,null,null,null,null,"25600","00194 LEVELING & WEDGING (1.00-IN) ASPHALT BASE PG76-22",null,null,53,"25600",null,null,null,55,null,null,"LS #68's Class A","10370",null,null,null,null,null,null,null,null,null,null,20350,25350]
[null,null,null,null,{"$f":"ROUND(Cores!I33,1)","v":{"$error":"#VALUE!"}},{"$f":"ROUND(Cores!I34,1)","v":{"$error":"#VALUE!"}},{"$f":"ROUND(Cores!I36,1)","v":{"$error":"#VALUE!"}},{"$f":"ROUND(Cores!I37,1)","v":{"$error":"#VALUE!"}},{"$f":"ROUND(Cores!I39,1)","v":{"$error":"#VALUE!"}},{"$f":"ROUND(Cores!I40,1)","v":{"$error":"#VALUE!"}},{"$f":"ROUND(Cores!I42,1)","v":{"$error":"#VALUE!"}},{"$f":"ROUND(Cores!I43,1)","v":{"$error":"#VALUE!"}},null,{"$f":"Cores!A10","v":"0-1-A"},null,{"$f":"IF(Cores!I10=\"\",\"\",10)","v":""},null,null,null,null,"V1","V2","V1","V2","V1","V2",null,null,null,null,null,null,null,null,null,null,null,null,null,null,null,null,null,null,null,null,null,null,null,null,null,null,"25625","00194 LEVELING & WEDGING (1.50-IN) ASPHALT BASEPG76-22",null,null,54,"25625",null,null,null,56,null,null,"LS #68's Class B","10375",null,null,null,null,null,null,null,null,null,null,20625,25625]
["Type Mix","Min","Max","Factor",1,2,3,4,5,6,7,8,null,{"$f":"Cores!A11","v":"0-1-B"},null,{"$f":"IF(Cores!I11=\"\",\"\",10)","v":""},null,null,null,1,{"$f":"IF('Super Verify'!B5=1,AVERAGE('Pay Values'!B14,'Pay Values'!B15,'Pay Values'!B16)-'Super Verify'!J27,0)","v":0},{"$f":"IF('Super Verify'!B12=1,AVERAGE('Pay Values'!B14,'Pay Values'!B15,'Pay Values'!B16)-'Super Verify'!M27,0)","v":0},{"$f":"IF('Super Verify'!B5=1,AVERAGE('Pay Values'!F14,'Pay Values'!F15,'Pay Values'!F16)-'Super Verify'!J10,0)","v":0},{"$f":"IF('Super Verify'!B12=1,AVERAGE('Pay Values'!F14,'Pay Values'!F15,'Pay Values'!F16)-'Super Verify'!J17,0)","v":0},{"$f":"IF('Super Verify'!B5=1,AVERAGE('Pay Values'!I14,'Pay Values'!I15,'Pay Values'!I16)-'Super Verify'!L10,0)","v":0},{"$f":"IF('Super Verify'!B12=1,AVERAGE('Pay Values'!I14,'Pay Values'!I15,'Pay Values'!I16)-'Super Verify'!L17,0)","v":0},null,null,null,null,null,null,null,null,null,null,null,null,null,null,null,null,null,null,null,null,null,null,null,null,null,null,"25625","00203 CL2 ASPH BASE 1.50D PG64-22",null,null,55,"25625",null,null,null,57,null,null,"Limestone #78's","10380",null,null,null,null,null,null,null,null,null,null,20625,25625]
["1,2,3,4,5,14",97.1,200,75,{"$f":"IF(AND((OR(J1=1,J1=2,J1=3,J1=4,J1=5,J1=14)),(AND(E56>=B58,E56<=C58))),D58,0)","v":{"$error":"#VALUE!"}},{"$f":"IF(AND((OR(J1=1,J1=2,J1=3,J1=4,J1=5,J1=14)),(AND(F56>=B58,F56<=C58))),D58,0)","v":{"$error":"#VALUE!"}},{"$f":"IF(AND((OR(J1=1,J1=2,J1=3,J1=4,J1=5,J1=14)),(AND(G56>=B58,G56<=C58))),D58,0)","v":{"$error":"#VALUE!"}},{"$f":"IF(AND((OR(J1=1,J1=2,J1=3,J1=4,J1=5,J1=14)),(AND(H56>=B58,H56<=C58))),D58,0)","v":{"$error":"#VALUE!"}},{"$f":"IF(AND((OR(J1=1,J1=2,J1=3,J1=4,J1=5,J1=14)),(AND(I56>=B58,I56<=C58))),D58,0)","v":{"$error":"#VALUE!"}},{"$f":"IF(AND((OR(J1=1,J1=2,J1=3,J1=4,J1=5,J1=14)),(AND(J56>=B58,J56<=C58))),D58,0)","v":{"$error":"#VALUE!"}},{"$f":"IF(AND((OR(J1=1,J1=2,J1=3,J1=4,J1=5,J1=14)),(AND(K56>=B58,K56<=C58))),D58,0)","v":{"$error":"#VALUE!"}},{"$f":"IF(AND((OR(J1=1,J1=2,J1=3,J1=4,J1=5,J1=14)),(AND(L56>=B58,L56<=C58))),D58,0)","v":{"$error":"#VALUE!"}},null,{"$f":"Cores!A12","v":"0-1-C"},null,{"$f":"IF(Cores!I12=\"\",\"\",10)","v":""},null,null,null,2,{"$f":"IF('Super Verify'!B5=2,AVERAGE('Pay Values'!B13,'Pay Values'!B15,'Pay Values'!B16)-'Super Verify'!J27,0)","v":0},{"$f":"IF('Super Verify'!B12=2,AVERAGE('Pay Values'!B13,'Pay Values'!B15,'Pay Values'!B16)-'Super Verify'!M27,0)","v":0},{"$f":"IF('Super Verify'!B5=2,AVERAGE('Pay Values'!F13,'Pay Values'!F15,'Pay Values'!F16)-'Super Verify'!J10,0)","v":0},{"$f":"IF('Super Verify'!B12=2,AVERAGE('Pay Values'!F13,'Pay Values'!F15,'Pay Values'!F16)-'Super Verify'!J17,0)","v":0},{"$f":"IF('Super Verify'!B5=2,AVERAGE('Pay Values'!I13,'Pay Values'!I15,'Pay Values'!I16)-'Super Verify'!L10,0)","v":0},{"$f":"IF('Super Verify'!B12=2,AVERAGE('Pay Values'!I13,'Pay Values'!I15,'Pay Values'!I16)-'Super Verify'!L17,0)","v":0},null,null,null,null,null,null,null,null,null,null,null,null,null,null,null,null,null,null,null,null,null,null,null,null,null,null,"25625","00205 CL3 ASPH BASE 1.50D PG64-22",null,null,56,"25625",null,null,null,58,null,null,"LS #78's Class A","10385",null,null,null,null,null,null,null,null,null,null,20625,25625]
["1,2,3,4,5,14",96.6,97,90,{"$f":"IF(AND((OR(J1=1,J1=2,J1=3,J1=4,J1=5,J1=14)),(AND(E56>=B59,E56<=C59))),D59,0)","v":{"$error":"#VALUE!"}},{"$f":"IF(AND((OR(J1=1,J1=2,J1=3,J1=4,J1=5,J1=14)),(AND(F56>=B59,F56<=C59))),D59,0)","v":{"$error":"#VALUE!"}},{"$f":"IF(AND((OR(J1=1,J1=2,J1=3,J1=4,J1=5,J1=14)),(AND(G56>=B59,G56<=C59))),D59,0)","v":{"$error":"#VALUE!"}},{"$f":"IF(AND((OR(J1=1,J1=2,J1=3,J1=4,J1=5,J1=14)),(AND(H56>=B59,H56<=C59))),D59,0)","v":{"$error":"#VALUE!"}},{"$f":"IF(AND((OR(J1=1,J1=2,J1=3,J1=4,J1=5,J1=14)),(AND(I56>=B59,I56<=C59))),D59,0)","v":{"$error":"#VALUE!"}},{"$f":"IF(AND((OR(J1=1,J1=2,J1=3,J1=4,J1=5,J1=14)),(AND(J56>=B59,J56<=C59))),D59,0)","v":{"$error":"#VALUE!"}},{"$f":"IF(AND((OR(J1=1,J1=2,J1=3,J1=4,J1=5,J1=14)),(AND(K56>=B59,K56<=C59))),D59,0)","v":{"$error":"#VALUE!"}},{"$f":"IF(AND((OR(J1=1,J1=2,J1=3,J1=4,J1=5,J1=14)),(AND(L56>=B59,L56<=C59))),D59,0)","v":{"$error":"#VALUE!"}},null,{"$f":"Cores!A13","v":"0-1-D"},null,{"$f":"IF(Cores!I13=\"\",\"\",10)","v":""},null,null,null,3,{"$f":"IF('Super Verify'!B5=3,AVERAGE('Pay Values'!B13,'Pay Values'!B14,'Pay Values'!B16)-'Super Verify'!J27,0)","v":0},{"$f":"IF('Super Verify'!B12=3,AVERAGE('Pay Values'!B13,'Pay Values'!B14,'Pay Values'!B16)-'Super Verify'!M27,0)","v":0},{"$f":"IF('Super Verify'!B5=3,AVERAGE('Pay Values'!F13,'Pay Values'!F14,'Pay Values'!F16)-'Super Verify'!J10,0)","v":0},{"$f":"IF('Super Verify'!B12=3,AVERAGE('Pay Values'!F13,'Pay Values'!F14,'Pay Values'!F16)-'Super Verify'!J17,0)","v":0},{"$f":"IF('Super Verify'!B5=3,AVERAGE('Pay Values'!I13,'Pay Values'!I14,'Pay Values'!I16)-'Super Verify'!L10,0)","v":0},{"$f":"IF('Super Verify'!B12=3,AVERAGE('Pay Values'!I13,'Pay Values'!I14,'Pay Values'!I16)-'Super Verify'!L17,0)","v":0},null,null,null,null,null,null,null,null,null,null,null,null,null,null,null,null,null,null,null,null,null,null,null,null,null,null,"25625","00207 CL3 ASPH BASE 1.50D PG76-22",null,null,57,"25625",null,null,null,59,null,null,"LS #78's Class B","10390",null,null,null,null,null,null,null,null,null,null,20625,25625]
["1,2,3,4,5,14",96.1,96.5,100,{"$f":"IF(AND((OR(J1=1,J1=2,J1=3,J1=4,J1=5,J1=14)),(AND(E56>=B60,E56<=C60))),D60,0)","v":{"$error":"#VALUE!"}},{"$f":"IF(AND((OR(J1=1,J1=2,J1=3,J1=4,J1=5,J1=14)),(AND(F56>=B60,F56<=C60))),D60,0)","v":{"$error":"#VALUE!"}},{"$f":"IF(AND((OR(J1=1,J1=2,J1=3,J1=4,J1=5,J1=14)),(AND(G56>=B60,G56<=C60))),D60,0)","v":{"$error":"#VALUE!"}},{"$f":"IF(AND((OR(J1=1,J1=2,J1=3,J1=4,J1=5,J1=14)),(AND(H56>=B60,H56<=C60))),D60,0)","v":{"$error":"#VALUE!"}},{"$f":"IF(AND((OR(J1=1,J1=2,J1=3,J1=4,J1=5,J1=14)),(AND(I56>=B60,I56<=C60))),D60,0)","v":{"$error":"#VALUE!"}},{"$f":"IF(AND((OR(J1=1,J1=2,J1=3,J1=4,J1=5,J1=14)),(AND(J56>=B60,J56<=C60))),D60,0)","v":{"$error":"#VALUE!"}},{"$f":"IF(AND((OR(J1=1,J1=2,J1=3,J1=4,J1=5,J1=14)),(AND(K56>=B60,K56<=C60))),D60,0)","v":{"$error":"#VALUE!"}},{"$f":"IF(AND((OR(J1=1,J1=2,J1=3,J1=4,J1=5,J1=14)),(AND(L56>=B60,L56<=C60))),D60,0)","v":{"$error":"#VALUE!"}},null,{"$f":"Cores!A15","v":"0-2-A"},null,{"$f":"IF(Cores!I15=\"\",\"\",10)","v":""},null,null,null,4,{"$f":"IF('Super Verify'!B5=4,AVERAGE('Pay Values'!B13,'Pay Values'!B14,'Pay Values'!B15)-'Super Verify'!J27,0)","v":0},{"$f":"IF('Super Verify'!B12=4,AVERAGE('Pay Values'!B13,'Pay Values'!B14,'Pay Values'!B15)-'Super Verify'!M27,0)","v":0},{"$f":"IF('Super Verify'!B5=4,AVERAGE('Pay Values'!F13,'Pay Values'!F14,'Pay Values'!F15)-'Super Verify'!J10,0)","v":0},{"$f":"IF('Super Verify'!B12=4,AVERAGE('Pay Values'!F13,'Pay Values'!F14,'Pay Values'!F15)-'Super Verify'!J17,0)","v":0},{"$f":"IF('Super Verify'!B5=4,AVERAGE('Pay Values'!I13,'Pay Values'!I14,'Pay Values'!I15)-'Super Verify'!L10,0)","v":0},{"$f":"IF('Super Verify'!B12=4,AVERAGE('Pay Values'!I13,'Pay Values'!I14,'Pay Values'!I15)-'Super Verify'!L17,0)","v":0},null,null,null,null,null,null,null,null,null,null,null,null,null,null,null,null,null,null,null,null,null,null,null,null,null,null,"25625","00208 CL4 ASPH BASE 1.50D PG64-22",null,null,58,"25625",null,null,null,60,null,null,"Limestone #8's","10395",null,null,null,null,null,null,null,null,null,null,20625,25625]
["1,2,3,4,5,14",92,96,105,{"$f":"IF(AND((OR(J1=1,J1=2,J1=3,J1=4,J1=5,J1=14)),(AND(E56>=B61,E56<=C61))),D61,0)","v":{"$error":"#VALUE!"}},{"$f":"IF(AND((OR(J1=1,J1=2,J1=3,J1=4,J1=5,J1=14)),(AND(F56>=B61,F56<=C61))),D61,0)","v":{"$error":"#VALUE!"}},{"$f":"IF(AND((OR(J1=1,J1=2,J1=3,J1=4,J1=5,J1=14)),(AND(G56>=B61,G56<=C61))),D61,0)","v":{"$error":"#VALUE!"}},{"$f":"IF(AND((OR(J1=1,J1=2,J1=3,J1=4,J1=5,J1=14)),(AND(H56>=B61,H56<=C61))),D61,0)","v":{"$error":"#VALUE!"}},{"$f":"IF(AND((OR(J1=1,J1=2,J1=3,J1=4,J1=5,J1=14)),(AND(I56>=B61,I56<=C61))),D61,0)","v":{"$error":"#VALUE!"}},{"$f":"IF(AND((OR(J1=1,J1=2,J1=3,J1=4,J1=5,J1=14)),(AND(J56>=B61,J56<=C61))),D61,0)","v":{"$error":"#VALUE!"}},{"$f":"IF(AND((OR(J1=1,J1=2,J1=3,J1=4,J1=5,J1=14)),(AND(K56>=B61,K56<=C61))),D61,0)","v":{"$error":"#VALUE!"}},{"$f":"IF(AND((OR(J1=1,J1=2,J1=3,J1=4,J1=5,J1=14)),(AND(L56>=B61,L56<=C61))),D61,0)","v":{"$error":"#VALUE!"}},null,{"$f":"Cores!A16","v":"0-2-B"},null,{"$f":"IF(Cores!I16=\"\",\"\",10)","v":""},null,null,null,"Value",{"$f":"SUM(U57:U60)","v":0},0,0,0,0,0,null,null,null,null,null,null,null,null,null,null,null,null,null,null,null,null,null,null,null,null,null,null,null,null,null,null,"25625","00210 CL4 ASPH BASE 1.50D PG76-22",null,null,59,"25625",null,null,null,61,null,null,"LS #8's Class A","10400",null,null,null,null,null,null,null,null,null,null,20625,25625]
["1,2,3,4,5,14",90,91.9,100,{"$f":"IF(AND((OR(J1=1,J1=2,J1=3,J1=4,J1=5,J1=14)),(AND(E56>=B62,E56<=C62))),D62,0)","v":{"$error":"#VALUE!"}},{"$f":"IF(AND((OR(J1=1,J1=2,J1=3,J1=4,J1=5,J1=14)),(AND(F56>=B62,F56<=C62))),D62,0)","v":{"$error":"#VALUE!"}},{"$f":"IF(AND((OR(J1=1,J1=2,J1=3,J1=4,J1=5,J1=14)),(AND(G56>=B62,G56<=C62))),D62,0)","v":{"$error":"#VALUE!"}},{"$f":"IF(AND((OR(J1=1,J1=2,J1=3,J1=4,J1=5,J1=14)),(AND(H56>=B62,H56<=C62))),D62,0)","v":{"$error":"#VALUE!"}},{"$f":"IF(AND((OR(J1=1,J1=2,J1=3,J1=4,J1=5,J1=14)),(AND(I56>=B62,I56<=C62))),D62,0)","v":{"$error":"#VALUE!"}},{"$f":"IF(AND((OR(J1=1,J1=2,J1=3,J1=4,J1=5,J1=14)),(AND(J56>=B62,J56<=C62))),D62,0)","v":{"$error":"#VALUE!"}},{"$f":"IF(AND((OR(J1=1,J1=2,J1=3,J1=4,J1=5,J1=14)),(AND(K56>=B62,K56<=C62))),D62,0)","v":{"$error":"#VALUE!"}},{"$f":"IF(AND((OR(J1=1,J1=2,J1=3,J1=4,J1=5,J1=14)),(AND(L56>=B62,L56<=C62))),D62,0)","v":{"$error":"#VALUE!"}},null,{"$f":"Cores!A17","v":"0-2-C"},null,{"$f":"IF(Cores!I17=\"\",\"\",10)","v":""},null,null,null,"* Value",{"$f":"IF(AND('Super Verify'!B5=\"\",'Super Verify'!B12=\"\"),\"\",IF(ABS(U61)>0.6,CONCATENATE(\"*\",TEXT(U61,\"0.0\")),U61))","v":""},{"$f":"IF(AND('Super Verify'!B5=\"\",'Super Verify'!B12=\"\"),\"\",IF(ABS(V61)>0.6,CONCATENATE(\"*\",TEXT(V61,\"0.0\")),V61))","v":""},{"$f":"IF(AND('Super Verify'!B5=\"\",'Super Verify'!B12=\"\"),\"\",IF(ABS(W61)>1.5,CONCATENATE(\"*\",TEXT(W61,\"0.0\")),W61))","v":""},{"$f":"IF(AND('Super Verify'!B5=\"\",'Super Verify'!B12=\"\"),\"\",IF(ABS(X61)>1.5,CONCATENATE(\"*\",TEXT(X61,\"0.0\")),X61))","v":""},{"$f":"IF(AND('Super Verify'!B5=\"\",'Super Verify'!B12=\"\"),\"\",IF(ABS(Y61)>1.2,CONCATENATE(\"*\",TEXT(Y61,\"0.0\")),Y61))","v":""},{"$f":"IF(AND('Super Verify'!B5=\"\",'Super Verify'!B12=\"\"),\"\",IF(ABS(Z61)>1.2,CONCATENATE(\"*\",TEXT(Z61,\"0.0\")),Z61))","v":""},null,null,null,null,null,null,null,null,null,null,null,null,null,null,null,null,null,null,null,null,null,null,null,null,null,null,"25600","00212 CL2 ASPH BASE 1.00D PG64-22",null,null,60,"25600",null,null,null,62,null,null,"LS #8's Class B","10405",null,null,null,null,null,null,null,null,null,null,20625,25625]
["1,2,3,4,5,14",89,89.9,95,{"$f":"IF(AND((OR(J1=1,J1=2,J1=3,J1=4,J1=5,J1=14)),(AND(E56>=B63,E56<=C63))),D63,0)","v":{"$error":"#VALUE!"}},{"$f":"IF(AND((OR(J1=1,J1=2,J1=3,J1=4,J1=5,J1=14)),(AND(F56>=B63,F56<=C63))),D63,0)","v":{"$error":"#VALUE!"}},{"$f":"IF(AND((OR(J1=1,J1=2,J1=3,J1=4,J1=5,J1=14)),(AND(G56>=B63,G56<=C63))),D63,0)","v":{"$error":"#VALUE!"}},{"$f":"IF(AND((OR(J1=1,J1=2,J1=3,J1=4,J1=5,J1=14)),(AND(H56>=B63,H56<=C63))),D63,0)","v":{"$error":"#VALUE!"}},{"$f":"IF(AND((OR(J1=1,J1=2,J1=3,J1=4,J1=5,J1=14)),(AND(I56>=B63,I56<=C63))),D63,0)","v":{"$error":"#VALUE!"}},{"$f":"IF(AND((OR(J1=1,J1=2,J1=3,J1=4,J1=5,J1=14)),(AND(J56>=B63,J56<=C63))),D63,0)","v":{"$error":"#VALUE!"}},{"$f":"IF(AND((OR(J1=1,J1=2,J1=3,J1=4,J1=5,J1=14)),(AND(K56>=B63,K56<=C63))),D63,0)","v":{"$error":"#VALUE!"}},{"$f":"IF(AND((OR(J1=1,J1=2,J1=3,J1=4,J1=5,J1=14)),(AND(L56>=B63,L56<=C63))),D63,0)","v":{"$error":"#VALUE!"}},null,{"$f":"Cores!A18","v":"0-2-D"},null,{"$f":"IF(Cores!I18=\"\",\"\",10)","v":""},null,null,null,null,null,null,null,null,null,null,null,null,null,null,null,null,null,null,null,null,null,null,null,null,null,null,null,null,null,null,null,null,null,null,null,null,"25600","00214 CL3 ASPH BASE 1.00D PG64-22",null,null,61,"25600",null,null,null,63,null,null,"Limestone #9M's","10410",null,null,null,null,null,null,null,null,null,null,20625,25625]
["1,2,3,4,5,14",88,88.9,90,{"$f":"IF(AND((OR(J1=1,J1=2,J1=3,J1=4,J1=5,J1=14)),(AND(E56>=B64,E56<=C64))),D64,0)","v":{"$error":"#VALUE!"}},{"$f":"IF(AND((OR(J1=1,J1=2,J1=3,J1=4,J1=5,J1=14)),(AND(F56>=B64,F56<=C64))),D64,0)","v":{"$error":"#VALUE!"}},{"$f":"IF(AND((OR(J1=1,J1=2,J1=3,J1=4,J1=5,J1=14)),(AND(G56>=B64,G56<=C64))),D64,0)","v":{"$error":"#VALUE!"}},{"$f":"IF(AND((OR(J1=1,J1=2,J1=3,J1=4,J1=5,J1=14)),(AND(H56>=B64,H56<=C64))),D64,0)","v":{"$error":"#VALUE!"}},{"$f":"IF(AND((OR(J1=1,J1=2,J1=3,J1=4,J1=5,J1=14)),(AND(I56>=B64,I56<=C64))),D64,0)","v":{"$error":"#VALUE!"}},{"$f":"IF(AND((OR(J1=1,J1=2,J1=3,J1=4,J1=5,J1=14)),(AND(J56>=B64,J56<=C64))),D64,0)","v":{"$error":"#VALUE!"}},{"$f":"IF(AND((OR(J1=1,J1=2,J1=3,J1=4,J1=5,J1=14)),(AND(K56>=B64,K56<=C64))),D64,0)","v":{"$error":"#VALUE!"}},{"$f":"IF(AND((OR(J1=1,J1=2,J1=3,J1=4,J1=5,J1=14)),(AND(L56>=B64,L56<=C64))),D64,0)","v":{"$error":"#VALUE!"}},null,{"$f":"Cores!A20","v":"0-3-A"},null,{"$f":"IF(Cores!I20=\"\",\"\",10)","v":""},null,null,null,null,null,null,null,null,null,null,null,null,null,null,null,null,null,null,null,null,null,null,null,null,null,null,null,null,null,null,null,null,null,null,null,null,"25600","00216 CL3 ASPH BASE 1.00D PG76-22",null,null,62,"25600",null,null,null,64,null,null,"LS #9M's Class A","10415",null,null,null,null,null,null,null,null,null,null,20625,25625]
["1,2,3,4,5,14",0,87.9,75,{"$f":"IF(AND((OR(J1=1,J1=2,J1=3,J1=4,J1=5,J1=14)),(AND(E56>=B65,E56<=C65))),D65,0)","v":{"$error":"#VALUE!"}},{"$f":"IF(AND((OR(J1=1,J1=2,J1=3,J1=4,J1=5,J1=14)),(AND(F56>=B65,F56<=C65))),D65,0)","v":{"$error":"#VALUE!"}},{"$f":"IF(AND((OR(J1=1,J1=2,J1=3,J1=4,J1=5,J1=14)),(AND(G56>=B65,G56<=C65))),D65,0)","v":{"$error":"#VALUE!"}},{"$f":"IF(AND((OR(J1=1,J1=2,J1=3,J1=4,J1=5,J1=14)),(AND(H56>=B65,H56<=C65))),D65,0)","v":{"$error":"#VALUE!"}},{"$f":"IF(AND((OR(J1=1,J1=2,J1=3,J1=4,J1=5,J1=14)),(AND(I56>=B65,I56<=C65))),D65,0)","v":{"$error":"#VALUE!"}},{"$f":"IF(AND((OR(J1=1,J1=2,J1=3,J1=4,J1=5,J1=14)),(AND(J56>=B65,J56<=C65))),D65,0)","v":{"$error":"#VALUE!"}},{"$f":"IF(AND((OR(J1=1,J1=2,J1=3,J1=4,J1=5,J1=14)),(AND(K56>=B65,K56<=C65))),D65,0)","v":{"$error":"#VALUE!"}},{"$f":"IF(AND((OR(J1=1,J1=2,J1=3,J1=4,J1=5,J1=14)),(AND(L56>=B65,L56<=C65))),D65,0)","v":{"$error":"#VALUE!"}},null,{"$f":"Cores!A21","v":"0-3-B"},null,{"$f":"IF(Cores!I21=\"\",\"\",10)","v":""},null,null,null,null,null,null,null,null,null,null,null,null,null,null,null,null,null,null,null,null,null,null,null,null,null,null,null,null,null,null,null,null,null,null,null,null,"25600","00217 CL4 ASPH BASE 1.00D PG64-22",null,null,63,"25600",null,null,null,65,null,null,"LS #9M's Class B","10420",null,null,null,null,null,null,null,null,null,null,20625,25625]
[null,null,null,null,null,null,null,null,null,null,null,null,null,{"$f":"Cores!A22","v":"0-3-C"},null,{"$f":"IF(Cores!I22=\"\",\"\",10)","v":""},null,null,null,null,null,null,null,null,null,null,null,null,null,null,null,null,null,null,null,null,null,null,null,null,null,null,null,null,null,null,null,null,null,null,null,null,"25600","00219 CL4 ASPH BASE 1.00D PG76-22",null,null,64,"25600",null,null,null,66,null,null,"LS Combined-NSG","10300",null,null,null,null,null,null,null,null,null,null,20625,25625]
["Pay Value (%)",null,null,null,{"$f":"SUM(E58:E65)","v":{"$error":"#VALUE!"}},{"$error":"#VALUE!"},{"$error":"#VALUE!"},{"$error":"#VALUE!"},{"$error":"#VALUE!"},{"$error":"#VALUE!"},{"$error":"#VALUE!"},{"$error":"#VALUE!"},null,{"$f":"Cores!A23","v":"0-3-D"},null,{"$f":"IF(Cores!I23=\"\",\"\",10)","v":""},null,null,null,null,null,null,null,null,null,null,null,null,null,null,null,null,null,null,null,null,null,null,null,null,null,null,null,null,null,null,null,null,null,null,null,null,"25575","00221 CL2 ASPH BASE 0.75D PG64-22",null,null,65,"25575",null,null,null,{"$f":"BJ66+1","v":67},null,null,"Limestone DGA","10425",null,null,null,null,null,null,null,null,null,null,20625,25625]
[null,null,null,null,null,null,null,null,null,null,null,null,null,{"$f":"Cores!A25","v":"0-4-A"},null,{"$f":"IF(Cores!I25=\"\",\"\",10)","v":""},null,null,null,null,null,null,null,null,null,null,null,null,null,null,null,null,null,null,null,null,null,null,null,null,null,null,null,null,null,null,null,null,null,null,null,null,"25575","00223 CL3 ASPH BASE 0.75D PG64-22",null,null,66,"25575",null,null,null,68,null,null,"LS NSG Class A","10430",null,null,null,null,null,null,null,null,null,null,20625,25625]
[null,null,null,null,null,null,null,null,null,null,null,null,null,{"$f":"Cores!A26","v":"0-4-B"},null,{"$f":"IF(Cores!I26=\"\",\"\",10)","v":""},null,null,null,null,null,null,null,null,null,null,null,null,null,null,null,null,null,null,null,null,null,null,null,null,null,null,null,null,null,null,null,null,null,null,null,null,"25575","00225 CL3 ASPH BASE 0.75D PG76-22",null,null,67,"25575",null,null,null,69,null,null,"LS NSG Class B","10435",null,null,null,null,null,null,null,null,null,null,20625,{"$f":"BY69+5000","v":25625}]
["Final Pay Value",null,null,null,null,null,null,null,null,null,null,null,null,{"$f":"Cores!A27","v":"0-4-C"},null,{"$f":"IF(Cores!I27=\"\",\"\",10)","v":""},null,null,null,null,null,null,null,null,null,null,null,null,null,null,null,null,null,null,null,null,null,null,null,null,null,null,null,null,null,null,null,null,null,null,null,null,"25575","00226 CL4 ASPH BASE 0.75D PG64-22",null,null,68,"25575",null,null,null,70,null,null,"LS NSG-Coarse","10440",null,null,null,null,null,null,null,null,null,null,20625,25625]
[{"$f":"IF(H13=3,100,IF(H13=1,'Pay Values'!E41,IF('Pay Values'!B21=\"\",('Pay Values'!B22*'Pay Values'!E21/100)+('Pay Values'!D17*'Pay Values'!E22/100)+('Pay Values'!G17*'Pay Values'!E23/100)+('Pay Values'!K17*'Pay Values'!E24/100),('Pay Values'!B21*'Pay Values'!E20/100)+('Pay Values'!B22*'Pay Values'!E21/100)+('Pay Values'!D17*'Pay Values'!E22/100)+('Pay Values'!G17*'Pay Values'!E23/100)+('Pay Values'!K17*'Pay Values'!E24/100))))","v":{"$error":"#VALUE!"}},null,null,null,null,null,null,null,null,null,null,null,null,{"$f":"Cores!A28","v":"0-4-D"},null,{"$f":"IF(Cores!I28=\"\",\"\",10)","v":""},null,null,null,null,null,null,null,null,null,null,null,null,null,null,null,null,null,null,null,null,null,null,null,null,null,null,null,null,null,null,null,null,null,null,null,null,"25575","00228 CL4 ASPH BASE 0.75D PG76-22",null,null,69,"25575",null,null,null,71,null,null,"LS NSG-Fine (Unwashed)","10323",null,null,null,null,null,null,null,null,null,null,20625,25625]
[{"$f":"IF(A71>100,100,A71)","v":{"$error":"#VALUE!"}},null,null,null,null,null,null,null,null,null,null,null,null,{"$f":"Cores!A33","v":"0-1-J1"},null,{"$f":"IF(Cores!I33=\"\",\"\",10)","v":""},null,null,null,null,null,null,null,null,null,null,null,null,null,null,null,null,null,null,null,null,null,null,null,null,null,null,null,null,null,null,null,null,null,null,null,null,"25225","00263 ASPHALT MIX FOR PAVEMENT WEDGE",null,null,70,"25225",null,null,null,72,null,null,"LS NSG-Fine (Washed)","10320",null,null,null,null,null,null,null,null,null,null,20625,25625]
[null,null,null,null,null,null,null,null,null,null,null,null,null,{"$f":"Cores!A34","v":"0-1-J2"},null,{"$f":"IF(Cores!I34=\"\",\"\",10)","v":""},null,null,null,null,null,null,null,null,null,null,null,null,null,null,null,null,null,null,null,null,null,null,null,null,null,null,null,null,null,null,null,null,null,null,null,null,"25490","00263 ASPHALT MIX FOR PAVEMENT WEDGE (NO. 4) ASPHALT SURFACE",null,null,71,"25490",null,null,null,73,null,null,"LSS (Unwashed)","10313",null,null,null,null,null,null,null,null,null,null,20625,25625]
[null,null,null,null,null,null,null,null,null,null,null,null,null,{"$f":"Cores!A36","v":"0-2-J1"},null,{"$f":"IF(Cores!I36=\"\",\"\",10)","v":""},null,null,null,null,null,null,null,null,null,null,null,null,null,null,null,null,null,null,null,null,null,null,null,null,null,null,null,null,null,null,null,null,null,null,null,null,"25500","00263 ASPHALT MIX FOR PAVEMENT WEDGE (0.38-IN) ASPHALT SURFACE",null,null,72,"25500",null,null,null,74,null,null,"LSS (Washed)","10310",null,null,null,null,null,null,null,null,null,null,20600,25600]
[null,null,null,null,null,null,null,null,null,null,null,null,null,{"$f":"Cores!A37","v":"0-2-J2"},null,{"$f":"IF(Cores!I37=\"\",\"\",10)","v":""},null,null,null,null,null,null,null,null,null,null,null,null,null,null,null,null,null,null,null,null,null,null,null,null,null,null,null,null,null,null,null,null,null,null,null,null,"25525","00263 ASPHALT MIX FOR PAVEMENT WEDGE (0.50-IN) ASPHALT SURFACE",null,null,73,"25525",null,null,null,75,null,null,"LSS Anti-Skid A","10436",null,null,null,null,null,null,null,null,null,null,20600,25600]
[null,null,null,null,null,null,null,null,null,null,null,null,null,{"$f":"Cores!A39","v":"0-3-J1"},null,{"$f":"IF(Cores!I39=\"\",\"\",10)","v":""},null,null,null,null,null,null,null,null,null,null,null,null,null,null,null,null,null,null,null,null,null,null,null,null,null,null,null,null,null,null,null,null,null,null,null,null,"25550","00263 ASPHALT MIX FOR PAVEMENT WEDGE (0.50-IN) ASPHALT BINDER",null,null,74,"25550",null,null,null,76,null,null,"LSS Anti-Skid B","10437",null,null,null,null,null,null,null,null,null,null,20600,25600]
[null,null,null,null,null,null,null,null,null,null,null,null,null,{"$f":"Cores!A40","v":"0-3-J2"},null,{"$f":"IF(Cores!I40=\"\",\"\",10)","v":""},null,null,null,null,null,null,null,null,null,null,null,null,null,null,null,null,null,null,null,null,null,null,null,null,null,null,null,null,null,null,null,null,null,null,null,null,"25575","00263 ASPHALT MIX FOR PAVEMENT WEDGE (0.75-IN) ASPHALT BASE",null,null,75,"25575",null,null,null,77,null,null,"Mineral Filler","10315",null,null,null,null,null,null,null,null,null,null,20600,25600]
[null,null,null,null,null,null,null,null,null,null,null,null,null,{"$f":"Cores!A42","v":"0-4-J1"},null,{"$f":"IF(Cores!I42=\"\",\"\",10)","v":""},null,null,null,null,null,null,null,null,null,null,null,null,null,null,null,null,null,null,null,null,null,null,null,null,null,null,null,null,null,null,null,null,null,null,null,null,"25050","00267 ASPHALT SURF OPEN-GRADED PG64-22",null,null,76,"25050",null,null,null,78,null,null,"Natural Sand","10436",null,null,null,null,null,null,null,null,null,null,20600,25600]
[null,null,null,null,null,null,null,null,null,null,null,null,null,{"$f":"Cores!A43","v":"0-4-J2"},null,{"$f":"IF(Cores!I43=\"\",\"\",10)","v":""},null,null,null,null,null,null,null,null,null,null,null,null,null,null,null,null,null,null,null,null,null,null,null,null,null,null,null,null,null,null,null,null,null,null,null,null,"25050","00268 ASPHALT SURF OPEN-GRADED PG76-22",null,null,77,"25050",null,null,null,79,null,null,"Coarse Rap","24025",null,null,null,null,null,null,null,null,null,null,20600,25600]
[null,null,null,null,null,null,null,null,null,null,null,null,null,"Dev. % AV",null,{"$f":"IF('Pay Values'!I38=\"\",\"\",IF(H13=2,120,\"\"))","v":""},null,null,null,null,null,null,null,null,null,null,null,null,null,null,null,null,null,null,null,null,null,null,null,null,null,null,null,null,null,null,null,null,null,null,null,null,"25075","00269 MOD OPEN-GRADED DRAINAGE COURSE",null,null,78,"25075",null,null,null,80,null,null,"ROM","10300",null,null,null,null,null,null,null,null,null,null,20600,25600]
[null,null,null,null,null,null,null,null,null,null,null,null,null,"Dev. % AV",null,{"$f":"IF('Pay Values'!I43=\"\",\"\",IF(H13=2,120,\"\"))","v":""},null,null,null,null,null,null,null,null,null,null,null,null,null,null,null,null,null,null,null,null,null,null,null,null,null,null,null,null,null,null,null,null,null,null,null,null,"25550","00272 CL2 ASPH BIND 0.50D PG64-22",null,null,79,"25550",null,null,null,81,null,null,"Shingles",24035,null,null,null,null,null,null,null,null,null,null,20600,25600]
[null,null,null,null,null,null,null,null,null,null,null,null,null,"Grad. Ver. 1 Charge",null,{"$f":"IF('Super Verify'!B48=\"\",\"\",IF(H13=1,100,\"\"))","v":""},null,null,null,null,null,null,null,null,null,null,null,null,null,null,null,null,null,null,null,null,null,null,null,null,null,null,null,null,null,null,null,null,null,null,null,null,"25550","00274 CL3 ASPH BIND 0.50D PG64-22",null,null,80,"25550",null,null,null,82,null,null,"Slag #4's",10330,null,null,null,null,null,null,null,null,null,null,20600,25600]
[null,null,null,null,null,null,null,null,null,null,null,null,null,"Grad. Ver. 2 Charge",null,{"$f":"IF('Super Verify'!E48=\"\",\"\",IF(H13=1,100,\"\"))","v":""},null,null,null,null,null,null,null,null,null,null,null,null,null,null,null,null,null,null,null,null,null,null,null,null,null,null,null,null,null,null,null,null,null,null,null,null,"25550","00276 CL3 ASPH BIND 0.50D PG76-22",null,null,81,"25550",null,null,null,83,null,null,"Slag #57's","10345",null,null,null,null,null,null,null,null,null,null,20600,25600]
[null,null,null,null,null,null,null,null,null,null,null,null,null,null,null,{"$f":" SUM(P56:R83)","v":0},null,null,null,null,null,null,null,null,null,null,null,null,null,null,null,null,null,null,null,null,null,null,null,null,null,null,null,null,null,null,null,null,null,null,null,null,"25550","00277 CL4 ASPH BIND 0.50D PG64-22",null,null,82,"25550",null,null,null,84,null,null,"Slag #68's","10370",null,null,null,null,null,null,null,null,null,null,20600,25600]
[null,null,null,null,null,null,null,null,null,null,null,null,null,null,null,null,null,null,null,null,null,null,null,null,null,null,null,null,null,null,null,null,null,null,null,null,null,null,null,null,null,null,null,null,null,null,null,null,null,null,null,null,"25550","00279 CL4 ASPH BIND 0.50D PG76-22",null,null,83,"25550",null,null,null,85,null,null,"Slag #78's","10385",null,null,null,null,null,null,null,null,null,null,20600,25600]
[null,null,null,null,null,null,null,null,null,null,null,null,null,null,null,null,null,null,null,null,null,null,null,null,null,null,null,null,null,null,null,null,null,null,null,null,null,null,null,null,null,null,null,null,null,null,null,null,null,null,null,null,"25500","00301 CL2 ASPH SURF 0.38D PG64-22",null,null,84,"25500",null,null,null,86,null,null,"Slag #8's","10400",null,null,null,null,null,null,null,null,null,null,20600,25600]
[null,null,null,null,null,null,null,null,null,null,null,null,null,null,null,null,null,null,null,null,null,null,null,null,null,null,null,null,null,null,null,null,null,null,null,null,null,null,null,null,null,null,null,null,null,null,null,null,null,null,null,null,"25500","00307 CL2 ASPH SURF 0.38B PG64-22",null,null,85,"25500",null,null,null,87,null,null,"Slag #9M's","10415",null,null,null,null,null,null,null,null,null,null,20600,25600]
[null,null,null,null,null,null,null,null,null,null,null,null,null,null,null,null,null,null,null,null,null,null,null,null,null,null,null,null,null,null,null,null,null,null,null,null,null,null,null,null,null,null,null,null,null,null,null,null,null,null,null,null,25525,"00309 CL2 ASPH SURF 0.50D PG64-22",null,null,86,25525,null,null,null,88,null,null,"Slag Sand","10436",null,null,null,null,null,null,null,null,null,null,20600,25600]
[null,null,null,null,null,null,null,null,null,null,null,null,null,null,null,null,null,null,null,null,null,null,null,null,null,null,null,null,null,null,null,null,null,null,null,null,null,null,null,null,null,null,null,null,null,null,null,null,null,null,null,null,"25500","00311 CL2 ASPH SURF 0.38B PG76-22",null,null,87,"25500",null,null,null,89,null,null,"Asph Agg-#10 Unwashed","10293",null,null,null,null,null,null,null,null,null,null,20600,25600]
[null,null,null,null,null,null,null,null,null,null,null,null,null,null,null,null,null,null,null,null,null,null,null,null,null,null,null,null,null,null,null,null,null,null,null,null,null,null,null,null,null,null,null,null,null,null,null,null,null,null,null,null,25525,"00312 CL3 ASPH SURF 0.50D PG64-22",null,null,88,25525,null,null,null,90,null,null,"Asph Agg-#10 Washed","10290",null,null,null,null,null,null,null,null,null,null,20600,25600]
[null,null,null,null,null,null,null,null,null,null,null,null,null,null,null,null,null,null,null,null,null,null,null,null,null,null,null,null,null,null,null,null,null,null,null,null,null,null,null,null,null,null,null,null,null,null,null,null,null,null,null,null,25525,"00314 CL3 ASPH SURF 0.50D PG76-22",null,null,89,25525,null,null,null,91,null,null,"Asph Agg-#11 Unwashed","10297",null,null,null,null,null,null,null,null,null,null,20600,25600]
[null,null,null,null,null,null,null,null,null,null,null,null,null,null,null,null,null,null,null,null,null,null,null,null,null,null,null,null,null,null,null,null,null,null,null,null,null,null,null,null,null,null,null,null,null,null,null,null,null,null,null,null,25525,"00324 CL3 ASPH SURF 0.50B PG64-22",null,null,89,25525,null,null,null,{"$f":"BJ91+1","v":92},null,null,"Asph Agg-#11 Washed","10295",null,null,null,null,null,null,null,null,null,null,20575,25575]
[null,null,null,null,null,null,null,null,null,null,null,null,null,null,null,null,null,null,null,null,null,null,null,null,null,null,null,null,null,null,null,null,null,null,null,null,null,null,null,null,null,null,null,null,null,null,null,null,null,null,null,null,25525,"00326 CL3 ASPH SURF 0.50B PG76-22",null,null,90,25525,null,null,null,93,null,null,"Asph Agg-Comb.-NSG","10300",null,null,null,null,null,null,null,null,null,null,20575,25575]
[null,null,null,null,null,null,null,null,null,null,null,null,null,null,null,null,null,null,null,null,null,null,null,null,null,null,null,null,null,null,null,null,null,null,null,null,null,null,null,null,null,null,null,null,null,null,null,null,null,null,null,null,25525,"00327 CL4 ASPH SURF 0.50B PG64-22",null,null,91,25525,null,null,null,94,null,null,"Asph Agg-Cr. Gravel Sand","10305",null,null,null,null,null,null,null,null,null,null,20575,25575]
[null,null,null,null,null,null,null,null,null,null,null,null,null,null,null,null,null,null,null,null,null,null,null,null,null,null,null,null,null,null,null,null,null,null,null,null,null,null,null,null,null,null,null,null,null,null,null,null,null,null,null,null,25525,"00329 CL4 ASPH SURF 0.50B PG76-22",null,null,92,25525,null,null,null,95,null,null,"Asph Agg-Fine Unwashed","10313",null,null,null,null,null,null,null,null,null,null,20575,25575]
[null,1,1,2,2,3,3,4,4,5,5,null,null,null,null,null,null,null,null,null,null,null,null,null,null,null,null,null,null,null,null,null,null,null,null,null,null,null,null,null,null,null,null,null,null,null,null,null,null,null,null,null,25525,"00330 CL3 ASPH SURF 0.50A PG64-22",null,null,93,25525,null,null,null,96,null,null,"Asph Agg-Fine Washed","10310",null,null,null,null,null,null,null,null,null,null,20575,25575]
[null,"Min.","Max.","Min.","Max.","Min.","Max.","Min.","Max.","Min.","Max.","Min.","Max.",null,null,null,null,null,null,null,null,null,null,null,null,null,null,null,null,null,null,null,null,null,null,null,null,null,null,null,null,null,null,null,null,null,null,null,null,null,null,null,25525,"00332 CL3 ASPH SURF 0.50A PG76-22",null,null,94,25525,null,null,null,97,null,null,"Asph Agg-Mineral Filler","10315",null,null,null,null,null,null,null,null,null,null,20575,25575]
["2 \"",100,100,null,null,null,null,null,null,null,null,{"$f":"HLOOKUP(J1,B96:BA112,3,FALSE)","v":{"$error":"#N/A"}},{"$f":"IF(HLOOKUP(J1,B96:AQ112,3,TRUE)=0,100,HLOOKUP(J1,B96:AQ112,3,TRUE))","v":{"$error":"#N/A"}},null,null,null,null,null,null,null,null,null,null,null,null,null,null,null,null,null,null,null,null,null,null,null,null,null,null,null,null,null,null,null,null,null,null,null,null,null,null,null,25525,"00333 CL4 ASPH SURF 0.50A PG64-22",null,null,95,25525,null,null,null,98,null,null,"Asph Agg-NSG-Fine Unwashed","10323",null,null,null,null,null,null,null,null,null,null,20575,25575]
["1 1/2 \"",90,100,100,100,null,null,null,null,null,null,{"$f":"HLOOKUP(J1,B96:BA112,4,FALSE)","v":{"$error":"#N/A"}},{"$f":"IF(HLOOKUP(J1,B96:AQ112,4,TRUE)=0,100,HLOOKUP(J1,B96:AQ112,4,TRUE))","v":{"$error":"#N/A"}},null,null,null,null,null,null,null,null,null,null,null,null,null,null,null,null,null,null,null,null,null,null,null,null,null,null,null,null,null,null,null,null,null,null,null,null,null,null,null,25500,"00334 CL3 ASPH SURF 0.38A PG64-22 (SLAG)",null,null,96,25500,null,null,null,99,null,null,"Asph Agg-NSG-Fine Washed","10320",null,null,null,null,null,null,null,null,null,null,20575,25575]
["1 \"",null,null,90,100,100,100,null,null,null,null,{"$f":"HLOOKUP(J1,B96:BA112,5,FALSE)","v":{"$error":"#N/A"}},{"$f":"IF(HLOOKUP(J1,B96:AQ112,5,TRUE)=0,100,HLOOKUP(J1,B96:AQ112,5,TRUE))","v":{"$error":"#N/A"}},null,null,null,null,null,null,null,null,null,null,null,null,null,null,null,null,null,null,null,null,null,null,null,null,null,null,null,null,null,null,null,null,null,null,null,null,null,null,null,25525,"00335 CL4 ASPH SURF 0.50A PG76-22",null,null,97,25525,null,null,null,null,null,null,"Asph Agg #357","10325",null,null,null,null,null,null,null,null,null,null,20575,25575]
["3/4 \"",null,null,null,null,90,100,100,100,null,null,{"$f":"HLOOKUP(J1,B96:BA112,6,FALSE)","v":{"$error":"#N/A"}},{"$f":"IF(HLOOKUP(J1,B96:AQ112,6,TRUE)=0,100,HLOOKUP(J1,B96:AQ112,6,TRUE))","v":{"$error":"#N/A"}},null,null,null,null,null,null,null,null,null,null,null,null,null,null,null,null,null,null,null,null,null,null,null,null,null,null,null,null,null,null,null,null,null,null,null,null,null,null,null,25500,"00336 CL3 ASPH SURF 0.38A PG76-22",null,null,98,25500,null,null,null,null,null,null,"Asph Agg #4","10330",null,null,null,null,null,null,null,null,null,null,20575,25575]
["1/2 \" ",null,null,null,null,null,null,90,100,100,100,{"$f":"HLOOKUP(J1,B96:BA112,7,FALSE)","v":{"$error":"#N/A"}},{"$f":"IF(HLOOKUP(J1,B96:AQ112,7,TRUE)=0,100,HLOOKUP(J1,B96:AQ112,7,TRUE))","v":{"$error":"#N/A"}},"J1=15 for OGFC",null,null,null,null,null,null,null,null,null,null,null,null,null,null,null,null,null,null,null,null,null,null,null,null,null,null,null,null,null,null,null,null,null,null,null,null,null,null,25500,"00337 CL4 ASPH SURF 0.38B PG76-22 ",null,null,99,25500,null,null,null,null,null,null,"Asph Agg #467","10335",null,null,null,null,null,null,null,null,null,null,20575,25575]
["3/8 \"",null,null,null,null,null,null,null,null,90,100,{"$f":"HLOOKUP(J1,B96:BA112,8,FALSE)","v":{"$error":"#N/A"}},{"$f":"IF(HLOOKUP(J1,B96:AQ112,8,TRUE)=0,100,HLOOKUP(J1,B96:AQ112,8,TRUE))","v":{"$error":"#N/A"}},"Sieve","OGFC",null,null,null,null,null,null,null,null,null,null,null,null,null,null,null,null,null,null,null,null,null,null,null,null,null,null,null,null,null,null,null,null,null,null,null,null,null,"25500","00339 CL3 ASPH SURF 0.38D PG64-22",null,null,100,"25500",null,null,null,null,null,null,"Asph Agg #5","10340",null,null,null,null,null,null,null,null,null,null,20575,25575]
["1/4 \"",null,null,null,null,null,null,null,null,null,null,{"$f":"HLOOKUP(J1,B96:BA112,9,FALSE)","v":{"$error":"#N/A"}},{"$f":"IF(HLOOKUP(J1,B96:AQ112,9,TRUE)=0,100,HLOOKUP(J1,B96:AQ112,9,TRUE))","v":{"$error":"#N/A"}},"Size","JMF Tol.",null,null,null,null,null,null,null,null,null,null,null,null,null,null,null,null,null,null,null,null,null,null,null,null,null,null,null,null,null,null,null,null,null,null,null,null,null,25500,"00340 CL2 ASPH SURF 0.38D PG76-22",null,null,101,25500,null,null,null,null,null,null,"Asph Agg #57","10345",null,null,null,null,null,null,null,null,null,null,20575,25575]
["# 4",null,null,null,null,null,null,null,null,null,null,{"$f":"HLOOKUP(J1,B96:BA112,10,FALSE)","v":{"$error":"#N/A"}},{"$f":"IF(HLOOKUP(J1,B96:AQ112,10,TRUE)=0,100,HLOOKUP(J1,B96:AQ112,10,TRUE))","v":{"$error":"#N/A"}},4.75,6,null,null,null,null,null,null,null,null,null,null,null,null,null,null,null,null,null,null,null,null,null,null,null,null,null,null,null,null,null,null,null,null,null,null,null,null,null,"25500","00342 CL4 ASPH SURF 0.38A PG76-22",null,null,102,"25500",null,null,null,null,null,null,"Asph Agg #67","10350",null,null,null,null,null,null,null,null,null,null,20575,25575]
["# 8",15,41,19,45,23,49,28,58,32,67,{"$f":"HLOOKUP(J1,B96:BA112,11,FALSE)","v":{"$error":"#N/A"}},{"$f":"IF(HLOOKUP(J1,B96:AQ112,11,TRUE)=0,100,HLOOKUP(J1,B96:AQ112,11,TRUE))","v":{"$error":"#N/A"}},2.36,4,null,null,null,null,null,null,null,null,null,null,null,null,null,null,null,null,null,null,null,null,null,null,null,null,null,null,null,null,null,null,null,null,null,null,null,null,null,"25125","00374 ASPHALT SURF SAND TY II PG 64-22",null,null,103,"25125",null,null,null,null,null,null,"Asph Agg #67 Class A","10355",null,null,null,null,null,null,null,null,null,null,20575,25575]
["# 16",null,null,null,null,null,null,null,null,null,null,{"$f":"HLOOKUP(J1,B96:BA112,12,FALSE)","v":{"$error":"#N/A"}},{"$f":"IF(HLOOKUP(J1,B96:AQ112,12,TRUE)=0,100,HLOOKUP(J1,B96:AQ112,12,TRUE))","v":{"$error":"#N/A"}},null,null,null,null,null,null,null,null,null,null,null,null,null,null,null,null,null,null,null,null,null,null,null,null,null,null,null,null,null,null,null,null,null,null,null,null,null,null,null,25500,"00385 CL3 ASPH SURF 0.38A PG64-22",null,null,104,25500,null,null,null,null,null,null,"Asph Agg #67 Class B","10360",null,null,null,null,null,null,null,null,null,null,20575,25575]
["# 30",null,null,null,null,null,null,null,null,null,null,{"$f":"HLOOKUP(J1,B96:BA112,13,FALSE)","v":{"$error":"#N/A"}},{"$f":"IF(HLOOKUP(J1,B96:AQ112,13,TRUE)=0,100,HLOOKUP(J1,B96:AQ112,13,TRUE))","v":{"$error":"#N/A"}},null,null,null,null,null,null,null,null,null,null,null,null,null,null,null,null,null,null,null,null,null,null,null,null,null,null,null,null,null,null,null,null,null,null,null,null,null,null,null,25500,"00386 CL3 ASPH SURF 0.38B PG64-22(SLAG)",null,null,105,25500,null,null,null,null,null,null,"Asph Agg #68","10365",null,null,null,null,null,null,null,null,null,null,20575,25575]
["# 50",null,null,null,null,null,null,null,null,null,null,{"$f":"HLOOKUP(J1,B96:BA112,14,FALSE)","v":{"$error":"#N/A"}},{"$f":"IF(HLOOKUP(J1,B96:AQ112,14,TRUE)=0,100,HLOOKUP(J1,B96:AQ112,14,TRUE))","v":{"$error":"#N/A"}},null,null,null,null,null,null,null,null,null,null,null,null,null,null,null,null,null,null,null,null,null,null,null,null,null,null,null,null,null,null,null,null,null,null,null,null,null,null,null,"25500","00387 CL3 ASPH SURF 0.38B PG76-22",null,null,106,"25500",null,null,null,null,null,null,"Asph Agg #68 Class A","10370",null,null,null,null,null,null,null,null,null,null,20575,25575]
["# 100",null,null,null,null,null,null,null,null,null,null,{"$f":"HLOOKUP(J1,B96:BA112,15,FALSE)","v":{"$error":"#N/A"}},{"$f":"IF(HLOOKUP(J1,B96:AQ112,15,TRUE)=0,100,HLOOKUP(J1,B96:AQ112,15,TRUE))","v":{"$error":"#N/A"}},null,null,null,null,null,null,null,null,null,null,null,null,null,null,null,null,null,null,null,null,null,null,null,null,null,null,null,null,null,null,null,null,null,null,null,null,null,null,null,"25500","00388 CL3 ASPH SURF 0.38B PG64-22",null,null,107,"25500",null,null,null,null,null,null,"Asph Agg #68 Class B","10375",null,null,null,null,null,null,null,null,null,null,20500,25500]
["# 200",0,6,1,7,2,8,2,10,2,10,{"$f":"HLOOKUP(J1,B96:BA112,16,FALSE)","v":{"$error":"#N/A"}},{"$f":"IF(HLOOKUP(J1,B96:AQ112,16,TRUE)=0,100,HLOOKUP(J1,B96:AQ112,16,TRUE))","v":{"$error":"#N/A"}},null,null,null,null,null,null,null,null,null,null,null,null,null,null,null,null,null,null,null,null,null,null,null,null,null,null,null,null,null,null,null,null,null,null,null,null,null,null,null,"25500","00389 CL3 ASPH SURF 0.38D PG76-22",null,null,108,"25500",null,null,null,null,null,null,"Asph Agg #78","10380",null,null,null,null,null,null,null,null,null,null,20500,25500]
["% AC",0.5,null,0.5,null,0.5,null,0.5,null,0.5,null,{"$f":"HLOOKUP(J1,B96:BA112,17,FALSE)","v":{"$error":"#N/A"}},null,null,null,null,null,null,null,null,null,null,null,null,null,null,null,null,null,null,null,null,null,null,null,null,null,null,null,null,null,null,null,null,null,null,null,null,null,null,null,null,25500,"00390 CL3 ASPH SURF 0.38B PG76-22 (SLAG)",null,null,109,25500,null,null,null,null,null,null,"Asph Agg #78 Class A","10385",null,null,null,null,null,null,null,null,null,null,20500,25500]
[null,null,null,null,null,null,null,null,null,null,null,null,null,null,null,null,null,null,null,null,null,null,null,null,null,null,null,null,null,null,null,null,null,null,null,null,null,null,null,null,null,null,null,null,null,null,null,null,null,null,null,null,28025,"01897 ASPHALT WEDGE CURB",null,null,110,28025,null,null,null,null,null,null,"Asph Agg #78 Class B","10390",null,null,null,null,null,null,null,null,null,null,20500,25500]
[null,null,null,null,null,null,null,null,null,null,null,null,null,null,null,null,null,null,null,null,null,null,null,null,null,null,null,null,null,null,null,null,null,null,null,null,null,null,null,null,null,null,null,null,null,null,null,null,null,null,null,null,"25575","03240 BASE FAILURE REPAIR (0.75-IN) ASPHALT BASE",null,null,111,"25575",null,null,null,null,null,null,"Asph Agg #8","10395",null,null,null,null,null,null,null,null,null,null,20550,25550]
[4.75,{"$f":"'Accept. Grad. # 1'!B14","v":0},{"$f":"100-B115","v":100},{"$f":"C115","v":100},{"$f":"'Accept. Grad. # 2'!B14","v":0},{"$f":"100-E115","v":100},{"$f":"F115","v":100},{"$f":"'Accept. Grad. # 3'!B14","v":0},{"$f":"100-H115","v":100},{"$f":"I115","v":100},{"$f":"'Accept. Grad. # 4'!B14","v":0},{"$f":"100-K115","v":100},{"$f":"L115","v":100},{"$f":"'Accept. Grad. # 4'!E14","v":""},{"$f":"100-N115","v":{"$error":"#VALUE!"}},{"$f":"O115","v":{"$error":"#VALUE!"}},{"$f":"'Accept. Grad. # 4'!H14","v":""},{"$f":"100-Q115","v":{"$error":"#VALUE!"}},{"$f":"R115","v":{"$error":"#VALUE!"}},null,null,null,null,null,null,null,null,null,null,null,null,null,null,null,null,null,null,null,null,null,null,null,null,null,null,null,null,null,null,null,null,null,"25600","03240 BASE FAILURE REPAIR (1.00-IN) ASPHALT BASE",null,null,112,"25600",null,null,null,null,null,null,"Asph Agg #8 Class A","10400",null,null,null,null,null,null,null,null,null,null,20550,25550]
[2.36,{"$f":"'Accept. Grad. # 1'!B15","v":0},{"$f":"B115-B116","v":0},{"$f":"C116+D115","v":100},{"$f":"'Accept. Grad. # 2'!B15","v":0},{"$f":"E115-E116","v":0},{"$f":"F116+G115","v":100},{"$f":"'Accept. Grad. # 3'!B15","v":0},{"$f":"H115-H116","v":0},{"$f":"I116+J115","v":100},{"$f":"'Accept. Grad. # 4'!B15","v":0},{"$f":"K115-K116","v":0},{"$f":"L116+M115","v":100},{"$f":"'Accept. Grad. # 4'!E15","v":""},{"$f":"N115-N116","v":{"$error":"#VALUE!"}},{"$f":"O116+P115","v":{"$error":"#VALUE!"}},{"$f":"'Accept. Grad. # 4'!H15","v":""},{"$error":"#VALUE!"},{"$error":"#VALUE!"},null,null,null,null,null,null,null,null,null,null,null,null,null,null,null,null,null,null,null,null,null,null,null,null,null,null,null,null,null,null,null,null,null,"25625","03240 BASE FAILURE REPAIR (1.50-IN) ASPHALT BASE",null,null,113,"25625",null,null,null,null,null,null,"Asph Agg #8 Class B","10405",null,null,null,null,null,null,null,null,null,null,20550,25550]
[1.18,{"$f":"'Accept. Grad. # 1'!B16","v":0},{"$f":"B116-B117","v":0},{"$f":"C117+D116","v":100},{"$f":"'Accept. Grad. # 2'!B16","v":0},{"$f":"E116-E117","v":0},{"$f":"F117+G116","v":100},{"$f":"'Accept. Grad. # 3'!B16","v":0},{"$f":"H116-H117","v":0},{"$f":"I117+J116","v":100},{"$f":"'Accept. Grad. # 4'!B16","v":0},{"$f":"K116-K117","v":0},{"$f":"L117+M116","v":100},{"$f":"'Accept. Grad. # 4'!E16","v":""},{"$error":"#VALUE!"},{"$error":"#VALUE!"},{"$f":"'Accept. Grad. # 4'!H16","v":""},{"$error":"#VALUE!"},{"$error":"#VALUE!"},null,null,null,null,null,null,null,null,null,null,null,null,null,null,null,null,null,null,null,null,null,null,null,null,null,null,null,null,null,null,null,null,null,"25575","03247 REPAIR BLOWUP (0.75-IN) ASPHALT BASE",null,null,114,"25575",null,null,null,null,null,null,"Asph Agg #9M","10410",null,null,null,null,null,null,null,null,null,null,20550,25550]
[0.6,{"$f":"'Accept. Grad. # 1'!B17","v":0},{"$f":"B117-B118","v":0},{"$f":"C118+D117","v":100},{"$f":"'Accept. Grad. # 2'!B17","v":0},{"$f":"E117-E118","v":0},{"$f":"F118+G117","v":100},{"$f":"'Accept. Grad. # 3'!B17","v":0},{"$f":"H117-H118","v":0},{"$f":"I118+J117","v":100},{"$f":"'Accept. Grad. # 4'!B17","v":0},{"$f":"K117-K118","v":0},{"$f":"L118+M117","v":100},{"$f":"'Accept. Grad. # 4'!E17","v":""},{"$error":"#VALUE!"},{"$error":"#VALUE!"},{"$f":"'Accept. Grad. # 4'!H17","v":""},{"$error":"#VALUE!"},{"$error":"#VALUE!"},null,null,null,null,null,null,null,null,null,null,null,null,null,null,null,null,null,null,null,null,null,null,null,null,null,null,null,null,null,null,null,null,null,"25600","03247 REPAIR BLOWUP (1.00-IN) ASPHALT BASE",null,null,115,"25600",null,null,null,null,null,null,"Asph Agg #9M Class A","10415",null,null,null,null,null,null,null,null,null,null,20575,25575]
[0.3,{"$f":"'Accept. Grad. # 1'!B18","v":0},{"$f":"B118-B119","v":0},{"$f":"C119+D118","v":100},{"$f":"'Accept. Grad. # 2'!B18","v":0},{"$f":"E118-E119","v":0},{"$f":"F119+G118","v":100},{"$f":"'Accept. Grad. # 3'!B18","v":0},{"$f":"H118-H119","v":0},{"$f":"I119+J118","v":100},{"$f":"'Accept. Grad. # 4'!B18","v":0},{"$f":"K118-K119","v":0},{"$f":"L119+M118","v":100},{"$f":"'Accept. Grad. # 4'!E18","v":""},{"$error":"#VALUE!"},{"$error":"#VALUE!"},{"$f":"'Accept. Grad. # 4'!H18","v":""},{"$error":"#VALUE!"},{"$error":"#VALUE!"},null,null,null,null,null,null,null,null,null,null,null,null,null,null,null,null,null,null,null,null,null,null,null,null,null,null,null,null,null,null,null,null,null,"25625","03247 REPAIR BLOWUP (1.50-IN) ASPHALT BASE",null,null,116,"25625",null,null,null,null,null,null,"Asph Agg #9M Class B","10420",null,null,null,null,null,null,null,null,null,null,20575,25575]
[0.15,{"$f":"'Accept. Grad. # 1'!B19","v":0},{"$f":"B119-B120","v":0},{"$f":"C120+D119","v":100},{"$f":"'Accept. Grad. # 2'!B19","v":0},{"$f":"E119-E120","v":0},{"$f":"F120+G119","v":100},{"$f":"'Accept. Grad. # 3'!B19","v":0},{"$f":"H119-H120","v":0},{"$f":"I120+J119","v":100},{"$f":"'Accept. Grad. # 4'!B19","v":0},{"$f":"K119-K120","v":0},{"$f":"L120+M119","v":100},{"$f":"'Accept. Grad. # 4'!E19","v":""},{"$error":"#VALUE!"},{"$error":"#VALUE!"},{"$f":"'Accept. Grad. # 4'!H19","v":""},{"$error":"#VALUE!"},{"$error":"#VALUE!"},null,null,null,null,null,null,null,null,null,null,null,null,null,null,null,null,null,null,null,null,null,null,null,null,null,null,null,null,null,null,null,null,null,"25490","03304 BRIDGE OVERLAY APPROACH PAVEMENT (NO. 4) ASPHALT SURFACE",null,null,117,"25490",null,null,null,null,null,null,"Asph Agg DGA","10425",null,null,null,null,null,null,null,null,null,null,20575,25575]
[null,null,null,{"$f":"IF(B115=0,\"\",SUM(D115:D120)/100)","v":""},null,null,{"$f":"IF(E115=0,\"\",SUM(G115:G120)/100)","v":""},null,null,{"$f":"IF(H115=0,\"\",SUM(J115:J120)/100)","v":""},null,null,{"$f":"IF(K115=0,\"\",SUM(M115:M120)/100)","v":""},null,null,null,null,null,null,null,null,null,null,null,null,null,null,null,null,null,null,null,null,null,null,null,null,null,null,null,null,null,null,null,null,null,null,null,null,null,null,null,"25500","03304 BRIDGE OVERLAY APPROACH PAVEMENT (0.38-IN) ASPHALT SURFACE",null,null,118,"25500",null,null,null,null,null,null,"Asph Agg NSG Class A","10430",null,null,null,null,null,null,null,null,null,null,20575,25575]
[null,null,null,null,null,null,null,null,null,null,null,null,null,null,null,null,null,null,null,null,null,null,null,null,null,null,null,null,null,null,null,null,null,null,null,null,null,null,null,null,null,null,null,null,null,null,null,null,null,null,null,null,"25525","03304 BRIDGE OVERLAY APPROACH PAVEMENT (0.50-IN) ASPHALT SURFACE",null,null,119,"25525",null,null,null,null,null,null,"Asph Agg NSG Class B","10435",null,null,null,null,null,null,null,null,null,null,20600,25600]
[null,null,null,null,null,null,null,null,null,null,null,null,null,null,null,null,null,null,null,null,null,null,null,null,null,null,null,null,null,null,null,null,null,null,null,null,null,null,null,null,null,null,null,null,null,null,null,null,null,null,null,null,"25500","20469ES403 CL3 ASPH SURF 0.38B PG76-22",null,null,120,"25500",null,null,null,null,null,null,"Asph Agg NSG-Coarse","10440",null,null,null,null,null,null,null,null,null,null,20600,25600]
[{"$f":"100-Gradation!C23","v":{"$error":"#VALUE!"}},{"$f":"ROUND(A124-INT(A124),1)","v":{"$error":"#VALUE!"}},{"$f":"IF(AND(B124>=0,B124<=0.2),INT(A124),IF(AND(B124>=0.3,B124<=0.7),INT(A124)+0.5,INT(A124)+1))","v":{"$error":"#VALUE!"}},{"$f":"IF(AND(C124>=AY29,C124<=AZ29),VALUE(FIXED(C124,1)),CONCATENATE(\"* \",FIXED(C124,1)))","v":{"$error":"#VALUE!"}},{"$f":"IF(AND(C124>=AY29,C124<=AZ29),ROUND(A124,1),CONCATENATE(\"* \",ROUND(A124,1)))","v":{"$error":"#VALUE!"}},null,{"$f":"'Accept. Grad. # 1'!D39","v":""},{"$f":"ROUND(G124-INT(G124),1)","v":{"$error":"#VALUE!"}},{"$f":"IF(AND(H124>=0,H124<=0.2),INT(G124),IF(AND(H124>=0.3,H124<=0.7),INT(G124)+0.5,INT(G124)+1))","v":{"$error":"#VALUE!"}},null,{"$f":"IF('Super Verify'!$B$5=1,'Super Verify'!$D$46,IF('Super Verify'!$B$12=1,'Super Verify'!$G$46,\"\"))","v":""},{"$f":"IF(K124=\"\",\"\",ROUND(K124-INT(K124),1))","v":""},{"$f":"IF(K124=\"\",\"\",IF(AND(L124>=0,L124<=0.2),INT(K124),IF(AND(L124>=0.3,L124<=0.7),INT(K124)+0.5,INT(K124)+1)))","v":""},null,{"$f":"IF(LEFT('Accept. Grad. # 1'!C20,1)=\"*\",AVERAGE(VALUE(MID('Accept. Grad. # 1'!C20,3,LEN('Accept. Grad. # 1'!C20))),'Accept. Grad. # 1'!D20,'Accept. Grad. # 1'!E20),AVERAGE('Accept. Grad. # 1'!C20:E20))","v":{"$error":"#DIV/0!"}},{"$f":"ROUND(O124-INT(O124),1)","v":{"$error":"#DIV/0!"}},{"$f":"IF(AND(P124>=0,P124<=0.2),INT(O124),IF(AND(P124>=0.3,P124<=0.7),INT(O124)+0.5,INT(O124)+1))","v":{"$error":"#DIV/0!"}},null,null,null,null,null,null,null,null,null,null,null,null,null,null,null,null,null,null,null,null,null,null,null,null,null,null,null,null,null,null,null,null,null,null,null,25600,"20696ES403 CL2 ASPH BASE 1.00D PG76-22",null,null,121,25600,null,null,null,null,null,null,"Asph Agg Fine Class A","10436",null,null,null,null,null,null,null,null,null,null,20600,25600]
[{"$f":"100-Gradation!F23","v":{"$error":"#VALUE!"}},{"$f":"ROUND(A125-INT(A125),1)","v":{"$error":"#VALUE!"}},{"$f":"IF(AND(B125>=0,B125<=0.2),INT(A125),IF(AND(B125>=0.3,B125<=0.7),INT(A125)+0.5,INT(A125)+1))","v":{"$error":"#VALUE!"}},{"$f":"IF(AND(C125>=AY29,C125<=AZ29),VALUE(FIXED(C125,1)),CONCATENATE(\"* \",FIXED(C125,1)))","v":{"$error":"#VALUE!"}},{"$f":"IF(AND(C125>=AY29,C125<=AZ29),ROUND(A125,1),CONCATENATE(\"* \",ROUND(A125,1)))","v":{"$error":"#VALUE!"}},null,{"$f":"'Accept. Grad. # 2'!D39","v":""},{"$f":"ROUND(G125-INT(G125),1)","v":{"$error":"#VALUE!"}},{"$f":"IF(AND(H125>=0,H125<=0.2),INT(G125),IF(AND(H125>=0.3,H125<=0.7),INT(G125)+0.5,INT(G125)+1))","v":{"$error":"#VALUE!"}},null,{"$f":"IF('Super Verify'!$B$5=2,'Super Verify'!$D$46,IF('Super Verify'!$B$12=2,'Super Verify'!$G$46,\"\"))","v":""},{"$f":"IF(K125=\"\",\"\",ROUND(K125-INT(K125),1))","v":""},{"$f":"IF(K125=\"\",\"\",IF(AND(L125>=0,L125<=0.2),INT(K125),IF(AND(L125>=0.3,L125<=0.7),INT(K125)+0.5,INT(K125)+1)))","v":""},null,{"$f":"IF(LEFT('Accept. Grad. # 2'!C20,1)=\"*\",AVERAGE(VALUE(MID('Accept. Grad. # 2'!C20,3,LEN('Accept. Grad. # 2'!C20))),'Accept. Grad. # 2'!D20,'Accept. Grad. # 2'!E20),AVERAGE('Accept. Grad. # 2'!C20:E20))","v":{"$error":"#DIV/0!"}},{"$f":"ROUND(O125-INT(O125),1)","v":{"$error":"#DIV/0!"}},{"$f":"IF(AND(P125>=0,P125<=0.2),INT(O125),IF(AND(P125>=0.3,P125<=0.7),INT(O125)+0.5,INT(O125)+1))","v":{"$error":"#DIV/0!"}},null,null,null,null,null,null,null,null,null,null,null,null,null,null,null,null,null,null,null,null,null,null,null,null,null,null,null,null,null,null,null,null,null,null,null,"25575","20757ED PAVEMENT REPAIR (0.75-IN) ASPHALT BASE",null,null,122,"25575",null,null,null,null,null,null,"Asph Agg Fine Class B","10437",null,null,null,null,null,null,null,null,null,null,20600,25600]
[{"$f":"100-Gradation!I23","v":{"$error":"#VALUE!"}},{"$f":"ROUND(A126-INT(A126),1)","v":{"$error":"#VALUE!"}},{"$f":"IF(AND(B126>=0,B126<=0.2),INT(A126),IF(AND(B126>=0.3,B126<=0.7),INT(A126)+0.5,INT(A126)+1))","v":{"$error":"#VALUE!"}},{"$f":"IF(AND(C126>=AY29,C126<=AZ29),VALUE(FIXED(C126,1)),CONCATENATE(\"* \",FIXED(C126,1)))","v":{"$error":"#VALUE!"}},{"$f":"IF(AND(C126>=AY29,C126<=AZ29),ROUND(A126,1),CONCATENATE(\"* \",ROUND(A126,1)))","v":{"$error":"#VALUE!"}},null,{"$f":"'Accept. Grad. # 3'!D39","v":""},{"$f":"ROUND(G126-INT(G126),1)","v":{"$error":"#VALUE!"}},{"$f":"IF(AND(H126>=0,H126<=0.2),INT(G126),IF(AND(H126>=0.3,H126<=0.7),INT(G126)+0.5,INT(G126)+1))","v":{"$error":"#VALUE!"}},null,{"$f":"IF('Super Verify'!$B$5=3,'Super Verify'!$D$46,IF('Super Verify'!$B$12=3,'Super Verify'!$G$46,\"\"))","v":""},{"$f":"IF(K126=\"\",\"\",ROUND(K126-INT(K126),1))","v":""},{"$f":"IF(K126=\"\",\"\",IF(AND(L126>=0,L126<=0.2),INT(K126),IF(AND(L126>=0.3,L126<=0.7),INT(K126)+0.5,INT(K126)+1)))","v":""},null,{"$f":"IF(LEFT('Accept. Grad. # 3'!C20,1)=\"*\",AVERAGE(VALUE(MID('Accept. Grad. # 3'!C20,3,LEN('Accept. Grad. # 3'!C20))),'Accept. Grad. # 3'!D20,'Accept. Grad. # 3'!E20),AVERAGE('Accept. Grad. # 3'!C20:E20))","v":{"$error":"#DIV/0!"}},{"$f":"ROUND(O126-INT(O126),1)","v":{"$error":"#DIV/0!"}},{"$f":"IF(AND(P126>=0,P126<=0.2),INT(O126),IF(AND(P126>=0.3,P126<=0.7),INT(O126)+0.5,INT(O126)+1))","v":{"$error":"#DIV/0!"}},null,null,null,null,null,null,null,null,null,null,null,null,null,null,null,null,null,null,null,null,null,null,null,null,null,null,null,null,null,null,null,null,null,null,null,"25600","20757ED PAVEMENT REPAIR (1.00-IN) ASPHALT BASE",null,null,123,"25600",null,null,null,null,null,null,"Intermediate Rap",24030,null,null,null,null,null,null,null,null,null,null,20625,25625]
[{"$f":"100-Gradation!L23","v":{"$error":"#VALUE!"}},{"$f":"ROUND(A127-INT(A127),1)","v":{"$error":"#VALUE!"}},{"$f":"IF(AND(B127>=0,B127<=0.2),INT(A127),IF(AND(B127>=0.3,B127<=0.7),INT(A127)+0.5,INT(A127)+1))","v":{"$error":"#VALUE!"}},{"$f":"IF(AND(C127>=AY29,C127<=AZ29),VALUE(FIXED(C127,1)),CONCATENATE(\"* \",FIXED(C127,1)))","v":{"$error":"#VALUE!"}},{"$f":"IF(AND(C127>=AY29,C127<=AZ29),ROUND(A127,1),CONCATENATE(\"* \",ROUND(A127,1)))","v":{"$error":"#VALUE!"}},null,{"$f":"'Accept. Grad. # 4'!D39","v":""},{"$f":"ROUND(G127-INT(G127),1)","v":{"$error":"#VALUE!"}},{"$f":"IF(AND(H127>=0,H127<=0.2),INT(G127),IF(AND(H127>=0.3,H127<=0.7),INT(G127)+0.5,INT(G127)+1))","v":{"$error":"#VALUE!"}},null,{"$f":"IF('Super Verify'!$B$5=4,'Super Verify'!$D$46,IF('Super Verify'!$B$12=4,'Super Verify'!$G$46,\"\"))","v":""},{"$f":"IF(K127=\"\",\"\",ROUND(K127-INT(K127),1))","v":""},{"$f":"IF(K127=\"\",\"\",IF(AND(L127>=0,L127<=0.2),INT(K127),IF(AND(L127>=0.3,L127<=0.7),INT(K127)+0.5,INT(K127)+1)))","v":""},null,{"$f":"IF(LEFT('Accept. Grad. # 4'!C20,1)=\"*\",AVERAGE(VALUE(MID('Accept. Grad. # 4'!C20,3,LEN('Accept. Grad. # 4'!C20))),'Accept. Grad. # 4'!D20,'Accept. Grad. # 4'!E20),AVERAGE('Accept. Grad. # 4'!C20:E20))","v":{"$error":"#DIV/0!"}},{"$f":"ROUND(O127-INT(O127),1)","v":{"$error":"#DIV/0!"}},{"$f":"IF(AND(P127>=0,P127<=0.2),INT(O127),IF(AND(P127>=0.3,P127<=0.7),INT(O127)+0.5,INT(O127)+1))","v":{"$error":"#DIV/0!"}},null,null,null,null,null,null,null,null,null,null,null,null,null,null,null,null,null,null,null,null,null,null,null,null,null,null,null,null,null,null,null,null,null,null,null,"25625","20757ED PAVEMENT REPAIR (1.50-IN) ASPHALT BASE",null,null,124,"25625",null,null,null,null,null,null,"Fine Rap",24033,null,null,null,null,null,null,null,null,null,null,20625,25625]
[null,null,null,null,null,null,null,null,null,null,null,null,null,null,null,null,null,null,null,null,null,null,null,null,null,null,null,null,null,null,null,null,null,null,null,null,null,null,null,null,null,null,null,null,null,null,null,null,null,null,null,null,25500,"20761ES403 CL2 ASPH SURF 0.38D PG64-22 (SLAG)",null,null,125,25500,null,null,null,null,null,null,"Natural Rock Asphalt",24045,null,null,null,null,null,null,null,null,null,null,20625,25625]
[null,null,null,null,null,null,null,null,null,null,null,null,null,null,null,null,null,null,null,null,null,null,null,null,null,null,null,null,null,null,null,null,null,null,null,null,null,null,null,null,null,null,null,null,null,null,null,null,null,null,null,null,25500,"20763ES403 CL2 ASPH SURF 0.38B PG64-22 (SLAG)",null,null,126,25500,null,null,null,null,null,null,"Coarse Rap","24025",null,null,null,null,null,null,null,null,null,null,20625,25625]
[null,null,null,null,null,null,null,null,null,null,null,null,null,null,null,null,null,null,null,null,null,null,null,null,null,null,null,null,null,null,null,null,null,null,null,null,null,null,null,null,null,null,null,null,null,null,null,null,null,null,null,null,"27075","20814EC MICRO SURFACING-SURFACE COURSE",null,null,127,"27075",null,null,null,null,null,null,"Siltstone #67's",10355,null,null,null,null,null,null,null,null,null,null,20575,25575]
[null,null,null,null,null,null,null,null,null,null,null,null,null,null,null,null,null,null,null,null,null,null,null,null,null,null,null,null,null,null,null,null,null,null,null,null,null,null,null,null,null,null,null,null,null,null,null,null,null,null,null,null,25600,"20990ES400 CL2 ASPH BASE 1.0D PG64-22 (SLAG)",null,null,128,25600,null,null,null,null,null,null,"Siltstone #78's",10385,null,null,null,null,null,null,null,null,null,null,20575,25575]
[null,"Gravity Lot # 1",null,null,"Lot # 2",null,null,"Lot # 3",null,null,"Lot # 4",null,null,null,null,null,null,null,null,null,null,null,null,null,null,null,null,null,null,null,null,null,null,null,null,null,null,null,null,null,null,null,null,null,null,null,null,null,null,null,null,null,25500,"21001ES400 CL4 ASPH SURF 0.38D PG64-22",null,null,129,25500,null,null,null,null,null,null,"Siltstone # 8's",10400,null,null,null,null,null,null,null,null,null,null,20575,25575]
[null,{"$f":"IF(Superpave!Q3=\"\",\"\",Superpave!Q3)","v":""},{"$f":"IF(Superpave!R3=\"\",\"\",Superpave!R3)","v":""},{"$f":"IF(ISERROR(C133/B133),\"\",C133/B133)","v":""},{"$f":"IF(Superpave!Q3=\"\",\"\",Superpave!Q3)","v":""},{"$f":"IF(Superpave!S3=\"\",\"\",Superpave!S3)","v":""},{"$f":"IF(ISERROR(F133/E133),\"\",F133/E133)","v":""},{"$f":"IF(Superpave!Q3=\"\",\"\",Superpave!Q3)","v":""},{"$f":"IF(Superpave!T3=\"\",\"\",Superpave!T3)","v":""},{"$f":"IF(ISERROR(I133/H133),\"\",I133/H133)","v":""},{"$f":"IF(Superpave!Q3=\"\",\"\",Superpave!Q3)","v":""},{"$f":"IF(Superpave!U3=\"\",\"\",Superpave!U3)","v":""},{"$f":"IF(ISERROR(L133/K133),\"\",L133/K133)","v":""},null,null,null,null,null,null,null,null,null,null,null,null,null,null,null,null,null,null,null,null,null,null,null,null,null,null,null,null,null,null,null,null,null,null,null,null,null,null,null,28125,"21138ED ASPHALT WATERPROOFING MIX",null,null,130,28125,null,null,null,null,null,null,"Siltstone # 9M's",10415,null,null,null,null,null,null,null,null,null,null,20575,{"$f":"BY133+5000","v":25575}]
[null,{"$f":"IF(Superpave!Q4=\"\",\"\",Superpave!Q4)","v":""},{"$f":"IF(Superpave!R4=\"\",\"\",Superpave!R4)","v":""},"",{"$f":"IF(Superpave!Q4=\"\",\"\",Superpave!Q4)","v":""},{"$f":"IF(Superpave!S4=\"\",\"\",Superpave!S4)","v":""},"",{"$f":"IF(Superpave!Q4=\"\",\"\",Superpave!Q4)","v":""},{"$f":"IF(Superpave!T4=\"\",\"\",Superpave!T4)","v":""},"",{"$f":"IF(Superpave!Q4=\"\",\"\",Superpave!Q4)","v":""},{"$f":"IF(Superpave!U4=\"\",\"\",Superpave!U4)","v":""},"",null,null,null,null,null,null,null,null,null,null,null,null,null,null,null,null,null,null,null,null,null,null,null,null,null,null,null,null,null,null,null,null,null,null,null,null,null,null,null,25575,"21234ED ASPHALT PAVING REPLACEMENT (0.75)",null,null,131,25575,null,null,null,null,null,null,"Siltstone Sand",10436,null,null,null,null,null,null,null,null,null,null,20600,25600]
[null,{"$f":"IF(Superpave!Q5=\"\",\"\",Superpave!Q5)","v":""},{"$f":"IF(Superpave!R5=\"\",\"\",Superpave!R5)","v":""},"",{"$f":"IF(Superpave!Q5=\"\",\"\",Superpave!Q5)","v":""},{"$f":"IF(Superpave!S5=\"\",\"\",Superpave!S5)","v":""},"",{"$f":"IF(Superpave!Q5=\"\",\"\",Superpave!Q5)","v":""},{"$f":"IF(Superpave!T5=\"\",\"\",Superpave!T5)","v":""},"",{"$f":"IF(Superpave!Q5=\"\",\"\",Superpave!Q5)","v":""},{"$f":"IF(Superpave!U5=\"\",\"\",Superpave!U5)","v":""},"",null,null,null,null,null,null,null,null,null,null,null,null,null,null,null,null,null,null,null,null,null,null,null,null,null,null,null,null,null,null,null,null,null,null,null,null,null,null,null,25500,"21333ED ASPHALT PAVING REPLACEMENT (0.38)",null,null,132,25500,null,null,null,null,null,null,"Sandst. #78’s Class A","10385",null,null,null,null,null,null,null,null,null,null,20600,25600]
[null,{"$f":"IF(Superpave!Q6=\"\",\"\",Superpave!Q6)","v":""},{"$f":"IF(Superpave!R6=\"\",\"\",Superpave!R6)","v":""},"",{"$f":"IF(Superpave!Q6=\"\",\"\",Superpave!Q6)","v":""},{"$f":"IF(Superpave!S6=\"\",\"\",Superpave!S6)","v":""},"",{"$f":"IF(Superpave!Q6=\"\",\"\",Superpave!Q6)","v":""},{"$f":"IF(Superpave!T6=\"\",\"\",Superpave!T6)","v":""},"",{"$f":"IF(Superpave!Q6=\"\",\"\",Superpave!Q6)","v":""},{"$f":"IF(Superpave!U6=\"\",\"\",Superpave!U6)","v":""},"",null,null,null,null,null,null,null,null,null,null,null,null,null,null,null,null,null,null,null,null,null,null,null,null,null,null,null,null,null,null,null,null,null,null,null,null,null,null,null,"27075","21652EN MICRO SURFACING-LEVELING COURSE",null,null,133,"27075",null,null,null,null,null,null,"Sandst. #8’s Class A","10400",null,null,null,null,null,null,null,null,null,null,20600,25600]
[null,{"$f":"IF(Superpave!Q7=\"\",\"\",Superpave!Q7)","v":""},{"$f":"IF(Superpave!R7=\"\",\"\",Superpave!R7)","v":""},"",{"$f":"IF(Superpave!Q7=\"\",\"\",Superpave!Q7)","v":""},{"$f":"IF(Superpave!S7=\"\",\"\",Superpave!S7)","v":""},"",{"$f":"IF(Superpave!Q7=\"\",\"\",Superpave!Q7)","v":""},{"$f":"IF(Superpave!T7=\"\",\"\",Superpave!T7)","v":""},"",{"$f":"IF(Superpave!Q7=\"\",\"\",Superpave!Q7)","v":""},{"$f":"IF(Superpave!U7=\"\",\"\",Superpave!U7)","v":""},"",null,null,null,null,null,null,null,null,null,null,null,null,null,null,null,null,null,null,null,null,null,null,null,null,null,null,null,null,null,null,null,null,null,null,null,null,null,null,null,"25490","21653ES403 CL2 ASPH SURF NO.4D PG64-22",null,null,134,"25490",null,null,null,null,null,null,"Sandst. #9-M’s Class A","10415",null,null,null,null,null,null,null,null,null,null,20600,25600]
[null,{"$f":"IF(Superpave!Q8=\"\",\"\",Superpave!Q8)","v":""},{"$f":"IF(Superpave!R8=\"\",\"\",Superpave!R8)","v":""},"",{"$f":"IF(Superpave!Q8=\"\",\"\",Superpave!Q8)","v":""},{"$f":"IF(Superpave!S8=\"\",\"\",Superpave!S8)","v":""},"",{"$f":"IF(Superpave!Q8=\"\",\"\",Superpave!Q8)","v":""},{"$f":"IF(Superpave!T8=\"\",\"\",Superpave!T8)","v":""},"",{"$f":"IF(Superpave!Q8=\"\",\"\",Superpave!Q8)","v":""},{"$f":"IF(Superpave!U8=\"\",\"\",Superpave!U8)","v":""},"",null,null,null,null,null,null,null,null,null,null,null,null,null,null,null,null,null,null,null,null,null,null,null,null,null,null,null,null,null,null,null,null,null,null,null,null,null,null,null,"25500","22906ES403 CL3 ASPH SURF 0.38A PG64-22",null,null,135,"25500",null,null,null,null,null,null,"Sandst. #11’s Class A","10295",null,null,null,null,null,null,null,null,null,null,20625,25625]
[null,null,null,{"$f":"IF(D133=\"\",\"\",SUM(D133:D138))","v":""},null,null,{"$f":"IF(G133=\"\",\"\",SUM(G133:G138))","v":""},null,null,{"$f":"IF(J133=\"\",\"\",SUM(J133:J138))","v":""},null,null,{"$f":"IF(M133=\"\",\"\",SUM(M133:M138))","v":""},null,null,null,null,null,null,null,null,null,null,null,null,null,null,null,null,null,null,null,null,null,null,null,null,null,null,null,null,null,null,null,null,null,null,null,null,null,null,null,"25525","23001EN ASPHALT RESURFACING-1 1/2 IN (0.50-IN) ASPHALT SURFACE",null,null,136,"25525",null,null,null,null,null,null,"Sandst. Sand (Unwashed) Class A","10313",null,null,null,null,null,null,null,null,null,null,20625,25625]
[null,null,null,null,null,null,null,null,null,null,null,null,null,null,null,null,null,null,null,null,null,null,null,null,null,null,null,null,null,null,null,null,null,null,null,null,null,null,null,null,null,null,null,null,null,null,null,null,null,null,null,null,"25275","23039ND TEMP MEDIAN CROSSOVER #1 LEVELING & WEDGING (0.50-IN.)",null,null,137,"25275",null,null,null,null,null,null,"Sandst. Sand (Washed) Class A","10310",null,null,null,null,null,null,null,null,null,null,20625,25625]
[null,null,null,null,null,null,null,null,null,null,null,null,null,null,null,null,null,null,null,null,null,null,null,null,null,null,null,null,null,null,null,null,null,null,null,null,null,null,null,null,null,null,null,null,null,null,null,null,null,null,null,null,"25300","23039ND TEMP MEDIAN CROSSOVER #1 LEVELING & WEDGING (0.75-IN.)",null,null,138,"25300",null,null,null,null,null,null,null,null,null,null,null,null,null,null,null,null,null,null,20625,25625]
[null,null,null,null,null,null,null,null,null,null,null,null,null,null,null,null,null,null,null,null,null,null,null,null,null,null,null,null,null,null,null,null,null,null,null,null,null,null,null,null,null,null,null,null,null,null,null,null,null,null,null,null,"25325","23039ND TEMP MEDIAN CROSSOVER #1 LEVELING & WEDGING (1.00-IN.)",null,null,139,"25325",null,null,null,null,null,null,null,null,null,null,null,null,null,null,null,null,null,null,20225,25225]
[null,null,null,null,null,null,null,null,null,null,null,null,null,null,null,null,null,null,null,null,null,null,null,null,null,null,null,null,null,null,null,null,null,null,null,null,null,null,null,null,null,null,null,null,null,null,null,null,null,null,null,null,"25350","23039ND TEMP MEDIAN CROSSOVER #1 LEVELING & WEDGING (1.50-IN.)",null,null,140,"25350",null,null,null,null,null,null,null,null,null,null,null,null,null,null,null,null,null,null,20225,25225]
[null,null,null,null,null,null,null,null,null,null,null,null,null,null,null,null,null,null,null,null,null,null,null,null,null,null,null,null,null,null,null,null,null,null,null,null,null,null,null,null,null,null,null,null,null,null,null,null,null,null,null,null,"25490","23039ND TEMP MEDIAN CROSSOVER #1 (NO. 4) ASPHALT SURFACE",null,null,141,"25490",null,null,null,null,null,null,null,null,null,null,null,null,null,null,null,null,null,null,20225,25225]
[null,null,null,null,null,null,null,null,null,null,null,null,null,null,null,null,null,null,null,null,null,null,null,null,null,null,null,null,null,null,null,null,null,null,null,null,null,null,null,null,null,null,null,null,null,null,null,null,null,null,null,null,"25500","23039ND TEMP MEDIAN CROSSOVER #1 (0.38-IN) ASPHALT SURFACE",null,null,142,"25500",null,null,null,null,null,null,null,null,null,null,null,null,null,null,null,null,null,null,20225,25225]
[null,null,null,null,null,null,null,null,null,null,null,null,null,null,null,null,null,null,null,null,null,null,null,null,null,null,null,null,null,null,null,null,null,null,null,null,null,null,null,null,null,null,null,null,null,null,null,null,null,null,null,null,"25525","23039ND TEMP MEDIAN CROSSOVER #1 (0.50-IN) ASPHALT SURFACE",null,null,143,"25525",null,null,null,null,null,null,null,null,null,null,null,null,null,null,null,null,null,null,20225,25225]
[1,"PG58-22","a",null,{"$f":"VLOOKUP(D147,A147:B161,2,FALSE)","v":{"$error":"#N/A"}},null,null,null,null,null,null,null,null,null,null,null,null,null,null,null,null,null,null,null,null,null,null,null,null,null,null,null,null,null,null,null,null,null,null,null,null,null,null,null,null,null,null,null,null,null,null,null,"25550","23039ND TEMP MEDIAN CROSSOVER #1 (0.50-IN) ASPHALT BINDER",null,null,144,"25550",null,null,null,null,null,null,null,null,null,null,null,null,null,null,null,null,null,null,20225,25225]
[2,"PG58-28","b",{"$f":"IF(D147=0,\"\",LOOKUP(D147,A147:A161,C147:C161))","v":""},null,null,null,null,null,null,null,null,null,null,null,null,null,null,null,null,null,null,null,null,null,null,null,null,null,null,null,null,null,null,null,null,null,null,null,null,null,null,null,null,null,null,null,null,null,null,null,null,"25575","23039ND TEMP MEDIAN CROSSOVER #1 (0.75-IN) ASPHALT BASE",null,null,145,"25575",null,null,null,null,null,null,null,null,null,null,null,null,null,null,null,null,null,null,20225,25225]
[3,"PG58-34","c",null,null,null,null,null,null,null,null,null,null,null,null,null,null,null,null,null,null,null,null,null,null,null,null,null,null,null,null,null,null,null,null,null,null,null,null,null,null,null,null,null,null,null,null,null,null,null,null,null,"25600","23039ND TEMP MEDIAN CROSSOVER #1 (1.00-IN) ASPHALT BASE",null,null,146,"25600",null,null,null,null,null,null,null,null,null,null,null,null,null,null,null,null,null,null,20225,25225]
[4,"PG64-22","d",null,null,null,null,null,null,null,null,null,null,null,null,null,null,null,null,null,null,null,null,null,null,null,null,null,null,null,null,null,null,null,null,null,null,null,null,null,null,null,null,null,null,null,null,null,null,null,null,null,"25625","23039ND TEMP MEDIAN CROSSOVER #1 (1.50-IN) ASPHALT BASE",null,null,147,"25625",null,null,null,null,null,null,null,null,null,null,null,null,null,null,null,null,null,null,20225,25225]
[5,"PG64-28","e",null,null,null,null,null,null,null,null,null,null,null,null,null,null,null,null,null,null,null,null,null,null,null,null,null,null,null,null,null,null,null,null,null,null,null,null,null,null,null,null,null,null,null,null,null,null,null,null,null,"25275","23040ND TEMP MEDIAN CROSSOVER #2 LEVELING & WEDGING (0.50-IN.)",null,null,148,"25275",null,null,null,null,null,null,null,null,null,null,null,null,null,null,null,null,null,null,20225,25225]
[6,"PG64-34","f",null,null,null,null,null,null,null,null,null,null,null,null,null,null,null,null,null,null,null,null,null,null,null,null,null,null,null,null,null,null,null,null,null,null,null,null,null,null,null,null,null,null,null,null,null,null,null,null,null,"25300","23040ND TEMP MEDIAN CROSSOVER #2 LEVELING & WEDGING (0.75-IN.)",null,null,149,"25300",null,null,null,null,null,null,null,null,null,null,null,null,null,null,null,null,null,null,20050,25050]
[7,"PG70-22","g",null,null,null,null,null,null,null,null,null,null,null,null,null,null,null,null,null,null,null,null,null,null,null,null,null,null,null,null,null,null,null,null,null,null,null,null,null,null,null,null,null,null,null,null,null,null,null,null,null,"25325","23040ND TEMP MEDIAN CROSSOVER #2 LEVELING & WEDGING (1.00-IN.)",null,null,150,"25325",null,null,null,null,null,null,null,null,null,null,null,null,null,null,null,null,null,null,20050,25050]
[8,"PG70-28","h",null,null,null,null,null,null,null,null,null,null,null,null,null,null,null,null,null,null,null,null,null,null,null,null,null,null,null,null,null,null,null,null,null,null,null,null,null,null,null,null,null,null,null,null,null,null,null,null,null,"25350","23040ND TEMP MEDIAN CROSSOVER #2 LEVELING & WEDGING (1.50-IN.)",null,null,151,"25350",null,null,null,null,null,null,null,null,null,null,null,null,null,null,null,null,null,null,20050,25050]
[9,"PG70-34",{"$f":"LOWER(\"I\")","v":"i"},null,null,null,null,null,null,null,null,null,null,null,null,null,null,null,null,null,null,null,null,null,null,null,null,null,null,null,null,null,null,null,null,null,null,null,null,null,null,null,null,null,null,null,null,null,null,null,null,null,"25490","23040ND TEMP MEDIAN CROSSOVER #2 (NO. 4) ASPHALT SURFACE",null,null,152,"25490",null,null,null,null,null,null,null,null,null,null,null,null,null,null,null,null,null,null,20050,25050]
[10,"PG76-22","j",null,null,null,null,null,null,null,null,null,null,null,null,null,null,null,null,null,null,null,null,null,null,null,null,null,null,null,null,null,null,null,null,null,null,null,null,null,null,null,null,null,null,null,null,null,null,null,null,null,"25500","23040ND TEMP MEDIAN CROSSOVER #2 (0.38-IN) ASPHALT SURFACE",null,null,153,"25500",null,null,null,null,null,null,null,null,null,null,null,null,null,null,null,null,null,null,20050,25050]
[11,"PG76-28","k",null,null,null,null,null,null,null,null,null,null,null,null,null,null,null,null,null,null,null,null,null,null,null,null,null,null,null,null,null,null,null,null,null,null,null,null,null,null,null,null,null,null,null,null,null,null,null,null,null,"25525","23040ND TEMP MEDIAN CROSSOVER #2 (0.50-IN) ASPHALT SURFACE",null,null,154,"25525",null,null,null,null,null,null,null,null,null,null,null,null,null,null,null,null,null,null,20050,25050]
[12,"PG76-34","l",null,null,null,null,null,null,null,null,null,null,null,null,null,null,null,null,null,null,null,null,null,null,null,null,null,null,null,null,null,null,null,null,null,null,null,null,null,null,null,null,null,null,null,null,null,null,null,null,null,"25550","23040ND TEMP MEDIAN CROSSOVER #2 (0.50-IN) ASPHALT BINDER",null,null,155,"25550",null,null,null,null,null,null,null,null,null,null,null,null,null,null,null,null,null,null,20075,25075]
[13,"PG82-22","m",null,null,null,null,null,null,null,null,null,null,null,null,null,null,null,null,null,null,null,null,null,null,null,null,null,null,null,null,null,null,null,null,null,null,null,null,null,null,null,null,null,null,null,null,null,null,null,null,null,"25575","23040ND TEMP MEDIAN CROSSOVER #2 (0.75-IN) ASPHALT BASE",null,null,156,"25575",null,null,null,null,null,null,null,null,null,null,null,null,null,null,null,null,null,null,20550,25550]
[14,"PG82-28","n",null,null,null,null,null,null,null,null,null,null,null,null,null,null,null,null,null,null,null,null,null,null,null,null,null,null,null,null,null,null,null,null,null,null,null,null,null,null,null,null,null,null,null,null,null,null,null,null,null,"25600","23040ND TEMP MEDIAN CROSSOVER #2 (1.00-IN) NOMINAL ASPHALT BASE",null,null,157,"25600",null,null,null,null,null,null,null,null,null,null,null,null,null,null,null,null,null,null,20550,25550]
[15,"PG82-34","o",null,null,null,null,null,null,null,null,null,null,null,null,null,null,null,null,null,null,null,null,null,null,null,null,null,null,null,null,null,null,null,null,null,null,null,null,null,null,null,null,null,null,null,null,null,null,null,null,null,"25625","23040ND TEMP MEDIAN CROSSOVER #2 (1.50-IN) ASPHALT BASE",null,null,158,"25625",null,null,null,null,null,null,null,null,null,null,null,null,null,null,null,null,null,null,20550,25550]
[null,null,null,null,null,null,null,null,null,null,null,null,null,null,null,null,null,null,null,null,null,null,null,null,null,null,null,null,null,null,null,null,null,null,null,null,null,null,null,null,null,null,null,null,null,null,null,null,null,null,null,null,"25275","23041ND TEMP MEDIAN CROSSOVER #3 LEVELING & WEDGING (0.50-IN.)",null,null,159,"25275",null,null,null,null,null,null,null,null,null,null,null,null,null,null,null,null,null,null,20550,25550]
[null,null,null,null,null,null,null,null,null,null,null,null,null,null,null,null,null,null,null,null,null,null,null,null,null,null,null,null,null,null,null,null,null,null,null,null,null,null,null,null,null,null,null,null,null,null,null,null,null,null,null,null,"25300","23041ND TEMP MEDIAN CROSSOVER #3 LEVELING & WEDGING (0.75-IN.)",null,null,160,"25300",null,null,null,null,null,null,null,null,null,null,null,null,null,null,null,null,null,null,20550,25550]
[null,null,null,null,null,null,null,null,null,null,null,null,null,null,null,null,null,null,null,null,null,null,null,null,null,null,null,null,null,null,null,null,null,null,null,null,null,null,null,null,null,null,null,null,null,null,null,null,null,null,null,null,"25325","23041ND TEMP MEDIAN CROSSOVER #3 LEVELING & WEDGING (1.00-IN.)",null,null,161,"25325",null,null,null,null,null,null,null,null,null,null,null,null,null,null,null,null,null,null,20550,25550]
[null,null,null,null,null,null,null,null,null,null,null,null,null,null,null,null,null,null,null,null,null,null,null,null,null,null,null,null,null,null,null,null,null,null,null,null,null,null,null,null,null,null,null,null,null,null,null,null,null,null,null,null,"25350","23041ND TEMP MEDIAN CROSSOVER #3 LEVELING & WEDGING (1.50-IN.)",null,null,162,"25350",null,null,null,null,null,null,null,null,null,null,null,null,null,null,null,null,null,null,20550,25550]
[null,null,null,null,null,null,null,null,null,null,null,null,null,null,null,null,null,null,null,null,null,null,null,null,null,null,null,null,null,null,null,null,null,null,null,null,null,null,null,null,null,null,null,null,null,null,null,null,null,null,null,null,"25490","23041ND TEMP MEDIAN CROSSOVER #3 (NO. 4) ASPHALT SURFACE",null,null,163,"25490",null,null,null,null,null,null,null,null,null,null,null,null,null,null,null,null,null,null,20550,25550]
[null,null,null,null,null,null,null,null,null,null,null,null,null,null,null,null,null,null,null,null,null,null,null,null,null,null,null,null,null,null,null,null,null,null,null,null,null,null,null,null,null,null,null,null,null,null,null,null,null,null,null,null,"25500","23041ND TEMP MEDIAN CROSSOVER #3 (0.38-IN) ASPHALT SURFACE",null,null,164,"25500",null,null,null,null,null,null,null,null,null,null,null,null,null,null,null,null,null,null,20550,25550]
[null,{"$f":"'Pay Values'!A13-0.5","v":-0.5},{"$f":"'Pay Values'!A13+0.5","v":0.5},null,null,null,null,null,null,null,null,null,null,null,null,null,null,null,null,null,null,null,null,null,null,null,null,null,null,null,null,null,null,null,null,null,null,null,null,null,null,null,null,null,null,null,null,null,null,null,null,null,"25525","23041ND TEMP MEDIAN CROSSOVER #3 (0.50-IN) ASPHALT SURFACE",null,null,165,"25525",null,null,null,null,null,null,null,null,null,null,null,null,null,null,null,null,null,null,20550,25550]
[null,{"$f":"'Pay Values'!A14-0.5","v":-0.5},{"$f":"'Pay Values'!A14+0.5","v":0.5},null,null,null,null,null,null,null,null,null,null,null,null,null,null,null,null,null,null,null,null,null,null,null,null,null,null,null,null,null,null,null,null,null,null,null,null,null,null,null,null,null,null,null,null,null,null,null,null,null,"25550","23041ND TEMP MEDIAN CROSSOVER #3 (0.50-IN) ASPHALT BINDER",null,null,166,"25550",null,null,null,null,null,null,null,null,null,null,null,null,null,null,null,null,null,null,20550,25550]
[null,{"$f":"'Pay Values'!A15-0.5","v":-0.5},{"$f":"'Pay Values'!A15+0.5","v":0.5},null,null,null,null,null,null,null,null,null,null,null,null,null,null,null,null,null,null,null,null,null,null,null,null,null,null,null,null,null,null,null,null,null,null,null,null,null,null,null,null,null,null,null,null,null,null,null,null,null,"25575","23041ND TEMP MEDIAN CROSSOVER #3 (0.75-IN) ASPHALT BASE",null,null,167,"25575",null,null,null,null,null,null,null,null,null,null,null,null,null,null,null,null,null,null,20550,25550]
[null,{"$f":"'Pay Values'!A16-0.5","v":-0.5},{"$f":"'Pay Values'!A16+0.5","v":0.5},null,null,null,null,null,null,null,null,null,null,null,null,null,null,null,null,null,null,null,null,null,null,null,null,null,null,null,null,null,null,null,null,null,null,null,null,null,null,null,null,null,null,null,null,null,null,null,null,null,"25600","23041ND TEMP MEDIAN CROSSOVER #3 (1.00-IN) ASPHALT BASE",null,null,168,"25600",null,null,null,null,null,null,null,null,null,null,null,null,null,null,null,null,null,null,20550,25550]
[null,null,null,null,null,null,null,null,null,null,null,null,null,null,null,null,null,null,null,null,null,null,null,null,null,null,null,null,null,null,null,null,null,null,null,null,null,null,null,null,null,null,null,null,null,null,null,null,null,null,null,null,"25625","23041ND TEMP MEDIAN CROSSOVER #3 (1.50-IN) ASPHALT BASE",null,null,169,"25625",null,null,null,null,null,null,null,null,null,null,null,null,null,null,null,null,null,null,20550,25550]
[null,null,null,null,null,null,null,null,null,null,null,null,null,null,null,null,null,null,null,null,null,null,null,null,null,null,null,null,null,null,null,null,null,null,null,null,null,null,null,null,null,null,null,null,null,null,null,null,null,null,null,null,"25500","23128ES403 CL4 ASPH SURF 0.38A PG64-22",null,null,170,"25500",null,null,null,null,null,null,null,null,null,null,null,null,null,null,null,null,null,null,20550,25550]
[null,4,null,null,null,null,null,null,null,null,null,null,null,null,null,null,null,null,null,null,null,null,null,null,null,null,null,null,null,null,null,null,null,null,null,null,null,null,null,null,null,null,null,null,null,null,null,null,null,null,null,null,25500,"23142ES403 CL4 ASPH SURF 0.38B PG64-22",null,null,171,25500,null,null,null,null,null,null,null,null,null,null,null,null,null,null,null,null,null,null,20550,25550]
[null,4,null,null,null,null,null,null,null,null,null,null,null,null,null,null,null,null,null,null,null,null,null,null,null,null,null,null,null,null,null,null,null,null,null,null,null,null,null,null,null,null,null,null,null,null,null,null,null,null,null,null,25525,"23165ES403 CL3 ASPH SURF 0.50B PG64-22",null,null,172,25525,null,null,null,null,null,null,null,null,null,null,null,null,null,null,null,null,null,null,20550,25550]
[null,4,null,null,null,null,null,null,null,null,null,null,null,null,null,null,null,null,null,null,null,null,null,null,null,null,null,null,null,null,null,null,null,null,null,null,null,null,null,null,null,null,null,null,null,null,null,null,null,null,null,null,25525,"23176ES403 CL4 ASPH SURF 0.50A PG76-22",null,null,173,25525,null,null,null,null,null,null,null,null,null,null,null,null,null,null,null,null,null,null,20550,25550]
[null,4,null,null,null,null,null,null,null,null,null,null,null,null,null,null,null,null,null,null,null,null,null,null,null,null,null,null,null,null,null,null,null,null,null,null,null,null,null,null,null,null,null,null,null,null,null,null,null,null,null,null,25490,"23307EC CL3 ASPH SURF NO.4B PG64-22",null,null,174,25490,null,null,null,null,null,null,null,null,null,null,null,null,null,null,null,null,null,null,20500,25500]
[null,null,null,null,null,null,null,null,null,null,null,null,null,null,null,null,null,null,null,null,null,null,null,null,null,null,null,null,null,null,null,null,null,null,null,null,null,null,null,null,null,null,null,null,null,null,null,null,null,null,null,null,25525,"23362ES403 CL2 ASPH SURF 0.50B PG64-22",null,null,175,25525,null,null,null,null,null,null,null,null,null,null,null,null,null,null,null,null,null,null,20500,25500]
[null,null,null,null,null,null,null,null,null,null,null,null,null,null,null,null,null,null,null,null,null,null,null,null,null,null,null,null,null,null,null,null,null,null,null,null,null,null,null,null,null,null,null,null,null,null,null,null,null,null,null,null,25525,"23647ES400 CL2 ASPH SURF 0.50A PG64-22",null,null,176,25525,null,null,null,null,null,null,null,null,null,null,null,null,null,null,null,null,null,null,20500,25500]
[null,{"$f":"E22","v":{"$error":"#VALUE!"}},null,{"$f":"E56","v":{"$error":"#VALUE!"}},null,null,null,null,null,null,null,null,null,null,null,null,null,null,null,null,null,null,null,null,null,null,null,null,null,null,null,null,null,null,null,null,null,null,null,null,null,null,null,null,null,null,null,null,null,null,null,null,25600,"23967EC ASPH DRIVEWAY/PARKING LOT REPLACEMENT",null,null,177,25600,null,null,null,null,null,null,null,null,null,null,null,null,null,null,null,null,null,null,20500,25500]
[null,{"$f":"F22","v":{"$error":"#VALUE!"}},null,{"$f":"F56","v":{"$error":"#VALUE!"}},null,null,null,null,null,null,null,null,null,null,null,null,null,null,null,null,null,null,null,null,null,null,null,null,null,null,null,null,null,null,null,null,null,null,null,null,null,null,null,null,null,null,null,null,null,null,null,null,25575,"24177ES400 CL2 ASPH BASE 0.75D PG76-22 (SLAG)",null,null,178,25575,null,null,null,null,null,null,null,null,null,null,null,null,null,null,null,null,null,null,20500,25500]
[null,{"$f":"G22","v":{"$error":"#VALUE!"}},null,{"$f":"G56","v":{"$error":"#VALUE!"}},null,null,null,null,null,null,null,null,null,null,null,null,null,null,null,null,null,null,null,null,null,null,null,null,null,null,null,null,null,null,null,null,null,null,null,null,null,null,null,null,null,null,null,null,null,null,null,null,25490,"24570EC CL3 ASPH SURF NO.4D PG64-22",null,null,179,25490,null,null,null,null,null,null,null,null,null,null,null,null,null,null,null,null,null,null,20500,25500]
[null,{"$f":"H22","v":{"$error":"#VALUE!"}},null,{"$f":"H56","v":{"$error":"#VALUE!"}},null,null,null,null,null,null,null,null,null,null,null,null,null,null,null,null,null,null,null,null,null,null,null,null,null,null,null,null,null,null,null,null,null,null,null,null,null,null,null,null,null,null,null,null,null,null,null,null,25500,"24593EC CL4 ASPH SURF 0.38B PG76-22 (SLAG)",null,null,180,25500,null,null,null,null,null,null,null,null,null,null,null,null,null,null,null,null,null,null,20500,25500]
[null,{"$f":"I22","v":{"$error":"#VALUE!"}},null,{"$f":"I56","v":{"$error":"#VALUE!"}},null,null,null,null,null,null,null,null,null,null,null,null,null,null,null,null,null,null,null,null,null,null,null,null,null,null,null,null,null,null,null,null,null,null,null,null,null,null,null,null,null,null,null,null,null,null,null,null,25500,"24594EC CL3 ASPH SURF 0.38D PG64-22 (SLAG)",null,null,181,25500,null,null,null,null,null,null,null,null,null,null,null,null,null,null,null,null,null,null,20500,25500]
[null,{"$f":"J22","v":{"$error":"#VALUE!"}},null,{"$f":"J56","v":{"$error":"#VALUE!"}},null,null,null,null,null,null,null,null,null,null,null,null,null,null,null,null,null,null,null,null,null,null,null,null,null,null,null,null,null,null,null,null,null,null,null,null,null,null,null,null,null,null,null,null,null,null,null,null,25600,"24635EC CL3 ASPH BASE 1.00D PG64-22 (SLAG)",null,null,182,25600,null,null,null,null,null,null,null,null,null,null,null,null,null,null,null,null,null,null,20500,25500]
[null,{"$f":"K22","v":{"$error":"#VALUE!"}},null,{"$f":"K56","v":{"$error":"#VALUE!"}},null,null,null,null,null,null,null,null,null,null,null,null,null,null,null,null,null,null,null,null,null,null,null,null,null,null,null,null,null,null,null,null,null,null,null,null,null,null,null,null,null,null,null,null,null,null,null,null,25500,"24685EC CL2 ASPH SURF 0.38A PG64-22",null,null,183,25500,null,null,null,null,null,null,null,null,null,null,null,null,null,null,null,null,null,null,20500,25500]
[null,{"$f":"L22","v":{"$error":"#VALUE!"}},null,{"$f":"L56","v":{"$error":"#VALUE!"}},null,null,null,null,null,null,null,null,null,null,null,null,null,null,null,null,null,null,null,null,null,null,null,null,null,null,null,null,null,null,null,null,null,null,null,null,null,null,null,null,null,null,null,null,null,null,null,null,25490,"24887EC CL3 ASPH SURF NO.4A PG64-22",null,null,184,25490,null,null,null,null,null,null,null,null,null,null,null,null,null,null,null,null,null,null,20500,25500]
[null,{"$f":"M22","v":{"$error":"#VALUE!"}},null,null,null,null,null,null,null,null,null,null,null,null,null,null,null,null,null,null,null,null,null,null,null,null,null,null,null,null,null,null,null,null,null,null,null,null,null,null,null,null,null,null,null,null,null,null,null,null,null,null,25490,"24888EC CL2 ASPH SURF NO.4B PG64-22",null,null,185,25490,null,null,null,null,null,null,null,null,null,null,null,null,null,null,null,null,null,null,20500,25500]
[null,{"$f":"N22","v":{"$error":"#VALUE!"}},null,null,null,null,null,null,null,null,null,null,null,null,null,null,null,null,null,null,null,null,null,null,null,null,null,null,null,null,null,null,null,null,null,null,null,null,null,null,null,null,null,null,null,null,null,null,null,null,null,null,null,null,null,null,187,null,null,null,null,null,null,null,null,null,null,null,null,null,null,null,null,null,null,null,20500,25500]
[null,{"$f":"O22","v":{"$error":"#VALUE!"}},null,null,null,null,null,null,null,null,null,null,null,null,null,null,null,null,null,null,null,null,null,null,null,null,null,null,null,null,null,null,null,null,null,null,null,null,null,null,null,null,null,null,null,null,null,null,null,null,null,null,null,null,null,null,188,null,null,null,null,null,null,null,null,null,null,null,null,null,null,null,null,null,null,null,20500,25500]
[null,{"$f":"P22","v":{"$error":"#VALUE!"}},null,null,null,null,null,null,null,null,null,null,null,null,null,null,null,null,null,null,null,null,null,null,null,null,null,null,null,null,null,null,null,null,null,null,null,null,null,null,null,null,null,null,null,null,null,null,null,null,null,null,null,null,null,null,189,null,null,null,null,null,null,null,null,null,null,null,null,null,null,null,null,null,null,null,20500,25500]
[null,{"$f":"Q22","v":{"$error":"#VALUE!"}},null,null,null,null,null,null,null,null,null,null,null,null,null,null,null,null,null,null,null,null,null,null,null,null,null,null,null,null,null,null,null,null,null,null,null,null,null,null,null,null,null,null,null,null,null,null,null,null,null,null,null,null,null,null,190,null,null,null,null,null,null,null,null,null,null,null,null,null,null,null,null,null,null,null,20500,25500]
[null,{"$f":"R22","v":{"$error":"#VALUE!"}},null,null,null,null,null,null,null,null,null,null,null,null,null,null,null,null,null,null,null,null,null,null,null,null,null,null,null,null,null,null,null,null,null,null,null,null,null,null,null,null,null,null,null,null,null,null,null,null,null,null,null,null,null,null,191,null,null,null,null,null,null,null,null,null,null,null,null,null,null,null,null,null,null,null,20500,25500]
[null,{"$f":"S22","v":{"$error":"#VALUE!"}},null,null,null,null,null,null,null,null,null,null,null,null,null,null,null,null,null,null,null,null,null,null,null,null,null,null,null,null,null,null,null,null,null,null,null,null,null,null,null,null,null,null,null,null,null,null,null,null,null,null,null,null,null,null,192,null,null,null,null,null,null,null,null,null,null,null,null,null,null,null,null,null,null,null,20500,25500]
[null,{"$f":"T22","v":{"$error":"#VALUE!"}},null,null,null,null,null,null,null,null,null,null,null,null,null,null,null,null,null,null,null,null,null,null,null,null,null,null,null,null,null,null,null,null,null,null,null,null,null,null,null,null,null,null,null,null,null,null,null,null,null,null,null,null,null,null,193,null,null,null,null,null,null,null,null,null,null,null,null,null,null,null,null,null,null,null,20525,25525]
[null,null,null,null,null,null,null,null,null,null,null,null,null,null,null,null,null,null,null,null,null,null,null,null,null,null,null,null,null,null,null,null,null,null,null,null,null,null,null,null,null,null,null,null,null,null,null,null,null,null,null,null,null,null,null,null,194,null,null,null,null,null,null,null,null,null,null,null,null,null,null,null,null,null,null,null,20525,25525]
[null,null,null,null,null,null,null,null,null,null,null,null,null,null,null,null,null,null,null,null,null,null,null,null,null,null,null,null,null,null,null,null,null,null,null,null,null,null,null,null,null,null,null,null,null,null,null,null,null,null,null,null,null,null,null,null,195,null,null,null,null,null,null,null,null,null,null,null,null,null,null,null,null,null,null,null,20525,{"$f":"BY197+5000","v":25525}]
[null,null,null,null,null,null,null,null,null,null,null,null,null,null,null,null,null,null,null,null,null,null,null,null,null,null,null,null,null,null,null,null,null,null,null,null,null,null,null,null,null,null,null,null,null,null,null,null,null,null,null,null,null,null,null,null,196,null,null,null,null,null,null,null,null,null,null,null,null,null,null,null,null,null,null,null,20525,25525]
[null,null,null,null,null,null,null,null,null,null,null,null,null,null,null,null,null,null,null,null,null,null,null,null,null,null,null,null,null,null,null,null,null,null,null,null,null,null,null,null,null,null,null,null,null,null,null,null,null,null,null,null,null,null,null,null,197,null,null,null,null,null,null,null,null,null,null,null,null,null,null,null,null,null,null,null,20525,25525]
[null,null,null,null,null,null,null,null,null,null,null,null,null,null,null,null,null,null,null,null,null,null,null,null,null,null,null,null,null,null,null,null,null,null,null,null,null,null,null,null,null,null,null,null,null,null,null,null,null,null,null,null,null,null,null,null,198,null,null,null,null,null,null,null,null,null,null,null,null,null,null,null,null,null,null,null,20525,25525]
[null,null,null,null,null,null,null,null,null,null,null,null,null,null,null,null,null,null,null,null,null,null,null,null,null,null,null,null,null,null,null,null,null,null,null,null,null,null,null,null,null,null,null,null,null,null,null,null,null,null,null,null,null,null,null,null,199,null,null,null,null,null,null,null,null,null,null,null,null,null,null,null,null,null,null,null,20525,25525]
[null,null,null,null,null,null,null,null,null,null,null,null,null,null,null,null,null,null,null,null,null,null,null,null,null,null,null,null,null,null,null,null,null,null,null,null,null,null,null,null,null,null,null,null,null,null,null,null,null,null,null,null,null,null,null,null,200,null,null,null,null,null,null,null,null,null,null,null,null,null,null,null,null,null,null,null,20525,25525]
[null,null,null,null,null,null,null,null,null,null,null,null,null,null,null,null,null,null,null,null,null,null,null,null,null,null,null,null,null,null,null,null,null,null,null,null,null,null,null,null,null,null,null,null,null,null,null,null,null,null,null,null,null,null,null,null,201,null,null,null,null,null,null,null,null,null,null,null,null,null,null,null,null,null,null,null,20525,25525]
[null,null,null,null,null,null,null,null,null,null,null,null,null,null,null,null,null,null,null,null,null,null,null,null,null,null,null,null,null,null,null,null,null,null,null,null,null,null,null,null,null,null,null,null,null,null,null,null,null,null,null,null,null,null,null,null,202,null,null,null,null,null,null,null,null,null,null,null,null,null,null,null,null,null,null,null,20525,25525]
[null,null,null,null,null,null,null,null,null,null,null,null,null,null,null,null,null,null,null,null,null,null,null,null,null,null,null,null,null,null,null,null,null,null,null,null,null,null,null,null,null,null,null,null,null,null,null,null,null,null,null,null,null,null,null,null,203,null,null,null,null,null,null,null,null,null,null,null,null,null,null,null,null,null,null,null,20525,25525]
[null,null,null,null,null,null,null,null,null,null,null,null,null,null,null,null,null,null,null,null,null,null,null,null,null,null,null,null,null,null,null,null,null,null,null,null,null,null,null,null,null,null,null,null,null,null,null,null,null,null,null,null,null,null,null,null,204,null,null,null,null,null,null,null,null,null,null,null,null,null,null,null,null,null,null,null,20525,25525]
[null,null,null,null,null,null,null,null,null,null,null,null,null,null,null,null,null,null,null,null,null,null,null,null,null,null,null,null,null,null,null,null,null,null,null,null,null,null,null,null,null,null,null,null,null,null,null,null,null,null,null,null,null,null,null,null,205,null,null,null,null,null,null,null,null,null,null,null,null,null,null,null,null,null,null,null,20525,25525]
[null,null,null,null,null,null,null,null,null,null,null,null,null,null,null,null,null,null,null,null,null,null,null,null,null,null,null,null,null,null,null,null,null,null,null,null,null,null,null,null,null,null,null,null,null,null,null,null,null,null,null,null,null,null,null,null,206,null,null,null,null,null,null,null,null,null,null,null,null,null,null,null,null,null,null,null,20525,25525]
[null,null,null,null,null,null,null,null,null,null,null,null,null,null,null,null,null,null,null,null,null,null,null,null,null,null,null,null,null,null,null,null,null,null,null,null,null,null,null,null,null,null,null,null,null,null,null,null,null,null,null,null,null,null,null,null,207,null,null,null,null,null,null,null,null,null,null,null,null,null,null,null,null,null,null,null,20525,25525]
[null,null,null,null,null,null,null,null,null,null,null,null,null,null,null,null,null,null,null,null,null,null,null,null,null,null,null,null,null,null,null,null,null,null,null,null,null,null,null,null,null,null,null,null,null,null,null,null,null,null,null,null,null,null,null,null,208,null,null,null,null,null,null,null,null,null,null,null,null,null,null,null,null,null,null,null,20525,25525]
[null,null,null,null,null,null,null,null,null,null,null,null,null,null,null,null,null,null,null,null,null,null,null,null,null,null,null,null,null,null,null,null,null,null,null,null,null,null,null,null,null,null,null,null,null,null,null,null,null,null,null,null,null,null,null,null,209,null,null,null,null,null,null,null,null,null,null,null,null,null,null,null,null,null,null,null,20525,25525]
[null,null,null,null,null,null,null,null,null,null,null,null,null,null,null,null,null,null,null,null,null,null,null,null,null,null,null,null,null,null,null,null,null,null,null,null,null,null,null,null,null,null,null,null,null,null,null,null,null,null,null,null,null,null,null,null,210,null,null,null,null,null,null,null,null,null,null,null,null,null,null,null,null,null,null,null,20525,25525]
[null,null,null,null,null,null,null,null,null,null,null,null,null,null,null,null,null,null,null,null,null,null,null,null,null,null,null,null,null,null,null,null,null,null,null,null,null,null,null,null,null,null,null,null,null,null,null,null,null,null,null,null,null,null,null,null,211,null,null,null,null,null,null,null,null,null,null,null,null,null,null,null,null,null,null,null,20525,25525]
[null,null,null,null,null,null,null,null,null,null,null,null,null,null,null,null,null,null,null,null,null,null,null,null,null,null,null,null,null,null,null,null,null,null,null,null,null,null,null,null,null,null,null,null,null,null,null,null,null,null,null,null,null,null,null,null,212,null,null,null,null,null,null,null,null,null,null,null,null,null,null,null,null,null,null,null,20525,25525]
[null,null,null,null,null,null,null,null,null,null,null,null,null,null,null,null,null,null,null,null,null,null,null,null,null,null,null,null,null,null,null,null,null,null,null,null,null,null,null,null,null,null,null,null,null,null,null,null,null,null,null,null,null,null,null,null,213,null,null,null,null,null,null,null,null,null,null,null,null,null,null,null,null,null,null,null,20525,25525]
[null,null,null,null,null,null,null,null,null,null,null,null,null,null,null,null,null,null,null,null,null,null,null,null,null,null,null,null,null,null,null,null,null,null,null,null,null,null,null,null,null,null,null,null,null,null,null,null,null,null,null,null,null,null,null,null,214,null,null,null,null,null,null,null,null,null,null,null,null,null,null,null,null,null,null,null,20525,25525]
[null,null,null,null,null,null,null,null,null,null,null,null,null,null,null,null,null,null,null,null,null,null,null,null,null,null,null,null,null,null,null,null,null,null,null,null,null,null,null,null,null,null,null,null,null,null,null,null,null,null,null,null,null,null,null,null,215,null,null,null,null,null,null,null,null,null,null,null,null,null,null,null,null,null,null,null,20525,25525]
[null,null,null,null,null,null,null,null,null,null,null,null,null,null,null,null,null,null,null,null,null,null,null,null,null,null,null,null,null,null,null,null,null,null,null,null,null,null,null,null,null,null,null,null,null,null,null,null,null,null,null,null,null,null,null,null,216,null,null,null,null,null,null,null,null,null,null,null,null,null,null,null,null,null,null,null,20525,25525]
[null,null,null,null,null,null,null,null,null,null,null,null,null,null,null,null,null,null,null,null,null,null,null,null,null,null,null,null,null,null,null,null,null,null,null,null,null,null,null,null,null,null,null,null,null,null,null,null,null,null,null,null,null,null,null,null,217,null,null,null,null,null,null,null,null,null,null,null,null,null,null,null,null,null,null,null,20525,25525]
[null,null,null,null,null,null,null,null,null,null,null,null,null,null,null,null,null,null,null,null,null,null,null,null,null,null,null,null,null,null,null,null,null,null,null,null,null,null,null,null,null,null,null,null,null,null,null,null,null,null,null,null,null,null,null,null,218,null,null,null,null,null,null,null,null,null,null,null,null,null,null,null,null,null,null,null,20525,25525]
[null,null,null,null,null,null,null,null,null,null,null,null,null,null,null,null,null,null,null,null,null,null,null,null,null,null,null,null,null,null,null,null,null,null,null,null,null,null,null,null,null,null,null,null,null,null,null,null,null,null,null,null,null,null,null,null,219,null,null,null,null,null,null,null,null,null,null,null,null,null,null,null,null,null,null,null,20525,25525]
[null,null,null,null,null,null,null,null,null,null,null,null,null,null,null,null,null,null,null,null,null,null,null,null,null,null,null,null,null,null,null,null,null,null,null,null,null,null,null,null,null,null,null,null,null,null,null,null,null,null,null,null,null,null,null,null,220,null,null,null,null,null,null,null,null,null,null,null,null,null,null,null,null,null,null,null,20525,25525]
[null,null,null,null,null,null,null,null,null,null,null,null,null,null,null,null,null,null,null,null,null,null,null,null,null,null,null,null,null,null,null,null,null,null,null,null,null,null,null,null,null,null,null,null,null,null,null,null,null,null,null,null,null,null,null,null,221,null,null,null,null,null,null,null,null,null,null,null,null,null,null,null,null,null,null,null,20525,25525]
[null,null,null,null,null,null,null,null,null,null,null,null,null,null,null,null,null,null,null,null,null,null,null,null,null,null,null,null,null,null,null,null,null,null,null,null,null,null,null,null,null,null,null,null,null,null,null,null,null,null,null,null,null,null,null,null,222,null,null,null,null,null,null,null,null,null,null,null,null,null,null,null,null,null,null,null,20525,25525]
[null,null,null,null,null,null,null,null,null,null,null,null,null,null,null,null,null,null,null,null,null,null,null,null,null,null,null,null,null,null,null,null,null,null,null,null,null,null,null,null,null,null,null,null,null,null,null,null,null,null,null,null,null,null,null,null,223,null,null,null,null,null,null,null,null,null,null,null,null,null,null,null,null,null,null,null,20525,25525]
[null,null,null,null,null,null,null,null,null,null,null,null,null,null,null,null,null,null,null,null,null,null,null,null,null,null,null,null,null,null,null,null,null,null,null,null,null,null,null,null,null,null,null,null,null,null,null,null,null,null,null,null,null,null,null,null,224,null,null,null,null,null,null,null,null,null,null,null,null,null,null,null,null,null,null,null,20525,25525]
[null,null,null,null,null,null,null,null,null,null,null,null,null,null,null,null,null,null,null,null,null,null,null,null,null,null,null,null,null,null,null,null,null,null,null,null,null,null,null,null,null,null,null,null,null,null,null,null,null,null,null,null,null,null,null,null,225,null,null,null,null,null,null,null,null,null,null,null,null,null,null,null,null,null,null,null,20525,25525]
[null,null,null,null,null,null,null,null,null,null,null,null,null,null,null,null,null,null,null,null,null,null,null,null,null,null,null,null,null,null,null,null,null,null,null,null,null,null,null,null,null,null,null,null,null,null,null,null,null,null,null,null,null,null,null,null,226,null,null,null,null,null,null,null,null,null,null,null,null,null,null,null,null,null,null,null,20525,25525]
[null,null,null,null,null,null,null,null,null,null,null,null,null,null,null,null,null,null,null,null,null,null,null,null,null,null,null,null,null,null,null,null,null,null,null,null,null,null,null,null,null,null,null,null,null,null,null,null,null,null,null,null,null,null,null,null,227,null,null,null,null,null,null,null,null,null,null,null,null,null,null,null,null,null,null,null,20525,25525]
[null,null,null,null,null,null,null,null,null,null,null,null,null,null,null,null,null,null,null,null,null,null,null,null,null,null,null,null,null,null,null,null,null,null,null,null,null,null,null,null,null,null,null,null,null,null,null,null,null,null,null,null,null,null,null,null,228,null,null,null,null,null,null,null,null,null,null,null,null,null,null,null,null,null,null,null,20525,25525]
[null,null,null,null,null,null,null,null,null,null,null,null,null,null,null,null,null,null,null,null,null,null,null,null,null,null,null,null,null,null,null,null,null,null,null,null,null,null,null,null,null,null,null,null,null,null,null,null,null,null,null,null,null,null,null,null,229,null,null,null,null,null,null,null,null,null,null,null,null,null,null,null,null,null,null,null,20525,25525]
[null,null,null,null,null,null,null,null,null,null,null,null,null,null,null,null,null,null,null,null,null,null,null,null,null,null,null,null,null,null,null,null,null,null,null,null,null,null,null,null,null,null,null,null,null,null,null,null,null,null,null,null,null,null,null,null,230,null,null,null,null,null,null,null,null,null,null,null,null,null,null,null,null,null,null,null,20525,25525]
[null,null,null,null,null,null,null,null,null,null,null,null,null,null,null,null,null,null,null,null,null,null,null,null,null,null,null,null,null,null,null,null,null,null,null,null,null,null,null,null,null,null,null,null,null,null,null,null,null,null,null,null,null,null,null,null,231,null,null,null,null,null,null,null,null,null,null,null,null,null,null,null,null,null,null,null,20525,25525]
[null,null,null,null,null,null,null,null,null,null,null,null,null,null,null,null,null,null,null,null,null,null,null,null,null,null,null,null,null,null,null,null,null,null,null,null,null,null,null,null,null,null,null,null,null,null,null,null,null,null,null,null,null,null,null,null,232,null,null,null,null,null,null,null,null,null,null,null,null,null,null,null,null,null,null,null,20525,25525]
[null,null,null,null,null,null,null,null,null,null,null,null,null,null,null,null,null,null,null,null,null,null,null,null,null,null,null,null,null,null,null,null,null,null,null,null,null,null,null,null,null,null,null,null,null,null,null,null,null,null,null,null,null,null,null,null,233,null,null,null,null,null,null,null,null,null,null,null,null,null,null,null,null,null,null,null,20525,25525]
[null,null,null,null,null,null,null,null,null,null,null,null,null,null,null,null,null,null,null,null,null,null,null,null,null,null,null,null,null,null,null,null,null,null,null,null,null,null,null,null,null,null,null,null,null,null,null,null,null,null,null,null,null,null,null,null,234,null,null,null,null,null,null,null,null,null,null,null,null,null,null,null,null,null,null,null,20525,25525]
[null,null,null,null,null,null,null,null,null,null,null,null,null,null,null,null,null,null,null,null,null,null,null,null,null,null,null,null,null,null,null,null,null,null,null,null,null,null,null,null,null,null,null,null,null,null,null,null,null,null,null,null,null,null,null,null,235,null,null,null,null,null,null,null,null,null,null,null,null,null,null,null,null,null,null,null,20525,25525]
[null,null,null,null,null,null,null,null,null,null,null,null,null,null,null,null,null,null,null,null,null,null,null,null,null,null,null,null,null,null,null,null,null,null,null,null,null,null,null,null,null,null,null,null,null,null,null,null,null,null,null,null,null,null,null,null,236,null,null,null,null,null,null,null,null,null,null,null,null,null,null,null,null,null,null,null,20525,25525]
[null,null,null,null,null,null,null,null,null,null,null,null,null,null,null,null,null,null,null,null,null,null,null,null,null,null,null,null,null,null,null,null,null,null,null,null,null,null,null,null,null,null,null,null,null,null,null,null,null,null,null,null,null,null,null,null,237,null,null,null,null,null,null,null,null,null,null,null,null,null,null,null,null,null,null,null,20525,25525]
[null,null,null,null,null,null,null,null,null,null,null,null,null,null,null,null,null,null,null,null,null,null,null,null,null,null,null,null,null,null,null,null,null,null,null,null,null,null,null,null,null,null,null,null,null,null,null,null,null,null,null,null,null,null,null,null,238,null,null,null,null,null,null,null,null,null,null,null,null,null,null,null,null,null,null,null,20525,25525]
[null,null,null,null,null,null,null,null,null,null,null,null,null,null,null,null,null,null,null,null,null,null,null,null,null,null,null,null,null,null,null,null,null,null,null,null,null,null,null,null,null,null,null,null,null,null,null,null,null,null,null,null,null,null,null,null,239,null,null,null,null,null,null,null,null,null,null,null,null,null,null,null,null,null,null,null,20525,25525]
[null,null,null,null,null,null,null,null,null,null,null,null,null,null,null,null,null,null,null,null,null,null,null,null,null,null,null,null,null,null,null,null,null,null,null,null,null,null,null,null,null,null,null,null,null,null,null,null,null,null,null,null,null,null,null,null,240,null,null,null,null,null,null,null,null,null,null,null,null,null,null,null,null,null,null,null,20525,25525]
[null,null,null,null,null,null,null,null,null,null,null,null,null,null,null,null,null,null,null,null,null,null,null,null,null,null,null,null,null,null,null,null,null,null,null,null,null,null,null,null,null,null,null,null,null,null,null,null,null,null,null,null,null,null,null,null,241,null,null,null,null,null,null,null,null,null,null,null,null,null,null,null,null,null,null,null,20525,25525]
[null,null,null,null,null,null,null,null,null,null,null,null,null,null,null,null,null,null,null,null,null,null,null,null,null,null,null,null,null,null,null,null,null,null,null,null,null,null,null,null,null,null,null,null,null,null,null,null,null,null,null,null,null,null,null,null,242,null,null,null,null,null,null,null,null,null,null,null,null,null,null,null,null,null,null,null,20525,25525]
[null,null,null,null,null,null,null,null,null,null,null,null,null,null,null,null,null,null,null,null,null,null,null,null,null,null,null,null,null,null,null,null,null,null,null,null,null,null,null,null,null,null,null,null,null,null,null,null,null,null,null,null,null,null,null,null,243,null,null,null,null,null,null,null,null,null,null,null,null,null,null,null,null,null,null,null,20500,25500]
[null,null,null,null,null,null,null,null,null,null,null,null,null,null,null,null,null,null,null,null,null,null,null,null,null,null,null,null,null,null,null,null,null,null,null,null,null,null,null,null,null,null,null,null,null,null,null,null,null,null,null,null,null,null,null,null,244,null,null,null,null,null,null,null,null,null,null,null,null,null,null,null,null,null,null,null,20500,25500]
[null,null,null,null,null,null,null,null,null,null,null,null,null,null,null,null,null,null,null,null,null,null,null,null,null,null,null,null,null,null,null,null,null,null,null,null,null,null,null,null,null,null,null,null,null,null,null,null,null,null,null,null,null,null,null,null,245,null,null,null,null,null,null,null,null,null,null,null,null,null,null,null,null,null,null,null,20500,25500]
[null,null,null,null,null,null,null,null,null,null,null,null,null,null,null,null,null,null,null,null,null,null,null,null,null,null,null,null,null,null,null,null,null,null,null,null,null,null,null,null,null,null,null,null,null,null,null,null,null,null,null,null,null,null,null,null,246,null,null,null,null,null,null,null,null,null,null,null,null,null,null,null,null,null,null,null,20500,25500]
[null,null,null,null,null,null,null,null,null,null,null,null,null,null,null,null,null,null,null,null,null,null,null,null,null,null,null,null,null,null,null,null,null,null,null,null,null,null,null,null,null,null,null,null,null,null,null,null,null,null,null,null,null,null,null,null,247,null,null,null,null,null,null,null,null,null,null,null,null,null,null,null,null,null,null,null,20500,25500]
[null,null,null,null,null,null,null,null,null,null,null,null,null,null,null,null,null,null,null,null,null,null,null,null,null,null,null,null,null,null,null,null,null,null,null,null,null,null,null,null,null,null,null,null,null,null,null,null,null,null,null,null,null,null,null,null,248,null,null,null,null,null,null,null,null,null,null,null,null,null,null,null,null,null,null,null,20500,25500]
[null,null,null,null,null,null,null,null,null,null,null,null,null,null,null,null,null,null,null,null,null,null,null,null,null,null,null,null,null,null,null,null,null,null,null,null,null,null,null,null,null,null,null,null,null,null,null,null,null,null,null,null,null,null,null,null,249,null,null,null,null,null,null,null,null,null,null,null,null,null,null,null,null,null,null,null,20500,25500]
[null,null,null,null,null,null,null,null,null,null,null,null,null,null,null,null,null,null,null,null,null,null,null,null,null,null,null,null,null,null,null,null,null,null,null,null,null,null,null,null,null,null,null,null,null,null,null,null,null,null,null,null,null,null,null,null,250,null,null,null,null,null,null,null,null,null,null,null,null,null,null,null,null,null,null,null,20500,25500]
[null,null,null,null,null,null,null,null,null,null,null,null,null,null,null,null,null,null,null,null,null,null,null,null,null,null,null,null,null,null,null,null,null,null,null,null,null,null,null,null,null,null,null,null,null,null,null,null,null,null,null,null,null,null,null,null,251,null,null,null,null,null,null,null,null,null,null,null,null,null,null,null,null,null,null,null,20500,25500]
[null,null,null,null,null,null,null,null,null,null,null,null,null,null,null,null,null,null,null,null,null,null,null,null,null,null,null,null,null,null,null,null,null,null,null,null,null,null,null,null,null,null,null,null,null,null,null,null,null,null,null,null,null,null,null,null,252,null,null,null,null,null,null,null,null,null,null,null,null,null,null,null,null,null,null,null,20500,25500]
[null,null,null,null,null,null,null,null,null,null,null,null,null,null,null,null,null,null,null,null,null,null,null,null,null,null,null,null,null,null,null,null,null,null,null,null,null,null,null,null,null,null,null,null,null,null,null,null,null,null,null,null,null,null,null,null,253,null,null,null,null,null,null,null,null,null,null,null,null,null,null,null,null,null,null,null,20500,25500]
[null,null,null,null,null,null,null,null,null,null,null,null,null,null,null,null,null,null,null,null,null,null,null,null,null,null,null,null,null,null,null,null,null,null,null,null,null,null,null,null,null,null,null,null,null,null,null,null,null,null,null,null,null,null,null,null,254,null,null,null,null,null,null,null,null,null,null,null,null,null,null,null,null,null,null,null,20500,25500]
[null,null,null,null,null,null,null,null,null,null,null,null,null,null,null,null,null,null,null,null,null,null,null,null,null,null,null,null,null,null,null,null,null,null,null,null,null,null,null,null,null,null,null,null,null,null,null,null,null,null,null,null,null,null,null,null,255,null,null,null,null,null,null,null,null,null,null,null,null,null,null,null,null,null,null,null,20100,25100]
[null,null,null,null,null,null,null,null,null,null,null,null,null,null,null,null,null,null,null,null,null,null,null,null,null,null,null,null,null,null,null,null,null,null,null,null,null,null,null,null,null,null,null,null,null,null,null,null,null,null,null,null,null,null,null,null,256,null,null,null,null,null,null,null,null,null,null,null,null,null,null,null,null,null,null,null,20125,25125]
[null,null,null,null,null,null,null,null,null,null,null,null,null,null,null,null,null,null,null,null,null,null,null,null,null,null,null,null,null,null,null,null,null,null,null,null,null,null,null,null,null,null,null,null,null,null,null,null,null,null,null,null,null,null,null,null,257,null,null,null,null,null,null,null,null,null,null,null,null,null,null,null,null,null,null,null,23025,28025]
[null,null,null,null,null,null,null,null,null,null,null,null,null,null,null,null,null,null,null,null,null,null,null,null,null,null,null,null,null,null,null,null,null,null,null,null,null,null,null,null,null,null,null,null,null,null,null,null,null,null,null,null,null,null,null,null,258,null,null,null,null,null,null,null,null,null,null,null,null,null,null,null,null,null,null,null,23025,28025]
[null,null,null,null,null,null,null,null,null,null,null,null,null,null,null,null,null,null,null,null,null,null,null,null,null,null,null,null,null,null,null,null,null,null,null,null,null,null,null,null,null,null,null,null,null,null,null,null,null,null,null,null,null,null,null,null,259,null,null,null,null,null,null,null,null,null,null,null,null,null,null,null,null,null,null,null,23050,{"$f":"BY261+5000","v":28050}]
[null,null,null,null,null,null,null,null,null,null,null,null,null,null,null,null,null,null,null,null,null,null,null,null,null,null,null,null,null,null,null,null,null,null,null,null,null,null,null,null,null,null,null,null,null,null,null,null,null,null,null,null,null,null,null,null,260,null,null,null,null,null,null,null,null,null,null,null,null,null,null,null,null,null,null,null,23050,28050]
[null,null,null,null,null,null,null,null,null,null,null,null,null,null,null,null,null,null,null,null,null,null,null,null,null,null,null,null,null,null,null,null,null,null,null,null,null,null,null,null,null,null,null,null,null,null,null,null,null,null,null,null,null,null,null,null,261,null,null,null,null,null,null,null,null,null,null,null,null,null,null,null,null,null,null,null,23050,28050]
[null,null,null,null,null,null,null,null,null,null,null,null,null,null,null,null,null,null,null,null,null,null,null,null,null,null,null,null,null,null,null,null,null,null,null,null,null,null,null,null,null,null,null,null,null,null,null,null,null,null,null,null,null,null,null,null,262,null,null,null,null,null,null,null,null,null,null,null,null,null,null,null,null,null,null,null,23050,28050]
[null,null,null,null,null,null,null,null,null,null,null,null,null,null,null,null,null,null,null,null,null,null,null,null,null,null,null,null,null,null,null,null,null,null,null,null,null,null,null,null,null,null,null,null,null,null,null,null,null,null,null,null,null,null,null,null,263,null,null,null,null,null,null,null,null,null,null,null,null,null,null,null,null,null,null,null,23050,28050]
[null,null,null,null,null,null,null,null,null,null,null,null,null,null,null,null,null,null,null,null,null,null,null,null,null,null,null,null,null,null,null,null,null,null,null,null,null,null,null,null,null,null,null,null,null,null,null,null,null,null,null,null,null,null,null,null,264,null,null,null,null,null,null,null,null,null,null,null,null,null,null,null,null,null,null,null,23050,28050]
[null,null,null,null,null,null,null,null,null,null,null,null,null,null,null,null,null,null,null,null,null,null,null,null,null,null,null,null,null,null,null,null,null,null,null,null,null,null,null,null,null,null,null,null,null,null,null,null,null,null,null,null,null,null,null,null,265,null,null,null,null,null,null,null,null,null,null,null,null,null,null,null,null,null,null,null,23050,28050]
[null,null,null,null,null,null,null,null,null,null,null,null,null,null,null,null,null,null,null,null,null,null,null,null,null,null,null,null,null,null,null,null,null,null,null,null,null,null,null,null,null,null,null,null,null,null,null,null,null,null,null,null,null,null,null,null,266,null,null,null,null,null,null,null,null,null,null,null,null,null,null,null,null,null,null,null,23050,28050]
[null,null,null,null,null,null,null,null,null,null,null,null,null,null,null,null,null,null,null,null,null,null,null,null,null,null,null,null,null,null,null,null,null,null,null,null,null,null,null,null,null,null,null,null,null,null,null,null,null,null,null,null,null,null,null,null,267,null,null,null,null,null,null,null,null,null,null,null,null,null,null,null,null,null,null,null,23050,28050]
[null,null,null,null,null,null,null,null,null,null,null,null,null,null,null,null,null,null,null,null,null,null,null,null,null,null,null,null,null,null,null,null,null,null,null,null,null,null,null,null,null,null,null,null,null,null,null,null,null,null,null,null,null,null,null,null,268,null,null,null,null,null,null,null,null,null,null,null,null,null,null,null,null,null,null,null,23050,28050]
[null,null,null,null,null,null,null,null,null,null,null,null,null,null,null,null,null,null,null,null,null,null,null,null,null,null,null,null,null,null,null,null,null,null,null,null,null,null,null,null,null,null,null,null,null,null,null,null,null,null,null,null,null,null,null,null,269,null,null,null,null,null,null,null,null,null,null,null,null,null,null,null,null,null,null,null,23050,28050]
[null,null,null,null,null,null,null,null,null,null,null,null,null,null,null,null,null,null,null,null,null,null,null,null,null,null,null,null,null,null,null,null,null,null,null,null,null,null,null,null,null,null,null,null,null,null,null,null,null,null,null,null,null,null,null,null,270,null,null,null,null,null,null,null,null,null,null,null,null,null,null,null,null,null,null,null,23050,28050]
[null,null,null,null,null,null,null,null,null,null,null,null,null,null,null,null,null,null,null,null,null,null,null,null,null,null,null,null,null,null,null,null,null,null,null,null,null,null,null,null,null,null,null,null,null,null,null,null,null,null,null,null,null,null,null,null,271,null,null,null,null,null,null,null,null,null,null,null,null,null,null,null,null,null,null,null,23050,28050]
[null,null,null,null,null,null,null,null,null,null,null,null,null,null,null,null,null,null,null,null,null,null,null,null,null,null,null,null,null,null,null,null,null,null,null,null,null,null,null,null,null,null,null,null,null,null,null,null,null,null,null,null,null,null,null,null,272,null,null,null,null,null,null,null,null,null,null,null,null,null,null,null,null,null,null,null,23050,28050]
[null,null,null,null,null,null,null,null,null,null,null,null,null,null,null,null,null,null,null,null,null,null,null,null,null,null,null,null,null,null,null,null,null,null,null,null,null,null,null,null,null,null,null,null,null,null,null,null,null,null,null,null,null,null,null,null,273,null,null,null,null,null,null,null,null,null,null,null,null,null,null,null,null,null,null,null,23050,28050]
[null,null,null,null,null,null,null,null,null,null,null,null,null,null,null,null,null,null,null,null,null,null,null,null,null,null,null,null,null,null,null,null,null,null,null,null,null,null,null,null,null,null,null,null,null,null,null,null,null,null,null,null,null,null,null,null,274,null,null,null,null,null,null,null,null,null,null,null,null,null,null,null,null,null,null,null,23050,28050]
[null,null,null,null,null,null,null,null,null,null,null,null,null,null,null,null,null,null,null,null,null,null,null,null,null,null,null,null,null,null,null,null,null,null,null,null,null,null,null,null,null,null,null,null,null,null,null,null,null,null,null,null,null,null,null,null,275,null,null,null,null,null,null,null,null,null,null,null,null,null,null,null,null,null,null,null,23050,28050]
[null,null,null,null,null,null,null,null,null,null,null,null,null,null,null,null,null,null,null,null,null,null,null,null,null,null,null,null,null,null,null,null,null,null,null,null,null,null,null,null,null,null,null,null,null,null,null,null,null,null,null,null,null,null,null,null,276,null,null,null,null,null,null,null,null,null,null,null,null,null,null,null,null,null,null,null,23050,28050]
[null,null,null,null,null,null,null,null,null,null,null,null,null,null,null,null,null,null,null,null,null,null,null,null,null,null,null,null,null,null,null,null,null,null,null,null,null,null,null,null,null,null,null,null,null,null,null,null,null,null,null,null,null,null,null,null,277,null,null,null,null,null,null,null,null,null,null,null,null,null,null,null,null,null,null,null,23050,28050]
[null,null,null,null,null,null,null,null,null,null,null,null,null,null,null,null,null,null,null,null,null,null,null,null,null,null,null,null,null,null,null,null,null,null,null,null,null,null,null,null,null,null,null,null,null,null,null,null,null,null,null,null,null,null,null,null,278,null,null,null,null,null,null,null,null,null,null,null,null,null,null,null,null,null,null,null,23050,28050]
[null,null,null,null,null,null,null,null,null,null,null,null,null,null,null,null,null,null,null,null,null,null,null,null,null,null,null,null,null,null,null,null,null,null,null,null,null,null,null,null,null,null,null,null,null,null,null,null,null,null,null,null,null,null,null,null,279,null,null,null,null,null,null,null,null,null,null,null,null,null,null,null,null,null,null,null,23050,28050]
[null,null,null,null,null,null,null,null,null,null,null,null,null,null,null,null,null,null,null,null,null,null,null,null,null,null,null,null,null,null,null,null,null,null,null,null,null,null,null,null,null,null,null,null,null,null,null,null,null,null,null,null,null,null,null,null,280,null,null,null,null,null,null,null,null,null,null,null,null,null,null,null,null,null,null,null,23050,28050]
[null,null,null,null,null,null,null,null,null,null,null,null,null,null,null,null,null,null,null,null,null,null,null,null,null,null,null,null,null,null,null,null,null,null,null,null,null,null,null,null,null,null,null,null,null,null,null,null,null,null,null,null,null,null,null,null,281,null,null,null,null,null,null,null,null,null,null,null,null,null,null,null,null,null,null,null,23050,28050]
[null,null,null,null,null,null,null,null,null,null,null,null,null,null,null,null,null,null,null,null,null,null,null,null,null,null,null,null,null,null,null,null,null,null,null,null,null,null,null,null,null,null,null,null,null,null,null,null,null,null,null,null,null,null,null,null,282,null,null,null,null,null,null,null,null,null,null,null,null,null,null,null,null,null,null,null,23050,28050]
[null,null,null,null,null,null,null,null,null,null,null,null,null,null,null,null,null,null,null,null,null,null,null,null,null,null,null,null,null,null,null,null,null,null,null,null,null,null,null,null,null,null,null,null,null,null,null,null,null,null,null,null,null,null,null,null,283,null,null,null,null,null,null,null,null,null,null,null,null,null,null,null,null,null,null,null,20200,25200]
[null,null,null,null,null,null,null,null,null,null,null,null,null,null,null,null,null,null,null,null,null,null,null,null,null,null,null,null,null,null,null,null,null,null,null,null,null,null,null,null,null,null,null,null,null,null,null,null,null,null,null,null,null,null,null,null,284,null,null,null,null,null,null,null,null,null,null,null,null,null,null,null,null,null,null,null,20175,25175]
[null,null,null,null,null,null,null,null,null,null,null,null,null,null,null,null,null,null,null,null,null,null,null,null,null,null,null,null,null,null,null,null,null,null,null,null,null,null,null,null,null,null,null,null,null,null,null,null,null,null,null,null,null,null,null,null,285,null,null,null,null,null,null,null,null,null,null,null,null,null,null,null,null,null,null,null,20525,25525]
[null,null,null,null,null,null,null,null,null,null,null,null,null,null,null,null,null,null,null,null,null,null,null,null,null,null,null,null,null,null,null,null,null,null,null,null,null,null,null,null,null,null,null,null,null,null,null,null,null,null,null,null,null,null,null,null,286,null,null,null,null,null,null,null,null,null,null,null,null,null,null,null,null,null,null,null,20525,25525]
[null,null,null,null,null,null,null,null,null,null,null,null,null,null,null,null,null,null,null,null,null,null,null,null,null,null,null,null,null,null,null,null,null,null,null,null,null,null,null,null,null,null,null,null,null,null,null,null,null,null,null,null,null,null,null,null,287,null,null,null,null,null,null,null,null,null,null,null,null,null,null,null,null,null,null,null,20500,25500]
[null,null,null,null,null,null,null,null,null,null,null,null,null,null,null,null,null,null,null,null,null,null,null,null,null,null,null,null,null,null,null,null,null,null,null,null,null,null,null,null,null,null,null,null,null,null,null,null,null,null,null,null,null,null,null,null,288,null,null,null,null,null,null,null,null,null,null,null,null,null,null,null,null,null,null,null,20500,25500]
[null,null,null,null,null,null,null,null,null,null,null,null,null,null,null,null,null,null,null,null,null,null,null,null,null,null,null,null,null,null,null,null,null,null,null,null,null,null,null,null,null,null,null,null,null,null,null,null,null,null,null,null,null,null,null,null,289,null,null,null,null,null,null,null,null,null,null,null,null,null,null,null,null,null,null,null,22100,27100]
[null,null,null,null,null,null,null,null,null,null,null,null,null,null,null,null,null,null,null,null,null,null,null,null,null,null,null,null,null,null,null,null,null,null,null,null,null,null,null,null,null,null,null,null,null,null,null,null,null,null,null,null,null,null,null,null,290,null,null,null,null,null,null,null,null,null,null,null,null,null,null,null,null,null,null,null,22100,27100]
[null,null,null,null,null,null,null,null,null,null,null,null,null,null,null,null,null,null,null,null,null,null,null,null,null,null,null,null,null,null,null,null,null,null,null,null,null,null,null,null,null,null,null,null,null,null,null,null,null,null,null,null,null,null,null,null,291,null,null,null,null,null,null,null,null,null,null,null,null,null,null,null,null,null,null,null,20600,25600]
[null,null,null,null,null,null,null,null,null,null,null,null,null,null,null,null,null,null,null,null,null,null,null,null,null,null,null,null,null,null,null,null,null,null,null,null,null,null,null,null,null,null,null,null,null,null,null,null,null,null,null,null,null,null,null,null,292,null,null,null,null,null,null,null,null,null,null,null,null,null,null,null,null,null,null,null,20575,25575]
[null,null,null,null,null,null,null,null,null,null,null,null,null,null,null,null,null,null,null,null,null,null,null,null,null,null,null,null,null,null,null,null,null,null,null,null,null,null,null,null,null,null,null,null,null,null,null,null,null,null,null,null,null,null,null,null,293,null,null,null,null,null,null,null,null,null,null,null,null,null,null,null,null,null,null,null,20575,25575]
[null,null,null,null,null,null,null,null,null,null,null,null,null,null,null,null,null,null,null,null,null,null,null,null,null,null,null,null,null,null,null,null,null,null,null,null,null,null,null,null,null,null,null,null,null,null,null,null,null,null,null,null,null,null,null,null,294,null,null,null,null,null,null,null,null,null,null,null,null,null,null,null,null,null,null,null,20600,25600]
[null,null,null,null,null,null,null,null,null,null,null,null,null,null,null,null,null,null,null,null,null,null,null,null,null,null,null,null,null,null,null,null,null,null,null,null,null,null,null,null,null,null,null,null,null,null,null,null,null,null,null,null,null,null,null,null,295,null,null,null,null,null,null,null,null,null,null,null,null,null,null,null,null,null,null,null,20600,25600]
[null,null,null,null,null,null,null,null,null,null,null,null,null,null,null,null,null,null,null,null,null,null,null,null,null,null,null,null,null,null,null,null,null,null,null,null,null,null,null,null,null,null,null,null,null,null,null,null,null,null,null,null,null,null,null,null,296,null,null,null,null,null,null,null,null,null,null,null,null,null,null,null,null,null,null,null,20575,25575]
[null,null,null,null,null,null,null,null,null,null,null,null,null,null,null,null,null,null,null,null,null,null,null,null,null,null,null,null,null,null,null,null,null,null,null,null,null,null,null,null,null,null,null,null,null,null,null,null,null,null,null,null,null,null,null,null,297,null,null,null,null,null,null,null,null,null,null,null,null,null,null,null,null,null,null,null,20600,25600]
[null,null,null,null,null,null,null,null,null,null,null,null,null,null,null,null,null,null,null,null,null,null,null,null,null,null,null,null,null,null,null,null,null,null,null,null,null,null,null,null,null,null,null,null,null,null,null,null,null,null,null,null,null,null,null,null,298,null,null,null,null,null,null,null,null,null,null,null,null,null,null,null,null,null,null,null,20600,25600]
[null,null,null,null,null,null,null,null,null,null,null,null,null,null,null,null,null,null,null,null,null,null,null,null,null,null,null,null,null,null,null,null,null,null,null,null,null,null,null,null,null,null,null,null,null,null,null,null,null,null,null,null,null,null,null,null,299,null,null,null,null,null,null,null,null,null,null,null,null,null,null,null,null,null,null,null,20500,25500]
[null,null,null,null,null,null,null,null,null,null,null,null,null,null,null,null,null,null,null,null,null,null,null,null,null,null,null,null,null,null,null,null,null,null,null,null,null,null,null,null,null,null,null,null,null,null,null,null,null,null,null,null,null,null,null,null,300,null,null,null,null,null,null,null,null,null,null,null,null,null,null,null,null,null,null,null,20500,25500]
[null,null,null,null,null,null,null,null,null,null,null,null,null,null,null,null,null,null,null,null,null,null,null,null,null,null,null,null,null,null,null,null,null,null,null,null,null,null,null,null,null,null,null,null,null,null,null,null,null,null,null,null,null,null,null,null,301,null,null,null,null,null,null,null,null,null,null,null,null,null,null,null,null,null,null,null,20500,25500]
[null,null,null,null,null,null,null,null,null,null,null,null,null,null,null,null,null,null,null,null,null,null,null,null,null,null,null,null,null,null,null,null,null,null,null,null,null,null,null,null,null,null,null,null,null,null,null,null,null,null,null,null,null,null,null,null,302,null,null,null,null,null,null,null,null,null,null,null,null,null,null,null,null,null,null,null,20500,25500]
[null,null,null,null,null,null,null,null,null,null,null,null,null,null,null,null,null,null,null,null,null,null,null,null,null,null,null,null,null,null,null,null,null,null,null,null,null,null,null,null,null,null,null,null,null,null,null,null,null,null,null,null,null,null,null,null,303,null,null,null,null,null,null,null,null,null,null,null,null,null,null,null,null,null,null,null,20500,25500]
[null,null,null,null,null,null,null,null,null,null,null,null,null,null,null,null,null,null,null,null,null,null,null,null,null,null,null,null,null,null,null,null,null,null,null,null,null,null,null,null,null,null,null,null,null,null,null,null,null,null,null,null,null,null,null,null,304,null,null,null,null,null,null,null,null,null,null,null,null,null,null,null,null,null,null,null,20500,25500]
[null,null,null,null,null,null,null,null,null,null,null,null,null,null,null,null,null,null,null,null,null,null,null,null,null,null,null,null,null,null,null,null,null,null,null,null,null,null,null,null,null,null,null,null,null,null,null,null,null,null,null,null,null,null,null,null,305,null,null,null,null,null,null,null,null,null,null,null,null,null,null,null,null,null,null,null,20500,25500]
[null,null,null,null,null,null,null,null,null,null,null,null,null,null,null,null,null,null,null,null,null,null,null,null,null,null,null,null,null,null,null,null,null,null,null,null,null,null,null,null,null,null,null,null,null,null,null,null,null,null,null,null,null,null,null,null,306,null,null,null,null,null,null,null,null,null,null,null,null,null,null,null,null,null,null,null,20500,25500]
[null,null,null,null,null,null,null,null,null,null,null,null,null,null,null,null,null,null,null,null,null,null,null,null,null,null,null,null,null,null,null,null,null,null,null,null,null,null,null,null,null,null,null,null,null,null,null,null,null,null,null,null,null,null,null,null,307,null,null,null,null,null,null,null,null,null,null,null,null,null,null,null,null,null,null,null,20525,25525]
[null,null,null,null,null,null,null,null,null,null,null,null,null,null,null,null,null,null,null,null,null,null,null,null,null,null,null,null,null,null,null,null,null,null,null,null,null,null,null,null,null,null,null,null,null,null,null,null,null,null,null,null,null,null,null,null,308,null,null,null,null,null,null,null,null,null,null,null,null,null,null,null,null,null,null,null,20525,25525]
[null,null,null,null,null,null,null,null,null,null,null,null,null,null,null,null,null,null,null,null,null,null,null,null,null,null,null,null,null,null,null,null,null,null,null,null,null,null,null,null,null,null,null,null,null,null,null,null,null,null,null,null,null,null,null,null,309,null,null,null,null,null,null,null,null,null,null,null,null,null,null,null,null,null,null,null,20525,25525]
[null,null,null,null,null,null,null,null,null,null,null,null,null,null,null,null,null,null,null,null,null,null,null,null,null,null,null,null,null,null,null,null,null,null,null,null,null,null,null,null,null,null,null,null,null,null,null,null,null,null,null,null,null,null,null,null,310,null,null,null,null,null,null,null,null,null,null,null,null,null,null,null,null,null,null,null,20525,25525]
[null,null,null,null,null,null,null,null,null,null,null,null,null,null,null,null,null,null,null,null,null,null,null,null,null,null,null,null,null,null,null,null,null,null,null,null,null,null,null,null,null,null,null,null,null,null,null,null,null,null,null,null,null,null,null,null,311,null,null,null,null,null,null,null,null,null,null,null,null,null,null,null,null,null,null,null,20500,25500]
[null,null,null,null,null,null,null,null,null,null,null,null,null,null,null,null,null,null,null,null,null,null,null,null,null,null,null,null,null,null,null,null,null,null,null,null,null,null,null,null,null,null,null,null,null,null,null,null,null,null,null,null,null,null,null,null,312,null,null,null,null,null,null,null,null,null,null,null,null,null,null,null,null,null,null,null,20490,25490]
[null,null,null,null,null,null,null,null,null,null,null,null,null,null,null,null,null,null,null,null,null,null,null,null,null,null,null,null,null,null,null,null,null,null,null,null,null,null,null,null,null,null,null,null,null,null,null,null,null,null,null,null,null,null,null,null,313,null,null,null,null,null,null,null,null,null,null,null,null,null,null,null,null,null,null,null,20525,25525]
[null,null,null,null,null,null,null,null,null,null,null,null,null,null,null,null,null,null,null,null,null,null,null,null,null,null,null,null,null,null,null,null,null,null,null,null,null,null,null,null,null,null,null,null,null,null,null,null,null,null,null,null,null,null,null,null,314,null,null,null,null,null,null,null,null,null,null,null,null,null,null,null,null,null,null,null,20500,25500]
[null,null,null,null,null,null,null,null,null,null,null,null,null,null,null,null,null,null,null,null,null,null,null,null,null,null,null,null,null,null,null,null,null,null,null,null,null,null,null,null,null,null,null,null,null,null,null,null,null,null,null,null,null,null,null,null,315,null,null,null,null,null,null,null,null,null,null,null,null,null,null,null,null,null,null,null,20500,25500]
[null,null,null,null,null,null,null,null,null,null,null,null,null,null,null,null,null,null,null,null,null,null,null,null,null,null,null,null,null,null,null,null,null,null,null,null,null,null,null,null,null,null,null,null,null,null,null,null,null,null,null,null,null,null,null,null,316,null,null,null,null,null,null,null,null,null,null,null,null,null,null,null,null,null,null,null,20500,25500]
[null,null,null,null,null,null,null,null,null,null,null,null,null,null,null,null,null,null,null,null,null,null,null,null,null,null,null,null,null,null,null,null,null,null,null,null,null,null,null,null,null,null,null,null,null,null,null,null,null,null,null,null,null,null,null,null,317,null,null,null,null,null,null,null,null,null,null,null,null,null,null,null,null,null,null,null,20500,25500]
[null,null,null,null,null,null,null,null,null,null,null,null,null,null,null,null,null,null,null,null,null,null,null,null,null,null,null,null,null,null,null,null,null,null,null,null,null,null,null,null,null,null,null,null,null,null,null,null,null,null,null,null,null,null,null,null,318,null,null,null,null,null,null,null,null,null,null,null,null,null,null,null,null,null,null,null,20500,25500]
[null,null,null,null,null,null,null,null,null,null,null,null,null,null,null,null,null,null,null,null,null,null,null,null,null,null,null,null,null,null,null,null,null,null,null,null,null,null,null,null,null,null,null,null,null,null,null,null,null,null,null,null,null,null,null,null,319,null,null,null,null,null,null,null,null,null,null,null,null,null,null,null,null,null,null,null,20500,25500]
[null,null,null,null,null,null,null,null,null,null,null,null,null,null,null,null,null,null,null,null,null,null,null,null,null,null,null,null,null,null,null,null,null,null,null,null,null,null,null,null,null,null,null,null,null,null,null,null,null,null,null,null,null,null,null,null,320,null,null,null,null,null,null,null,null,null,null,null,null,null,null,null,null,null,null,null,20500,25500]
[null,null,null,null,null,null,null,null,null,null,null,null,null,null,null,null,null,null,null,null,null,null,null,null,null,null,null,null,null,null,null,null,null,null,null,null,null,null,null,null,null,null,null,null,null,null,null,null,null,null,null,null,null,null,null,null,321,null,null,null,null,null,null,null,null,null,null,null,null,null,null,null,null,null,null,null,20525,25525]
[null,null,null,null,null,null,null,null,null,null,null,null,null,null,null,null,null,null,null,null,null,null,null,null,null,null,null,null,null,null,null,null,null,null,null,null,null,null,null,null,null,null,null,null,null,null,null,null,null,null,null,null,null,null,null,null,322,null,null,null,null,null,null,null,null,null,null,null,null,null,null,null,null,null,null,null,20525,25525]
[null,null,null,null,null,null,null,null,null,null,null,null,null,null,null,null,null,null,null,null,null,null,null,null,null,null,null,null,null,null,null,null,null,null,null,null,null,null,null,null,null,null,null,null,null,null,null,null,null,null,null,null,null,null,null,null,323,null,null,null,null,null,null,null,null,null,null,null,null,null,null,null,null,null,null,null,20525,{"$f":"BY325+5000","v":25525}]
[null,null,null,null,null,null,null,null,null,null,null,null,null,null,null,null,null,null,null,null,null,null,null,null,null,null,null,null,null,null,null,null,null,null,null,null,null,null,null,null,null,null,null,null,null,null,null,null,null,null,null,null,null,null,null,null,324,null,null,null,null,null,null,null,null,null,null,null,null,null,null,null,null,null,null,null,20525,25525]
[null,null,null,null,null,null,null,null,null,null,null,null,null,null,null,null,null,null,null,null,null,null,null,null,null,null,null,null,null,null,null,null,null,null,null,null,null,null,null,null,null,null,null,null,null,null,null,null,null,null,null,null,null,null,null,null,325,null,null,null,null,null,null,null,null,null,null,null,null,null,null,null,null,null,null,null,20575,25575]
[null,null,null,null,null,null,null,null,null,null,null,null,null,null,null,null,null,null,null,null,null,null,null,null,null,null,null,null,null,null,null,null,null,null,null,null,null,null,null,null,null,null,null,null,null,null,null,null,null,null,null,null,null,null,null,null,326,null,null,null,null,null,null,null,null,null,null,null,null,null,null,null,null,null,null,null,20500,25500]
[null,null,null,null,null,null,null,null,null,null,null,null,null,null,null,null,null,null,null,null,null,null,null,null,null,null,null,null,null,null,null,null,null,null,null,null,null,null,null,null,null,null,null,null,null,null,null,null,null,null,null,null,null,null,null,null,327,null,null,null,null,null,null,null,null,null,null,null,null,null,null,null,null,null,null,null,20490,25490]
[null,null,null,null,null,null,null,null,null,null,null,null,null,null,null,null,null,null,null,null,null,null,null,null,null,null,null,null,null,null,null,null,null,null,null,null,null,null,null,null,null,null,null,null,null,null,null,null,null,null,null,null,null,null,null,null,328,null,null,null,null,null,null,null,null,null,null,null,null,null,null,null,null,null,null,null,20575,25575]
[null,null,null,null,null,null,null,null,null,null,null,null,null,null,null,null,null,null,null,null,null,null,null,null,null,null,null,null,null,null,null,null,null,null,null,null,null,null,null,null,null,null,null,null,null,null,null,null,null,null,null,null,null,null,null,null,329,null,null,null,null,null,null,null,null,null,null,null,null,null,null,null,null,null,null,null,20625,25625]
[null,null,null,null,null,null,null,null,null,null,null,null,null,null,null,null,null,null,null,null,null,null,null,null,null,null,null,null,null,null,null,null,null,null,null,null,null,null,null,null,null,null,null,null,null,null,null,null,null,null,null,null,null,null,null,null,330,null,null,null,null,null,null,null,null,null,null,null,null,null,null,null,null,null,null,null,20500,25500]
[null,null,null,null,null,null,null,null,null,null,null,null,null,null,null,null,null,null,null,null,null,null,null,null,null,null,null,null,null,null,null,null,null,null,null,null,null,null,null,null,null,null,null,null,null,null,null,null,null,null,null,null,null,null,null,null,331,null,null,null,null,null,null,null,null,null,null,null,null,null,null,null,null,null,null,null,20500,25500]
[null,null,null,null,null,null,null,null,null,null,null,null,null,null,null,null,null,null,null,null,null,null,null,null,null,null,null,null,null,null,null,null,null,null,null,null,null,null,null,null,null,null,null,null,null,null,null,null,null,null,null,null,null,null,null,null,null,null,null,null,null,null,null,null,null,null,null,null,null,null,null,null,null,null,null,null,20525,25525]

{"sheet":"Superpave","index":3,"n_rows":48,"n_cols":22,"rows_kept":48,"cut":false,"hidden":true,"merged":[[0,21,1,21],[0,7,0,12],[1,14,1,15],[4,0,4,2],[6,0,6,2],[4,3,4,5],[6,3,6,5]]}
["Sample ID:",{"$f":"IF('Pay Values'!B3=\"\",\"\",'Pay Values'!B3)","v":""},null,"County:",{"$f":"IF('Pay Values'!I3=\"\",\"\",'Pay Values'!I3)","v":""},null,null,"RANDOM TONS FOR EACH SUBLOT",null,null,null,null,null,"AGGREGATE:",null,null,null,"Sublot # 1","Sublot # 2","Sublot # 3","Sublot # 4","Lot Recycle % AC"]
["Contract I.D.",{"$f":"IF('Pay Values'!B4=\"\",\"\",'Pay Values'!B4)","v":""},null,null,null,null,null,"Sublot","Date","Time","Truck #","Tons","Temp","Agg. Prod. Code","Matl. Type & Size ",null,"Sp. Grav.","%","%","%","%"]
["Type Mix:",{"$f":"IF('Pay Values'!B5=\"\",\"\",'Pay Values'!B5)","v":""},null,null,null,null,null,1,null,null,null,null,null,{"$f":"IF('Pay Values'!D29=\"\",\"\",'Pay Values'!D29)","v":""},{"$f":"IF('Pay Values'!F29=\"\",\"\",'Pay Values'!F29)","v":""}]
[null,null,null,null,null,null,null,2,null,null,null,null,null,{"$f":"IF('Pay Values'!D30=\"\",\"\",'Pay Values'!D30)","v":""},{"$f":"IF('Pay Values'!F30=\"\",\"\",'Pay Values'!F30)","v":""}]
["Sublot # 1 Tested by",null,null,"Sublot # 2 Tested by",null,null,null,3,null,null,null,null,null,{"$f":"IF('Pay Values'!D31=\"\",\"\",'Pay Values'!D31)","v":""},{"$f":"IF('Pay Values'!F31=\"\",\"\",'Pay Values'!F31)","v":""}]
[null,"",null,null,"",null,null,4,null,null,null,null,null,{"$f":"IF('Pay Values'!D32=\"\",\"\",'Pay Values'!D32)","v":""},{"$f":"IF('Pay Values'!F32=\"\",\"\",'Pay Values'!F32)","v":""}]
["Sublot # 3 Tested by",null,null,"Sublot # 4 Tested by",null,null,null,null,null,"Gse",null,null,null,{"$f":"IF('Pay Values'!D33=\"\",\"\",'Pay Values'!D33)","v":""},{"$f":"IF('Pay Values'!F33=\"\",\"\",'Pay Values'!F33)","v":""}]
[null,"",null,null,"",null,null,null,null,{"$f":"IF(N43=\"\",\"\",(100-N43)/((100/N42)-(N43/1.03)))","v":""},null,null,null,{"$f":"IF('Pay Values'!D34=\"\",\"\",'Pay Values'!D34)","v":""},{"$f":"IF('Pay Values'!F34=\"\",\"\",'Pay Values'!F34)","v":""}]
[null,null,null,null,null,null,null,null,null,null,null,null,null,null,null,"Sublot Gsb",null,{"$f":"IF(Q3=\"\",\"\",(100/Calculations!D139))","v":""},{"$f":"IF(S3=\"\",\"\",(100/Calculations!G139))","v":""},{"$f":"IF(T3=\"\",\"\",(100/Calculations!J139))","v":""},{"$f":"IF(U3=\"\",\"\",(100/Calculations!M139))","v":""}]
["Sublot # 1","% AC",null,"Weight (g)",null,"Bulk","BSG","Unit","Max Spec","% ","% Abs. AC","% ","%","% ","D/A"]
["Sample #","(Mix)","(Air)","(Water)","(SSD)"," Vol.",null," Wt.","Gravity","Voids","(Mix)","Eff. AC"," VMA","VFA","Ratio",null,"AC from Recycle"]
[1," ",null,null,null,{"$f":"IF(E12=\"\",\"\",ROUND(E12-D12,1))","v":""},{"$f":"IF(C12=\"\",\"\",ROUND(C12/F12,3))","v":""},{"$f":"IF(ISERROR(G12*1000),\"\",(G12*62.4))","v":""},null,null,null,null,null,null,null,null,"Virgin Binder in Mix",{"$f":"IF(B14=\"\",\"\",B14-R11)","v":""},{"$f":"IF(B20=\"\",\"\",B20-S11)","v":""},{"$f":"IF(B26=\"\",\"\",B26-T11)","v":""},{"$f":"IF(B32=\"\",\"\",B32-U11)","v":""}]
[2,null,null,null,null,{"$f":"IF(E13=\"\",\"\",ROUND(E13-D13,1))","v":""},{"$f":"IF(C13=\"\",\"\",ROUND(C13/F13,3))","v":""},{"$f":"IF(ISERROR(G13*1000),\"\",(G13*62.4))","v":""},null,null,null,null,null,null,null,null,"Eff. Replacement",{"$f":"IF(L14=\"\",\"\",ROUND(R11/L14*100,0))","v":""},{"$f":"IF(L20=\"\",\"\",ROUND(S11/L20*100,0))","v":""},{"$f":"IF(L26=\"\",\"\",ROUND(T11/L26*100,0))","v":""},{"$f":"IF(L32=\"\",\"\",ROUND(U11/L32*100,0))","v":""}]
["Average",{"$f":"IF(AND(Gradation!D33=\"\",Gradation!D34=\"\"),\"\",IF(Gradation!D33=\"\",Gradation!D34,Gradation!D33))","v":""},null,null," ",null,{"$f":"IF(G12=\"\",\"\",AVERAGE(G12:G13))","v":""},{"$f":"IF(H12=\"\",\"\",AVERAGE(H12:H13))","v":""},{"$f":"IF(D42=\"\",\"\",D42)","v":""},{"$f":"IF(G14=\"\",\"\",((I14-G14)/I14)*100)","v":""},{"$f":"IF(B14=\"\",\"\",((100-B14)*(100*(((J8-R9)/(R9*J8))*1.03)))/100)","v":""},{"$f":"IF(B14=\"\",\"\",(B14-K14))","v":""},{"$f":"IF(G14=\"\",\"\",(100-(G14*(100-B14)/R9)))","v":""},{"$f":"IF(M14=\"\",\"\",(100*(M14-J14)/M14))","v":""},{"$f":"IF(OR(Gradation!D23=\"\",L14=\"\"),\"\",IF((100-Gradation!C23)/L14>1.6,\">1.6\",IF((100-Gradation!C23)/L14<0.6,\"<0.6\",(100-Gradation!C23)/L14)))","v":""},null,"Virgin Binder Grade",{"$f":"IF(ISERROR(Calculations!CM17),\"\",Calculations!CM17)","v":""},{"$f":"IF(ISERROR(Calculations!CN17),\"\",Calculations!CN17)","v":""},{"$f":"IF(ISERROR(Calculations!CO17),\"\",Calculations!CO17)","v":""},{"$f":"IF(ISERROR(Calculations!CP17),\"\",Calculations!CP17)","v":""}]
[null,null,null,null,null,null,null,null,null,null,null,null,null,null,{"$f":"IF(OR(O14=\">1.6\",O14=\"<0.6\"),\"* Does not satisfy KY Specification Subsection 402.03.02 D) 5)\",\"\")","v":""},null,null,{"$f":"IF(OR(R14=\"*\",S14=\"*\",T14=\"*\",U14=\"*\"),\"*Does not satisfy KY Specification Subsection 409.03.03\",\"\")","v":""}]
["Sublot # 2","% AC",null,"Weight (g)",null,"Bulk","BSG","Unit","Max Spec","% ","% Abs. AC","% ","%","% ","D/A"]
["Sample #","(Mix)","(Air)","(Water)","(SSD)"," Vol.",null," Wt.","Gravity","Voids","(Mix)","Eff. AC"," VMA","VFA","Ratio"]
[1," ",null,null,null,{"$f":"IF(E18=\"\",\"\",ROUND(E18-D18,1))","v":""},{"$f":"IF(C18=\"\",\"\",ROUND(C18/F18,3))","v":""},{"$f":"IF(ISERROR(G18*1000),\"\",(G18*62.4))","v":""}]
[2,null,null,null,null,{"$f":"IF(E19=\"\",\"\",ROUND(E19-D19,1))","v":""},{"$f":"IF(C19=\"\",\"\",ROUND(C19/F19,3))","v":""},{"$f":"IF(ISERROR(G19*1000),\"\",(G19*62.4))","v":""},null,null,null,null,null,null,null,null,"POLISH RESISTANT DATA"]
["Average",{"$f":"IF(AND(Gradation!G33=\"\",Gradation!G34=\"\"),\"\",IF(Gradation!G33=\"\",Gradation!G34,Gradation!G33))","v":""},null,null," ",null,{"$f":"IF(G18=\"\",\"\",AVERAGE(G18:G19))","v":""},{"$f":"IF(H18=\"\",\"\",AVERAGE(H18:H19))","v":""},{"$f":"IF(F42=\"\",\"\",F42)","v":""},{"$f":"IF(I20=\"\",\"\",((I20-G20)/I20)*100)","v":""},{"$f":"IF(B20=\"\",\"\",((100-B20)*(100*(((J8-S9)/(S9*J8))*1.03)))/100)","v":""},{"$f":"IF(B20=\"\",\"\",(B20-K20))","v":""},{"$f":"IF(G20=\"\",\"\",(100-(G20*(100-B20)/S9)))","v":""},{"$f":"IF(M20=\"\",\"\",(100*(M20-J20)/M20))","v":""},{"$f":"IF(OR(Gradation!G23=\"\",L20=\"\"),\"\",IF((100-Gradation!F23)/L20>1.6,\">1.6\",IF((100-Gradation!F23)/L20<0.6,\"<0.6\",(100-Gradation!F23)/L20)))","v":""},null,"Date","% Coarse","% Fine"]
[null,null,null,null,null,null,null,null,null,null,null,null,null,null,{"$f":"IF(OR(O20=\">1.6\",O20=\"<0.6\"),\"* Does not satisfy KY Specification Subsection 402.03.02 D) 5)\",\"\")","v":""}]
["Sublot # 3","% AC",null,"Weight (g)",null,"Bulk","BSG","Unit","Max Spec","% ","% Abs. AC","% ","%","% ","D/A"]
["Sample #","(Mix)","(Air)","(Water)","(SSD)"," Vol.",null," Wt.","Gravity","Voids","(Mix)","Eff. AC"," VMA","VFA","Ratio"]
[1," ",null,null,null,{"$f":"IF(E24=\"\",\"\",ROUND(E24-D24,1))","v":""},{"$f":"IF(C24=\"\",\"\",ROUND(C24/F24,3))","v":""},{"$f":"IF(ISERROR(G24*1000),\"\",(G24*62.4))","v":""}]
[2,null,null,null,null,{"$f":"IF(E25=\"\",\"\",ROUND(E25-D25,1))","v":""},{"$f":"IF(C25=\"\",\"\",ROUND(C25/F25,3))","v":""},{"$f":"IF(ISERROR(G25*1000),\"\",(G25*62.4))","v":""}]
["Average",{"$f":"IF(AND(Gradation!J33=\"\",Gradation!J34=\"\"),\"\",IF(Gradation!J33=\"\",Gradation!J34,Gradation!J33))","v":""},null,null," ",null,{"$f":"IF(G24=\"\",\"\",AVERAGE(G24:G25))","v":""},{"$f":"IF(H24=\"\",\"\",AVERAGE(H24:H25))","v":""},{"$f":"IF(H42=\"\",\"\",H42)","v":""},{"$f":"IF(I26=\"\",\"\",((I26-G26)/I26)*100)","v":""},{"$f":"IF(B26=\"\",\"\",((100-B26)*(100*(((J8-T9)/(T9*J8))*1.03)))/100)","v":""},{"$f":"IF(B26=\"\",\"\",(B26-K26))","v":""},{"$f":"IF(G26=\"\",\"\",(100-(G26*(100-B26)/T9)))","v":""},{"$f":"IF(M26=\"\",\"\",(100*(M26-J26)/M26))","v":""},{"$f":"IF(OR(Gradation!J23=\"\",L26=\"\"),\"\",IF((100-Gradation!I23)/L26>1.6,\">1.6\",IF((100-Gradation!I23)/L26<0.6,\"<0.6\",(100-Gradation!I23)/L26)))","v":""}]
[null,null,null,null,null,null,null,null,null,null,null,null,null,null,{"$f":"IF(OR(O26=\">1.6\",O26=\"<0.6\"),\"* Does not satisfy KY Specification Subsection 402.03.02 D) 5)\",\"\")","v":""}]
["Sublot # 4","% AC",null,"Weight (g)",null,"Bulk","BSG","Unit","Max Spec","% ","% Abs. AC","% ","%","% ","D/A",null,"Gyrations"]
["Sample #","(Mix)","(Air)","(Water)","(SSD)"," Vol.",null," Wt.","Gravity","Voids","(Mix)","Eff. AC"," VMA","VFA","Ratio",null,"@ Ndes"]
[1," ",null,null,null,{"$f":"IF(E30=\"\",\"\",ROUND(E30-D30,1))","v":""},{"$f":"IF(C30=\"\",\"\",ROUND(C30/F30,3))","v":""},{"$f":"IF(ISERROR(G30*1000),\"\",(G30*62.4))","v":""}]
[2,null,null,null,null,{"$f":"IF(E31=\"\",\"\",ROUND(E31-D31,1))","v":""},{"$f":"IF(C31=\"\",\"\",ROUND(C31/F31,3))","v":""},{"$f":"IF(ISERROR(G31*1000),\"\",(G31*62.4))","v":""}]
["Average",{"$f":"IF(AND(Gradation!M33=\"\",Gradation!M34=\"\"),\"\",IF(Gradation!M33=\"\",Gradation!M34,Gradation!M33))","v":""},null,null," ",null,{"$f":"IF(G30=\"\",\"\",AVERAGE(G30:G31))","v":""},{"$f":"IF(H30=\"\",\"\",AVERAGE(H30:H31))","v":""},{"$f":"IF(J42=\"\",\"\",J42)","v":""},{"$f":"IF(I32=\"\",\"\",((I32-G32)/I32)*100)","v":""},{"$f":"IF(B32=\"\",\"\",((100-B32)*(100*(((J8-U9)/(U9*J8))*1.03)))/100)","v":""},{"$f":"IF(B32=\"\",\"\",(B32-K32))","v":""},{"$f":"IF(G32=\"\",\"\",(100-(G32*(100-B32)/U9)))","v":""},{"$f":"IF(M32=\"\",\"\",(100*(M32-J32)/M32))","v":""},{"$f":"IF(OR(Gradation!M23=\"\",L32=\"\"),\"\",IF((100-Gradation!L23)/L32>1.6,\">1.6\",IF((100-Gradation!L23)/L32<0.6,\"<0.6\",(100-Gradation!L23)/L32)))","v":""}]
[null,null,null,null,null,null,null,null,null,null,null,null,null,null,{"$f":"IF(OR(O32=\">1.6\",O32=\"<0.6\"),\"* Does not satisfy KY Specification Subsection 402.03.02 D) 5)\",\"\")","v":""}]
["Maximum Specific Gravity",null,null,null,null,null,null,null,null,null,"Hand-Mixed"]
[null,null,"Sublot #1a","Sublot #1b","Sublot #2a","Sublot #2b","Sublot #3a","Sublot #3b","Sublot #4a","Sublot #4b","Maximum Specific Gravities"]
["Wt. of Mix",null,null,null,null,null,null,null,null,null,"Wt. of Mix"]
["Cailbration",null,null,null,null,null,null,null,null,null,"Cailbration"]
["Wt. of Mix + Calibrat.",null,{"$f":"IF(C37=\"\",\"\",C36+C37)","v":""},"","","","","","","","Wt. of Mix + Calibrat.",null,{"$f":"IF(M37=\"\",\"\",(M36+M37))","v":""},{"$f":"IF(N37=\"\",\"\",(N36+N37))","v":""}]
["Final Wt.",null,null,null,null,null,null,null,null,null,"Final Wt."]
[" Absorbed Water",null,null,null,null,null,null,null,null,null," Absorbed Water"]
["MSG",null,{"$f":"IF(C39=\"\",\"\",ROUND(C36/(C38-C39+C40),3))","v":""},{"$f":"IF(D39=\"\",\"\",ROUND(D36/(D38-D39+D40),3))","v":""},{"$f":"IF(E39=\"\",\"\",ROUND(E36/(E38-E39+E40),3))","v":""},"","","","","","MSG",null,{"$f":"IF(M39=\"\",\"\",M36/(M38-M39+M40))","v":""},{"$f":"IF(N39=\"\",\"\",N36/(N38-N39+N40))","v":""}]
[null,null,"Avg. =",{"$f":"IF(ISERROR(AVERAGE(C41:D41)),\"\",AVERAGE(C41:D41))","v":""},"Avg. =",{"$f":"IF(ISERROR(AVERAGE(E41:F41)),\"\",AVERAGE(E41:F41))","v":""},"Avg. =",{"$f":"IF(ISERROR(AVERAGE(G41:H41)),\"\",AVERAGE(G41:H41))","v":""},"Avg. =",{"$f":"IF(ISERROR(AVERAGE(I41:J41)),\"\",AVERAGE(I41:J41))","v":""},null,null,"Avg. =",{"$f":"IF(ISERROR(AVERAGE(M41:N41)),\"\",AVERAGE(M41:N41))","v":""}]
[null,null,null,null,null,null,null,null,null,null,null,null,"% AC ="]
[null,null,null,null,null,null,"Sublot # 1","Sublot # 2","Sublot # 3","Sublot # 4"]
[null,null,"Weight of Pan and Mixture before Drying"]
["Moisture Content",null,"Weight of Pan and Mixture after Drying"]
["of Mixture",null,"Weight of Pan"]
[null,null,"% Moisture in Mix",null,null,null,{"$f":"IF(G45=\"\",\"\",IF(G45-G47=0,0,(((G45-G47)-(G46-G47))/(G45-G47))*100))","v":""},{"$f":"IF(H45=\"\",\"\",IF(H45-H47=0,0,(((H45-H47)-(H46-H47))/(H45-H47))*100))","v":""},{"$f":"IF(I45=\"\",\"\",IF(I45-I47=0,0,(((I45-I47)-(I46-I47))/(I45-I47))*100))","v":""},{"$f":"IF(J45=\"\",\"\",IF(J45-J47=0,0,(((J45-J47)-(J46-J47))/(J45-J47))*100))","v":""}]

{"sheet":"Cores","index":4,"n_rows":51,"n_cols":10,"rows_kept":51,"cut":false,"hidden":true,"merged":[[1,6,1,9],[2,6,2,9]]}
[]
["Sample ID#:",null,{"$f":"IF('Pay Values'!B3=\"\",\"\",'Pay Values'!B3)","v":""},null,"Inspectors ID # :"]
["Contract ID:",null,{"$f":"IF('Pay Values'!B4=\"\",\"\",'Pay Values'!B4)","v":""},null,"Inspectors Name:"]
["Type Mixture:",null,{"$f":"'Pay Values'!B5","v":""},null,"Producer & Location:",null,{"$f":"IF('Pay Values'!C6=\"\",\"\",'Pay Values'!C6)","v":{"$error":"#N/A"}}]
[]
["CORE DENSITIES"]
["Core","Station #/","MSG of","Core Wt.","Core Wt.","Core Wt.","Bulk Sp.","Core","% Solid","Pay"]
["Number","Offset/","Sublot","In Air","In Water","SSD","Gravity","Density","Density","Value"]
[null,"Coarse #",null,"(g)","(g)","(g)",null,"(kg/m3)","(%)","(%)"]
[{"$f":"CONCATENATE('Pay Values'!F3,\"-1-A\")","v":"0-1-A"},null,{"$f":"IF(Calculations!J1<=5,Superpave!D42,\"\")","v":""},null,null,null,{"$f":"IF(D10=\"\",\"\",D10/(F10-E10))","v":""},{"$f":"IF(G10=\"\",\"\",G10*62.4)","v":""},{"$f":"IF(H10=\"\",\"\",(H10/(C10*62.4))*100)","v":""},{"$f":"IF(I10=\"\",\"\",Calculations!E34)","v":""}]
[{"$f":"CONCATENATE('Pay Values'!F3,\"-1-B\")","v":"0-1-B"},null,"",null,null,null,{"$f":"IF(D11=\"\",\"\",D11/(F11-E11))","v":""},{"$f":"IF(G11=\"\",\"\",G11*62.4)","v":""},{"$f":"IF(H11=\"\",\"\",(H11/(C10*62.4))*100)","v":""},{"$f":"IF(I11=\"\",\"\",Calculations!F34)","v":""}]
[{"$f":"CONCATENATE('Pay Values'!F3,\"-1-C\")","v":"0-1-C"},null,"",null,null,null,{"$f":"IF(D12=\"\",\"\",D12/(F12-E12))","v":""},"",{"$f":"IF(H12=\"\",\"\",(H12/(C10*62.4))*100)","v":""},{"$f":"IF(I12=\"\",\"\",Calculations!G34)","v":""}]
[{"$f":"CONCATENATE('Pay Values'!F3,\"-1-D\")","v":"0-1-D"},null,"",null,null,null,{"$f":"IF(D13=\"\",\"\",D13/(F13-E13))","v":""},"",{"$f":"IF(H13=\"\",\"\",(H13/(C10*62.4))*100)","v":""},{"$f":"IF(I13=\"\",\"\",Calculations!H34)","v":""}]
[null,"Sublot Average",null,null,null,null,null,null,null,{"$f":"IF(Calculations!H12=2,0,IF(C10=\"\",\"\",IF(AND(J10=\"\",'Pay Values'!F3=1),100,IF(J10=\"\",\"\",IF(AVERAGE(J10:J13)=65,\"Call MCL\",IF('Pay Values'!F3=1,100,AVERAGE(J10:J13)))))))","v":""}]
[{"$f":"CONCATENATE('Pay Values'!F3,\"-2-A\")","v":"0-2-A"},null,{"$f":"IF(Calculations!J1<=5,Superpave!F42,\"\")","v":""},null,null,null,{"$f":"IF(D15=\"\",\"\",D15/(F15-E15))","v":""},"",{"$f":"IF(H15=\"\",\"\",(H15/(C15*62.4))*100)","v":""},{"$f":"IF(I15=\"\",\"\",Calculations!I34)","v":""}]
[{"$f":"CONCATENATE('Pay Values'!F3,\"-2-B\")","v":"0-2-B"},null,null,null,null,null,{"$f":"IF(D16=\"\",\"\",D16/(F16-E16))","v":""},{"$f":"IF(G16=\"\",\"\",G16*62.4)","v":""},{"$f":"IF(H16=\"\",\"\",(H16/(C15*62.4))*100)","v":""},{"$f":"IF(I16=\"\",\"\",Calculations!J34)","v":""}]
[{"$f":"CONCATENATE('Pay Values'!F3,\"-2-C\")","v":"0-2-C"},null,null,null,null,null,{"$f":"IF(D17=\"\",\"\",D17/(F17-E17))","v":""},{"$f":"IF(G17=\"\",\"\",G17*62.4)","v":""},{"$f":"IF(H17=\"\",\"\",(H17/(C15*62.4))*100)","v":""},{"$f":"IF(I17=\"\",\"\",Calculations!K34)","v":""}]
[{"$f":"CONCATENATE('Pay Values'!F3,\"-2-D\")","v":"0-2-D"},null,null,null,null,null,{"$f":"IF(D18=\"\",\"\",D18/(F18-E18))","v":""},{"$f":"IF(G18=\"\",\"\",G18*62.4)","v":""},{"$f":"IF(H18=\"\",\"\",(H18/(C15*62.4))*100)","v":""},{"$f":"IF(I18=\"\",\"\",Calculations!L34)","v":""}]
[null,"Sublot Average",null,null,null,null,null,null,null,{"$f":"IF(J15=\"\",\"\",IF(AVERAGE(J15:J18)=65,\"Call MCL\",AVERAGE(J15:J18)))","v":""}]
[{"$f":"CONCATENATE('Pay Values'!F3,\"-3-A\")","v":"0-3-A"},null,{"$f":"IF(Calculations!J1<=5,Superpave!H42,\"\")","v":""},null,null,null,{"$f":"IF(D20=\"\",\"\",D20/(F20-E20))","v":""},"",{"$f":"IF(H20=\"\",\"\",(H20/(C20*62.4))*100)","v":""},{"$f":"IF(I20=\"\",\"\",Calculations!M34)","v":""}]
[{"$f":"CONCATENATE('Pay Values'!F3,\"-3-B\")","v":"0-3-B"},null,"",null,null,null,{"$f":"IF(D21=\"\",\"\",D21/(F21-E21))","v":""},"",{"$f":"IF(H21=\"\",\"\",(H21/(C20*62.4))*100)","v":""},{"$f":"IF(I21=\"\",\"\",Calculations!N34)","v":""}]
[{"$f":"CONCATENATE('Pay Values'!F3,\"-3-C\")","v":"0-3-C"},null,"",null,null,null,{"$f":"IF(D22=\"\",\"\",D22/(F22-E22))","v":""},"",{"$f":"IF(H22=\"\",\"\",(H22/(C20*62.4))*100)","v":""},{"$f":"IF(I22=\"\",\"\",Calculations!O34)","v":""}]
[{"$f":"CONCATENATE('Pay Values'!F3,\"-3-D\")","v":"0-3-D"},null,"",null,null,null,{"$f":"IF(D23=\"\",\"\",D23/(F23-E23))","v":""},"",{"$f":"IF(H23=\"\",\"\",(H23/(C20*62.4))*100)","v":""},{"$f":"IF(I23=\"\",\"\",Calculations!P34)","v":""}]
[null,"Sublot Average",null,null,null,null,null,null,null,{"$f":"IF(J20=\"\",\"\",IF(AVERAGE(J20:J23)=65,\"Call MCL\",AVERAGE(J20:J23)))","v":""}]
[{"$f":"CONCATENATE('Pay Values'!F3,\"-4-A\")","v":"0-4-A"},null,{"$f":"IF(Calculations!J1<=5,Superpave!J42,\"\")","v":""},null,null,null,{"$f":"IF(D25=\"\",\"\",D25/(F25-E25))","v":""},"",{"$f":"IF(H25=\"\",\"\",(H25/(C25*62.4))*100)","v":""},{"$f":"IF(I25=\"\",\"\",Calculations!Q34)","v":""}]
[{"$f":"CONCATENATE('Pay Values'!F3,\"-4-B\")","v":"0-4-B"},null,"",null,null,null,{"$f":"IF(D26=\"\",\"\",D26/(F26-E26))","v":""},"",{"$f":"IF(H26=\"\",\"\",(H26/(C25*62.4))*100)","v":""},{"$f":"IF(I26=\"\",\"\",Calculations!R34)","v":""}]
[{"$f":"CONCATENATE('Pay Values'!F3,\"-4-C\")","v":"0-4-C"},null,"",null,null,null,{"$f":"IF(D27=\"\",\"\",D27/(F27-E27))","v":""},"",{"$f":"IF(H27=\"\",\"\",(H27/(C25*62.4))*100)","v":""},{"$f":"IF(I27=\"\",\"\",Calculations!S34)","v":""}]
[{"$f":"CONCATENATE('Pay Values'!F3,\"-4-D\")","v":"0-4-D"},null,"",null,null,null,{"$f":"IF(D28=\"\",\"\",D28/(F28-E28))","v":""},"",{"$f":"IF(H28=\"\",\"\",(H28/(C25*62.4))*100)","v":""},{"$f":"IF(I28=\"\",\"\",Calculations!T34)","v":""}]
[null,"Sublot Average",null,null,null,null,null,null,null,{"$f":"IF(J25=\"\",\"\",IF(AVERAGE(J25:J28)=65,\"Call MCL\",AVERAGE(J25:J28)))","v":""}]
["Lot Average",null,null,null,null,null,null,null,null,{"$f":"IF(J14=\"\",\"\",IF(OR(J14=\"Call MCL\",J19=\"Call MCL\",J24=\"Call MCL\",J29=\"Call MCL\"),\"Call MCL\",IF(AVERAGE(J14,J19,J24,J29)=65,\"Call MCL\",AVERAGE(J14,J19,J24,J29))))","v":""}]
[]
["Joint Cores"]
[{"$f":"CONCATENATE('Pay Values'!F3,\"-1-J1\")","v":"0-1-J1"},null,{"$f":"IF(Calculations!J1<=5,Superpave!D42,\"\")","v":""},null,null,null,{"$f":"IF(D33=\"\",\"\",D33/(F33-E33))","v":""},{"$f":"IF(G33=\"\",\"\",G33*62.4)","v":""},{"$f":"IF(H33=\"\",\"\",(H33/(C33*62.4))*100)","v":""},{"$f":"IF(Calculations!H11=2,\"\",IF(I33=\"\",\"\",Calculations!E67))","v":""}]
[{"$f":"CONCATENATE('Pay Values'!F3,\"-1-J2\")","v":"0-1-J2"},null,null,null,null,null,"","",{"$f":"IF(H34=\"\",\"\",(H34/(C33*62.4))*100)","v":""},{"$f":"IF(I34=\"\",\"\",Calculations!F67)","v":""}]
[null,"Sublot Average",null,null,null,null,null,null,null,{"$f":"IF(Calculations!H11=2,\"\",IF(AND(Calculations!H11=1,'Pay Values'!F3=1),100,IF(C33=\"\",\"\",IF(J33=\"\",\"\",AVERAGE(J33:J34)))))","v":""}]
[{"$f":"CONCATENATE('Pay Values'!F3,\"-2-J1\")","v":"0-2-J1"},null,{"$f":"IF(Calculations!J1<=5,Superpave!F42,\"\")","v":""},null,null,null,"","",{"$f":"IF(H36=\"\",\"\",(H36/(C36*62.4))*100)","v":""},{"$f":"IF(I36=\"\",\"\",Calculations!G67)","v":""}]
[{"$f":"CONCATENATE('Pay Values'!F3,\"-2-J2\")","v":"0-2-J2"},null,null,null,null,null,"","",{"$f":"IF(H37=\"\",\"\",(H37/(C36*62.4))*100)","v":""},{"$f":"IF(I37=\"\",\"\",Calculations!H67)","v":""}]
[null,"Sublot Average",null,null,null,null,null,null,null,{"$f":"IF(J36=\"\",\"\",AVERAGE(J36:J37))","v":""}]
[{"$f":"CONCATENATE('Pay Values'!F3,\"-3-J1\")","v":"0-3-J1"},null,{"$f":"IF(Calculations!J1<=5,Superpave!H42,\"\")","v":""},null,null,null,"","",{"$f":"IF(H39=\"\",\"\",(H39/(C39*62.4))*100)","v":""},{"$f":"IF(I39=\"\",\"\",Calculations!I67)","v":""}]
[{"$f":"CONCATENATE('Pay Values'!F3,\"-3-J2\")","v":"0-3-J2"},null,null,null,null,null,"","",{"$f":"IF(H40=\"\",\"\",(H40/(C39*62.4))*100)","v":""},{"$f":"IF(I40=\"\",\"\",Calculations!J67)","v":""}]
[null,"Sublot Average",null,null,null,null,null,null,null,{"$f":"IF(J39=\"\",\"\",AVERAGE(J39:J40))","v":""}]
[{"$f":"CONCATENATE('Pay Values'!F3,\"-4-J1\")","v":"0-4-J1"},null,{"$f":"IF(Calculations!J1<=5,Superpave!J42,\"\")","v":""},null,null,null,"","",{"$f":"IF(H42=\"\",\"\",(H42/(C42*62.4))*100)","v":""},{"$f":"IF(I42=\"\",\"\",Calculations!K67)","v":""}]
[{"$f":"CONCATENATE('Pay Values'!F3,\"-4-J2\")","v":"0-4-J2"},null,null,null,null,null,"","",{"$f":"IF(H43=\"\",\"\",(H43/(C42*62.4))*100)","v":""},{"$f":"IF(I43=\"\",\"\",Calculations!L67)","v":""}]
[null,"Sublot Average",null,null,null,null,null,null,null,{"$f":"IF(J42=\"\",\"\",AVERAGE(J42:J43))","v":""}]
["Lot Average",null,null,null,null,null,null,null,null,{"$f":"IF(J35=\"\",\"\",AVERAGE(J35,J38,J41,J44))","v":""}]
[]
[]
[]
["Date Tested"]
["Sublot # 1",null,"Sublot # 3"]
["Sublot # 2",null,"Sublot # 4"]

{"sheet":"Super Verify","index":5,"n_rows":49,"n_cols":14,"rows_kept":49,"cut":false,"hidden":true,"merged":[[4,4,4,5],[4,8,4,10]]}
["Sample ID:",null,{"$f":"IF('Pay Values'!B3=\"\",\"\",'Pay Values'!B3)","v":""},null,"Producer & Location:",null,{"$f":"IF('Pay Values'!C6=\"\",\"\",'Pay Values'!C6)","v":{"$error":"#N/A"}}]
["Contract I.D.",null,{"$f":"IF('Pay Values'!B4=\"\",\"\",'Pay Values'!B4)","v":""}]
["Type Mixture:",null,{"$f":"IF('Pay Values'!B5=\"\",\"\",'Pay Values'!B5)","v":""},null,null,null,null,null,null,null,null,"Gyrations"]
[null,null,null,null,null,null,null,null,null,null,null,"@ Ndes"]
["Sublot # :",{"$f":"IF(Calculations!L1=\"\",\"\",Calculations!L1)","v":""},"Inspectors ID # :",null,null,null,"Inspectors Name:"]
[null,"% AC",null,"Weight (g)",null,"Bulk Vol.","BSG","Unit Wt.","Max Spec","% Voids","% Eff. AC","% VMA","% VFA","D/A"]
["Sample #","(Mix)","(Air)","(Water)","(SSD)",null,null,null,"Gravity",null,null,null,null,"Ratio"]
[1," ",null,null,null,{"$f":"IF(E8=\"\",\"\",E8-D8)","v":""},{"$f":"IF(F8=\"\",\"\",(C8/F8))","v":""},{"$f":"IF(ISERROR(G8*62.4),\"\",(G8*62.4))","v":""}]
[2,null,null,null,null,{"$f":"IF(E9=\"\",\"\",E9-D9)","v":""},{"$f":"IF(F9=\"\",\"\",(C9/F9))","v":""},{"$f":"IF(ISERROR(G9*62.4),\"\",(G9*62.4))","v":""}]
["Average",{"$f":"IF(AND(J27=\"\",J28=\"\"),\"\",IF(J27=\"\",J28,J27))","v":""},null,null," ",null,{"$f":"IF(G8=\"\",\"\",AVERAGE(G8:G9))","v":""},{"$f":"IF(H8=\"\",\"\",AVERAGE(H8:H9))","v":""},{"$f":"IF(D26=\"\",\"\",D26)","v":""},{"$f":"IF(G10=\"\",\"\",((I10-G10)/I10)*100)","v":""},{"$f":"IF(B10=\"\",\"\",IF(B5=1,B10-(((100-B10)*((100*((Superpave!J8-Superpave!R9)/(Superpave!R9*Superpave!J8))*1.03)))/100),IF(B5=2,B10-(((100-B10)*((100*((Superpave!J8-Superpave!S9)/(Superpave!S9*Superpave!J8))*1.03)))/100),IF(B5=3,B10-(((100-B10)*((100*((Superpave!J8-Superpave!T9)/(Superpave!T9*Superpave!J8))*1.03)))/100),IF(B5=4,B10-(((100-B10)*((100*((Superpave!J8-Superpave!U9)/(Superpave!U9*Superpave!J8))*1.03)))/100),\"\")))))","v":""},{"$f":"IF(G10=\"\",\"\",IF(B5=1,100-(G10*(100-B10)/Superpave!R9),IF(B5=2,100-(G10*(100-B10)/Superpave!S9),IF(B5=3,100-(G10*(100-B10)/Superpave!T9),IF(B5=4,100-(G10*(100-B10)/Superpave!U9),\"\")))))","v":""},{"$f":"IF(L10=\"\",\"\",(100*(L10-J10)/L10))","v":""},{"$f":"IF(Calculations!AT7=\"\",\"\",Calculations!AT7)","v":""}]
[null,null,null,null,null,null,null,null,null,null,null,null,null,{"$f":"IF(OR(N10=\">1.6\",N10=\"<0.6\"),\"* Does not satisfy KY Specification Subsection 402.03.02 D) 5)\",\"\")","v":""}]
["Sublot # :",{"$f":"IF(Calculations!L2=\"\",\"\",Calculations!L2)","v":""},"Inspectors ID # :",null,null,null,"Inspectors Name:"]
[null,"% AC",null,"Weight (g)",null,"Bulk Vol.","BSG","Unit Wt.","Max Spec","% Voids","% Eff. AC","% VMA","% VFA","D/A"]
["Sample #","(Mix)","(Air)","(Water)","(SSD)",null,null,null,"Gravity",null,null,null,null,"Ratio"]
[1," ",null,null,null,{"$f":"IF(E15=\"\",\"\",E15-D15)","v":""},{"$f":"IF(F15=\"\",\"\",(C15/F15))","v":""},{"$f":"IF(ISERROR(G15*62.4),\"\",(G15*62.4))","v":""}]
[2,null,null,null,null,{"$f":"IF(E16=\"\",\"\",E16-D16)","v":""},{"$f":"IF(F16=\"\",\"\",(C16/F16))","v":""},{"$f":"IF(ISERROR(G16*62.4),\"\",(G16*62.4))","v":""}]
["Average",{"$f":"IF(AND(M27=\"\",M28=\"\"),\"\",IF(M27=\"\",M28,M27))","v":""},null,null," ",null,{"$f":"IF(G15=\"\",\"\",AVERAGE(G15:G16))","v":""},{"$f":"IF(H15=\"\",\"\",AVERAGE(H15:H16))","v":""},{"$f":"IF(F26=\"\",\"\",F26)","v":""},{"$f":"IF(G17=\"\",\"\",((I17-G17)/I17)*100)","v":""},{"$f":"IF(B17=\"\",\"\",IF(B12=1,B17-(((100-B17)*((100*((Superpave!J8-Superpave!R9)/(Superpave!R9*Superpave!J8))*1.03)))/100),IF(B12=2,B17-(((100-B17)*((100*((Superpave!J8-Superpave!S9)/(Superpave!S9*Superpave!J8))*1.03)))/100),IF(B12=3,B17-(((100-B17)*((100*((Superpave!J8-Superpave!T9)/(Superpave!T9*Superpave!J8))*1.03)))/100),IF(B12=4,B17-(((100-B17)*((100*((Superpave!J8-Superpave!U9)/(Superpave!U9*Superpave!J8))*1.03)))/100),\"\")))))","v":""},{"$f":"IF(G17=\"\",\"\",IF(B12=1,100-(G17*(100-B17)/Superpave!R9),IF(B12=2,100-(G17*(100-B17)/Superpave!S9),IF(B12=3,100-(G17*(100-B17)/Superpave!T9),IF(B12=4,100-(G17*(100-B17)/Superpave!U9),\"\")))))","v":""},{"$f":"IF(L17=\"\",\"\",(100*(L17-J17)/L17))","v":""},{"$f":"IF(Calculations!AU7=\"\",\"\",Calculations!AU7)","v":""}]
[null,null,null,null,null,null,null,null,null,null,null,null,null,{"$f":"IF(OR(N17=\">1.6\",N17=\"<0.6\"),\"* Does not satisfy KY Specification Subsection 402.03.02 D) 5)\",\"\")","v":""}]
[null,null,{"$f":"CONCATENATE(\"Sublot #\", B5,\"a\")","v":"Sublot #a"},{"$f":"CONCATENATE(\"Sublot #\", B5,\"b\")","v":"Sublot #b"},{"$f":"CONCATENATE(\"Sublot #\",B12,\"a\")","v":"Sublot #a"},{"$f":"CONCATENATE(\"Sublot #\",B12,\"b\")","v":"Sublot #b"},null,{"$f":"CONCATENATE(\"Binder Content Verif. Sublot # \",B5)","v":"Binder Content Verif. Sublot # "},null,null,{"$f":"CONCATENATE(\"Binder Content Verif. Sublot # \",B12)","v":"Binder Content Verif. Sublot # "}]
["Wt. of Mix"]
["Cailbration"]
["Wt. of Mix + Calibrat.",null,{"$f":"IF(C21=\"\",\"\",C20+C21)","v":""},{"$f":"IF(D21=\"\",\"\",D20+D21)","v":""},{"$f":"IF(E21=\"\",\"\",E20+E21)","v":""},{"$f":"IF(F21=\"\",\"\",F20+F21)","v":""}]
["Final Wt."]
[" Absorbed Water"]
["MSG",null,{"$f":"IF(C23=\"\",\"\",C20/(C22-C23+C24))","v":""},{"$f":"IF(D23=\"\",\"\",D20/(D22-D23+D24))","v":""},{"$f":"IF(E23=\"\",\"\",E20/(E22-E23+E24))","v":""},{"$f":"IF(F23=\"\",\"\",F20/(F22-F23+F24))","v":""}]
[null,null,"Avg. =",{"$f":"IF(ISERROR(AVERAGE(C25:D25)),\"\",AVERAGE(C25:D25))","v":""},"Avg. =",{"$f":"IF(ISERROR(AVERAGE(E25:F25)),\"\",AVERAGE(E25:F25))","v":""}]
[null,null,null,null,null,null,null,"Act. % AC for Verif.:",null,{"$f":"IF(J28=\"\",\"\",J28-'Super Verify'!M39)","v":""},"Act. % AC for Verif.:",null,{"$f":"IF(M28=\"\",\"\",M28-'Super Verify'!N39)","v":""}]
[null,null,null,null,null,null,null,"% AC by Back-Calc. =",null,{"$f":"IF(D26=\"\",\"\",(1.03*(Superpave!J8-D26))/(D26*(Superpave!J8-1.03))*100)","v":""},"% AC by Back-Calc. =",null,{"$f":"IF(F26=\"\",\"\",(1.03*(Superpave!J8-F26))/(F26*(Superpave!J8-1.03))*100)","v":""}]
[null,{"$f":"CONCATENATE(\"Verif. for Sublot #\",B5)","v":"Verif. for Sublot #"},null,null,{"$f":"CONCATENATE(\"Verif. for Sublot #\",B12)","v":"Verif. for Sublot #"}]
[null,"Verification Gradation",null,null,"Verification Gradation"]
["Sieve","Grams","Percent","Percent","Grams","Percent","Percent"]
["Size","Retained","Retained","Passing","Retained","Retained","Passing"]
["2 \"",null,{"$f":"IF(B33=\"\",\"\",((B33/B48)*100))","v":""},{"$f":"IF(B33=\"\",\"\",(100-C33))","v":""},null,{"$f":"IF(E33=\"\",\"\",((E33/E48)*100))","v":""},{"$f":"IF(E33=\"\",\"\",(100-F33))","v":""}]
["1 1/2 \"",null,{"$f":"IF(B34=\"\",\"\",((B34/B48)*100))","v":""},"",null,{"$f":"IF(E34=\"\",\"\",((E34/E48)*100))","v":""},"",null,"Moisture Content"]
["1 \"",null,{"$f":"IF(B35=\"\",\"\",((B35/B48)*100))","v":""},"",null,{"$f":"IF(E35=\"\",\"\",((E35/E48)*100))","v":""},"",null,"of Mixture",null,null,null,{"$f":"CONCATENATE(\"Sublot #\", B5,\"\")","v":"Sublot #"},{"$f":"CONCATENATE(\"Sublot #\", B12)","v":"Sublot #"}]
["3/4 \"",null,{"$f":"IF(B36=\"\",\"\",((B36/B48)*100))","v":""},"",null,{"$f":"IF(E36=\"\",\"\",((E36/E48)*100))","v":""},"",null,"Weight of Pan and Mixture before Drying"]
["1/2 \"",null,{"$f":"IF(B37=\"\",\"\",((B37/B48)*100))","v":""},"",null,{"$f":"IF(E37=\"\",\"\",((E37/E48)*100))","v":""},"",null,"Weight of Pan and Mixture after Drying"]
["3/8 \"",null,{"$f":"IF(B38=\"\",\"\",((B38/B48)*100))","v":""},"",null,{"$f":"IF(E38=\"\",\"\",((E38/E48)*100))","v":""},"",null,"Weight of Pan"]
["1/4 \"",null,{"$f":"IF(B39=\"\",\"\",((B39/B47)*100))","v":""},"",null,{"$f":"IF(E39=\"\",\"\",((E39/E47)*100))","v":""},"",null,"% Moisture in Mix",null,null,null,{"$f":"IF(M36=\"\",\"\",IF(M36-M38=0,0,(((M36-M38)-(M37-M38))/(M36-M38))*100))","v":""},{"$f":"IF(N36=\"\",\"\",IF(N36-N38=0,0,(((N36-N38)-(N37-N38))/(N36-N38))*100))","v":""}]
["# 4",null,{"$f":"IF(B40=\"\",\"\",((B40/B48)*100))","v":""},"",null,{"$f":"IF(E40=\"\",\"\",((E40/E48)*100))","v":""},""]
["# 8",null,{"$f":"IF(B41=\"\",\"\",((B41/B48)*100))","v":""},"",null,{"$f":"IF(E41=\"\",\"\",((E41/E48)*100))","v":""},""]
["# 16",null,{"$f":"IF(B42=\"\",\"\",((B42/B48)*100))","v":""},"",null,{"$f":"IF(E42=\"\",\"\",((E42/E48)*100))","v":""},""]
["# 30",null,{"$f":"IF(B43=\"\",\"\",((B43/B48)*100))","v":""},"",null,{"$f":"IF(E43=\"\",\"\",((E43/E48)*100))","v":""},""]
["# 50",null,{"$f":"IF(B44=\"\",\"\",((B44/B48)*100))","v":""},"",null,{"$f":"IF(E44=\"\",\"\",((E44/E48)*100))","v":""},""]
["# 100",null,{"$f":"IF(B45=\"\",\"\",((B45/B48)*100))","v":""},"",null,{"$f":"IF(E45=\"\",\"\",((E45/E48)*100))","v":""},""]
["# 200",null,{"$f":"IF(B46=\"\",\"\",((B46/B48)*100))","v":""},"",null,{"$f":"IF(E46=\"\",\"\",((E46/E48)*100))","v":""},""]
["PAN",null,{"$f":"IF(B47=\"\",\"\",(B47/B48)*(100))","v":""},null,null,{"$f":"IF(E47=\"\",\"\",(E47/E48)*(100))","v":""}]
["Total",null,null,{"$f":"IF(AND(B48<>\"\",B39=\"\"),\"\",IF(B48=\"\",\"\",SUM(C39:C44)/100))","v":""},null,null,{"$f":"IF(AND(E48<>\"\",E39=\"\"),\"\",IF(E48=\"\",\"\",SUM(F39:F44)/100))","v":""}]
[null,{"$f":"IF(OR(Calculations!J1=7,Calculations!J1=8,Calculations!J1=13),\"Fineness Modulus =\",\"\")","v":""},null,{"$f":"IF(AND(B49<>\"\",B40=\"\"),\"\",IF(B49=\"\",\"\",SUM(C40:C45)/100))","v":""},{"$f":"IF(OR(Calculations!J1=7,Calculations!J1=8,Calculations!J1=13),\"Fineness Modulus =\",\"\")","v":""},null,{"$f":"IF(AND(E49<>\"\",E40=\"\"),\"\",IF(E49=\"\",\"\",SUM(F40:F45)/100))","v":""}]

{"sheet":"Gradation","index":6,"n_rows":35,"n_cols":14,"rows_kept":35,"cut":false,"hidden":true,"merged":[[0,9,0,12],[1,9,1,12]]}
[null,"Sample ID:",null,{"$f":"IF('Pay Values'!B3=\"\",\"\",'Pay Values'!B3)","v":""},null,null,null,"Inspectors ID # :"]
[null,"Contract I.D.",null,{"$f":"IF('Pay Values'!B4=\"\",\"\",'Pay Values'!B4)","v":""},null,null,null,"Inspectors Name:"]
[null,"Type of Mixture:",null,{"$f":"'Pay Values'!B5","v":""},null,null,null,"Producer & Location:",null,{"$f":"IF('Pay Values'!C6=\"\",\"\",'Pay Values'!C6)","v":{"$error":"#N/A"}}]
[]
[]
[null,"Date Tested:",null,null,"Date Tested:",null,null,"Date Tested:",null,null,"Date Tested:",null,null,"Target"]
[null,"SUBLOT # 1",null,null,"SUBLOT # 2",null,null,"SUBLOT # 3",null,null,"SUBLOT # 4",null,null,"JMF"]
["Sieve","Grams","Percent","Percent","Grams","Percent","Percent","Grams","Percent","Percent","Grams","Percent","Percent","Percent"]
["Size","Retained","Retained","Passing","Retained","Retained","Passing","Retained","Retained","Passing","Retained","Retained","Passing","Passing"]
["2 \"",null,{"$f":"IF(B10=\"\",\"\",((B10/B25)*100))","v":""},{"$f":"IF(B10=\"\",\"\",IF(OR(ROUND(100-C10,0)<Calculations!AY16,ROUND(100-C10,0)>Calculations!AZ16),ROUND(100-C10,1),100-C10))","v":""},null,{"$f":"IF(E10=\"\",\"\",((E10/E25)*100))","v":""},{"$f":"IF(E10=\"\",\"\",IF(OR(ROUND(100-F10,0)<Calculations!AY16,ROUND(100-F10,0)>Calculations!AZ16),ROUND(100-F10,1),100-F10))","v":""},null,{"$f":"IF(H10=\"\",\"\",((H10/H25)*100))","v":""},{"$f":"IF(H10=\"\",\"\",IF(OR(ROUND(100-I10,0)<Calculations!AY16,ROUND(100-I10,0)>Calculations!AZ16),ROUND(100-I10,1),100-I10))","v":""},null,{"$f":"IF(K10=\"\",\"\",((K10/K25)*100))","v":""},{"$f":"IF(K10=\"\",\"\",IF(OR(ROUND(100-L10,0)<Calculations!AY16,ROUND(100-L10,0)>Calculations!AZ16),ROUND(100-L10,1),100-L10))","v":""}]
["1 1/2 \"",null,{"$f":"IF(B11=\"\",\"\",(B11/B25)*(100))","v":""},{"$f":"IF(B11=\"\",\"\",IF(OR(ROUND(100-C11,0)<Calculations!AY17,ROUND(100-C11,0)>Calculations!AZ17),ROUND(100-C11,1),100-C11))","v":""},null,{"$f":"IF(E11=\"\",\"\",(E11/E25)*(100))","v":""},{"$f":"IF(E11=\"\",\"\",IF(OR(ROUND(100-F11,0)<Calculations!AY17,ROUND(100-F11,0)>Calculations!AZ17),ROUND(100-F11,1),100-F11))","v":""},null,{"$f":"IF(H11=\"\",\"\",(H11/H25)*(100))","v":""},{"$f":"IF(H11=\"\",\"\",IF(OR(ROUND(100-I11,0)<Calculations!AY17,ROUND(100-I11,0)>Calculations!AZ17),ROUND(100-I11,1),100-I11))","v":""},null,{"$f":"IF(K11=\"\",\"\",((K11/K25)*100))","v":""},{"$f":"IF(K11=\"\",\"\",IF(OR(ROUND(100-L11,0)<Calculations!AY17,ROUND(100-L11,0)>Calculations!AZ17),ROUND(100-L11,1),100-L11))","v":""}]
["1 \"",null,{"$f":"IF(B12=\"\",\"\",(B12/B25)*(100))","v":""},{"$f":"IF(B12=\"\",\"\",IF(OR(ROUND(100-C12,0)<Calculations!AY18,ROUND(100-C12,0)>Calculations!AZ18),ROUND(100-C12,1),100-C12))","v":""},null,{"$f":"IF(E12=\"\",\"\",(E12/E25)*(100))","v":""},{"$f":"IF(E12=\"\",\"\",IF(OR(ROUND(100-F12,0)<Calculations!AY18,ROUND(100-F12,0)>Calculations!AZ18),ROUND(100-F12,1),100-F12))","v":""},null,{"$f":"IF(H12=\"\",\"\",(H12/H25)*(100))","v":""},{"$f":"IF(H12=\"\",\"\",IF(OR(ROUND(100-I12,0)<Calculations!AY18,ROUND(100-I12,0)>Calculations!AZ18),ROUND(100-I12,1),100-I12))","v":""},null,{"$f":"IF(K12=\"\",\"\",((K12/K25)*100))","v":""},{"$f":"IF(K12=\"\",\"\",IF(OR(ROUND(100-L12,0)<Calculations!AY18,ROUND(100-L12,0)>Calculations!AZ18),ROUND(100-L12,1),100-L12))","v":""}]
["3/4 \"",null,{"$f":"IF(B13=\"\",\"\",(B13/B25)*(100))","v":""},{"$f":"IF(B13=\"\",\"\",IF(OR(ROUND(100-C13,0)<Calculations!AY19,ROUND(100-C13,0)>Calculations!AZ19),ROUND(100-C13,1),100-C13))","v":""},null,{"$f":"IF(E13=\"\",\"\",(E13/E25)*(100))","v":""},{"$f":"IF(E13=\"\",\"\",IF(OR(ROUND(100-F13,0)<Calculations!AY19,ROUND(100-F13,0)>Calculations!AZ19),ROUND(100-F13,1),100-F13))","v":""},null,{"$f":"IF(H13=\"\",\"\",(H13/H25)*(100))","v":""},{"$f":"IF(H13=\"\",\"\",IF(OR(ROUND(100-I13,0)<Calculations!AY19,ROUND(100-I13,0)>Calculations!AZ19),ROUND(100-I13,1),100-I13))","v":""},null,{"$f":"IF(K13=\"\",\"\",((K13/K25)*100))","v":""},{"$f":"IF(K13=\"\",\"\",IF(OR(ROUND(100-L13,0)<Calculations!AY19,ROUND(100-L13,0)>Calculations!AZ19),ROUND(100-L13,1),100-L13))","v":""}]
["1/2 \"",null,{"$f":"IF(B14=\"\",\"\",(B14/B25)*(100))","v":""},{"$f":"IF(B14=\"\",\"\",IF(OR(ROUND(100-C14,0)<Calculations!AY20,ROUND(100-C14,0)>Calculations!AZ20),ROUND(100-C14,1),100-C14))","v":""},null,{"$f":"IF(E14=\"\",\"\",(E14/E25)*(100))","v":""},{"$f":"IF(E14=\"\",\"\",IF(OR(ROUND(100-F14,0)<Calculations!AY20,ROUND(100-F14,0)>Calculations!AZ20),ROUND(100-F14,1),100-F14))","v":""},null,{"$f":"IF(H14=\"\",\"\",(H14/H25)*(100))","v":""},{"$f":"IF(H14=\"\",\"\",IF(OR(ROUND(100-I14,0)<Calculations!AY20,ROUND(100-I14,0)>Calculations!AZ20),ROUND(100-I14,1),100-I14))","v":""},null,{"$f":"IF(K14=\"\",\"\",(K14/K25)*(100))","v":""},{"$f":"IF(K14=\"\",\"\",IF(OR(ROUND(100-L14,0)<Calculations!AY20,ROUND(100-L14,0)>Calculations!AZ20),ROUND(100-L14,1),100-L14))","v":""}]
["3/8 \"",null,{"$f":"IF(B15=\"\",\"\",(B15/B25)*(100))","v":""},{"$f":"IF(B15=\"\",\"\",IF(OR(ROUND(100-C15,0)<Calculations!AY21,ROUND(100-C15,0)>Calculations!AZ21),ROUND(100-C15,1),100-C15))","v":""},null,{"$f":"IF(E15=\"\",\"\",(E15/E25)*(100))","v":""},{"$f":"IF(E15=\"\",\"\",IF(OR(ROUND(100-F15,0)<Calculations!AY21,ROUND(100-F15,0)>Calculations!AZ21),ROUND(100-F15,1),100-F15))","v":""},null,{"$f":"IF(H15=\"\",\"\",(H15/H25)*(100))","v":""},{"$f":"IF(H15=\"\",\"\",IF(OR(ROUND(100-I15,0)<Calculations!AY21,ROUND(100-I15,0)>Calculations!AZ21),ROUND(100-I15,1),100-I15))","v":""},null,{"$f":"IF(K15=\"\",\"\",(K15/K25)*(100))","v":""},{"$f":"IF(K15=\"\",\"\",IF(OR(ROUND(100-L15,0)<Calculations!AY21,ROUND(100-L15,0)>Calculations!AZ21),ROUND(100-L15,1),100-L15))","v":""}]
["1/4 \"",null,{"$f":"IF(B16=\"\",\"\",(B16/B25)*(100))","v":""},{"$f":"IF(B16=\"\",\"\",IF(OR(ROUND(100-C16,0)<Calculations!AY22,ROUND(100-C16,0)>Calculations!AZ22),ROUND(100-C16,1),100-C16))","v":""},null,{"$f":"IF(E16=\"\",\"\",(E16/E25)*(100))","v":""},{"$f":"IF(E16=\"\",\"\",IF(OR(ROUND(100-F16,0)<Calculations!AY22,ROUND(100-F16,0)>Calculations!AZ22),ROUND(100-F16,1),100-F16))","v":""},null,{"$f":"IF(H16=\"\",\"\",(H16/H25)*(100))","v":""},{"$f":"IF(H16=\"\",\"\",IF(OR(ROUND(100-I16,0)<Calculations!AY22,ROUND(100-I16,0)>Calculations!AZ22),ROUND(100-I16,1),100-I16))","v":""},null,{"$f":"IF(K16=\"\",\"\",(K16/K25)*(100))","v":""},{"$f":"IF(K16=\"\",\"\",IF(OR(ROUND(100-L16,0)<Calculations!AY22,ROUND(100-L16,0)>Calculations!AZ22),ROUND(100-L16,1),100-L16))","v":""}]
["# 4",null,{"$f":"IF(B17=\"\",\"\",(B17/B25)*(100))","v":""},{"$f":"IF(B17=\"\",\"\",IF(OR(ROUND(100-C17,0)<Calculations!AY23,ROUND(100-C17,0)>Calculations!AZ23),ROUND(100-C17,1),100-C17))","v":""},null,{"$f":"IF(E17=\"\",\"\",(E17/E25)*(100))","v":""},{"$f":"IF(E17=\"\",\"\",IF(OR(ROUND(100-F17,0)<Calculations!AY23,ROUND(100-F17,0)>Calculations!AZ23),ROUND(100-F17,1),100-F17))","v":""},null,{"$f":"IF(H17=\"\",\"\",(H17/H25)*(100))","v":""},{"$f":"IF(H17=\"\",\"\",IF(OR(ROUND(100-I17,0)<Calculations!AY23,ROUND(100-I17,0)>Calculations!AZ23),ROUND(100-I17,1),100-I17))","v":""},null,{"$f":"IF(K17=\"\",\"\",(K17/K25)*(100))","v":""},{"$f":"IF(K17=\"\",\"\",IF(OR(ROUND(100-L17,0)<Calculations!AY23,ROUND(100-L17,0)>Calculations!AZ23),ROUND(100-L17,1),100-L17))","v":""}]
["# 8",null,{"$f":"IF(B18=\"\",\"\",(B18/B25)*(100))","v":""},{"$f":"IF(B18=\"\",\"\",IF(OR(ROUND(100-C18,0)<Calculations!AY24,ROUND(100-C18,0)>Calculations!AZ24),ROUND(100-C18,1),100-C18))","v":""},null,{"$f":"IF(E18=\"\",\"\",(E18/E25)*(100))","v":""},{"$f":"IF(E18=\"\",\"\",IF(OR(ROUND(100-F18,0)<Calculations!AY24,ROUND(100-F18,0)>Calculations!AZ24),ROUND(100-F18,1),100-F18))","v":""},null,{"$f":"IF(H18=\"\",\"\",(H18/H25)*(100))","v":""},{"$f":"IF(H18=\"\",\"\",IF(OR(ROUND(100-I18,0)<Calculations!AY24,ROUND(100-I18,0)>Calculations!AZ24),ROUND(100-I18,1),100-I18))","v":""},null,{"$f":"IF(K18=\"\",\"\",(K18/K25)*(100))","v":""},{"$f":"IF(K18=\"\",\"\",IF(OR(ROUND(100-L18,0)<Calculations!AY24,ROUND(100-L18,0)>Calculations!AZ24),ROUND(100-L18,1),100-L18))","v":""}]
["# 16",null,{"$f":"IF(B19=\"\",\"\",(B19/B25)*(100))","v":""},{"$f":"IF(B19=\"\",\"\",IF(OR(ROUND(100-C19,0)<Calculations!AY25,ROUND(100-C19,0)>Calculations!AZ25),ROUND(100-C19,1),100-C19))","v":""},null,{"$f":"IF(E19=\"\",\"\",(E19/E25)*(100))","v":""},{"$f":"IF(E19=\"\",\"\",IF(OR(ROUND(100-F19,0)<Calculations!AY25,ROUND(100-F19,0)>Calculations!AZ25),ROUND(100-F19,1),100-F19))","v":""},null,{"$f":"IF(H19=\"\",\"\",(H19/H25)*(100))","v":""},{"$f":"IF(H19=\"\",\"\",IF(OR(ROUND(100-I19,0)<Calculations!AY25,ROUND(100-I19,0)>Calculations!AZ25),ROUND(100-I19,1),100-I19))","v":""},null,{"$f":"IF(K19=\"\",\"\",(K19/K25)*(100))","v":""},{"$f":"IF(K19=\"\",\"\",IF(OR(ROUND(100-L19,0)<Calculations!AY25,ROUND(100-L19,0)>Calculations!AZ25),ROUND(100-L19,1),100-L19))","v":""}]
["# 30",null,{"$f":"IF(B20=\"\",\"\",(B20/B25)*(100))","v":""},{"$f":"IF(B20=\"\",\"\",IF(OR(ROUND(100-C20,0)<Calculations!AY26,ROUND(100-C20,0)>Calculations!AZ26),ROUND(100-C20,1),100-C20))","v":""},null,{"$f":"IF(E20=\"\",\"\",(E20/E25)*(100))","v":""},{"$f":"IF(E20=\"\",\"\",IF(OR(ROUND(100-F20,0)<Calculations!AY26,ROUND(100-F20,0)>Calculations!AZ26),ROUND(100-F20,1),100-F20))","v":""},null,{"$f":"IF(H20=\"\",\"\",(H20/H25)*(100))","v":""},{"$f":"IF(H20=\"\",\"\",IF(OR(ROUND(100-I20,0)<Calculations!AY26,ROUND(100-I20,0)>Calculations!AZ26),ROUND(100-I20,1),100-I20))","v":""},null,{"$f":"IF(K20=\"\",\"\",(K20/K25)*(100))","v":""},{"$f":"IF(K20=\"\",\"\",IF(OR(ROUND(100-L20,0)<Calculations!AY26,ROUND(100-L20,0)>Calculations!AZ26),ROUND(100-L20,1),100-L20))","v":""}]
["# 50",null,{"$f":"IF(B21=\"\",\"\",(B21/B25)*(100))","v":""},{"$f":"IF(B21=\"\",\"\",IF(OR(ROUND(100-C21,0)<Calculations!AY27,ROUND(100-C21,0)>Calculations!AZ27),ROUND(100-C21,1),100-C21))","v":""},null,{"$f":"IF(E21=\"\",\"\",(E21/E25)*(100))","v":""},{"$f":"IF(E21=\"\",\"\",IF(OR(ROUND(100-F21,0)<Calculations!AY27,ROUND(100-F21,0)>Calculations!AZ27),ROUND(100-F21,1),100-F21))","v":""},null,{"$f":"IF(H21=\"\",\"\",(H21/H25)*(100))","v":""},{"$f":"IF(H21=\"\",\"\",IF(OR(ROUND(100-I21,0)<Calculations!AY27,ROUND(100-I21,0)>Calculations!AZ27),ROUND(100-I21,1),100-I21))","v":""},null,{"$f":"IF(K21=\"\",\"\",(K21/K25)*(100))","v":""},{"$f":"IF(K21=\"\",\"\",IF(OR(ROUND(100-L21,0)<Calculations!AY27,ROUND(100-L21,0)>Calculations!AZ27),ROUND(100-L21,1),100-L21))","v":""}]
["# 100",null,{"$f":"IF(B22=\"\",\"\",(B22/B25)*(100))","v":""},{"$f":"IF(B22=\"\",\"\",IF(OR(ROUND(100-C22,0)<Calculations!AY28,ROUND(100-C22,0)>Calculations!AZ28),ROUND(100-C22,1),100-C22))","v":""},null,{"$f":"IF(E22=\"\",\"\",(E22/E25)*(100))","v":""},{"$f":"IF(E22=\"\",\"\",IF(OR(ROUND(100-F22,0)<Calculations!AY28,ROUND(100-F22,0)>Calculations!AZ28),ROUND(100-F22,1),100-F22))","v":""},null,{"$f":"IF(H22=\"\",\"\",(H22/H25)*(100))","v":""},{"$f":"IF(H22=\"\",\"\",IF(OR(ROUND(100-I22,0)<Calculations!AY28,ROUND(100-I22,0)>Calculations!AZ28),ROUND(100-I22,1),100-I22))","v":""},null,{"$f":"IF(K22=\"\",\"\",(K22/K25)*(100))","v":""},{"$f":"IF(K22=\"\",\"\",IF(OR(ROUND(100-L22,0)<Calculations!AY28,ROUND(100-L22,0)>Calculations!AZ28),ROUND(100-L22,1),100-L22))","v":""}]
["# 200",null,{"$f":"IF(B23=\"\",\"\",(B23/B25)*(100))","v":""},{"$f":"IF(B23=\"\",\"\",IF(OR(ROUND(100-C23,0)<Calculations!AY29,ROUND(100-C23,0)>Calculations!AZ29),ROUND(100-C23,1),100-C23))","v":""},null,{"$f":"IF(E23=\"\",\"\",(E23/E25)*(100))","v":""},{"$f":"IF(E23=\"\",\"\",IF(OR(ROUND(100-F23,0)<Calculations!AY29,ROUND(100-F23,0)>Calculations!AZ29),ROUND(100-F23,1),100-F23))","v":""},null,{"$f":"IF(H23=\"\",\"\",(H23/H25)*(100))","v":""},{"$f":"IF(H23=\"\",\"\",IF(OR(ROUND(100-I23,0)<Calculations!AY29,ROUND(100-I23,0)>Calculations!AZ29),ROUND(100-I23,1),100-I23))","v":""},null,{"$f":"IF(K23=\"\",\"\",(K23/K25)*(100))","v":""},{"$f":"IF(K23=\"\",\"\",IF(OR(ROUND(100-L23,0)<Calculations!AY29,ROUND(100-L23,0)>Calculations!AZ29),ROUND(100-L23,1),100-L23))","v":""}]
["Pan",null,{"$f":"IF(B24=\"\",\"\",(B24/B25)*(100))","v":""},null,null,{"$f":"IF(E24=\"\",\"\",(E24/E25)*(100))","v":""},null,null,{"$f":"IF(H24=\"\",\"\",(H24/H25)*(100))","v":""},null,null,{"$f":"IF(K24=\"\",\"\",(K24/K25)*(100))","v":""}]
["Total"]
[]
[]
[]
[]
[]
[]
[]
[null,"Act. % AC for Accept.:",null,{"$f":"IF(D34=\"\",\"\",D34-Superpave!G48)","v":""},"Act. % AC for Accept.:",null,{"$f":"IF(G34=\"\",\"\",G34-Superpave!H48)","v":""},"Act. % AC for Accept.:",null,{"$f":"IF(J34=\"\",\"\",J34-Superpave!I48)","v":""},"Act. % AC for Accept.:",null,{"$f":"IF(M34=\"\",\"\",M34-Superpave!J48)","v":""}]
[null,"% AC by Back-Calc. =",null,{"$f":"IF(AND(Calculations!J1>=1,Superpave!I14<>\"\"),(1.03*(Superpave!J8-Superpave!I14))/(Superpave!I14*(Superpave!J8-1.03))*100,\"\")","v":""},"% AC by Back-Calc. =",null,{"$f":"IF(AND(Calculations!J1>=1,Superpave!I20<>\"\"),(1.03*(Superpave!J8-Superpave!I20))/(Superpave!I20*(Superpave!J8-1.03))*100,\"\")","v":""},"% AC by Back-Calc. =",null,{"$f":"IF(AND(Calculations!J1>=1,Superpave!I26<>\"\"),(1.03*(Superpave!J8-Superpave!I26))/(Superpave!I26*(Superpave!J8-1.03))*100,\"\")","v":""},"% AC by Back-Calc. =",null,{"$f":"IF(AND(Calculations!J1>=1,Superpave!I32<>\"\"),(1.03*(Superpave!J8-Superpave!I32))/(Superpave!I32*(Superpave!J8-1.03))*100,\"\")","v":""}]
[null,{"$f":"IF(OR(Calculations!J1=7,Calculations!J1=8,Calculations!J1=13),\"Fineness Modulus =\",\"\")","v":""},null,{"$f":"IF(AND(B35<>\"\",B24=\"\"),\"\",IF(B35=\"\",\"\",SUM(C17:C22)/100))","v":""},{"$f":"IF(OR(Calculations!J1=7,Calculations!J1=8,Calculations!J1=13),\"Fineness Modulus =\",\"\")","v":""},null,{"$f":"IF(AND(E35<>\"\",E25=\"\"),\"\",IF(E35=\"\",\"\",SUM(F17:F22)/100))","v":""},{"$f":"IF(OR(Calculations!J1=7,Calculations!J1=8,Calculations!J1=13),\"Fineness Modulus =\",\"\")","v":""},null,{"$f":"IF(AND(H35<>\"\",H25=\"\"),\"\",IF(H35=\"\",\"\",SUM(I17:I22)/100))","v":""},{"$f":"IF(OR(Calculations!J1=7,Calculations!J1=8,Calculations!J1=13),\"Fineness Modulus =\",\"\")","v":""},null,{"$f":"IF(AND(K35<>\"\",K25=\"\"),\"\",IF(K35=\"\",\"\",SUM(L17:L22)/100))","v":""}]

{"sheet":"Control Charts","index":8,"n_rows":0,"n_cols":0,"rows_kept":0,"cut":false,"hidden":true,"merged":[]}

{"sheet":"Comments","index":9,"n_rows":2,"n_cols":1,"rows_kept":2,"cut":false,"hidden":false,"merged":[]}
["COMMENTS"]
["Please include any comments concerning Volumetric Properties or Densities for the subject mixture."]

{"sheet":"Accept. Grad. # 1","index":10,"n_rows":46,"n_cols":9,"rows_kept":46,"cut":false,"hidden":true,"merged":[]}
[]
["Sample ID #:",null,{"$f":"IF('Pay Values'!B3=\"\",\"\",'Pay Values'!B3)","v":""},null,"Inspectors ID # :",null," "]
["PIN #:",null,{"$f":"IF('Pay Values'!B4=\"\",\"\",'Pay Values'!B4)","v":""},null,"Inspectors Name:",null," "]
["Type Mixture:",null,{"$f":"IF('Pay Values'!B5=\"\",\"\",'Pay Values'!B5)","v":""},null,"Producer & Location:",null,{"$f":"IF('Pay Values'!C6=\"\",\"\",'Pay Values'!C6)","v":{"$error":"#N/A"}}]
[]
["Sieve","Target","Acceptance","Check Test","Sublot # 1 ","Average","Deviation","Pay"]
["Size","JMF","Test Sublot # 1","Sublot # 1","Verification","Test Value","from JMF","Factor"]
["2 \"",null,{"$f":"IF(OR(Calculations!$J$1=7,Calculations!$J$1=8,Calculations!$J$1=13,Calculations!$H$13=2,Gradation!D10=\"\"),\"\",IF(OR(Gradation!D10<Calculations!AY16,Gradation!D10>Calculations!AZ16),CONCATENATE(\"* \",ROUND(Gradation!D10,0)),Gradation!D10))","v":""},{"$f":"IF(OR(Calculations!$J$1=7,Calculations!$J$1=8,Calculations!$J$1=13,Calculations!$H$13=2),\"\",IF(D27=\"\",\"\",ROUND(D27,0)))","v":""},{"$f":"IF(OR(Calculations!$J$1=7,Calculations!$J$1=8,Calculations!$J$1=13,Calculations!$H$13=2),\"\",IF('Super Verify'!$B$5=1,'Super Verify'!D33,IF('Super Verify'!$B$12=1,'Super Verify'!G33,\"\")))","v":""},{"$f":"IF(C8=\"\",\"\",IF(LEFT(C8,1)=\"*\",AVERAGE(VALUE(MID(C8,3,LEN(C8))),D8,E8),AVERAGE(C8:E8)))","v":""},{"$f":"IF(F8=\"\",\"\",ABS(B8-F8))","v":""},{"$f":"IF(G8=\"\",\"\",IF(OR(ROUND(ABS(G8),1)<=13,LEFT(C8,1)<>\"*\"),100,IF(ROUND(ABS(G8),1)<=14,98,IF(ROUND(ABS(G8),1)<=16,95,IF(ROUND(ABS(G8),1)<=20,90,IF(ROUND(ABS(G8),1)<=23,85,75))))))","v":""}]
["1 1/2 \"",null,{"$f":"IF(OR(Calculations!$J$1=7,Calculations!$J$1=8,Calculations!$J$1=13,Calculations!$H$13=2,Gradation!D11=\"\"),\"\",IF(OR(Gradation!D11<Calculations!AY17,Gradation!D11>Calculations!AZ17),CONCATENATE(\"* \",ROUND(Gradation!D11,0)),Gradation!D11))","v":""},{"$f":"IF(OR(Calculations!$J$1=7,Calculations!$J$1=8,Calculations!$J$1=13,Calculations!$H$13=2),\"\",IF(D28=\"\",\"\",ROUND(D28,0)))","v":""},{"$f":"IF(OR(Calculations!$J$1=7,Calculations!$J$1=8,Calculations!$J$1=13,Calculations!$H$13=2),\"\",IF('Super Verify'!$B$5=1,'Super Verify'!D34,IF('Super Verify'!$B$12=1,'Super Verify'!G34,\"\")))","v":""},"","",{"$f":"IF(G9=\"\",\"\",IF(OR(ROUND(ABS(G9),1)<=13,LEFT(C9,1)<>\"*\"),100,IF(ROUND(ABS(G9),1)<=14,98,IF(ROUND(ABS(G9),1)<=16,95,IF(ROUND(ABS(G9),1)<=20,90,IF(ROUND(ABS(G9),1)<=23,85,75))))))","v":""}]
["1 \"",null,{"$f":"IF(OR(Calculations!$J$1=7,Calculations!$J$1=8,Calculations!$J$1=13,Calculations!$H$13=2,Gradation!D12=\"\"),\"\",IF(OR(Gradation!D12<Calculations!AY18,Gradation!D12>Calculations!AZ18),CONCATENATE(\"* \",ROUND(Gradation!D12,0)),Gradation!D12))","v":""},{"$f":"IF(OR(Calculations!$J$1=7,Calculations!$J$1=8,Calculations!$J$1=13,Calculations!$H$13=2),\"\",IF(D29=\"\",\"\",ROUND(D29,0)))","v":""},{"$f":"IF(OR(Calculations!$J$1=7,Calculations!$J$1=8,Calculations!$J$1=13,Calculations!$H$13=2),\"\",IF('Super Verify'!$B$5=1,'Super Verify'!D35,IF('Super Verify'!$B$12=1,'Super Verify'!G35,\"\")))","v":""},"","",{"$f":"IF(G10=\"\",\"\",IF(OR(ROUND(ABS(G10),1)<=9,LEFT(C10,1)<>\"*\"),100,IF(ROUND(ABS(G10),1)<=10,98,IF(ROUND(ABS(G10),1)<=12,95,IF(ROUND(ABS(G10),1)<=14,90,IF(ROUND(ABS(G10),1)<=16,85,75))))))","v":""}]
["3/4 \"",null,{"$f":"IF(OR(Calculations!$J$1=7,Calculations!$J$1=8,Calculations!$J$1=13,Calculations!$H$13=2,Gradation!D13=\"\"),\"\",IF(OR(Gradation!D13<Calculations!AY19,Gradation!D13>Calculations!AZ19),CONCATENATE(\"* \",ROUND(Gradation!D13,0)),Gradation!D13))","v":""},{"$f":"IF(OR(Calculations!$J$1=7,Calculations!$J$1=8,Calculations!$J$1=13,Calculations!$H$13=2),\"\",IF(D30=\"\",\"\",ROUND(D30,0)))","v":""},{"$f":"IF(OR(Calculations!$J$1=7,Calculations!$J$1=8,Calculations!$J$1=13,Calculations!$H$13=2),\"\",IF('Super Verify'!$B$5=1,'Super Verify'!D36,IF('Super Verify'!$B$12=1,'Super Verify'!G36,\"\")))","v":""},"","",{"$f":"IF(G11=\"\",\"\",IF(OR(ROUND(ABS(G11),1)<=9,LEFT(C11,1)<>\"*\"),100,IF(ROUND(ABS(G11),1)<=10,98,IF(ROUND(ABS(G11),1)<=12,95,IF(ROUND(ABS(G11),1)<=14,90,IF(ROUND(ABS(G11),1)<=16,85,75))))))","v":""}]
["1/2 \" ",null,{"$f":"IF(OR(Calculations!$J$1=7,Calculations!$J$1=8,Calculations!$J$1=13,Calculations!$H$13=2,Gradation!D14=\"\"),\"\",IF(OR(Gradation!D14<Calculations!AY20,Gradation!D14>Calculations!AZ20),CONCATENATE(\"* \",ROUND(Gradation!D14,0)),Gradation!D14))","v":""},{"$f":"IF(OR(Calculations!$J$1=7,Calculations!$J$1=8,Calculations!$J$1=13,Calculations!$H$13=2),\"\",IF(D31=\"\",\"\",ROUND(D31,0)))","v":""},{"$f":"IF(OR(Calculations!$J$1=7,Calculations!$J$1=8,Calculations!$J$1=13,Calculations!$H$13=2),\"\",IF('Super Verify'!$B$5=1,'Super Verify'!D37,IF('Super Verify'!$B$12=1,'Super Verify'!G37,\"\")))","v":""},"","",{"$f":"IF(G12=\"\",\"\",IF(OR(ROUND(ABS(G12),1)<=9,LEFT(C12,1)<>\"*\"),100,IF(ROUND(ABS(G12),1)<=10,98,IF(ROUND(ABS(G12),1)<=12,95,IF(ROUND(ABS(G12),1)<=14,90,IF(ROUND(ABS(G12),1)<=16,85,75))))))","v":""}]
["3/8 \"",null,{"$f":"IF(OR(Calculations!$J$1=7,Calculations!$J$1=8,Calculations!$J$1=13,Calculations!$H$13=2,Gradation!D15=\"\"),\"\",IF(OR(Gradation!D15<Calculations!AY21,Gradation!D15>Calculations!AZ21),CONCATENATE(\"* \",ROUND(Gradation!D15,0)),Gradation!D15))","v":""},{"$f":"IF(OR(Calculations!$J$1=7,Calculations!$J$1=8,Calculations!$J$1=13,Calculations!$H$13=2),\"\",IF(D32=\"\",\"\",ROUND(D32,0)))","v":""},{"$f":"IF(OR(Calculations!$J$1=7,Calculations!$J$1=8,Calculations!$J$1=13,Calculations!$H$13=2),\"\",IF('Super Verify'!$B$5=1,'Super Verify'!D38,IF('Super Verify'!$B$12=1,'Super Verify'!G38,\"\")))","v":""},"","",{"$f":"IF(G13=\"\",\"\",IF(OR(ROUND(ABS(G13),1)<=8,LEFT(C13,1)<>\"*\"),100,IF(ROUND(ABS(G13),1)<=9,98,IF(ROUND(ABS(G13),1)<=10,95,IF(ROUND(ABS(G13),1)<=12,90,IF(ROUND(ABS(G13),1)<=14,85,75))))))","v":""}]
["# 4",null,{"$f":"IF(OR(Calculations!$J$1=7,Calculations!$J$1=8,Calculations!$J$1=13,Calculations!$H$13=2,Gradation!D17=\"\"),\"\",IF(OR(Gradation!D17<Calculations!AY23,Gradation!D17>Calculations!AZ23),CONCATENATE(\"* \",ROUND(Gradation!D17,0)),Gradation!D17))","v":""},{"$f":"IF(OR(Calculations!$J$1=7,Calculations!$J$1=8,Calculations!$J$1=13,Calculations!$H$13=2),\"\",IF(D33=\"\",\"\",ROUND(D33,0)))","v":""},{"$f":"IF(OR(Calculations!$J$1=7,Calculations!$J$1=8,Calculations!$J$1=13,Calculations!$H$13=2),\"\",IF('Super Verify'!$B$5=1,'Super Verify'!D40,IF('Super Verify'!$B$12=1,'Super Verify'!G40,\"\")))","v":""},{"$f":"IF(C14=\"\",\"\",IF(LEFT(C14,1)=\"*\",AVERAGE(VALUE(MID(C14,3,LEN(C14))),D14,E14),AVERAGE(C14:E14)))","v":""},"",{"$f":"IF(G14=\"\",\"\",IF(OR(ROUND(ABS(G14),1)<=8,LEFT(C14,1)<>\"*\"),100,IF(ROUND(ABS(G14),1)<=9,98,IF(ROUND(ABS(G14),1)<=10,95,IF(ROUND(ABS(G14),1)<=12,90,IF(ROUND(ABS(G14),1)<=14,85,75))))))","v":""}]
["# 8",null,{"$f":"IF(OR(Calculations!$J$1=7,Calculations!$J$1=8,Calculations!$J$1=13,Calculations!$H$13=2,Gradation!D18=\"\"),\"\",IF(OR(Gradation!D18<Calculations!AY24,Gradation!D18>Calculations!AZ24),CONCATENATE(\"* \",ROUND(Gradation!D18,0)),Gradation!D18))","v":""},{"$f":"IF(OR(Calculations!$J$1=7,Calculations!$J$1=8,Calculations!$J$1=13,Calculations!$H$13=2),\"\",IF(D34=\"\",\"\",ROUND(D34,0)))","v":""},{"$f":"IF(OR(Calculations!$J$1=7,Calculations!$J$1=8,Calculations!$J$1=13,Calculations!$H$13=2),\"\",IF('Super Verify'!$B$5=1,'Super Verify'!D41,IF('Super Verify'!$B$12=1,'Super Verify'!G41,\"\")))","v":""},"","",{"$f":"IF(G15=\"\",\"\",IF(OR(ROUND(ABS(G15),1)<=8,LEFT(C15,1)<>\"*\"),100,IF(ROUND(ABS(G15),1)<=9,98,IF(ROUND(ABS(G15),1)<=10,95,IF(ROUND(ABS(G15),1)<=12,90,IF(ROUND(ABS(G15),1)<=14,85,75))))))","v":""}]
["# 16",null,{"$f":"IF(OR(Calculations!$J$1=7,Calculations!$J$1=8,Calculations!$J$1=13,Calculations!$H$13=2,Gradation!D19=\"\"),\"\",IF(OR(Gradation!D19<Calculations!AY25,Gradation!D19>Calculations!AZ25),CONCATENATE(\"* \",ROUND(Gradation!D19,0)),Gradation!D19))","v":""},{"$f":"IF(OR(Calculations!$J$1=7,Calculations!$J$1=8,Calculations!$J$1=13,Calculations!$H$13=2),\"\",IF(D35=\"\",\"\",ROUND(D35,0)))","v":""},{"$f":"IF(OR(Calculations!$J$1=7,Calculations!$J$1=8,Calculations!$J$1=13,Calculations!$H$13=2),\"\",IF('Super Verify'!$B$5=1,'Super Verify'!D42,IF('Super Verify'!$B$12=1,'Super Verify'!G42,\"\")))","v":""},"","",{"$f":"IF(G16=\"\",\"\",IF(OR(ROUND(ABS(G16),1)<=8,LEFT(C16,1)<>\"*\"),100,IF(ROUND(ABS(G16),1)<=9,98,IF(ROUND(ABS(G16),1)<=10,95,IF(ROUND(ABS(G16),1)<=12,90,IF(ROUND(ABS(G16),1)<=14,85,75))))))","v":""}]
["# 30",null,{"$f":"IF(OR(Calculations!$J$1=7,Calculations!$J$1=8,Calculations!$J$1=13,Calculations!$H$13=2,Gradation!D20=\"\"),\"\",IF(OR(Gradation!D20<Calculations!AY26,Gradation!D20>Calculations!AZ26),CONCATENATE(\"* \",ROUND(Gradation!D20,0)),Gradation!D20))","v":""},{"$f":"IF(OR(Calculations!$J$1=7,Calculations!$J$1=8,Calculations!$J$1=13,Calculations!$H$13=2),\"\",IF(D36=\"\",\"\",ROUND(D36,0)))","v":""},{"$f":"IF(OR(Calculations!$J$1=7,Calculations!$J$1=8,Calculations!$J$1=13,Calculations!$H$13=2),\"\",IF('Super Verify'!$B$5=1,'Super Verify'!D43,IF('Super Verify'!$B$12=1,'Super Verify'!G43,\"\")))","v":""},"","",{"$f":"IF(G17=\"\",\"\",IF(OR(ROUND(ABS(G17),1)<=8,LEFT(C17,1)<>\"*\"),100,IF(ROUND(ABS(G17),1)<=9,98,IF(ROUND(ABS(G17),1)<=10,95,IF(ROUND(ABS(G17),1)<=12,90,IF(ROUND(ABS(G17),1)<=14,85,75))))))","v":""}]
["# 50",null,{"$f":"IF(OR(Calculations!$J$1=7,Calculations!$J$1=8,Calculations!$J$1=13,Calculations!$H$13=2,Gradation!D21=\"\"),\"\",IF(OR(Gradation!D21<Calculations!AY27,Gradation!D21>Calculations!AZ27),CONCATENATE(\"* \",ROUND(Gradation!D21,0)),Gradation!D21))","v":""},{"$f":"IF(OR(Calculations!$J$1=7,Calculations!$J$1=8,Calculations!$J$1=13,Calculations!$H$13=2),\"\",IF(D37=\"\",\"\",ROUND(D37,0)))","v":""},{"$f":"IF(OR(Calculations!$J$1=7,Calculations!$J$1=8,Calculations!$J$1=13,Calculations!$H$13=2),\"\",IF('Super Verify'!$B$5=1,'Super Verify'!D44,IF('Super Verify'!$B$12=1,'Super Verify'!G44,\"\")))","v":""},"","",{"$f":"IF(G18=\"\",\"\",IF(OR(ROUND(ABS(G18),1)<=6,LEFT(C18,1)<>\"*\"),100,IF(ROUND(ABS(G18),1)<=7,98,IF(ROUND(ABS(G18),1)<=8,95,IF(ROUND(ABS(G18),1)<=9,90,IF(ROUND(ABS(G18),1)<=10,85,75))))))","v":""}]
["# 100",null,{"$f":"IF(OR(Calculations!$J$1=7,Calculations!$J$1=8,Calculations!$J$1=13,Calculations!$H$13=2,Gradation!D22=\"\"),\"\",IF(OR(Gradation!D22<Calculations!AY28,Gradation!D22>Calculations!AZ28),CONCATENATE(\"* \",ROUND(Gradation!D22,0)),Gradation!D22))","v":""},{"$f":"IF(OR(Calculations!$J$1=7,Calculations!$J$1=8,Calculations!$J$1=13,Calculations!$H$13=2),\"\",IF(D38=\"\",\"\",ROUND(D38,0)))","v":""},{"$f":"IF(OR(Calculations!$J$1=7,Calculations!$J$1=8,Calculations!$J$1=13,Calculations!$H$13=2),\"\",IF('Super Verify'!$B$5=1,'Super Verify'!D45,IF('Super Verify'!$B$12=1,'Super Verify'!G45,\"\")))","v":""},"","",{"$f":"IF(G19=\"\",\"\",IF(OR(ROUND(ABS(G19),1)<=3,LEFT(C19,1)<>\"*\"),100,IF(ROUND(ABS(G19),1)<=4,95,IF(ROUND(ABS(G19),1)<=5,90,75))))","v":""}]
["# 200",null,{"$f":"IF(OR(Calculations!$J$1=7,Calculations!$J$1=8,Calculations!$J$1=13,Calculations!$H$13=2,Gradation!D23=\"\"),\"\",IF(OR(Gradation!D23<Calculations!AY29,Gradation!D23>Calculations!AZ29),CONCATENATE(\"* \",ROUND(Gradation!D23,0)),Gradation!D23))","v":""},{"$f":"IF(OR(Calculations!$J$1=7,Calculations!$J$1=8,Calculations!$J$1=13,Calculations!$H$13=2),\"\",IF(D39=\"\",\"\",ROUND(D39,0)))","v":""},{"$f":"IF(OR(Calculations!$J$1=7,Calculations!$J$1=8,Calculations!$J$1=13,Calculations!$H$13=2),\"\",IF('Super Verify'!$B$5=1,'Super Verify'!D46,IF('Super Verify'!$B$12=1,'Super Verify'!G46,\"\")))","v":""},{"$f":"IF(C20=\"\",\"\",Calculations!Q124)","v":""},"",{"$f":"IF(G20=\"\",\"\",IF(OR(ROUND(ABS(G20),1)<=2,LEFT(C20,1)<>\"*\"),100,IF(ROUND(ABS(G20),1)<=2.5,98,IF(ROUND(ABS(G20),1)<=3,95,IF(ROUND(ABS(G20),1)<=3.5,85,75)))))","v":""}]
["% AC",null,{"$f":"IF(AND(Calculations!H13=1,Gradation!D33<>\"\"),Gradation!D33,IF(AND(Calculations!H13=1,Gradation!D33=\"\"),Gradation!D34,\"\"))","v":""},{"$f":"IF(AND(Calculations!H13=1,I30<>\"\"),I30,IF(AND(Calculations!H13=1,I30=\"\"),I32,\"\"))","v":""},{"$f":"IF(Calculations!H13=2,\"\",IF(AND('Super Verify'!B5=1,'Super Verify'!J27<>\"\"),'Super Verify'!J27,IF(AND('Super Verify'!B5=1,'Super Verify'!J27=\"\"),'Super Verify'!J28,IF(AND('Super Verify'!B12=1,'Super Verify'!M27<>\"\"),'Super Verify'!M27,IF(AND('Super Verify'!B12=1,'Super Verify'!M27=\"\"),'Super Verify'!M28,\"\")))))","v":""},{"$f":"IF(C21=\"\",\"\",(AVERAGE(C21:E21)))","v":""},"",{"$f":"IF(G21=\"\",\"\",IF(ROUND(ABS(G21),1)<=0.5,100,IF(ROUND(ABS(G21),1)=0.6,98,IF(ROUND(ABS(G21),1)=0.7,90,IF(ROUND(ABS(G21),1)=0.8,85,75)))))","v":""}]
["F.M.",{"$f":"IF(OR(Calculations!J1=7,Calculations!J1=8,Calculations!J1=13),Calculations!D121,\"\")","v":""},{"$f":"Gradation!D35","v":""},{"$f":"IF(C38=\"\",\"\",IF(OR(Calculations!J1=7,Calculations!J1=8,Calculations!J1=13),SUM(C33:C38)/100,\"\"))","v":""},{"$f":"IF(B22=\"\",\"\",IF('Super Verify'!B5=1,'Super Verify'!D49,IF('Super Verify'!B12=1,'Super Verify'!G49,\"\")))","v":""},{"$f":"IF(AND(C22=\"\",D22=\"\",E22=\"\"),\"\",(AVERAGE(C22:E22)))","v":""},{"$f":"IF(OR(B22=\"\",F22=\"\"),\"\",ABS(F22-B22))","v":""},{"$f":"IF(G22=\"\",\"\",IF(ROUND(ABS(G22),2)<=0.3,100,IF(ROUND(ABS(G22),2)<=0.34,98,IF(ROUND(ABS(G22),2)<=0.39,95,IF(ROUND(ABS(G22),2)<=0.46,90,IF(ROUND(ABS(G22),2)<=0.55,85,75))))))","v":""}]
[]
[null,"Check Test Gradation",null,null,null,null,"Binder Content "]
["Sieve","Grams","Percent","Percent"]
["Size","Retained","Retained","Passing"]
["2 \"",null,{"$f":"IF(B27=\"\",\"\",((B27/$B$41)*100))","v":""},{"$f":"IF(B27=\"\",\"\",(100-C27))","v":""}]
["1 1/2 \"",null,{"$f":"IF(B28=\"\",\"\",((B28/$B$41)*100))","v":""},""]
["1 \"",null,"",""]
["3/4 \"",null,"",""]
["1/2 \" ",null,"","",null,null,"As Tested % AC:"]
["3/8 \"",null,"","",null,null,"Act. % AC for Verif.:",null,{"$f":"IF(I31=\"\",\"\",I31-'Accept. Grad. # 1'!G46)","v":""}]
["# 4",null,"","",null,null,"% AC by Back-Calc. =",null,{"$f":"IF(I42=\"\",\"\",(1.03*(Superpave!J8-I42))/(I42*(Superpave!J8-1.03))*100)","v":""}]
["# 8",null,"",""]
["# 16",null,"","",null,null,null,"Test #1","Test #2"]
["# 30",null,"","",null,"Wt. of Mix"]
["# 50",null,"","",null,"Cailbration"]
["# 100",null,"","",null,"Wt. of Mix + Calibrat.",null,{"$f":"IF(H37=\"\",\"\",H36+H37)","v":""},{"$f":"IF(I37=\"\",\"\",I36+I37)","v":""}]
["# 200",null,"","",null,"Final Wt."]
["Pan",null,"",null,null," Absorbed Water"]
["Total",null,null,null,null,"MSG",null,{"$f":"IF(H39=\"\",\"\",H36/(H38-H39+H40))","v":""},{"$f":"IF(I39=\"\",\"\",I36/(I38-I39+I40))","v":""}]
[null,null,null,null,null,null,null,"Avg. =",{"$f":"IF(ISERROR(AVERAGE(H41:I41)),\"\",AVERAGE(H41:I41))","v":""}]
[null,null,"Weight of Pan and Mixture before Drying"]
["Moisture Content",null,"Weight of Pan and Mixture after Drying"]
["of Mixture",null,"Weight of Pan"]
[null,null,"% Moisture in Mix",null,null,null,{"$f":"IF(G43=\"\",\"\",IF(G43-G45=0,0,(((G43-G45)-(G44-G45))/(G43-G45))*100))","v":""}]

{"sheet":"Accept. Grad. # 2","index":11,"n_rows":46,"n_cols":9,"rows_kept":46,"cut":false,"hidden":true,"merged":[]}
[]
["Sample ID #:",null,{"$f":"IF('Pay Values'!B3=\"\",\"\",'Pay Values'!B3)","v":""},null,"Inspectors ID # :",null," "]
["PIN #:",null,{"$f":"IF('Pay Values'!B4=\"\",\"\",'Pay Values'!B4)","v":""},null,"Inspectors Name:",null," "]
["Type Mixture:",null,{"$f":"IF('Pay Values'!B5=\"\",\"\",'Pay Values'!B5)","v":""},null,"Producer & Location:",null,{"$f":"IF('Pay Values'!C6=\"\",\"\",'Pay Values'!C6)","v":{"$error":"#N/A"}}]
[]
["Sieve","Target","Acceptance","Check Test","Sublot # 2","Average","Deviation","Pay"]
["Size","JMF","Test Sublot # 2","Sublot # 2","Verification","Test Value","from JMF","Factor"]
["2 \"",null,{"$f":"IF(OR(Calculations!$J$1=7,Calculations!$J$1=8,Calculations!$J$1=13,Calculations!$H$13=2,Gradation!G10=\"\"),\"\",IF(OR(Gradation!G10<Calculations!AY16,Gradation!G10>Calculations!AZ16),CONCATENATE(\"* \",ROUND(Gradation!G10,0)),Gradation!G10))","v":""},{"$f":"IF(OR(Calculations!$J$1=7,Calculations!$J$1=8,Calculations!$J$1=13,Calculations!$H$13=2),\"\",IF(D27=\"\",\"\",ROUND(D27,0)))","v":""},{"$f":"IF(OR(Calculations!$J$1=7,Calculations!$J$1=8,Calculations!$J$1=13,Calculations!$H$13=2),\"\",IF('Super Verify'!$B$5=2,'Super Verify'!D33,IF('Super Verify'!$B$12=2,'Super Verify'!G33,\"\")))","v":""},{"$f":"IF(C8=\"\",\"\",IF(LEFT(C8,1)=\"*\",AVERAGE(VALUE(MID(C8,3,LEN(C8))),D8,E8),AVERAGE(C8:E8)))","v":""},{"$f":"IF(F8=\"\",\"\",ABS(B8-F8))","v":""},{"$f":"IF(G8=\"\",\"\",IF(OR(ROUND(ABS(G8),1)<=13,LEFT(C8,1)<>\"*\"),100,IF(ROUND(ABS(G8),1)<=14,98,IF(ROUND(ABS(G8),1)<=16,95,IF(ROUND(ABS(G8),1)<=20,90,IF(ROUND(ABS(G8),1)<=23,85,75))))))","v":""}]
["1 1/2 \"",null,{"$f":"IF(OR(Calculations!$J$1=7,Calculations!$J$1=8,Calculations!$J$1=13,Calculations!$H$13=2,Gradation!G11=\"\"),\"\",IF(OR(Gradation!G11<Calculations!AY17,Gradation!G11>Calculations!AZ17),CONCATENATE(\"* \",ROUND(Gradation!G11,0)),Gradation!G11))","v":""},{"$f":"IF(OR(Calculations!$J$1=7,Calculations!$J$1=8,Calculations!$J$1=13,Calculations!$H$13=2),\"\",IF(D28=\"\",\"\",ROUND(D28,0)))","v":""},{"$f":"IF(OR(Calculations!$J$1=7,Calculations!$J$1=8,Calculations!$J$1=13,Calculations!$H$13=2),\"\",IF('Super Verify'!$B$5=2,'Super Verify'!D34,IF('Super Verify'!$B$12=2,'Super Verify'!G34,\"\")))","v":""},"","",{"$f":"IF(G9=\"\",\"\",IF(OR(ROUND(ABS(G9),1)<=13,LEFT(C9,1)<>\"*\"),100,IF(ROUND(ABS(G9),1)<=14,98,IF(ROUND(ABS(G9),1)<=16,95,IF(ROUND(ABS(G9),1)<=20,90,IF(ROUND(ABS(G9),1)<=23,85,75))))))","v":""}]
["1 \"",null,{"$f":"IF(OR(Calculations!$J$1=7,Calculations!$J$1=8,Calculations!$J$1=13,Calculations!$H$13=2,Gradation!G12=\"\"),\"\",IF(OR(Gradation!G12<Calculations!AY18,Gradation!G12>Calculations!AZ18),CONCATENATE(\"* \",ROUND(Gradation!G12,0)),Gradation!G12))","v":""},{"$f":"IF(OR(Calculations!$J$1=7,Calculations!$J$1=8,Calculations!$J$1=13,Calculations!$H$13=2),\"\",IF(D29=\"\",\"\",ROUND(D29,0)))","v":""},{"$f":"IF(OR(Calculations!$J$1=7,Calculations!$J$1=8,Calculations!$J$1=13,Calculations!$H$13=2),\"\",IF('Super Verify'!$B$5=2,'Super Verify'!D35,IF('Super Verify'!$B$12=2,'Super Verify'!G35,\"\")))","v":""},"","",{"$f":"IF(G10=\"\",\"\",IF(OR(ROUND(ABS(G10),1)<=9,LEFT(C10,1)<>\"*\"),100,IF(ROUND(ABS(G10),1)<=10,98,IF(ROUND(ABS(G10),1)<=12,95,IF(ROUND(ABS(G10),1)<=14,90,IF(ROUND(ABS(G10),1)<=16,85,75))))))","v":""}]
["3/4 \"",null,{"$f":"IF(OR(Calculations!$J$1=7,Calculations!$J$1=8,Calculations!$J$1=13,Calculations!$H$13=2,Gradation!G13=\"\"),\"\",IF(OR(Gradation!G13<Calculations!AY19,Gradation!G13>Calculations!AZ19),CONCATENATE(\"* \",ROUND(Gradation!G13,0)),Gradation!G13))","v":""},{"$f":"IF(OR(Calculations!$J$1=7,Calculations!$J$1=8,Calculations!$J$1=13,Calculations!$H$13=2),\"\",IF(D30=\"\",\"\",ROUND(D30,0)))","v":""},{"$f":"IF(OR(Calculations!$J$1=7,Calculations!$J$1=8,Calculations!$J$1=13,Calculations!$H$13=2),\"\",IF('Super Verify'!$B$5=2,'Super Verify'!D36,IF('Super Verify'!$B$12=2,'Super Verify'!G36,\"\")))","v":""},"","",{"$f":"IF(G11=\"\",\"\",IF(OR(ROUND(ABS(G11),1)<=9,LEFT(C11,1)<>\"*\"),100,IF(ROUND(ABS(G11),1)<=10,98,IF(ROUND(ABS(G11),1)<=12,95,IF(ROUND(ABS(G11),1)<=14,90,IF(ROUND(ABS(G11),1)<=16,85,75))))))","v":""}]
["1/2 \" ",null,{"$f":"IF(OR(Calculations!$J$1=7,Calculations!$J$1=8,Calculations!$J$1=13,Calculations!$H$13=2,Gradation!G14=\"\"),\"\",IF(OR(Gradation!G14<Calculations!AY20,Gradation!G14>Calculations!AZ20),CONCATENATE(\"* \",ROUND(Gradation!G14,0)),Gradation!G14))","v":""},{"$f":"IF(OR(Calculations!$J$1=7,Calculations!$J$1=8,Calculations!$J$1=13,Calculations!$H$13=2),\"\",IF(D31=\"\",\"\",ROUND(D31,0)))","v":""},{"$f":"IF(OR(Calculations!$J$1=7,Calculations!$J$1=8,Calculations!$J$1=13,Calculations!$H$13=2),\"\",IF('Super Verify'!$B$5=2,'Super Verify'!D37,IF('Super Verify'!$B$12=2,'Super Verify'!G37,\"\")))","v":""},"","",{"$f":"IF(G12=\"\",\"\",IF(OR(ROUND(ABS(G12),1)<=9,LEFT(C12,1)<>\"*\"),100,IF(ROUND(ABS(G12),1)<=10,98,IF(ROUND(ABS(G12),1)<=12,95,IF(ROUND(ABS(G12),1)<=14,90,IF(ROUND(ABS(G12),1)<=16,85,75))))))","v":""}]
["3/8 \"",null,{"$f":"IF(OR(Calculations!$J$1=7,Calculations!$J$1=8,Calculations!$J$1=13,Calculations!$H$13=2,Gradation!G15=\"\"),\"\",IF(OR(Gradation!G15<Calculations!AY21,Gradation!G15>Calculations!AZ21),CONCATENATE(\"* \",ROUND(Gradation!G15,0)),Gradation!G15))","v":""},{"$f":"IF(OR(Calculations!$J$1=7,Calculations!$J$1=8,Calculations!$J$1=13,Calculations!$H$13=2),\"\",IF(D32=\"\",\"\",ROUND(D32,0)))","v":""},{"$f":"IF(OR(Calculations!$J$1=7,Calculations!$J$1=8,Calculations!$J$1=13,Calculations!$H$13=2),\"\",IF('Super Verify'!$B$5=2,'Super Verify'!D38,IF('Super Verify'!$B$12=2,'Super Verify'!G38,\"\")))","v":""},"","",{"$f":"IF(G13=\"\",\"\",IF(OR(ROUND(ABS(G13),1)<=8,LEFT(C13,1)<>\"*\"),100,IF(ROUND(ABS(G13),1)<=9,98,IF(ROUND(ABS(G13),1)<=10,95,IF(ROUND(ABS(G13),1)<=12,90,IF(ROUND(ABS(G13),1)<=14,85,75))))))","v":""}]
["# 4",null,{"$f":"IF(OR(Calculations!$J$1=7,Calculations!$J$1=8,Calculations!$J$1=13,Calculations!$H$13=2,Gradation!G17=\"\"),\"\",IF(OR(Gradation!G17<Calculations!AY23,Gradation!G17>Calculations!AZ23),CONCATENATE(\"* \",ROUND(Gradation!G17,0)),Gradation!G17))","v":""},{"$f":"IF(OR(Calculations!$J$1=7,Calculations!$J$1=8,Calculations!$J$1=13,Calculations!$H$13=2),\"\",IF(D33=\"\",\"\",ROUND(D33,0)))","v":""},{"$f":"IF(OR(Calculations!$J$1=7,Calculations!$J$1=8,Calculations!$J$1=13,Calculations!$H$13=2),\"\",IF('Super Verify'!$B$5=2,'Super Verify'!D40,IF('Super Verify'!$B$12=2,'Super Verify'!G40,\"\")))","v":""},"","",{"$f":"IF(G14=\"\",\"\",IF(OR(ROUND(ABS(G14),1)<=8,LEFT(C14,1)<>\"*\"),100,IF(ROUND(ABS(G14),1)<=9,98,IF(ROUND(ABS(G14),1)<=10,95,IF(ROUND(ABS(G14),1)<=12,90,IF(ROUND(ABS(G14),1)<=14,85,75))))))","v":""}]
["# 8",null,{"$f":"IF(OR(Calculations!$J$1=7,Calculations!$J$1=8,Calculations!$J$1=13,Calculations!$H$13=2,Gradation!G18=\"\"),\"\",IF(OR(Gradation!G18<Calculations!AY24,Gradation!G18>Calculations!AZ24),CONCATENATE(\"* \",ROUND(Gradation!G18,0)),Gradation!G18))","v":""},{"$f":"IF(OR(Calculations!$J$1=7,Calculations!$J$1=8,Calculations!$J$1=13,Calculations!$H$13=2),\"\",IF(D34=\"\",\"\",ROUND(D34,0)))","v":""},{"$f":"IF(OR(Calculations!$J$1=7,Calculations!$J$1=8,Calculations!$J$1=13,Calculations!$H$13=2),\"\",IF('Super Verify'!$B$5=2,'Super Verify'!D41,IF('Super Verify'!$B$12=2,'Super Verify'!G41,\"\")))","v":""},"","",{"$f":"IF(G15=\"\",\"\",IF(OR(ROUND(ABS(G15),1)<=8,LEFT(C15,1)<>\"*\"),100,IF(ROUND(ABS(G15),1)<=9,98,IF(ROUND(ABS(G15),1)<=10,95,IF(ROUND(ABS(G15),1)<=12,90,IF(ROUND(ABS(G15),1)<=14,85,75))))))","v":""}]
["# 16",null,{"$f":"IF(OR(Calculations!$J$1=7,Calculations!$J$1=8,Calculations!$J$1=13,Calculations!$H$13=2,Gradation!G19=\"\"),\"\",IF(OR(Gradation!G19<Calculations!AY25,Gradation!G19>Calculations!AZ25),CONCATENATE(\"* \",ROUND(Gradation!G19,0)),Gradation!G19))","v":""},{"$f":"IF(OR(Calculations!$J$1=7,Calculations!$J$1=8,Calculations!$J$1=13,Calculations!$H$13=2),\"\",IF(D35=\"\",\"\",ROUND(D35,0)))","v":""},{"$f":"IF(OR(Calculations!$J$1=7,Calculations!$J$1=8,Calculations!$J$1=13,Calculations!$H$13=2),\"\",IF('Super Verify'!$B$5=2,'Super Verify'!D42,IF('Super Verify'!$B$12=2,'Super Verify'!G42,\"\")))","v":""},"","",{"$f":"IF(G16=\"\",\"\",IF(OR(ROUND(ABS(G16),1)<=8,LEFT(C16,1)<>\"*\"),100,IF(ROUND(ABS(G16),1)<=9,98,IF(ROUND(ABS(G16),1)<=10,95,IF(ROUND(ABS(G16),1)<=12,90,IF(ROUND(ABS(G16),1)<=14,85,75))))))","v":""}]
["# 30",null,{"$f":"IF(OR(Calculations!$J$1=7,Calculations!$J$1=8,Calculations!$J$1=13,Calculations!$H$13=2,Gradation!G20=\"\"),\"\",IF(OR(Gradation!G20<Calculations!AY26,Gradation!G20>Calculations!AZ26),CONCATENATE(\"* \",ROUND(Gradation!G20,0)),Gradation!G20))","v":""},{"$f":"IF(OR(Calculations!$J$1=7,Calculations!$J$1=8,Calculations!$J$1=13,Calculations!$H$13=2),\"\",IF(D36=\"\",\"\",ROUND(D36,0)))","v":""},{"$f":"IF(OR(Calculations!$J$1=7,Calculations!$J$1=8,Calculations!$J$1=13,Calculations!$H$13=2),\"\",IF('Super Verify'!$B$5=2,'Super Verify'!D43,IF('Super Verify'!$B$12=2,'Super Verify'!G43,\"\")))","v":""},"","",{"$f":"IF(G17=\"\",\"\",IF(OR(ROUND(ABS(G17),1)<=8,LEFT(C17,1)<>\"*\"),100,IF(ROUND(ABS(G17),1)<=9,98,IF(ROUND(ABS(G17),1)<=10,95,IF(ROUND(ABS(G17),1)<=12,90,IF(ROUND(ABS(G17),1)<=14,85,75))))))","v":""}]
["# 50",null,{"$f":"IF(OR(Calculations!$J$1=7,Calculations!$J$1=8,Calculations!$J$1=13,Calculations!$H$13=2,Gradation!G21=\"\"),\"\",IF(OR(Gradation!G21<Calculations!AY27,Gradation!G21>Calculations!AZ27),CONCATENATE(\"* \",ROUND(Gradation!G21,0)),Gradation!G21))","v":""},{"$f":"IF(OR(Calculations!$J$1=7,Calculations!$J$1=8,Calculations!$J$1=13,Calculations!$H$13=2),\"\",IF(D37=\"\",\"\",ROUND(D37,0)))","v":""},{"$f":"IF(OR(Calculations!$J$1=7,Calculations!$J$1=8,Calculations!$J$1=13,Calculations!$H$13=2),\"\",IF('Super Verify'!$B$5=2,'Super Verify'!D44,IF('Super Verify'!$B$12=2,'Super Verify'!G44,\"\")))","v":""},{"$f":"IF(C18=\"\",\"\",IF(LEFT(C18,1)=\"*\",AVERAGE(VALUE(MID(C18,3,LEN(C18))),D18,E18),AVERAGE(C18:E18)))","v":""},"",{"$f":"IF(G18=\"\",\"\",IF(OR(ROUND(ABS(G18),1)<=6,LEFT(C18,1)<>\"*\"),100,IF(ROUND(ABS(G18),1)<=7,98,IF(ROUND(ABS(G18),1)<=8,95,IF(ROUND(ABS(G18),1)<=9,90,IF(ROUND(ABS(G18),1)<=10,85,75))))))","v":""}]
["# 100",null,{"$f":"IF(OR(Calculations!$J$1=7,Calculations!$J$1=8,Calculations!$J$1=13,Calculations!$H$13=2,Gradation!G22=\"\"),\"\",IF(OR(Gradation!G22<Calculations!AY28,Gradation!G22>Calculations!AZ28),CONCATENATE(\"* \",ROUND(Gradation!G22,0)),Gradation!G22))","v":""},{"$f":"IF(OR(Calculations!$J$1=7,Calculations!$J$1=8,Calculations!$J$1=13,Calculations!$H$13=2),\"\",IF(D38=\"\",\"\",ROUND(D38,0)))","v":""},{"$f":"IF(OR(Calculations!$J$1=7,Calculations!$J$1=8,Calculations!$J$1=13,Calculations!$H$13=2),\"\",IF('Super Verify'!$B$5=2,'Super Verify'!D45,IF('Super Verify'!$B$12=2,'Super Verify'!G45,\"\")))","v":""},"","",{"$f":"IF(G19=\"\",\"\",IF(OR(ROUND(ABS(G19),1)<=3,LEFT(C19,1)<>\"*\"),100,IF(ROUND(ABS(G19),1)<=4,95,IF(ROUND(ABS(G19),1)<=5,90,75))))","v":""}]
["# 200",null,{"$f":"IF(OR(Calculations!$J$1=7,Calculations!$J$1=8,Calculations!$J$1=13,Calculations!$H$13=2,Gradation!G23=\"\"),\"\",IF(OR(Gradation!G23<Calculations!AY29,Gradation!G23>Calculations!AZ29),CONCATENATE(\"* \",ROUND(Gradation!G23,0)),Gradation!G23))","v":""},{"$f":"IF(OR(Calculations!$J$1=7,Calculations!$J$1=8,Calculations!$J$1=13,Calculations!$H$13=2),\"\",IF(D39=\"\",\"\",ROUND(D39,0)))","v":""},{"$f":"IF(OR(Calculations!$J$1=7,Calculations!$J$1=8,Calculations!$J$1=13,Calculations!$H$13=2),\"\",IF('Super Verify'!$B$5=2,'Super Verify'!D46,IF('Super Verify'!$B$12=2,'Super Verify'!G46,\"\")))","v":""},{"$f":"IF(C20=\"\",\"\",Calculations!Q125)","v":""},"",{"$f":"IF(G20=\"\",\"\",IF(OR(ROUND(ABS(G20),1)<=2,LEFT(C20,1)<>\"*\"),100,IF(ROUND(ABS(G20),1)<=2.5,98,IF(ROUND(ABS(G20),1)<=3,95,IF(ROUND(ABS(G20),1)<=3.5,85,75)))))","v":""}]
["% AC",null,{"$f":"IF(AND(Calculations!H13=1,Gradation!G33<>\"\"),Gradation!G33,IF(AND(Calculations!H13=1,Gradation!G33=\"\"),Gradation!G34,\"\"))","v":""},{"$f":"IF(AND(Calculations!H13=1,I32<>\"\"),I32,IF(AND(Calculations!H13=1,I32=\"\"),I33,\"\"))","v":""},{"$f":"IF(Calculations!H13=2,\"\",IF(AND('Super Verify'!B5=2,'Super Verify'!J27<>\"\"),'Super Verify'!J27,IF(AND('Super Verify'!B5=2,'Super Verify'!J27=\"\"),'Super Verify'!J28,IF(AND('Super Verify'!B12=2,'Super Verify'!M27<>\"\"),'Super Verify'!M27,IF(AND('Super Verify'!B12=2,'Super Verify'!M27=\"\"),'Super Verify'!M28,\"\")))))","v":""},{"$f":"IF(C21=\"\",\"\",(AVERAGE(C21:E21)))","v":""},"",{"$f":"IF(G21=\"\",\"\",IF(ROUND(ABS(G21),1)<=0.5,100,IF(ROUND(ABS(G21),1)=0.6,98,IF(ROUND(ABS(G21),1)=0.7,90,IF(ROUND(ABS(G21),1)=0.8,85,75)))))","v":""}]
["F.M.",{"$f":"IF(OR(Calculations!J1=7,Calculations!J1=8,Calculations!J1=13),Calculations!G121,\"\")","v":""},{"$f":"Gradation!G35","v":""},{"$f":"IF(C38=\"\",\"\",IF(OR(Calculations!J1=7,Calculations!J1=8,Calculations!J1=13),SUM(C33:C38)/100,\"\"))","v":""},{"$f":"IF(B22=\"\",\"\",IF('Super Verify'!B5=2,'Super Verify'!D49,IF('Super Verify'!B12=2,'Super Verify'!G49,\"\")))","v":""},{"$f":"IF(AND(C22=\"\",D22=\"\",E22=\"\"),\"\",(AVERAGE(C22:E22)))","v":""},{"$f":"IF(OR(B22=\"\",F22=\"\"),\"\",ABS(F22-B22))","v":""},{"$f":"IF(G22=\"\",\"\",IF(ROUND(ABS(G22),2)<=0.3,100,IF(ROUND(ABS(G22),2)<=0.34,98,IF(ROUND(ABS(G22),2)<=0.39,95,IF(ROUND(ABS(G22),2)<=0.46,90,IF(ROUND(ABS(G22),2)<=0.55,85,75))))))","v":""}]
[]
[null,"Check Test Gradation",null,null,null,null,"Binder Content "]
["Sieve","Grams","Percent","Percent"]
["Size","Retained","Retained","Passing"]
["2 \"",null,{"$f":"IF(B27=\"\",\"\",((B27/$B$41)*100))","v":""},{"$f":"IF(B27=\"\",\"\",(100-C27))","v":""}]
["1 1/2 \"",null,{"$f":"IF(B28=\"\",\"\",((B28/$B$41)*100))","v":""},""]
["1 \"",null,"",""]
["3/4 \"",null,"",""]
["1/2 \" ",null,"","",null,null,"As Tested % AC:"]
["3/8 \"",null,"","",null,null,"Act. % AC for Verif.:",null,{"$f":"IF(I31=\"\",\"\",I31-'Accept. Grad. # 2'!G46)","v":""}]
["# 4",null,"","",null,null,"% AC by Back-Calc. =",null,{"$f":"IF(I42=\"\",\"\",(1.03*(Superpave!J8-I42))/(I42*(Superpave!J8-1.03))*100)","v":""}]
["# 8",null,"",""]
["# 16",null,"","",null,null,null,"Test #1","Test #2"]
["# 30",null,"","",null,"Wt. of Mix"]
["# 50",null,"","",null,"Cailbration"]
["# 100",null,"","",null,"Wt. of Mix + Calibrat.",null,{"$f":"IF(H37=\"\",\"\",H36+H37)","v":""},{"$f":"IF(I37=\"\",\"\",I36+I37)","v":""}]
["# 200",null,"","",null,"Final Wt."]
["Pan",null,"","",null," Absorbed Water"]
["Total",null,null,null,null,"MSG",null,{"$f":"IF(H39=\"\",\"\",H36/(H38-H39+H40))","v":""},{"$f":"IF(I39=\"\",\"\",I36/(I38-I39+I40))","v":""}]
[null,null,null,null,null,null,null,"Avg. =",{"$f":"IF(ISERROR(AVERAGE(H41:I41)),\"\",AVERAGE(H41:I41))","v":""}]
[null,null,"Weight of Pan and Mixture before Drying"]
["Moisture Content",null,"Weight of Pan and Mixture after Drying"]
["of Mixture",null,"Weight of Pan"]
[null,null,"% Moisture in Mix",null,null,null,{"$f":"IF(G43=\"\",\"\",IF(G43-G45=0,0,(((G43-G45)-(G44-G45))/(G43-G45))*100))","v":""}]

{"sheet":"Accept. Grad. # 3","index":12,"n_rows":46,"n_cols":9,"rows_kept":46,"cut":false,"hidden":true,"merged":[]}
[]
["Sample ID #:",null,{"$f":"IF('Pay Values'!B3=\"\",\"\",'Pay Values'!B3)","v":""},null,"Inspectors ID # :",null," "]
["PIN #:",null,{"$f":"IF('Pay Values'!B4=\"\",\"\",'Pay Values'!B4)","v":""},null,"Inspectors Name:",null," "]
["Type Mixture:",null,{"$f":"IF('Pay Values'!B5=\"\",\"\",'Pay Values'!B5)","v":""},null,"Producer & Location:",null,{"$f":"IF('Pay Values'!C6=\"\",\"\",'Pay Values'!C6)","v":{"$error":"#N/A"}}]
[]
["Sieve","Target","Acceptance","Check Test","Sublot # 3 ","Average","Deviation","Pay"]
["Size","JMF","Test Sublot # 3 ","Sublot # 3","Verification","Test Value","from JMF","Factor"]
["2 \"",null,{"$f":"IF(OR(Calculations!$J$1=7,Calculations!$J$1=8,Calculations!$J$1=13,Calculations!$H$13=2,Gradation!J10=\"\"),\"\",IF(OR(Gradation!J10<Calculations!AY16,Gradation!J10>Calculations!AZ16),CONCATENATE(\"* \",ROUND(Gradation!J10,0)),Gradation!J10))","v":""},{"$f":"IF(OR(Calculations!$J$1=7,Calculations!$J$1=8,Calculations!$J$1=13,Calculations!$H$13=2),\"\",IF(D27=\"\",\"\",ROUND(D27,0)))","v":""},{"$f":"IF(OR(Calculations!$J$1=7,Calculations!$J$1=8,Calculations!$J$1=13,Calculations!$H$13=2),\"\",IF('Super Verify'!$B$5=3,'Super Verify'!D33,IF('Super Verify'!$B$12=3,'Super Verify'!G33,\"\")))","v":""},{"$f":"IF(C8=\"\",\"\",IF(LEFT(C8,1)=\"*\",AVERAGE(VALUE(MID(C8,3,LEN(C8))),D8,E8),AVERAGE(C8:E8)))","v":""},{"$f":"IF(F8=\"\",\"\",ABS(B8-F8))","v":""},{"$f":"IF(G8=\"\",\"\",IF(OR(ROUND(ABS(G8),1)<=13,LEFT(C8,1)<>\"*\"),100,IF(ROUND(ABS(G8),1)<=14,98,IF(ROUND(ABS(G8),1)<=16,95,IF(ROUND(ABS(G8),1)<=20,90,IF(ROUND(ABS(G8),1)<=23,85,75))))))","v":""}]
["1 1/2 \"",null,{"$f":"IF(OR(Calculations!$J$1=7,Calculations!$J$1=8,Calculations!$J$1=13,Calculations!$H$13=2,Gradation!J11=\"\"),\"\",IF(OR(Gradation!J11<Calculations!AY17,Gradation!J11>Calculations!AZ17),CONCATENATE(\"* \",ROUND(Gradation!J11,0)),Gradation!J11))","v":""},{"$f":"IF(OR(Calculations!$J$1=7,Calculations!$J$1=8,Calculations!$J$1=13,Calculations!$H$13=2),\"\",IF(D28=\"\",\"\",ROUND(D28,0)))","v":""},{"$f":"IF(OR(Calculations!$J$1=7,Calculations!$J$1=8,Calculations!$J$1=13,Calculations!$H$13=2),\"\",IF('Super Verify'!$B$5=3,'Super Verify'!D34,IF('Super Verify'!$B$12=3,'Super Verify'!G34,\"\")))","v":""},{"$f":"IF(C9=\"\",\"\",IF(LEFT(C9,1)=\"*\",AVERAGE(VALUE(MID(C9,3,LEN(C9))),D9,E9),AVERAGE(C9:E9)))","v":""},"",{"$f":"IF(G9=\"\",\"\",IF(OR(ROUND(ABS(G9),1)<=13,LEFT(C9,1)<>\"*\"),100,IF(ROUND(ABS(G9),1)<=14,98,IF(ROUND(ABS(G9),1)<=16,95,IF(ROUND(ABS(G9),1)<=20,90,IF(ROUND(ABS(G9),1)<=23,85,75))))))","v":""}]
["1 \"",null,{"$f":"IF(OR(Calculations!$J$1=7,Calculations!$J$1=8,Calculations!$J$1=13,Calculations!$H$13=2,Gradation!J12=\"\"),\"\",IF(OR(Gradation!J12<Calculations!AY18,Gradation!J12>Calculations!AZ18),CONCATENATE(\"* \",ROUND(Gradation!J12,0)),Gradation!J12))","v":""},{"$f":"IF(OR(Calculations!$J$1=7,Calculations!$J$1=8,Calculations!$J$1=13,Calculations!$H$13=2),\"\",IF(D29=\"\",\"\",ROUND(D29,0)))","v":""},{"$f":"IF(OR(Calculations!$J$1=7,Calculations!$J$1=8,Calculations!$J$1=13,Calculations!$H$13=2),\"\",IF('Super Verify'!$B$5=3,'Super Verify'!D35,IF('Super Verify'!$B$12=3,'Super Verify'!G35,\"\")))","v":""},{"$f":"IF(C10=\"\",\"\",IF(LEFT(C10,1)=\"*\",AVERAGE(VALUE(MID(C10,3,LEN(C10))),D10,E10),AVERAGE(C10:E10)))","v":""},"",{"$f":"IF(G10=\"\",\"\",IF(OR(ROUND(ABS(G10),1)<=9,LEFT(C10,1)<>\"*\"),100,IF(ROUND(ABS(G10),1)<=10,98,IF(ROUND(ABS(G10),1)<=12,95,IF(ROUND(ABS(G10),1)<=14,90,IF(ROUND(ABS(G10),1)<=16,85,75))))))","v":""}]
["3/4 \"",null,{"$f":"IF(OR(Calculations!$J$1=7,Calculations!$J$1=8,Calculations!$J$1=13,Calculations!$H$13=2,Gradation!J13=\"\"),\"\",IF(OR(Gradation!J13<Calculations!AY19,Gradation!J13>Calculations!AZ19),CONCATENATE(\"* \",ROUND(Gradation!J13,0)),Gradation!J13))","v":""},{"$f":"IF(OR(Calculations!$J$1=7,Calculations!$J$1=8,Calculations!$J$1=13,Calculations!$H$13=2),\"\",IF(D30=\"\",\"\",ROUND(D30,0)))","v":""},{"$f":"IF(OR(Calculations!$J$1=7,Calculations!$J$1=8,Calculations!$J$1=13,Calculations!$H$13=2),\"\",IF('Super Verify'!$B$5=3,'Super Verify'!D36,IF('Super Verify'!$B$12=3,'Super Verify'!G36,\"\")))","v":""},{"$f":"IF(C11=\"\",\"\",IF(LEFT(C11,1)=\"*\",AVERAGE(VALUE(MID(C11,3,LEN(C11))),D11,E11),AVERAGE(C11:E11)))","v":""},"",{"$f":"IF(G11=\"\",\"\",IF(OR(ROUND(ABS(G11),1)<=9,LEFT(C11,1)<>\"*\"),100,IF(ROUND(ABS(G11),1)<=10,98,IF(ROUND(ABS(G11),1)<=12,95,IF(ROUND(ABS(G11),1)<=14,90,IF(ROUND(ABS(G11),1)<=16,85,75))))))","v":""}]
["1/2 \" ",null,{"$f":"IF(OR(Calculations!$J$1=7,Calculations!$J$1=8,Calculations!$J$1=13,Calculations!$H$13=2,Gradation!J14=\"\"),\"\",IF(OR(Gradation!J14<Calculations!AY20,Gradation!J14>Calculations!AZ20),CONCATENATE(\"* \",ROUND(Gradation!J14,0)),Gradation!J14))","v":""},{"$f":"IF(OR(Calculations!$J$1=7,Calculations!$J$1=8,Calculations!$J$1=13,Calculations!$H$13=2),\"\",IF(D31=\"\",\"\",ROUND(D31,0)))","v":""},{"$f":"IF(OR(Calculations!$J$1=7,Calculations!$J$1=8,Calculations!$J$1=13,Calculations!$H$13=2),\"\",IF('Super Verify'!$B$5=3,'Super Verify'!D37,IF('Super Verify'!$B$12=3,'Super Verify'!G37,\"\")))","v":""},{"$f":"IF(C12=\"\",\"\",IF(LEFT(C12,1)=\"*\",AVERAGE(VALUE(MID(C12,3,LEN(C12))),D12,E12),AVERAGE(C12:E12)))","v":""},"",{"$f":"IF(G12=\"\",\"\",IF(OR(ROUND(ABS(G12),1)<=9,LEFT(C12,1)<>\"*\"),100,IF(ROUND(ABS(G12),1)<=10,98,IF(ROUND(ABS(G12),1)<=12,95,IF(ROUND(ABS(G12),1)<=14,90,IF(ROUND(ABS(G12),1)<=16,85,75))))))","v":""}]
["3/8 \"",null,{"$f":"IF(OR(Calculations!$J$1=7,Calculations!$J$1=8,Calculations!$J$1=13,Calculations!$H$13=2,Gradation!J15=\"\"),\"\",IF(OR(Gradation!J15<Calculations!AY21,Gradation!J15>Calculations!AZ21),CONCATENATE(\"* \",ROUND(Gradation!J15,0)),Gradation!J15))","v":""},{"$f":"IF(OR(Calculations!$J$1=7,Calculations!$J$1=8,Calculations!$J$1=13,Calculations!$H$13=2),\"\",IF(D32=\"\",\"\",ROUND(D32,0)))","v":""},{"$f":"IF(OR(Calculations!$J$1=7,Calculations!$J$1=8,Calculations!$J$1=13,Calculations!$H$13=2),\"\",IF('Super Verify'!$B$5=3,'Super Verify'!D38,IF('Super Verify'!$B$12=3,'Super Verify'!G38,\"\")))","v":""},{"$f":"IF(C13=\"\",\"\",IF(LEFT(C13,1)=\"*\",AVERAGE(VALUE(MID(C13,3,LEN(C13))),D13,E13),AVERAGE(C13:E13)))","v":""},"",{"$f":"IF(G13=\"\",\"\",IF(OR(ROUND(ABS(G13),1)<=8,LEFT(C13,1)<>\"*\"),100,IF(ROUND(ABS(G13),1)<=9,98,IF(ROUND(ABS(G13),1)<=10,95,IF(ROUND(ABS(G13),1)<=12,90,IF(ROUND(ABS(G13),1)<=14,85,75))))))","v":""}]
["# 4",null,{"$f":"IF(OR(Calculations!$J$1=7,Calculations!$J$1=8,Calculations!$J$1=13,Calculations!$H$13=2,Gradation!J17=\"\"),\"\",IF(OR(Gradation!J17<Calculations!AY23,Gradation!J17>Calculations!AZ23),CONCATENATE(\"* \",ROUND(Gradation!J17,0)),Gradation!J17))","v":""},{"$f":"IF(OR(Calculations!$J$1=7,Calculations!$J$1=8,Calculations!$J$1=13,Calculations!$H$13=2),\"\",IF(D33=\"\",\"\",ROUND(D33,0)))","v":""},{"$f":"IF(OR(Calculations!$J$1=7,Calculations!$J$1=8,Calculations!$J$1=13,Calculations!$H$13=2),\"\",IF('Super Verify'!$B$5=3,'Super Verify'!D40,IF('Super Verify'!$B$12=3,'Super Verify'!G40,\"\")))","v":""},"","",{"$f":"IF(G14=\"\",\"\",IF(OR(ROUND(ABS(G14),1)<=8,LEFT(C14,1)<>\"*\"),100,IF(ROUND(ABS(G14),1)<=9,98,IF(ROUND(ABS(G14),1)<=10,95,IF(ROUND(ABS(G14),1)<=12,90,IF(ROUND(ABS(G14),1)<=14,85,75))))))","v":""}]
["# 8",null,{"$f":"IF(OR(Calculations!$J$1=7,Calculations!$J$1=8,Calculations!$J$1=13,Calculations!$H$13=2,Gradation!J18=\"\"),\"\",IF(OR(Gradation!J18<Calculations!AY24,Gradation!J18>Calculations!AZ24),CONCATENATE(\"* \",ROUND(Gradation!J18,0)),Gradation!J18))","v":""},{"$f":"IF(OR(Calculations!$J$1=7,Calculations!$J$1=8,Calculations!$J$1=13,Calculations!$H$13=2),\"\",IF(D34=\"\",\"\",ROUND(D34,0)))","v":""},{"$f":"IF(OR(Calculations!$J$1=7,Calculations!$J$1=8,Calculations!$J$1=13,Calculations!$H$13=2),\"\",IF('Super Verify'!$B$5=3,'Super Verify'!D41,IF('Super Verify'!$B$12=3,'Super Verify'!G41,\"\")))","v":""},"","",{"$f":"IF(G15=\"\",\"\",IF(OR(ROUND(ABS(G15),1)<=8,LEFT(C15,1)<>\"*\"),100,IF(ROUND(ABS(G15),1)<=9,98,IF(ROUND(ABS(G15),1)<=10,95,IF(ROUND(ABS(G15),1)<=12,90,IF(ROUND(ABS(G15),1)<=14,85,75))))))","v":""}]
["# 16",null,{"$f":"IF(OR(Calculations!$J$1=7,Calculations!$J$1=8,Calculations!$J$1=13,Calculations!$H$13=2,Gradation!J19=\"\"),\"\",IF(OR(Gradation!J19<Calculations!AY25,Gradation!J19>Calculations!AZ25),CONCATENATE(\"* \",ROUND(Gradation!J19,0)),Gradation!J19))","v":""},{"$f":"IF(OR(Calculations!$J$1=7,Calculations!$J$1=8,Calculations!$J$1=13,Calculations!$H$13=2),\"\",IF(D35=\"\",\"\",ROUND(D35,0)))","v":""},{"$f":"IF(OR(Calculations!$J$1=7,Calculations!$J$1=8,Calculations!$J$1=13,Calculations!$H$13=2),\"\",IF('Super Verify'!$B$5=3,'Super Verify'!D42,IF('Super Verify'!$B$12=3,'Super Verify'!G42,\"\")))","v":""},"","",{"$f":"IF(G16=\"\",\"\",IF(OR(ROUND(ABS(G16),1)<=8,LEFT(C16,1)<>\"*\"),100,IF(ROUND(ABS(G16),1)<=9,98,IF(ROUND(ABS(G16),1)<=10,95,IF(ROUND(ABS(G16),1)<=12,90,IF(ROUND(ABS(G16),1)<=14,85,75))))))","v":""}]
["# 30",null,{"$f":"IF(OR(Calculations!$J$1=7,Calculations!$J$1=8,Calculations!$J$1=13,Calculations!$H$13=2,Gradation!J20=\"\"),\"\",IF(OR(Gradation!J20<Calculations!AY26,Gradation!J20>Calculations!AZ26),CONCATENATE(\"* \",ROUND(Gradation!J20,0)),Gradation!J20))","v":""},{"$f":"IF(OR(Calculations!$J$1=7,Calculations!$J$1=8,Calculations!$J$1=13,Calculations!$H$13=2),\"\",IF(D36=\"\",\"\",ROUND(D36,0)))","v":""},{"$f":"IF(OR(Calculations!$J$1=7,Calculations!$J$1=8,Calculations!$J$1=13,Calculations!$H$13=2),\"\",IF('Super Verify'!$B$5=3,'Super Verify'!D43,IF('Super Verify'!$B$12=3,'Super Verify'!G43,\"\")))","v":""},{"$f":"IF(C17=\"\",\"\",IF(LEFT(C17,1)=\"*\",AVERAGE(VALUE(MID(C17,3,LEN(C17))),D17,E17),AVERAGE(C17:E17)))","v":""},"",{"$f":"IF(G17=\"\",\"\",IF(OR(ROUND(ABS(G17),1)<=8,LEFT(C17,1)<>\"*\"),100,IF(ROUND(ABS(G17),1)<=9,98,IF(ROUND(ABS(G17),1)<=10,95,IF(ROUND(ABS(G17),1)<=12,90,IF(ROUND(ABS(G17),1)<=14,85,75))))))","v":""}]
["# 50",null,{"$f":"IF(OR(Calculations!$J$1=7,Calculations!$J$1=8,Calculations!$J$1=13,Calculations!$H$13=2,Gradation!J21=\"\"),\"\",IF(OR(Gradation!J21<Calculations!AY27,Gradation!J21>Calculations!AZ27),CONCATENATE(\"* \",ROUND(Gradation!J21,0)),Gradation!J21))","v":""},{"$f":"IF(OR(Calculations!$J$1=7,Calculations!$J$1=8,Calculations!$J$1=13,Calculations!$H$13=2),\"\",IF(D37=\"\",\"\",ROUND(D37,0)))","v":""},{"$f":"IF(OR(Calculations!$J$1=7,Calculations!$J$1=8,Calculations!$J$1=13,Calculations!$H$13=2),\"\",IF('Super Verify'!$B$5=3,'Super Verify'!D44,IF('Super Verify'!$B$12=3,'Super Verify'!G44,\"\")))","v":""},{"$f":"IF(C18=\"\",\"\",IF(LEFT(C18,1)=\"*\",AVERAGE(VALUE(MID(C18,3,LEN(C18))),D18,E18),AVERAGE(C18:E18)))","v":""},"",{"$f":"IF(G18=\"\",\"\",IF(OR(ROUND(ABS(G18),1)<=6,LEFT(C18,1)<>\"*\"),100,IF(ROUND(ABS(G18),1)<=7,98,IF(ROUND(ABS(G18),1)<=8,95,IF(ROUND(ABS(G18),1)<=9,90,IF(ROUND(ABS(G18),1)<=10,85,75))))))","v":""}]
["# 100",null,{"$f":"IF(OR(Calculations!$J$1=7,Calculations!$J$1=8,Calculations!$J$1=13,Calculations!$H$13=2,Gradation!J22=\"\"),\"\",IF(OR(Gradation!J22<Calculations!AY28,Gradation!J22>Calculations!AZ28),CONCATENATE(\"* \",ROUND(Gradation!J22,0)),Gradation!J22))","v":""},{"$f":"IF(OR(Calculations!$J$1=7,Calculations!$J$1=8,Calculations!$J$1=13,Calculations!$H$13=2),\"\",IF(D38=\"\",\"\",ROUND(D38,0)))","v":""},{"$f":"IF(OR(Calculations!$J$1=7,Calculations!$J$1=8,Calculations!$J$1=13,Calculations!$H$13=2),\"\",IF('Super Verify'!$B$5=3,'Super Verify'!D45,IF('Super Verify'!$B$12=3,'Super Verify'!G45,\"\")))","v":""},"","",{"$f":"IF(G19=\"\",\"\",IF(OR(ROUND(ABS(G19),1)<=3,LEFT(C19,1)<>\"*\"),100,IF(ROUND(ABS(G19),1)<=4,95,IF(ROUND(ABS(G19),1)<=5,90,75))))","v":""}]
["# 200",null,{"$f":"IF(OR(Calculations!$J$1=7,Calculations!$J$1=8,Calculations!$J$1=13,Calculations!$H$13=2,Gradation!J23=\"\"),\"\",IF(OR(Gradation!J23<Calculations!AY29,Gradation!J23>Calculations!AZ29),CONCATENATE(\"* \",ROUND(Gradation!J23,0)),Gradation!J23))","v":""},{"$f":"IF(OR(Calculations!$J$1=7,Calculations!$J$1=8,Calculations!$J$1=13,Calculations!$H$13=2),\"\",IF(D39=\"\",\"\",ROUND(D39,0)))","v":""},{"$f":"IF(OR(Calculations!$J$1=7,Calculations!$J$1=8,Calculations!$J$1=13,Calculations!$H$13=2),\"\",IF('Super Verify'!$B$5=3,'Super Verify'!D46,IF('Super Verify'!$B$12=3,'Super Verify'!G46,\"\")))","v":""},{"$f":"IF(C20=\"\",\"\",Calculations!Q126)","v":""},"",{"$f":"IF(G20=\"\",\"\",IF(OR(ROUND(ABS(G20),1)<=2,LEFT(C20,1)<>\"*\"),100,IF(ROUND(ABS(G20),1)<=2.5,98,IF(ROUND(ABS(G20),1)<=3,95,IF(ROUND(ABS(G20),1)<=3.5,85,75)))))","v":""}]
["% AC",null,{"$f":"IF(AND(Calculations!H13=1,Gradation!J33<>\"\"),Gradation!J33,IF(AND(Calculations!H13=1,Gradation!J33=\"\"),Gradation!J34,\"\"))","v":""},{"$f":"IF(AND(Calculations!H13=1,I32<>\"\"),I32,IF(AND(Calculations!H13=1,I32=\"\"),I33,\"\"))","v":""},{"$f":"IF(Calculations!H13=2,\"\",IF(AND('Super Verify'!B5=3,'Super Verify'!J27<>\"\"),'Super Verify'!J27,IF(AND('Super Verify'!B5=3,'Super Verify'!J27=\"\"),'Super Verify'!J28,IF(AND('Super Verify'!B12=3,'Super Verify'!M27<>\"\"),'Super Verify'!M27,IF(AND('Super Verify'!B12=3,'Super Verify'!M27=\"\"),'Super Verify'!M28,\"\")))))","v":""},{"$f":"IF(C21=\"\",\"\",(AVERAGE(C21:E21)))","v":""},"",{"$f":"IF(G21=\"\",\"\",IF(ROUND(ABS(G21),1)<=0.5,100,IF(ROUND(ABS(G21),1)=0.6,98,IF(ROUND(ABS(G21),1)=0.7,90,IF(ROUND(ABS(G21),1)=0.8,85,75)))))","v":""}]
["F.M.",{"$f":"IF(OR(Calculations!J1=7,Calculations!J1=8,Calculations!J1=13),Calculations!J121,\"\")","v":""},{"$f":"Gradation!J35","v":""},{"$f":"IF(C38=\"\",\"\",IF(OR(Calculations!J1=7,Calculations!J1=8,Calculations!J1=13),SUM(C33:C38)/100,\"\"))","v":""},{"$f":"IF(B22=\"\",\"\",IF('Super Verify'!B5=3,'Super Verify'!D49,IF('Super Verify'!B12=3,'Super Verify'!G49,\"\")))","v":""},{"$f":"IF(AND(C22=\"\",D22=\"\",E22=\"\"),\"\",(AVERAGE(C22:E22)))","v":""},{"$f":"IF(OR(B22=\"\",F22=\"\"),\"\",ABS(F22-B22))","v":""},{"$f":"IF(G22=\"\",\"\",IF(ROUND(ABS(G22),2)<=0.3,100,IF(ROUND(ABS(G22),2)<=0.34,98,IF(ROUND(ABS(G22),2)<=0.39,95,IF(ROUND(ABS(G22),2)<=0.46,90,IF(ROUND(ABS(G22),2)<=0.55,85,75))))))","v":""}]
[]
[null,"Check Test Gradation",null,null,null,null,"Binder Content "]
["Sieve","Grams","Percent","Percent"]
["Size","Retained","Retained","Passing"]
["2 \"",null,{"$f":"IF(B27=\"\",\"\",((B27/B41)*100))","v":""},{"$f":"IF(B27=\"\",\"\",(100-C27))","v":""}]
["1 1/2 \"",null,{"$f":"IF(B28=\"\",\"\",(B28/B41)*(100))","v":""},""]
["1 \"",null,{"$f":"IF(B29=\"\",\"\",(B29/B41)*(100))","v":""},""]
["3/4 \"",null,{"$f":"IF(B30=\"\",\"\",(B30/B41)*(100))","v":""},""]
["1/2 \" ",null,{"$f":"IF(B31=\"\",\"\",(B31/B41)*(100))","v":""},""]
["3/8 \"",null,{"$f":"IF(B32=\"\",\"\",(B32/B41)*(100))","v":""},"",null,null,"Act. % AC for Verif.:",null,{"$f":"IF(I33=\"\",\"\",I33-'Accept. Grad. # 3'!G46)","v":""}]
["# 4",null,{"$f":"IF(B33=\"\",\"\",(B33/B41)*(100))","v":""},"",null,null,"% AC by Back-Calc. =",null,{"$f":"IF(I42=\"\",\"\",(1.03*(Superpave!J8-I42))/(I42*(Superpave!J8-1.03))*100)","v":""}]
["# 8",null,{"$f":"IF(B34=\"\",\"\",(B34/B41)*(100))","v":""},""]
["# 16",null,{"$f":"IF(B35=\"\",\"\",(B35/B41)*(100))","v":""},"",null,null,null,"Test #1","Test #2"]
["# 30",null,{"$f":"IF(B36=\"\",\"\",(B36/B41)*(100))","v":""},"",null,"Wt. of Mix"]
["# 50",null,{"$f":"IF(B37=\"\",\"\",(B37/B41)*(100))","v":""},"",null,"Cailbration"]
["# 100",null,{"$f":"IF(B38=\"\",\"\",(B38/B41)*(100))","v":""},"",null,"Wt. of Mix + Calibrat.",null,{"$f":"IF(H37=\"\",\"\",H36+H37)","v":""},{"$f":"IF(I37=\"\",\"\",I36+I37)","v":""}]
["# 200",null,{"$f":"IF(B39=\"\",\"\",(B39/B41)*(100))","v":""},"",null,"Final Wt."]
["Pan",null,{"$f":"IF(B40=\"\",\"\",(B40/B41)*(100))","v":""},null,null," Absorbed Water"]
["Total",null,null,null,null,"MSG",null,{"$f":"IF(H39=\"\",\"\",H36/(H38-H39+H40))","v":""},{"$f":"IF(I39=\"\",\"\",I36/(I38-I39+I40))","v":""}]
[null,null,null,null,null,null,null,"Avg. =",{"$f":"IF(ISERROR(AVERAGE(H41:I41)),\"\",AVERAGE(H41:I41))","v":""}]
[null,null,"Weight of Pan and Mixture before Drying"]
["Moisture Content",null,"Weight of Pan and Mixture after Drying"]
["of Mixture",null,"Weight of Pan"]
[null,null,"% Moisture in Mix",null,null,null,{"$f":"IF(G43=\"\",\"\",IF(G43-G45=0,0,(((G43-G45)-(G44-G45))/(G43-G45))*100))","v":""}]

{"sheet":"Accept. Grad. # 4","index":13,"n_rows":46,"n_cols":9,"rows_kept":46,"cut":false,"hidden":true,"merged":[]}
[]
["Sample ID #:",null,{"$f":"IF('Pay Values'!B3=\"\",\"\",'Pay Values'!B3)","v":""},null,"Inspectors ID # :",null," "]
["PIN #:",null,{"$f":"IF('Pay Values'!B4=\"\",\"\",'Pay Values'!B4)","v":""},null,"Inspectors Name:",null," "]
["Type Mixture:",null,{"$f":"IF('Pay Values'!B5=\"\",\"\",'Pay Values'!B5)","v":""},null,"Producer & Location:",null,{"$f":"IF('Pay Values'!C6=\"\",\"\",'Pay Values'!C6)","v":{"$error":"#N/A"}}]
[]
["Sieve","Target","Acceptance","Check Test","Sublot # 4","Average","Deviation","Pay"]
["Size","JMF","Test Sublot # 4","Sublot # 4","Verification","Test Value","from JMF","Factor"]
["2 \"",null,{"$f":"IF(OR(Calculations!$J$1=7,Calculations!$J$1=8,Calculations!$J$1=13,Calculations!$H$13=2,Gradation!M10=\"\"),\"\",IF(OR(Gradation!M10<Calculations!AY16,Gradation!M10>Calculations!AZ16),CONCATENATE(\"* \",ROUND(Gradation!M10,0)),Gradation!M10))","v":""},{"$f":"IF(OR(Calculations!$J$1=7,Calculations!$J$1=8,Calculations!$J$1=13,Calculations!$H$13=2),\"\",IF(D27=\"\",\"\",ROUND(D27,0)))","v":""},{"$f":"IF(OR(Calculations!$J$1=7,Calculations!$J$1=8,Calculations!$J$1=13,Calculations!$H$13=2),\"\",IF('Super Verify'!$B$5=4,'Super Verify'!D33,IF('Super Verify'!$B$12=4,'Super Verify'!G33,\"\")))","v":""},{"$f":"IF(C8=\"\",\"\",IF(LEFT(C8,1)=\"*\",AVERAGE(VALUE(MID(C8,3,LEN(C8))),D8,E8),AVERAGE(C8:E8)))","v":""},{"$f":"IF(F8=\"\",\"\",ABS(B8-F8))","v":""},{"$f":"IF(G8=\"\",\"\",IF(OR(ROUND(ABS(G8),1)<=13,LEFT(C8,1)<>\"*\"),100,IF(ROUND(ABS(G8),1)<=14,98,IF(ROUND(ABS(G8),1)<=16,95,IF(ROUND(ABS(G8),1)<=20,90,IF(ROUND(ABS(G8),1)<=23,85,75))))))","v":""}]
["1 1/2 \"",null,{"$f":"IF(OR(Calculations!$J$1=7,Calculations!$J$1=8,Calculations!$J$1=13,Calculations!$H$13=2,Gradation!M11=\"\"),\"\",IF(OR(Gradation!M11<Calculations!AY17,Gradation!M11>Calculations!AZ17),CONCATENATE(\"* \",ROUND(Gradation!M11,0)),Gradation!M11))","v":""},{"$f":"IF(OR(Calculations!$J$1=7,Calculations!$J$1=8,Calculations!$J$1=13,Calculations!$H$13=2),\"\",IF(D28=\"\",\"\",ROUND(D28,0)))","v":""},{"$f":"IF(OR(Calculations!$J$1=7,Calculations!$J$1=8,Calculations!$J$1=13,Calculations!$H$13=2),\"\",IF('Super Verify'!$B$5=4,'Super Verify'!D34,IF('Super Verify'!$B$12=4,'Super Verify'!G34,\"\")))","v":""},"","",{"$f":"IF(G9=\"\",\"\",IF(OR(ROUND(ABS(G9),1)<=13,LEFT(C9,1)<>\"*\"),100,IF(ROUND(ABS(G9),1)<=14,98,IF(ROUND(ABS(G9),1)<=16,95,IF(ROUND(ABS(G9),1)<=20,90,IF(ROUND(ABS(G9),1)<=23,85,75))))))","v":""}]
["1 \"",null,{"$f":"IF(OR(Calculations!$J$1=7,Calculations!$J$1=8,Calculations!$J$1=13,Calculations!$H$13=2,Gradation!M12=\"\"),\"\",IF(OR(Gradation!M12<Calculations!AY18,Gradation!M12>Calculations!AZ18),CONCATENATE(\"* \",ROUND(Gradation!M12,0)),Gradation!M12))","v":""},{"$f":"IF(OR(Calculations!$J$1=7,Calculations!$J$1=8,Calculations!$J$1=13,Calculations!$H$13=2),\"\",IF(D29=\"\",\"\",ROUND(D29,0)))","v":""},{"$f":"IF(OR(Calculations!$J$1=7,Calculations!$J$1=8,Calculations!$J$1=13,Calculations!$H$13=2),\"\",IF('Super Verify'!$B$5=4,'Super Verify'!D35,IF('Super Verify'!$B$12=4,'Super Verify'!G35,\"\")))","v":""},"","",{"$f":"IF(G10=\"\",\"\",IF(OR(ROUND(ABS(G10),1)<=9,LEFT(C10,1)<>\"*\"),100,IF(ROUND(ABS(G10),1)<=10,98,IF(ROUND(ABS(G10),1)<=12,95,IF(ROUND(ABS(G10),1)<=14,90,IF(ROUND(ABS(G10),1)<=16,85,75))))))","v":""}]
["3/4 \"",null,{"$f":"IF(OR(Calculations!$J$1=7,Calculations!$J$1=8,Calculations!$J$1=13,Calculations!$H$13=2,Gradation!M13=\"\"),\"\",IF(OR(Gradation!M13<Calculations!AY19,Gradation!M13>Calculations!AZ19),CONCATENATE(\"* \",ROUND(Gradation!M13,0)),Gradation!M13))","v":""},{"$f":"IF(OR(Calculations!$J$1=7,Calculations!$J$1=8,Calculations!$J$1=13,Calculations!$H$13=2),\"\",IF(D30=\"\",\"\",ROUND(D30,0)))","v":""},{"$f":"IF(OR(Calculations!$J$1=7,Calculations!$J$1=8,Calculations!$J$1=13,Calculations!$H$13=2),\"\",IF('Super Verify'!$B$5=4,'Super Verify'!D36,IF('Super Verify'!$B$12=4,'Super Verify'!G36,\"\")))","v":""},"","",{"$f":"IF(G11=\"\",\"\",IF(OR(ROUND(ABS(G11),1)<=9,LEFT(C11,1)<>\"*\"),100,IF(ROUND(ABS(G11),1)<=10,98,IF(ROUND(ABS(G11),1)<=12,95,IF(ROUND(ABS(G11),1)<=14,90,IF(ROUND(ABS(G11),1)<=16,85,75))))))","v":""}]
["1/2 \" ",null,{"$f":"IF(OR(Calculations!$J$1=7,Calculations!$J$1=8,Calculations!$J$1=13,Calculations!$H$13=2,Gradation!M14=\"\"),\"\",IF(OR(Gradation!M14<Calculations!AY20,Gradation!M14>Calculations!AZ20),CONCATENATE(\"* \",ROUND(Gradation!M14,0)),Gradation!M14))","v":""},{"$f":"IF(OR(Calculations!$J$1=7,Calculations!$J$1=8,Calculations!$J$1=13,Calculations!$H$13=2),\"\",IF(D31=\"\",\"\",ROUND(D31,0)))","v":""},{"$f":"IF(OR(Calculations!$J$1=7,Calculations!$J$1=8,Calculations!$J$1=13,Calculations!$H$13=2),\"\",IF('Super Verify'!$B$5=4,'Super Verify'!D37,IF('Super Verify'!$B$12=4,'Super Verify'!G37,\"\")))","v":""},"","",{"$f":"IF(G12=\"\",\"\",IF(OR(ROUND(ABS(G12),1)<=9,LEFT(C12,1)<>\"*\"),100,IF(ROUND(ABS(G12),1)<=10,98,IF(ROUND(ABS(G12),1)<=12,95,IF(ROUND(ABS(G12),1)<=14,90,IF(ROUND(ABS(G12),1)<=16,85,75))))))","v":""}]
["3/8 \"",null,{"$f":"IF(OR(Calculations!$J$1=7,Calculations!$J$1=8,Calculations!$J$1=13,Calculations!$H$13=2,Gradation!M15=\"\"),\"\",IF(OR(Gradation!M15<Calculations!AY21,Gradation!M15>Calculations!AZ21),CONCATENATE(\"* \",ROUND(Gradation!M15,0)),Gradation!M15))","v":""},{"$f":"IF(OR(Calculations!$J$1=7,Calculations!$J$1=8,Calculations!$J$1=13,Calculations!$H$13=2),\"\",IF(D32=\"\",\"\",ROUND(D32,0)))","v":""},{"$f":"IF(OR(Calculations!$J$1=7,Calculations!$J$1=8,Calculations!$J$1=13,Calculations!$H$13=2),\"\",IF('Super Verify'!$B$5=4,'Super Verify'!D38,IF('Super Verify'!$B$12=4,'Super Verify'!G38,\"\")))","v":""},"","",{"$f":"IF(G13=\"\",\"\",IF(OR(ROUND(ABS(G13),1)<=8,LEFT(C13,1)<>\"*\"),100,IF(ROUND(ABS(G13),1)<=9,98,IF(ROUND(ABS(G13),1)<=10,95,IF(ROUND(ABS(G13),1)<=12,90,IF(ROUND(ABS(G13),1)<=14,85,75))))))","v":""}]
["# 4",null,{"$f":"IF(OR(Calculations!$J$1=7,Calculations!$J$1=8,Calculations!$J$1=13,Calculations!$H$13=2,Gradation!M17=\"\"),\"\",IF(OR(Gradation!M17<Calculations!AY23,Gradation!M17>Calculations!AZ23),CONCATENATE(\"* \",ROUND(Gradation!M17,0)),Gradation!M17))","v":""},{"$f":"IF(OR(Calculations!$J$1=7,Calculations!$J$1=8,Calculations!$J$1=13,Calculations!$H$13=2),\"\",IF(D33=\"\",\"\",ROUND(D33,0)))","v":""},{"$f":"IF(OR(Calculations!$J$1=7,Calculations!$J$1=8,Calculations!$J$1=13,Calculations!$H$13=2),\"\",IF('Super Verify'!$B$5=4,'Super Verify'!D40,IF('Super Verify'!$B$12=4,'Super Verify'!G40,\"\")))","v":""},"","",{"$f":"IF(G14=\"\",\"\",IF(OR(ROUND(ABS(G14),1)<=8,LEFT(C14,1)<>\"*\"),100,IF(ROUND(ABS(G14),1)<=9,98,IF(ROUND(ABS(G14),1)<=10,95,IF(ROUND(ABS(G14),1)<=12,90,IF(ROUND(ABS(G14),1)<=14,85,75))))))","v":""}]
["# 8",null,{"$f":"IF(OR(Calculations!$J$1=7,Calculations!$J$1=8,Calculations!$J$1=13,Calculations!$H$13=2,Gradation!M18=\"\"),\"\",IF(OR(Gradation!M18<Calculations!AY24,Gradation!M18>Calculations!AZ24),CONCATENATE(\"* \",ROUND(Gradation!M18,0)),Gradation!M18))","v":""},{"$f":"IF(OR(Calculations!$J$1=7,Calculations!$J$1=8,Calculations!$J$1=13,Calculations!$H$13=2),\"\",IF(D34=\"\",\"\",ROUND(D34,0)))","v":""},{"$f":"IF(OR(Calculations!$J$1=7,Calculations!$J$1=8,Calculations!$J$1=13,Calculations!$H$13=2),\"\",IF('Super Verify'!$B$5=4,'Super Verify'!D41,IF('Super Verify'!$B$12=4,'Super Verify'!G41,\"\")))","v":""},"","",{"$f":"IF(G15=\"\",\"\",IF(OR(ROUND(ABS(G15),1)<=8,LEFT(C15,1)<>\"*\"),100,IF(ROUND(ABS(G15),1)<=9,98,IF(ROUND(ABS(G15),1)<=10,95,IF(ROUND(ABS(G15),1)<=12,90,IF(ROUND(ABS(G15),1)<=14,85,75))))))","v":""}]
["# 16",null,{"$f":"IF(OR(Calculations!$J$1=7,Calculations!$J$1=8,Calculations!$J$1=13,Calculations!$H$13=2,Gradation!M19=\"\"),\"\",IF(OR(Gradation!M19<Calculations!AY25,Gradation!M19>Calculations!AZ25),CONCATENATE(\"* \",ROUND(Gradation!M19,0)),Gradation!M19))","v":""},{"$f":"IF(OR(Calculations!$J$1=7,Calculations!$J$1=8,Calculations!$J$1=13,Calculations!$H$13=2),\"\",IF(D35=\"\",\"\",ROUND(D35,0)))","v":""},{"$f":"IF(OR(Calculations!$J$1=7,Calculations!$J$1=8,Calculations!$J$1=13,Calculations!$H$13=2),\"\",IF('Super Verify'!$B$5=4,'Super Verify'!D42,IF('Super Verify'!$B$12=4,'Super Verify'!G42,\"\")))","v":""},"","",{"$f":"IF(G16=\"\",\"\",IF(OR(ROUND(ABS(G16),1)<=8,LEFT(C16,1)<>\"*\"),100,IF(ROUND(ABS(G16),1)<=9,98,IF(ROUND(ABS(G16),1)<=10,95,IF(ROUND(ABS(G16),1)<=12,90,IF(ROUND(ABS(G16),1)<=14,85,75))))))","v":""}]
["# 30",null,{"$f":"IF(OR(Calculations!$J$1=7,Calculations!$J$1=8,Calculations!$J$1=13,Calculations!$H$13=2,Gradation!M20=\"\"),\"\",IF(OR(Gradation!M20<Calculations!AY26,Gradation!M20>Calculations!AZ26),CONCATENATE(\"* \",ROUND(Gradation!M20,0)),Gradation!M20))","v":""},{"$f":"IF(OR(Calculations!$J$1=7,Calculations!$J$1=8,Calculations!$J$1=13,Calculations!$H$13=2),\"\",IF(D36=\"\",\"\",ROUND(D36,0)))","v":""},{"$f":"IF(OR(Calculations!$J$1=7,Calculations!$J$1=8,Calculations!$J$1=13,Calculations!$H$13=2),\"\",IF('Super Verify'!$B$5=4,'Super Verify'!D43,IF('Super Verify'!$B$12=4,'Super Verify'!G43,\"\")))","v":""},{"$f":"IF(C17=\"\",\"\",IF(LEFT(C17,1)=\"*\",AVERAGE(VALUE(MID(C17,3,LEN(C17))),D17,E17),AVERAGE(C17:E17)))","v":""},"",{"$f":"IF(G17=\"\",\"\",IF(OR(ROUND(ABS(G17),1)<=8,LEFT(C17,1)<>\"*\"),100,IF(ROUND(ABS(G17),1)<=9,98,IF(ROUND(ABS(G17),1)<=10,95,IF(ROUND(ABS(G17),1)<=12,90,IF(ROUND(ABS(G17),1)<=14,85,75))))))","v":""}]
["# 50",null,{"$f":"IF(OR(Calculations!$J$1=7,Calculations!$J$1=8,Calculations!$J$1=13,Calculations!$H$13=2,Gradation!M21=\"\"),\"\",IF(OR(Gradation!M21<Calculations!AY27,Gradation!M21>Calculations!AZ27),CONCATENATE(\"* \",ROUND(Gradation!M21,0)),Gradation!M21))","v":""},{"$f":"IF(OR(Calculations!$J$1=7,Calculations!$J$1=8,Calculations!$J$1=13,Calculations!$H$13=2),\"\",IF(D37=\"\",\"\",ROUND(D37,0)))","v":""},{"$f":"IF(OR(Calculations!$J$1=7,Calculations!$J$1=8,Calculations!$J$1=13,Calculations!$H$13=2),\"\",IF('Super Verify'!$B$5=4,'Super Verify'!D44,IF('Super Verify'!$B$12=4,'Super Verify'!G44,\"\")))","v":""},{"$f":"IF(C18=\"\",\"\",IF(LEFT(C18,1)=\"*\",AVERAGE(VALUE(MID(C18,3,LEN(C18))),D18,E18),AVERAGE(C18:E18)))","v":""},"",{"$f":"IF(G18=\"\",\"\",IF(OR(ROUND(ABS(G18),1)<=6,LEFT(C18,1)<>\"*\"),100,IF(ROUND(ABS(G18),1)<=7,98,IF(ROUND(ABS(G18),1)<=8,95,IF(ROUND(ABS(G18),1)<=9,90,IF(ROUND(ABS(G18),1)<=10,85,75))))))","v":""}]
["# 100",null,{"$f":"IF(OR(Calculations!$J$1=7,Calculations!$J$1=8,Calculations!$J$1=13,Calculations!$H$13=2,Gradation!M22=\"\"),\"\",IF(OR(Gradation!M22<Calculations!AY28,Gradation!M22>Calculations!AZ28),CONCATENATE(\"* \",ROUND(Gradation!M22,0)),Gradation!M22))","v":""},{"$f":"IF(OR(Calculations!$J$1=7,Calculations!$J$1=8,Calculations!$J$1=13,Calculations!$H$13=2),\"\",IF(D38=\"\",\"\",ROUND(D38,0)))","v":""},{"$f":"IF(OR(Calculations!$J$1=7,Calculations!$J$1=8,Calculations!$J$1=13,Calculations!$H$13=2),\"\",IF('Super Verify'!$B$5=4,'Super Verify'!D45,IF('Super Verify'!$B$12=4,'Super Verify'!G45,\"\")))","v":""},"","",{"$f":"IF(G19=\"\",\"\",IF(OR(ROUND(ABS(G19),1)<=3,LEFT(C19,1)<>\"*\"),100,IF(ROUND(ABS(G19),1)<=4,95,IF(ROUND(ABS(G19),1)<=5,90,75))))","v":""}]
["# 200",null,{"$f":"IF(OR(Calculations!$J$1=7,Calculations!$J$1=8,Calculations!$J$1=13,Calculations!$H$13=2,Gradation!M23=\"\"),\"\",IF(OR(Gradation!M23<Calculations!AY29,Gradation!M23>Calculations!AZ29),CONCATENATE(\"* \",ROUND(Gradation!M23,0)),Gradation!M23))","v":""},{"$f":"IF(OR(Calculations!$J$1=7,Calculations!$J$1=8,Calculations!$J$1=13,Calculations!$H$13=2),\"\",IF(D39=\"\",\"\",ROUND(D39,0)))","v":""},{"$f":"IF(OR(Calculations!$J$1=7,Calculations!$J$1=8,Calculations!$J$1=13,Calculations!$H$13=2),\"\",IF('Super Verify'!$B$5=4,'Super Verify'!D46,IF('Super Verify'!$B$12=4,'Super Verify'!G46,\"\")))","v":""},{"$f":"IF(C20=\"\",\"\",Calculations!Q127)","v":""},"",{"$f":"IF(G20=\"\",\"\",IF(OR(ROUND(ABS(G20),1)<=2,LEFT(C20,1)<>\"*\"),100,IF(ROUND(ABS(G20),1)<=2.5,98,IF(ROUND(ABS(G20),1)<=3,95,IF(ROUND(ABS(G20),1)<=3.5,85,75)))))","v":""}]
["% AC",null,{"$f":"IF(AND(Calculations!H13=1,Gradation!M33<>\"\"),Gradation!M33,IF(AND(Calculations!H13=1,Gradation!M33=\"\"),Gradation!M34,\"\"))","v":""},{"$f":"IF(AND(Calculations!H13=1,I32<>\"\"),I32,IF(AND(Calculations!H13=1,I32=\"\"),I33,\"\"))","v":""},{"$f":"IF(Calculations!H13=2,\"\",IF(AND('Super Verify'!B5=4,'Super Verify'!J27<>\"\"),'Super Verify'!J27,IF(AND('Super Verify'!B5=4,'Super Verify'!J27=\"\"),'Super Verify'!J28,IF(AND('Super Verify'!B12=4,'Super Verify'!M27<>\"\"),'Super Verify'!M27,IF(AND('Super Verify'!B12=4,'Super Verify'!M27=\"\"),'Super Verify'!M28,\"\")))))","v":""},{"$f":"IF(C21=\"\",\"\",(AVERAGE(C21:E21)))","v":""},"",{"$f":"IF(G21=\"\",\"\",IF(ROUND(ABS(G21),1)<=0.5,100,IF(ROUND(ABS(G21),1)=0.6,98,IF(ROUND(ABS(G21),1)=0.7,90,IF(ROUND(ABS(G21),1)=0.8,85,75)))))","v":""}]
["F.M.",{"$f":"IF(OR(Calculations!J1=7,Calculations!J1=8,Calculations!J1=13),Calculations!M121,\"\")","v":""},{"$f":"Gradation!M35","v":""},{"$f":"IF(C38=\"\",\"\",IF(OR(Calculations!J1=7,Calculations!J1=8,Calculations!J1=13),SUM(C33:C38)/100,\"\"))","v":""},{"$f":"IF(B22=\"\",\"\",IF('Super Verify'!B5=4,'Super Verify'!D49,IF('Super Verify'!B12=4,'Super Verify'!G49,\"\")))","v":""},{"$f":"IF(AND(C22=\"\",D22=\"\",E22=\"\"),\"\",(AVERAGE(C22:E22)))","v":""},{"$f":"IF(OR(B22=\"\",F22=\"\"),\"\",ABS(F22-B22))","v":""},{"$f":"IF(G22=\"\",\"\",IF(ROUND(ABS(G22),2)<=0.3,100,IF(ROUND(ABS(G22),2)<=0.34,98,IF(ROUND(ABS(G22),2)<=0.39,95,IF(ROUND(ABS(G22),2)<=0.46,90,IF(ROUND(ABS(G22),2)<=0.55,85,75))))))","v":""}]
[]
[null,"Check Test Gradation",null,null,null,null,"Binder Content "]
["Sieve","Grams","Percent","Percent"]
["Size","Retained","Retained","Passing"]
["2 \"",null,{"$f":"IF(B27=\"\",\"\",((B27/B41)*100))","v":""},{"$f":"IF(B27=\"\",\"\",(100-C27))","v":""}]
["1 1/2 \"",null,{"$f":"IF(B28=\"\",\"\",(B28/B41)*(100))","v":""},""]
["1 \"",null,{"$f":"IF(B29=\"\",\"\",(B29/B41)*(100))","v":""},""]
["3/4 \"",null,{"$f":"IF(B30=\"\",\"\",(B30/B41)*(100))","v":""},""]
["1/2 \" ",null,{"$f":"IF(B31=\"\",\"\",(B31/B41)*(100))","v":""},"",null,null,"As Tested % AC:"]
["3/8 \"",null,{"$f":"IF(B32=\"\",\"\",(B32/B41)*(100))","v":""},"",null,null,"Act. % AC for Verif.:",null,{"$f":"IF(I31=\"\",\"\",I31-'Accept. Grad. # 4'!G46)","v":""}]
["# 4",null,{"$f":"IF(B33=\"\",\"\",(B33/B41)*(100))","v":""},"",null,null,"% AC by Back-Calc. =",null,{"$f":"IF(I42=\"\",\"\",(1.03*(Superpave!J8-I42))/(I42*(Superpave!J8-1.03))*100)","v":""}]
["# 8",null,{"$f":"IF(B34=\"\",\"\",(B34/B41)*(100))","v":""},""]
["# 16",null,{"$f":"IF(B35=\"\",\"\",(B35/B41)*(100))","v":""},"",null,null,null,"Test #1","Test #2"]
["# 30",null,{"$f":"IF(B36=\"\",\"\",(B36/B41)*(100))","v":""},"",null,"Wt. of Mix"]
["# 50",null,{"$f":"IF(B37=\"\",\"\",(B37/B41)*(100))","v":""},"",null,"Cailbration"]
["# 100",null,{"$f":"IF(B38=\"\",\"\",(B38/B41)*(100))","v":""},"",null,"Wt. of Mix + Calibrat.",null,{"$f":"IF(H37=\"\",\"\",H36+H37)","v":""},{"$f":"IF(I37=\"\",\"\",I36+I37)","v":""}]
["# 200",null,{"$f":"IF(B39=\"\",\"\",(B39/B41)*(100))","v":""},"",null,"Final Wt."]
["Pan",null,{"$f":"IF(B40=\"\",\"\",(B40/B41)*(100))","v":""},null,null," Absorbed Water"]
["Total",null,null,null,null,"MSG",null,{"$f":"IF(H39=\"\",\"\",H36/(H38-H39+H40))","v":""},{"$f":"IF(I39=\"\",\"\",I36/(I38-I39+I40))","v":""}]
[null,null,null,null,null,null,null,"Avg. =",{"$f":"IF(ISERROR(AVERAGE(H41:I41)),\"\",AVERAGE(H41:I41))","v":""}]
[null,null,"Weight of Pan and Mixture before Drying"]
["Moisture Content",null,"Weight of Pan and Mixture after Drying"]
["of Mixture",null,"Weight of Pan"]
[null,null,"% Moisture in Mix",null,null,null,{"$f":"IF(G43=\"\",\"\",IF(G43-G45=0,0,(((G43-G45)-(G44-G45))/(G43-G45))*100))","v":""}]

{"sheet":"PG Producer","index":14,"n_rows":33,"n_cols":3,"rows_kept":33,"cut":false,"hidden":false,"merged":[]}
["LAP100201",null,"ATS Asphalt Terminal @ Lexington"]
["LAP100301",null,"BP Amoco @ Whiting, IN"]
["LAP100302",null,"BP @ Calumet"]
["LAP100401",null,"Buckeye Asphalt @ Cincinnati, OH"]
["LAP100803",null,"Carrollton River Terminal @ Carrollton"]
["LAP100501",null,"Citgo Asphalt @ Bristol, VA"]
["LAP101404",null,"Phillips 66 @ Wood River, IL"]
["LAP101301",null,"Phillips 66 @ Knoxville, TN"]
["LAP100601",null,"Ergon @ Nashville, TN"]
["LAP100901",null,"Ergon @ Parsons, TN"]
["LAP100701",null,"Greater Cin. Asphalt Term @ Cin., OH"]
["LAP100702",null,"Greater Cin. Asphalt Term II @ Cin., OH"]
["LAP100801",null,"Hinkle Asphalt @ Avon"]
["LAP100802",null,"Hinkle @ Sommerset"]
["LAP101001",null,"Marathon @ Ashland"]
["LAP101002",null,"Marathon @ Big Sandy"]
["LAP101004",null,"Marathon @ Cane Run Louisville"]
["LAP101008",null,"Marathon @ Cincinnati, OH"]
["LAP101007",null,"Marathon @ Knoxville, TN"]
["LAP101005",null,"Marathon @ Kuttawa"]
["LAP101009",null,"Marathon @ Mt. Vernon, IN"]
["LAP101006",null,"Marathon @ Nashville, TN"]
["LAP101003",null,"Marathon @ North Bend, OH"]
["LAP101901",null,"Middleport Terminal @ Gallipolis, OH"]
["LAP101101",null,"Midwest Terminal @ Paducah"]
["LAP100902",null,"Semgroup @ Memphis, TN"]
["LAP100903",null,"Asphalt Materials @ Warsaw, IN"]
["LAP101801",null,"Seneca Petroleum @ Lemont, IL"]
["LAP101201",null,"Shelbyville Asphalt Terminal @ Shelbyville"]
["LAP101102",null,"S & Y Terminal @ Owensboro"]
["LAP101401",null,"Phillips 66 (Tanco Clark Maritime) @ Jeffersonville, IN"]
["LAP101501",null,"Terry Asphalt @ Hamilton, OH"]
["LAP101402",null,"Trumbull Asphalt @ Granite City, IL"]

{"sheet":"Producer supplier","index":15,"n_rows":117,"n_cols":8,"rows_kept":117,"cut":false,"hidden":true,"merged":[]}
[]
[null,"AMP090108","American Asphalt of West Virginia@ Kenova",null,null,null,null,{"$f":"VLOOKUP('Pay Values'!D6,'Producer supplier'!B2:C118,2,FALSE)","v":{"$error":"#N/A"}}]
[null,"AMP070101      ","ATS @ Lexington (Old Frankfort Pike)-Batch (#14)"]
[null,"AMP070303      ","ATS @ Lexington (Old Frankfort Pike)-Drum (#16)"]
[null,"AMP070201      ","ATS @ Lexington (Old Richmond Road) (#15)"]
[null,"AMP070309      ","ATS @ Lexington (Old Richmond Road) (#17)"]
[null,"AMP060402      ","Barrett Paving @ Wilder"]
[null,"AMP070304","Bluegrass Contracting @ Garrard Co"]
[null,"AMP060301      ","Bluegrass Paving @ Florence"]
[null,"AMP030310","Charles DeWeese Construction @ Franklin"]
[null,"AMP040301      ","IMI Corydon Stone & Asphalt @ Corydon Indiana"]
[null,"AMP020301      ","E & B Paving @ Chandler Indiana"]
[null,"AMP090303","Eaton Ashpalt Paving @ Maysville"]
[null,"AMP060307      ","Eaton Asphalt Paving @ Richwood"]
[null,"AMP060308      ","Eaton Asphalt Paving @ Sanfordtown"]
[null,"AMP090102      ","Flemingsburg Materials @ Flemingsburg"]
[null,"AMP050302      ","Flynn Brothers Contracting @ Louisville"]
[null,"AMP050309","Flynn Brothers Brooks Plant @ Shepherdsville"]
[null,"AMP050303      ","Frankfort Materials @ Frankfort"]
[null,"AMP080101      ","Gaddie Shamrock @ Albany"]
[null,"AMP080402    ","Gaddie Shamrock @ Columbia Plant 1 "]
[null,"AMP080301      ","Gaddie Shamrock, LLC @ Columbia Plant 2 (Drum)"]
[null,"AMP020101      ","Greenville Quarries @ Greenville"]
[null,"AMP070305      ","Hamilton & Hinkle @ Georgetown (Drum #1)"]
[null,"AMP050311","Hall Contracting @ Shepherdsville"]
[null,"AMP040302      ","Haydon Materials @ Greensburg "]
[null,"AMP040303      ","Haydon Materials @ Lebanon"]
[null,"AMP080305      ","Hinkle Contracting @ Bethelridge"]
[null,"AMP100201      ","Hinkle Contracting @ Bowen"]
[null,"AMP100301","Hinkle Contracting @ Cave Run Stone"]
[null,"AMP110201      ","Hinkle Contracting @ Flat Lick"]
[null,"AMP100401      ","Hinkle Contracting @ Jackson"]
[null,"AMP110204      ","Hinkle Contracting @ Middlesboro"]
[null,"AMP090103      ","Hinkle Contracting @ Morehead (Batch)"]
[null,"AMP070306      ","Hinkle Contracting @ Paris"]
[null,"AMP100101      ","Hinkle Contracting @ Pomp"]
[null,"AMP100402      ","Hinkle Contracting @ Ravenna"]
[null,"AMP080304      ","Hinkle Contracting @ Somerset (Drum)"]
[null,"AMP080303      ","Hinkle Contracting @ Tateville"]
[null,"AMP020302      ","J H Rudolph @ Evansville Indiana "]
[null,"AMP020308","J H Rudolph @ Henderson"]
[null,"AMP020304      ","J H Rudolph @ St Croix Indiana"]
[null,"AMP010301      ","Jim Smith Contracting @ Graves County (Hickory)"]
[null,"AMP010101      ","Jim Smith Contracting @ Lake City (Batch)"]
[null,"AMP010302      ","Jim Smith Contracting @ Lake City (Drum)"]
[null,"AMP010303      ","Jim Smith Contracting @ Paducah"]
[null,"AMP060306","Len Riegler Blacktop @ Florence"]
[null,"AMP110501      ","L-G Materials @ Corbin"]
[null,"AMP110502      ","L-G Materials @ Fariston"]
[null,"AMP110202      ","L-G Materials @ Manchester"]
[null,"AMP110203      ","L-G Materials @ McKee"]
[null,"AMP080302      ","L-G Materials @ Mount Vernon"]
[null,"AMP110302      ","L-G Materials @ Pittsburg"]
[null,"AMP080306","L-G Materials @ Shopville"]
[null,"AMP110305      ","L-G Materials @ Williamsburg "]
[null,"AMP050308      ","Louisville Paving @ Brownsboro"]
[null,"AMP050301      ","Louisville Paving @ Middletown"]
[null,"AMP050401      ","Louisville Paving @ Shepherdsville"]
[null,"AMP050101      ","Mac Construction & Excavating @ Jeffersonville IN"]
[null,"AMP020103      ","Madisonville Paving @ Madisonville"]
[null,"AMP040310      ","Mago Construction @ Bardstown (Drum)"]
[null,"AMP060303      ","Mago Construction @ Butler"]
[null,"AMP040102      ","Mago Construction @ Hardinsburg"]
[null,"AMP070102      ","Mago Construction @ Harrodsburg"]
[null,"AMP040103      ","Mago Construction @ Irvington"]
[null,"AMP050306      ","Mago Construction @ Lockport"]
[null,"AMP080103      ","Mago Construction @ Monticello"]
[null,"AMP050307      ","Mago Construction @ Shepherdsville"]
[null,"AMP070103      ","Mago Construction @ Tyrone"]
[null,"AMP090104      ","Maysville Materials @ Maysville"]
[null,"AMP090302      ","Mountain Enterprises @ Ashland"]
[null,"AMP120307      ","Mountain Enterprises @ Cumberland"]
[null,"AMP090105      ","Mountain Enterprises @ Grassy Creek"]
[null,"AMP110101      ","Mountain Enterprises @ Harlan"]
[null,"AMP100303     ","Mountain Enterprises @ Hazard"]
[null,"AMP120102      ","Mountain Enterprises @ Inez"]
[null,"AMP120301      ","Mountain Enterprises @ Jenkins"]
[null,"AMP120306      ","Mountain Enterprises @ Louisa"]
[null,"AMP120302      ","Mountain Enterprises @ Martin"]
[null,"AMP090107     ","Mountain Enterprises @ Olive Hill (Batch)"]
[null,"AMP120304      ","Mountain Enterprises @ Shelbiana"]
[null,"AMP010102      ","Murray Paving @ Murray (Batch)"]
[null,"AMP010307   ","Murray Paving @ Murray (Drum)"]
[null,"AMP060304      ","Ohio Valley Asphalt @ Carrollton"]
[null,"AMP020303      ","Owensboro Paving @ Owensboro (Drum)"]
[null,"AMP020307","Owensboro Paving @ Owensboro (Drum #2)"]
[null,"AMP020305","Pennyrile Asphalt @ Hopkinsville (Drum)"]
[null,"AMP050202","Riverside Paving @ Louisville"]
[null,"AMP010305","Rogers Group @ Canton"]
[null,"AMP020105      ","Rogers Group @ Henderson"]
[null,"AMP020306     ","Rogers Group @ Hopkinsville (Drum)"]
[null,"AMP010306      ","Rogers Group @ Marion (Drum)"]
[null,"AMP030311","Scottys Contracting @ Bowling Green (North)"]
[null,"AMP030303      ","Scottys Contracting @ Bowling Green (South)"]
[null,"AMP040311","Scottys Contracting @ Horse Cave"]
[null,"AMP030305      ","Scottys Contracting @ Glasgow (\"Rambo\")"]
[null,"AMP030301      ","Scottys Contracting @ Glasgow"]
[null,"AMP020309      ","Scottys Contracting @ Hartford"]
[null,"AMP040308","Scottys Contracting @ Leitchfield (Drum #3)"]
[null,"AMP020310","Scottys Contracting @ Madisonville (\"Rocky\")"]
[null,"AMP030306      ","Scottys Contracting @ Russellville"]
[null,"AMP030309      ","Scottys Contracting @ Scottsville "]
[null,"AMP030307      ","Scottys Contracting @ Tompkinsville (\"Top Gun\")"]
[null,"AMP040304","Scottys Contracting @ Vine Grove"]
[null,"AMP030304      ","Scottys Contracting @ Woodburn (\"Boll Weevil\")"]
[null,"AMP040309      ","Scottys Contracting @ Upton (\"Rolling Thunder\")"]
[null,"AMP050304      ","IMI Sellersburg Stone @ Sellersburg Indiana"]
[null,"AMP050102      ","Shelbyville Asphalt @ Shelbyville"]
[null,"AMP070301      ","The Allen Company @ Berea"]
[null,"AMP070302      ","The Allen Company @ Boonesborough"]
[null,"AMP110306","The Allen Company @ Clover Bottom"]
[null,"AMP070311","The Allen Company @ Danville (Drum)"]
[null,"AMP070307      ","The Allen Company Lexington Quarry @ Nicholasville"]
[null,"AMP100302      ","The Walker Company @ Frenchburg"]
[null,"AMP070308      ","The Walker Company @ Mount Sterling"]
[null,"AMP060106","Valley Asphalt @ Cincinnati"]
[null,"AMP060310","Valley Asphalt @ Cleves, OH"]

{"sheet":".45 Data","index":16,"n_rows":107,"n_cols":35,"rows_kept":107,"cut":false,"hidden":true,"merged":[[54,23,54,28],[54,29,54,34],[37,11,37,16],[37,17,37,22],[54,11,54,16],[54,17,54,22]]}
["Gradation Control Points (Chart Data )",null,null,null,null,null,null,null,null,null,null,null,1,2,3,4,5,14]
[1,1,2,2,3,3,4,4,5,5,14,14,5.8148230317277987,5.8148230317277987,5.8148230317277987,5.8148230317277987,5.8148230317277987,5.8148230317277987]
[50,100,37.5,100,25,100,19,100,12.5,100,12.5,100,5.8148230317277987,5.8148230317277987,5.8148230317277987,5.8148230317277987,5.8148230317277987,5.8148230317277987]
[37.5,100,25,100,19,100,12.5,100,9.5,100,9.5,100,5.8148230317277987,5.8148230317277987,5.8148230317277987,5.8148230317277987,5.8148230317277987,5.1087431744234335]
[37.5,90,25,90,19,90,12.5,90,9.5,90,9.5,95,5.8148230317277987,5.8148230317277987,5.8148230317277987,5.8148230317277987,5.8148230317277987,5.1087431744234335,null,{"$f":"50^0.45","v":5.8148230317277987}]
[25,90,19,90,12.5,90,9.5,90,4.75,90,4.75,100,5.8148230317277987,5.8148230317277987,5.8148230317277987,5.8148230317277987,5.1087431744234335,4.2566996126039234,null,50]
[2.36,41,2.36,45,2.36,49,2.36,58,2.36,67,4.75,90,5.8148230317277987,5.8148230317277987,5.8148230317277987,5.8148230317277987,5.1087431744234335,4.2566996126039234,null,50]
[2.36,15,2.36,19,2.36,23,2.36,28,2.36,32,1.18,60,5.8148230317277987,5.8148230317277987,5.8148230317277987,5.1087431744234335,4.2566996126039234,3.7621761023862978,null,{"$f":"37.5^0.45","v":5.1087431744234335}]
[7.4999999999999997E-2,6,7.4999999999999997E-2,7,7.4999999999999997E-2,8,7.4999999999999997E-2,10,7.4999999999999997E-2,10,1.18,30,5.8148230317277987,5.8148230317277987,5.8148230317277987,5.1087431744234335,4.2566996126039234,3.7621761023862978,null,{"$f":"25^0.45","v":4.2566996126039234}]
[7.4999999999999997E-2,0,7.4999999999999997E-2,1,7.4999999999999997E-2,2,7.4999999999999997E-2,2,7.4999999999999997E-2,2,7.4999999999999997E-2,12,5.8148230317277987,5.1087431744234335,5.1087431744234335,4.2566996126039234,3.7621761023862978,3.116086507375345,null,{"$f":"19^0.45","v":3.7621761023862978}]
[null,null,null,null,null,null,null,null,null,null,7.4999999999999997E-2,6,5.8148230317277987,5.1087431744234335,5.1087431744234335,4.2566996126039234,3.7621761023862978,3.116086507375345,null,{"$f":"12.5^0.45","v":3.116086507375345}]
[null,null,null,null,null,null,null,null,null,null,null,null,5.1087431744234335,4.2566996126039234,4.2566996126039234,3.7621761023862978,3.116086507375345,2.754074108566122,null,{"$f":"9.5^0.45","v":2.754074108566122}]
[null,null,null,null,null,null,null,null,null,null,null,null,5.1087431744234335,4.2566996126039234,4.2566996126039234,3.7621761023862978,3.116086507375345,2.754074108566122,null,{"$f":"2.36^0.45","v":1.4716698795820382}]
[null,null,null,null,null,null,null,null,null,null,null,null,4.2566996126039234,3.7621761023862978,3.7621761023862978,3.116086507375345,2.754074108566122,2.0161002539629291,null,{"$f":"1.18^0.45","v":1.0773254099250416}]
[null,null,null,null,null,null,null,null,null,null,null,null,4.2566996126039234,3.7621761023862978,3.7621761023862978,3.116086507375345,2.754074108566122,2.0161002539629291,null,0.6,null,{"$f":"4.75^0.45","v":2.0161002539629291}]
[null,null,null,null,null,null,null,null,null,null,null,null,2.0161002539629291,2.0161002539629291,3.116086507375345,2.754074108566122,2.0161002539629291,1.4716698795820382,null,0.3]
[null,null,null,null,null,null,null,null,null,null,null,null,2.0161002539629291,2.0161002539629291,3.116086507375345,2.754074108566122,2.0161002539629291,1.4716698795820382,null,7.4999999999999997E-2]
[null,null,null,null,null,null,null,null,null,null,null,null,1.4716698795820382,1.4716698795820382,1.4716698795820382,1.4716698795820382,1.4716698795820382,1.0773254099250416]
[null,null,null,null,null,null,null,null,null,null,null,null,1.4716698795820382,1.4716698795820382,1.4716698795820382,1.4716698795820382,1.4716698795820382,1.0773254099250416]
[null,null,null,null,null,null,null,null,null,null,null,null,1.0773254099250416,1.0773254099250416,1.0773254099250416,1.0773254099250416,1.0773254099250416,0.79463568224020453]
[null,null,null,null,null,null,null,null,null,null,null,null,1.0773254099250416,1.0773254099250416,1.0773254099250416,1.0773254099250416,1.0773254099250416,0.79463568224020453]
[null,null,null,null,null,null,null,null,null,null,null,null,0.79463568224020453,0.79463568224020453,0.79463568224020453,0.79463568224020453,0.79463568224020453,0.58170736792793831]
[null,null,null,null,null,null,null,null,null,null,null,null,0.79463568224020453,0.79463568224020453,0.79463568224020453,0.79463568224020453,0.79463568224020453,0.58170736792793831]
[null,null,null,null,null,null,null,null,null,null,null,null,0.58170736792793831,0.58170736792793831,0.58170736792793831,0.58170736792793831,0.58170736792793831]
[null,null,null,null,null,null,null,null,null,null,null,null,0.58170736792793831,0.58170736792793831,0.58170736792793831,0.58170736792793831,0.58170736792793831]
[null,null,null,null,null,null,null,null,null,null,null,null,0.31172925995349998,0.31172925995349998,0.31172925995349998,0.31172925995349998,0.31172925995349998,0.31172925995349998]
["Mix Type",{"$f":"Calculations!J1","v":0},null,null,null,null,null,null,null,null,null,null,0.31172925995349998,0.31172925995349998,0.31172925995349998,0.31172925995349998,0.31172925995349998,0.31172925995349998]
[]
[]
[1,2,3,4,5,14]
[50,37.5,25,19,12.5,12.5]
[]
["Maximum Density Line "]
[0,{"$f":"A34^0.45","v":0},0]
[{"$f":"HLOOKUP(B27,A30:E31,2)","v":{"$error":"#N/A"}},{"$f":"A35^0.45","v":{"$error":"#N/A"}},100]
[]
[]
["SUBLOT # 1",null,null,null,null,null,null,null,null,null,null,"Sieve Sizes",null,null,null,null,null,"SIEVE SIZES"]
["Sieve","TEST JMF","Opening","Opening^0.45","Control Points",null,null,"X-Plot","Y-Plot",null,null,1,2,3,4,5,14,1,2,3,4,5,14]
[{"$f":"HLOOKUP(B27,L39:Q52,2)","v":{"$error":"#N/A"}},{"$f":"HLOOKUP(B27,L56:Q69,2)","v":{"$error":"#N/A"}},{"$f":"HLOOKUP(B27,R39:W52,2)","v":{"$error":"#N/A"}},{"$f":"C40^0.45","v":{"$error":"#N/A"}},null,null,null,{"$f":"HLOOKUP(B27,M1:R27,2)","v":{"$error":"#N/A"}},0,null,null,"2 \"","2 \"","2 \"","2 \"","2 \"","2 \"",50,50,50,50,50,50]
[{"$f":"HLOOKUP(B27,L39:Q52,3)","v":{"$error":"#N/A"}},{"$f":"HLOOKUP(B27,L56:Q69,3)","v":{"$error":"#N/A"}},{"$f":"HLOOKUP(B27,R39:W52,3)","v":{"$error":"#N/A"}},{"$f":"C41^0.45","v":{"$error":"#N/A"}},{"$f":"HLOOKUP(B27,A2:L11,2,FALSE)","v":{"$error":"#N/A"}},{"$f":"E41^0.45","v":{"$error":"#N/A"}},{"$f":"IF(HLOOKUP(B27,A2:L11,2,TRUE),HLOOKUP(B27,A2:L11,2,TRUE))","v":{"$error":"#N/A"}},{"$f":"HLOOKUP(B27,M1:R27,3)","v":{"$error":"#N/A"}},100,null,null,"2 \"","2 \"","2 \"","2 \"","2 \"","1 1/2\"",50,50,50,50,50,37.5]
[{"$f":"HLOOKUP(B27,L39:Q52,4)","v":{"$error":"#N/A"}},{"$f":"HLOOKUP(B27,L56:Q69,4)","v":{"$error":"#N/A"}},{"$f":"HLOOKUP(B27,R39:W52,4)","v":{"$error":"#N/A"}},{"$error":"#N/A"},{"$f":"HLOOKUP(B27,A2:L11,3,FALSE)","v":{"$error":"#N/A"}},{"$f":"E42^0.45","v":{"$error":"#N/A"}},{"$f":"IF(HLOOKUP(B27,A2:L11,3,TRUE),HLOOKUP(B27,A2:L11,3,TRUE))","v":{"$error":"#N/A"}},{"$f":"HLOOKUP(B27,M1:R27,4)","v":{"$error":"#N/A"}},null,null,null,"2 \"","2 \"","2 \"","2 \"","1 1/2 \"","1 \"",50,50,50,50,37.5,25]
[{"$f":"HLOOKUP(B27,L39:Q52,5)","v":{"$error":"#N/A"}},{"$f":"HLOOKUP(B27,L56:Q69,5)","v":{"$error":"#N/A"}},{"$f":"HLOOKUP(B27,R39:W52,5)","v":{"$error":"#N/A"}},{"$error":"#N/A"},{"$f":"HLOOKUP(B27,A2:L11,4,FALSE)","v":{"$error":"#N/A"}},{"$error":"#N/A"},{"$f":"IF(HLOOKUP(B27,A2:L11,4,TRUE),HLOOKUP(B27,A2:L11,4,TRUE))","v":{"$error":"#N/A"}},{"$f":"HLOOKUP(B27,M1:R27,5)","v":{"$error":"#N/A"}},null,null,null,"2 \"","2 \"","2 \"","1 1/2 \"","1 \"","3/4 \"",50,50,50,37.5,25,19]
[{"$f":"HLOOKUP(B27,L39:Q52,6)","v":{"$error":"#N/A"}},{"$f":"HLOOKUP(B27,L56:Q69,6)","v":{"$error":"#N/A"}},{"$f":"HLOOKUP(B27,R39:W52,6)","v":{"$error":"#N/A"}},{"$error":"#N/A"},{"$f":"HLOOKUP(B27,A2:L11,5,FALSE)","v":{"$error":"#N/A"}},{"$error":"#N/A"},{"$f":"IF(HLOOKUP(B27,A2:L11,5,TRUE),HLOOKUP(B27,A2:L11,5,TRUE))","v":{"$error":"#N/A"}},{"$f":"HLOOKUP(B27,M1:R27,6)","v":{"$error":"#N/A"}},null,null,null,"2 \"","1 1/2 \"","1 1/2 \"","1 \"","3/4 \"","1/2 \"",50,37.5,37.5,25,19,12.5]
[{"$f":"HLOOKUP(B27,L39:Q52,7)","v":{"$error":"#N/A"}},{"$f":"HLOOKUP(B27,L56:Q69,7)","v":{"$error":"#N/A"}},{"$f":"HLOOKUP(B27,R39:W52,7)","v":{"$error":"#N/A"}},{"$error":"#N/A"},{"$f":"HLOOKUP(B27,A2:L11,6,FALSE)","v":{"$error":"#N/A"}},{"$error":"#N/A"},{"$f":"IF(HLOOKUP(B27,A2:L11,6,TRUE),HLOOKUP(B27,A2:L11,6,TRUE))","v":{"$error":"#N/A"}},{"$f":"HLOOKUP(B27,M1:R27,7)","v":{"$error":"#N/A"}},null,null,null,"1 1/2 \"","1 \"","1 \"","3/4 \"","1/2 \"","3/8 \"",37.5,25,25,19,12.5,9.5]
[{"$f":"HLOOKUP(B27,L39:Q52,8)","v":{"$error":"#N/A"}},{"$f":"HLOOKUP(B27,L56:Q69,8)","v":{"$error":"#N/A"}},{"$f":"HLOOKUP(B27,R39:W52,8)","v":{"$error":"#N/A"}},{"$error":"#N/A"},{"$f":"HLOOKUP(B27,A2:L11,7,FALSE)","v":{"$error":"#N/A"}},{"$error":"#N/A"},{"$f":"IF(HLOOKUP(B27,A2:L11,7,TRUE),HLOOKUP(B27,A2:L11,7,TRUE))","v":{"$error":"#N/A"}},{"$f":"HLOOKUP(B27,M1:R27,8)","v":{"$error":"#N/A"}},null,null,null,"1 \"","3/4 \"","3/4 \"","1/2 \"","3/8 \"","#4",25,19,19,12.5,9.5,4.75]
[{"$f":"HLOOKUP(B27,L39:Q52,9)","v":{"$error":"#N/A"}},{"$f":"HLOOKUP(B27,L56:Q69,9)","v":{"$error":"#N/A"}},{"$f":"HLOOKUP(B27,R39:W52,9)","v":{"$error":"#N/A"}},{"$error":"#N/A"},{"$f":"HLOOKUP(B27,A2:L11,8,FALSE)","v":{"$error":"#N/A"}},{"$error":"#N/A"},{"$f":"IF(HLOOKUP(B27,A2:L11,8,TRUE),HLOOKUP(B27,A2:L11,8,TRUE))","v":{"$error":"#N/A"}},{"$f":"HLOOKUP(B27,M1:R27,9)","v":{"$error":"#N/A"}},null,null,null,"#4","#4","1/2 \"","3/8 \"","#4","#8",4.75,4.75,12.5,9.5,4.75,2.36]
[{"$f":"HLOOKUP(B27,L39:Q52,10)","v":{"$error":"#N/A"}},{"$f":"HLOOKUP(B27,L56:Q69,10)","v":{"$error":"#N/A"}},{"$f":"HLOOKUP(B27,R39:W52,10)","v":{"$error":"#N/A"}},{"$error":"#N/A"},{"$f":"HLOOKUP(B27,A2:L11,9,FALSE)","v":{"$error":"#N/A"}},{"$error":"#N/A"},{"$f":"IF(HLOOKUP(B27,A2:L11,9,TRUE),HLOOKUP(B27,A2:L11,9,TRUE))","v":{"$error":"#N/A"}},{"$f":"HLOOKUP(B27,M1:R27,10)","v":{"$error":"#N/A"}},null,null,null,"#8","#8","#8","#8","#8","#16",2.36,2.36,2.36,2.36,2.36,1.18]
[{"$f":"HLOOKUP(B27,L39:Q52,11)","v":{"$error":"#N/A"}},{"$f":"HLOOKUP(B27,L56:Q69,11)","v":{"$error":"#N/A"}},{"$f":"HLOOKUP(B27,R39:W52,11)","v":{"$error":"#N/A"}},{"$error":"#N/A"},{"$f":"HLOOKUP(B27,A2:L11,10,FALSE)","v":{"$error":"#N/A"}},{"$error":"#N/A"},{"$f":"IF(HLOOKUP(B27,A2:L11,10,TRUE),HLOOKUP(B27,A2:L11,10,TRUE))","v":{"$error":"#N/A"}},{"$f":"HLOOKUP(B27,M1:R27,11)","v":{"$error":"#N/A"}},null,null,null,"#16","#16","#16","#16","#16","#30",1.18,1.18,1.18,1.18,1.18,0.6]
[{"$f":"HLOOKUP(B27,L39:Q52,12)","v":{"$error":"#N/A"}},{"$f":"HLOOKUP(B27,L56:Q69,12)","v":{"$error":"#N/A"}},{"$f":"HLOOKUP(B27,R39:W52,12)","v":{"$error":"#N/A"}},{"$error":"#N/A"},null,null,null,{"$f":"HLOOKUP(B27,M1:R27,12)","v":{"$error":"#N/A"}},null,null,null,"#30","#30","#30","#30","#30","#50",0.6,0.6,0.6,0.6,0.6,0.3]
[{"$f":"HLOOKUP(B27,L39:Q52,13)","v":{"$error":"#N/A"}},{"$f":"HLOOKUP(B27,L56:Q69,13)","v":{"$error":"#N/A"}},{"$f":"HLOOKUP(B27,R39:W52,13)","v":{"$error":"#N/A"}},{"$error":"#N/A"},null,null,null,{"$f":"HLOOKUP(B27,M1:R27,13)","v":{"$error":"#N/A"}},null,null,null,"#50","#50","#50","#50","#50","#100",0.3,0.3,0.3,0.3,0.3,0.15]
[{"$f":"HLOOKUP(B27,L39:Q52,14)","v":{"$error":"#N/A"}},{"$f":"HLOOKUP(B27,L56:Q69,14)","v":{"$error":"#N/A"}},{"$f":"HLOOKUP(B27,R39:W52,14)","v":{"$error":"#N/A"}},{"$error":"#N/A"},null,null,null,{"$f":"HLOOKUP(B27,M1:R27,14)","v":{"$error":"#N/A"}},null,null,null,"#200","#200","#200","#200","#200","#200",7.4999999999999997E-2,7.4999999999999997E-2,7.4999999999999997E-2,7.4999999999999997E-2,7.4999999999999997E-2,7.4999999999999997E-2]
[null,{"$f":"IF(B52>=99,100,0)","v":{"$error":"#N/A"}},0,0,null,null,null,{"$f":"HLOOKUP(B27,M1:R27,15)","v":{"$error":"#N/A"}}]
[null,null,null,null,null,null,null,{"$f":"HLOOKUP(B27,M1:R27,16)","v":{"$error":"#N/A"}}]
[null,null,null,null,null,null,null,{"$f":"HLOOKUP(B27,M1:R27,17)","v":{"$error":"#N/A"}},null,null,null,"Gradation Lot #1",null,null,null,null,null,"Gradation Lot #2",null,null,null,null,null,"Gradation Lot #3",null,null,null,null,null,"Gradation Lot #4"]
["SUBLOT # 2",null,null,null,null,null,null,{"$f":"HLOOKUP(B27,M1:R27,18)","v":{"$error":"#N/A"}},null,null,null,1,2,3,4,5,14,1,2,3,4,5,14,1,2,3,4,5,14,1,2,3,4,5,14]
["Sieve","TEST JMF","Opening","Opening^0.45",null,null,null,{"$f":"HLOOKUP(B27,M1:R27,19)","v":{"$error":"#N/A"}},null,null,null,{"$f":"IF(Gradation!C10=\"\",100,(100-Gradation!C10))","v":100},{"$f":"IF(Gradation!C10=\"\",100,(100-Gradation!C10))","v":100},{"$f":"IF(Gradation!C10=\"\",100,(100-Gradation!C10))","v":100},{"$f":"IF(Gradation!C10=\"\",100,(100-Gradation!C10))","v":100},{"$f":"IF(Gradation!C10=\"\",100,(100-Gradation!C10))","v":100},{"$f":"IF(Gradation!C10=\"\",100,(100-Gradation!C10))","v":100},{"$f":"IF(Gradation!F10=\"\",100,(100-Gradation!F10))","v":100},{"$f":"IF(Gradation!F10=\"\",100,(100-Gradation!F10))","v":100},{"$f":"IF(Gradation!F10=\"\",100,(100-Gradation!F10))","v":100},{"$f":"IF(Gradation!F10=\"\",100,(100-Gradation!F10))","v":100},{"$f":"IF(Gradation!F10=\"\",100,(100-Gradation!F10))","v":100},{"$f":"IF(Gradation!F10=\"\",100,(100-Gradation!F10))","v":100},{"$f":"IF(Gradation!I10=\"\",100,(100-Gradation!I10))","v":100},{"$f":"IF(Gradation!I10=\"\",100,(100-Gradation!I10))","v":100},{"$f":"IF(Gradation!I10=\"\",100,(100-Gradation!I10))","v":100},{"$f":"IF(Gradation!I10=\"\",100,(100-Gradation!I10))","v":100},{"$f":"IF(Gradation!I10=\"\",100,(100-Gradation!I10))","v":100},{"$f":"IF(Gradation!I10=\"\",100,(100-Gradation!I10))","v":100},{"$f":"IF(Gradation!L10=\"\",100,(100-Gradation!L10))","v":100},{"$f":"IF(Gradation!L10=\"\",100,(100-Gradation!L10))","v":100},{"$f":"IF(Gradation!L10=\"\",100,(100-Gradation!L10))","v":100},{"$f":"IF(Gradation!L10=\"\",100,(100-Gradation!L10))","v":100},{"$f":"IF(Gradation!L10=\"\",100,(100-Gradation!L10))","v":100},{"$f":"IF(Gradation!L10=\"\",100,(100-Gradation!L10))","v":100}]
[{"$f":"HLOOKUP(B27,L39:Q52,2)","v":{"$error":"#N/A"}},{"$f":"HLOOKUP(B27,R56:W69,2)","v":{"$error":"#N/A"}},{"$f":"HLOOKUP(B27,R39:W52,2)","v":{"$error":"#N/A"}},{"$f":"C58^0.45","v":{"$error":"#N/A"}},null,null,null,{"$f":"HLOOKUP(B27,M1:R27,20)","v":{"$error":"#N/A"}},null,null,null,{"$f":"IF(Gradation!C10=\"\",100,(100-Gradation!C10))","v":100},{"$f":"IF(Gradation!C10=\"\",100,(100-Gradation!C10))","v":100},{"$f":"IF(Gradation!C10=\"\",100,(100-Gradation!C10))","v":100},{"$f":"IF(Gradation!C10=\"\",100,(100-Gradation!C10))","v":100},{"$f":"IF(Gradation!C10=\"\",100,(100-Gradation!C10))","v":100},{"$f":"IF(Gradation!C11=\"\",100,(100-Gradation!C11))","v":100},{"$f":"IF(Gradation!F10=\"\",100,(100-Gradation!F10))","v":100},{"$f":"IF(Gradation!F10=\"\",100,(100-Gradation!F10))","v":100},{"$f":"IF(Gradation!F10=\"\",100,(100-Gradation!F10))","v":100},{"$f":"IF(Gradation!F10=\"\",100,(100-Gradation!F10))","v":100},{"$f":"IF(Gradation!F10=\"\",100,(100-Gradation!F10))","v":100},{"$f":"IF(Gradation!F11=\"\",100,(100-Gradation!F11))","v":100},{"$f":"IF(Gradation!I10=\"\",100,(100-Gradation!I10))","v":100},{"$f":"IF(Gradation!I10=\"\",100,(100-Gradation!I10))","v":100},{"$f":"IF(Gradation!I10=\"\",100,(100-Gradation!I10))","v":100},{"$f":"IF(Gradation!I10=\"\",100,(100-Gradation!I10))","v":100},{"$f":"IF(Gradation!I10=\"\",100,(100-Gradation!I10))","v":100},{"$f":"IF(Gradation!I11=\"\",100,(100-Gradation!I11))","v":100},{"$f":"IF(Gradation!L10=\"\",100,(100-Gradation!L10))","v":100},{"$f":"IF(Gradation!L10=\"\",100,(100-Gradation!L10))","v":100},{"$f":"IF(Gradation!L10=\"\",100,(100-Gradation!L10))","v":100},{"$f":"IF(Gradation!L10=\"\",100,(100-Gradation!L10))","v":100},{"$f":"IF(Gradation!L10=\"\",100,(100-Gradation!L10))","v":100},{"$f":"IF(Gradation!L11=\"\",100,(100-Gradation!L11))","v":100}]
[{"$f":"HLOOKUP(B27,L39:Q52,3)","v":{"$error":"#N/A"}},{"$f":"HLOOKUP(B27,R56:W69,3)","v":{"$error":"#N/A"}},{"$f":"HLOOKUP(B27,R39:W52,3)","v":{"$error":"#N/A"}},{"$f":"C59^0.45","v":{"$error":"#N/A"}},null,null,null,{"$f":"HLOOKUP(B27,M1:R27,21)","v":{"$error":"#N/A"}},null,null,null,{"$f":"IF(Gradation!C10=\"\",100,(100-Gradation!C10))","v":100},{"$f":"IF(Gradation!C10=\"\",100,(100-Gradation!C10))","v":100},{"$f":"IF(Gradation!C10=\"\",100,(100-Gradation!C10))","v":100},{"$f":"IF(Gradation!C10=\"\",100,(100-Gradation!C10))","v":100},{"$f":"IF(Gradation!C11=\"\",100,(100-Gradation!C11))","v":100},{"$f":"IF(Gradation!C12=\"\",100,(100-Gradation!C12))","v":100},{"$f":"IF(Gradation!F10=\"\",100,(100-Gradation!F10))","v":100},{"$f":"IF(Gradation!F10=\"\",100,(100-Gradation!F10))","v":100},{"$f":"IF(Gradation!F10=\"\",100,(100-Gradation!F10))","v":100},{"$f":"IF(Gradation!F10=\"\",100,(100-Gradation!F10))","v":100},{"$f":"IF(Gradation!F11=\"\",100,(100-Gradation!F11))","v":100},{"$f":"IF(Gradation!F12=\"\",100,(100-Gradation!F12))","v":100},{"$f":"IF(Gradation!I10=\"\",100,(100-Gradation!I10))","v":100},{"$f":"IF(Gradation!I10=\"\",100,(100-Gradation!I10))","v":100},{"$f":"IF(Gradation!I10=\"\",100,(100-Gradation!I10))","v":100},{"$f":"IF(Gradation!I10=\"\",100,(100-Gradation!I10))","v":100},{"$f":"IF(Gradation!I11=\"\",100,(100-Gradation!I11))","v":100},{"$f":"IF(Gradation!I12=\"\",100,(100-Gradation!I12))","v":100},{"$f":"IF(Gradation!L10=\"\",100,(100-Gradation!L10))","v":100},{"$f":"IF(Gradation!L10=\"\",100,(100-Gradation!L10))","v":100},{"$f":"IF(Gradation!L10=\"\",100,(100-Gradation!L10))","v":100},{"$f":"IF(Gradation!L10=\"\",100,(100-Gradation!L10))","v":100},{"$f":"IF(Gradation!L11=\"\",100,(100-Gradation!L11))","v":100},{"$f":"IF(Gradation!L12=\"\",100,(100-Gradation!L12))","v":100}]
[{"$f":"HLOOKUP(B27,L39:Q52,4)","v":{"$error":"#N/A"}},{"$f":"HLOOKUP(B27,R56:W69,4)","v":{"$error":"#N/A"}},{"$f":"HLOOKUP(B27,R39:W52,4)","v":{"$error":"#N/A"}},{"$error":"#N/A"},null,null,null,{"$f":"HLOOKUP(B27,M1:R27,22)","v":{"$error":"#N/A"}},null,null,null,{"$f":"IF(Gradation!C10=\"\",100,(100-Gradation!C10))","v":100},{"$f":"IF(Gradation!C10=\"\",100,(100-Gradation!C10))","v":100},{"$f":"IF(Gradation!C10=\"\",100,(100-Gradation!C10))","v":100},{"$f":"IF(Gradation!C11=\"\",100,(100-Gradation!C11))","v":100},{"$f":"IF(Gradation!C12=\"\",100,(100-Gradation!C12))","v":100},{"$f":"IF(Gradation!C13=\"\",100,(100-Gradation!C13))","v":100},{"$f":"IF(Gradation!F10=\"\",100,(100-Gradation!F10))","v":100},{"$f":"IF(Gradation!F10=\"\",100,(100-Gradation!F10))","v":100},{"$f":"IF(Gradation!F10=\"\",100,(100-Gradation!F10))","v":100},{"$f":"IF(Gradation!F11=\"\",100,(100-Gradation!F11))","v":100},{"$f":"IF(Gradation!F12=\"\",100,(100-Gradation!F12))","v":100},{"$f":"IF(Gradation!F13=\"\",100,(100-Gradation!F13))","v":100},{"$f":"IF(Gradation!I10=\"\",100,(100-Gradation!I10))","v":100},{"$f":"IF(Gradation!I10=\"\",100,(100-Gradation!I10))","v":100},{"$f":"IF(Gradation!I10=\"\",100,(100-Gradation!I10))","v":100},{"$f":"IF(Gradation!I11=\"\",100,(100-Gradation!I11))","v":100},{"$f":"IF(Gradation!I12=\"\",100,(100-Gradation!I12))","v":100},{"$f":"IF(Gradation!I13=\"\",100,(100-Gradation!I13))","v":100},{"$f":"IF(Gradation!L10=\"\",100,(100-Gradation!L10))","v":100},{"$f":"IF(Gradation!L10=\"\",100,(100-Gradation!L10))","v":100},{"$f":"IF(Gradation!L10=\"\",100,(100-Gradation!L10))","v":100},{"$f":"IF(Gradation!L11=\"\",100,(100-Gradation!L11))","v":100},{"$f":"IF(Gradation!L12=\"\",100,(100-Gradation!L12))","v":100},{"$f":"IF(Gradation!L13=\"\",100,(100-Gradation!L13))","v":100}]
[{"$f":"HLOOKUP(B27,L39:Q52,5)","v":{"$error":"#N/A"}},{"$f":"HLOOKUP(B27,R56:W69,5)","v":{"$error":"#N/A"}},{"$f":"HLOOKUP(B27,R39:W52,5)","v":{"$error":"#N/A"}},{"$error":"#N/A"},null,null,null,{"$f":"HLOOKUP(B27,M1:R27,23)","v":{"$error":"#N/A"}},null,null,null,{"$f":"IF(Gradation!C10=\"\",100,(100-Gradation!C10))","v":100},{"$f":"IF(Gradation!C11=\"\",100,(100-Gradation!C11))","v":100},{"$f":"IF(Gradation!C11=\"\",100,(100-Gradation!C11))","v":100},{"$f":"IF(Gradation!C12=\"\",100,(100-Gradation!C12))","v":100},{"$f":"IF(Gradation!C13=\"\",100,(100-Gradation!C13))","v":100},{"$f":"IF(Gradation!C14=\"\",100,(100-Gradation!C14))","v":100},{"$f":"IF(Gradation!F10=\"\",100,(100-Gradation!F10))","v":100},{"$f":"IF(Gradation!F11=\"\",100,(100-Gradation!F11))","v":100},{"$f":"IF(Gradation!F11=\"\",100,(100-Gradation!F11))","v":100},{"$f":"IF(Gradation!F12=\"\",100,(100-Gradation!F12))","v":100},{"$f":"IF(Gradation!F13=\"\",100,(100-Gradation!F13))","v":100},{"$f":"IF(Gradation!F14=\"\",100,(100-Gradation!F14))","v":100},{"$f":"IF(Gradation!I10=\"\",100,(100-Gradation!I10))","v":100},{"$f":"IF(Gradation!I11=\"\",100,(100-Gradation!I11))","v":100},{"$f":"IF(Gradation!I11=\"\",100,(100-Gradation!I11))","v":100},{"$f":"IF(Gradation!I12=\"\",100,(100-Gradation!I12))","v":100},{"$f":"IF(Gradation!I13=\"\",100,(100-Gradation!I13))","v":100},{"$f":"IF(Gradation!I14=\"\",100,(100-Gradation!I14))","v":100},{"$f":"IF(Gradation!L10=\"\",100,(100-Gradation!L10))","v":100},{"$f":"IF(Gradation!L11=\"\",100,(100-Gradation!L11))","v":100},{"$f":"IF(Gradation!L11=\"\",100,(100-Gradation!L11))","v":100},{"$f":"IF(Gradation!L12=\"\",100,(100-Gradation!L12))","v":100},{"$f":"IF(Gradation!L13=\"\",100,(100-Gradation!L13))","v":100},{"$f":"IF(Gradation!L14=\"\",100,(100-Gradation!L14))","v":100}]
[{"$f":"HLOOKUP(B27,L39:Q52,6)","v":{"$error":"#N/A"}},{"$f":"HLOOKUP(B27,R56:W69,6)","v":{"$error":"#N/A"}},{"$f":"HLOOKUP(B27,R39:W52,6)","v":{"$error":"#N/A"}},{"$error":"#N/A"},null,null,null,{"$f":"HLOOKUP(B27,M1:R27,24)","v":{"$error":"#N/A"}},null,null,null,{"$f":"IF(Gradation!C11=\"\",100,(100-Gradation!C11))","v":100},{"$f":"IF(Gradation!C12=\"\",100,(100-Gradation!C12))","v":100},{"$f":"IF(Gradation!C12=\"\",100,(100-Gradation!C12))","v":100},{"$f":"IF(Gradation!C13=\"\",100,(100-Gradation!C13))","v":100},{"$f":"IF(Gradation!C14=\"\",100,(100-Gradation!C14))","v":100},{"$f":"IF(Gradation!C15=\"\",100,(100-Gradation!C15))","v":100},{"$f":"IF(Gradation!F11=\"\",100,(100-Gradation!F11))","v":100},{"$f":"IF(Gradation!F12=\"\",100,(100-Gradation!F12))","v":100},{"$f":"IF(Gradation!F12=\"\",100,(100-Gradation!F12))","v":100},{"$f":"IF(Gradation!F13=\"\",100,(100-Gradation!F13))","v":100},{"$f":"IF(Gradation!F14=\"\",100,(100-Gradation!F14))","v":100},{"$f":"IF(Gradation!F15=\"\",100,(100-Gradation!F15))","v":100},{"$f":"IF(Gradation!I11=\"\",100,(100-Gradation!I11))","v":100},{"$f":"IF(Gradation!I12=\"\",100,(100-Gradation!I12))","v":100},{"$f":"IF(Gradation!I12=\"\",100,(100-Gradation!I12))","v":100},{"$f":"IF(Gradation!I13=\"\",100,(100-Gradation!I13))","v":100},{"$f":"IF(Gradation!I14=\"\",100,(100-Gradation!I14))","v":100},{"$f":"IF(Gradation!I15=\"\",100,(100-Gradation!I15))","v":100},{"$f":"IF(Gradation!L11=\"\",100,(100-Gradation!L11))","v":100},{"$f":"IF(Gradation!L12=\"\",100,(100-Gradation!L12))","v":100},{"$f":"IF(Gradation!L12=\"\",100,(100-Gradation!L12))","v":100},{"$f":"IF(Gradation!L13=\"\",100,(100-Gradation!L13))","v":100},{"$f":"IF(Gradation!L14=\"\",100,(100-Gradation!L14))","v":100},{"$f":"IF(Gradation!L15=\"\",100,(100-Gradation!L15))","v":100}]
[{"$f":"HLOOKUP(B27,L39:Q52,7)","v":{"$error":"#N/A"}},{"$f":"HLOOKUP(B27,R56:W69,7)","v":{"$error":"#N/A"}},{"$f":"HLOOKUP(B27,R39:W52,7)","v":{"$error":"#N/A"}},{"$error":"#N/A"},null,null,null,{"$f":"HLOOKUP(B27,M1:R27,25)","v":{"$error":"#N/A"}},null,null,null,{"$f":"IF(Gradation!C12=\"\",100,(100-Gradation!C12))","v":100},{"$f":"IF(Gradation!C13=\"\",100,(100-Gradation!C13))","v":100},{"$f":"IF(Gradation!C13=\"\",100,(100-Gradation!C13))","v":100},{"$f":"IF(Gradation!C14=\"\",100,(100-Gradation!C14))","v":100},{"$f":"IF(Gradation!C15=\"\",100,(100-Gradation!C15))","v":100},{"$f":"IF(Gradation!C17=\"\",100,(100-Gradation!C17))","v":100},{"$f":"IF(Gradation!F12=\"\",100,(100-Gradation!F12))","v":100},{"$f":"IF(Gradation!F13=\"\",100,(100-Gradation!F13))","v":100},{"$f":"IF(Gradation!F13=\"\",100,(100-Gradation!F13))","v":100},{"$f":"IF(Gradation!F14=\"\",100,(100-Gradation!F14))","v":100},{"$f":"IF(Gradation!F15=\"\",100,(100-Gradation!F15))","v":100},{"$f":"IF(Gradation!F17=\"\",100,(100-Gradation!F17))","v":100},{"$f":"IF(Gradation!I12=\"\",100,(100-Gradation!I12))","v":100},{"$f":"IF(Gradation!I13=\"\",100,(100-Gradation!I13))","v":100},{"$f":"IF(Gradation!I13=\"\",100,(100-Gradation!I13))","v":100},{"$f":"IF(Gradation!I14=\"\",100,(100-Gradation!I14))","v":100},{"$f":"IF(Gradation!I15=\"\",100,(100-Gradation!I15))","v":100},{"$f":"IF(Gradation!I17=\"\",100,(100-Gradation!I17))","v":100},{"$f":"IF(Gradation!L12=\"\",100,(100-Gradation!L12))","v":100},{"$f":"IF(Gradation!L13=\"\",100,(100-Gradation!L13))","v":100},{"$f":"IF(Gradation!L13=\"\",100,(100-Gradation!L13))","v":100},{"$f":"IF(Gradation!L14=\"\",100,(100-Gradation!L14))","v":100},{"$f":"IF(Gradation!L15=\"\",100,(100-Gradation!L15))","v":100},{"$f":"IF(Gradation!L17=\"\",100,(100-Gradation!L17))","v":100}]
[{"$f":"HLOOKUP(B27,L39:Q52,8)","v":{"$error":"#N/A"}},{"$f":"HLOOKUP(B27,R56:W69,8)","v":{"$error":"#N/A"}},{"$f":"HLOOKUP(B27,R39:W52,8)","v":{"$error":"#N/A"}},{"$error":"#N/A"},null,null,null,{"$f":"HLOOKUP(B27,M1:R27,26)","v":{"$error":"#N/A"}},null,null,null,{"$f":"IF(Gradation!C17=\"\",100,(100-Gradation!C17))","v":100},{"$f":"IF(Gradation!C17=\"\",100,(100-Gradation!C17))","v":100},{"$f":"IF(Gradation!C14=\"\",100,(100-Gradation!C14))","v":100},{"$f":"IF(Gradation!C15=\"\",100,(100-Gradation!C15))","v":100},{"$f":"IF(Gradation!C17=\"\",100,(100-Gradation!C17))","v":100},{"$f":"IF(Gradation!C18=\"\",100,(100-Gradation!C18))","v":100},{"$f":"IF(Gradation!F17=\"\",100,(100-Gradation!F17))","v":100},{"$f":"IF(Gradation!F17=\"\",100,(100-Gradation!F17))","v":100},{"$f":"IF(Gradation!F14=\"\",100,(100-Gradation!F14))","v":100},{"$f":"IF(Gradation!F15=\"\",100,(100-Gradation!F15))","v":100},{"$f":"IF(Gradation!F17=\"\",100,(100-Gradation!F17))","v":100},{"$f":"IF(Gradation!F18=\"\",100,(100-Gradation!F18))","v":100},{"$f":"IF(Gradation!I17=\"\",100,(100-Gradation!I17))","v":100},{"$f":"IF(Gradation!I17=\"\",100,(100-Gradation!I17))","v":100},{"$f":"IF(Gradation!I14=\"\",100,(100-Gradation!I14))","v":100},{"$f":"IF(Gradation!I15=\"\",100,(100-Gradation!I15))","v":100},{"$f":"IF(Gradation!I17=\"\",100,(100-Gradation!I17))","v":100},{"$f":"IF(Gradation!I18=\"\",100,(100-Gradation!I18))","v":100},{"$f":"IF(Gradation!L17=\"\",100,(100-Gradation!L17))","v":100},{"$f":"IF(Gradation!L17=\"\",100,(100-Gradation!L17))","v":100},{"$f":"IF(Gradation!L14=\"\",100,(100-Gradation!L14))","v":100},{"$f":"IF(Gradation!L15=\"\",100,(100-Gradation!L15))","v":100},{"$f":"IF(Gradation!L17=\"\",100,(100-Gradation!L17))","v":100},{"$f":"IF(Gradation!L18=\"\",100,(100-Gradation!L18))","v":100}]
[{"$f":"HLOOKUP(B27,L39:Q52,9)","v":{"$error":"#N/A"}},{"$f":"HLOOKUP(B27,R56:W69,9)","v":{"$error":"#N/A"}},{"$f":"HLOOKUP(B27,R39:W52,9)","v":{"$error":"#N/A"}},{"$error":"#N/A"},null,null,null,{"$f":"HLOOKUP(B27,M1:R27,27)","v":{"$error":"#N/A"}},null,null,null,{"$f":"IF(Gradation!C18=\"\",100,(100-Gradation!C18))","v":100},{"$f":"IF(Gradation!C18=\"\",100,(100-Gradation!C18))","v":100},{"$f":"IF(Gradation!C18=\"\",100,(100-Gradation!C18))","v":100},{"$f":"IF(Gradation!C18=\"\",100,(100-Gradation!C18))","v":100},{"$f":"IF(Gradation!C18=\"\",100,(100-Gradation!C18))","v":100},{"$f":"IF(Gradation!C19=\"\",100,(100-Gradation!C19))","v":100},{"$f":"IF(Gradation!F18=\"\",100,(100-Gradation!F18))","v":100},{"$f":"IF(Gradation!F18=\"\",100,(100-Gradation!F18))","v":100},{"$f":"IF(Gradation!F18=\"\",100,(100-Gradation!F18))","v":100},{"$f":"IF(Gradation!F18=\"\",100,(100-Gradation!F18))","v":100},{"$f":"IF(Gradation!F18=\"\",100,(100-Gradation!F18))","v":100},{"$f":"IF(Gradation!F19=\"\",100,(100-Gradation!F19))","v":100},{"$f":"IF(Gradation!I18=\"\",100,(100-Gradation!I18))","v":100},{"$f":"IF(Gradation!I18=\"\",100,(100-Gradation!I18))","v":100},{"$f":"IF(Gradation!I18=\"\",100,(100-Gradation!I18))","v":100},{"$f":"IF(Gradation!I18=\"\",100,(100-Gradation!I18))","v":100},{"$f":"IF(Gradation!I18=\"\",100,(100-Gradation!I18))","v":100},{"$f":"IF(Gradation!I19=\"\",100,(100-Gradation!I19))","v":100},{"$f":"IF(Gradation!L18=\"\",100,(100-Gradation!L18))","v":100},{"$f":"IF(Gradation!L18=\"\",100,(100-Gradation!L18))","v":100},{"$f":"IF(Gradation!L18=\"\",100,(100-Gradation!L18))","v":100},{"$f":"IF(Gradation!L18=\"\",100,(100-Gradation!L18))","v":100},{"$f":"IF(Gradation!L18=\"\",100,(100-Gradation!L18))","v":100},{"$f":"IF(Gradation!L19=\"\",100,(100-Gradation!L19))","v":100}]
[{"$f":"HLOOKUP(B27,L39:Q52,10)","v":{"$error":"#N/A"}},{"$f":"HLOOKUP(B27,R56:W69,10)","v":{"$error":"#N/A"}},{"$f":"HLOOKUP(B27,R39:W52,10)","v":{"$error":"#N/A"}},{"$error":"#N/A"},null,null,null,null,null,null,null,{"$f":"IF(Gradation!C19=\"\",100,(100-Gradation!C19))","v":100},{"$f":"IF(Gradation!C19=\"\",100,(100-Gradation!C19))","v":100},{"$f":"IF(Gradation!C19=\"\",100,(100-Gradation!C19))","v":100},{"$f":"IF(Gradation!C19=\"\",100,(100-Gradation!C19))","v":100},{"$f":"IF(Gradation!C19=\"\",100,(100-Gradation!C19))","v":100},{"$f":"IF(Gradation!C20=\"\",100,(100-Gradation!C20))","v":100},{"$f":"IF(Gradation!F19=\"\",100,(100-Gradation!F19))","v":100},{"$f":"IF(Gradation!F19=\"\",100,(100-Gradation!F19))","v":100},{"$f":"IF(Gradation!F19=\"\",100,(100-Gradation!F19))","v":100},{"$f":"IF(Gradation!F19=\"\",100,(100-Gradation!F19))","v":100},{"$f":"IF(Gradation!F19=\"\",100,(100-Gradation!F19))","v":100},{"$f":"IF(Gradation!F20=\"\",100,(100-Gradation!F20))","v":100},{"$f":"IF(Gradation!I19=\"\",100,(100-Gradation!I19))","v":100},{"$f":"IF(Gradation!I19=\"\",100,(100-Gradation!I19))","v":100},{"$f":"IF(Gradation!I19=\"\",100,(100-Gradation!I19))","v":100},{"$f":"IF(Gradation!I19=\"\",100,(100-Gradation!I19))","v":100},{"$f":"IF(Gradation!I19=\"\",100,(100-Gradation!I19))","v":100},{"$f":"IF(Gradation!I20=\"\",100,(100-Gradation!I20))","v":100},{"$f":"IF(Gradation!L19=\"\",100,(100-Gradation!L19))","v":100},{"$f":"IF(Gradation!L19=\"\",100,(100-Gradation!L19))","v":100},{"$f":"IF(Gradation!L19=\"\",100,(100-Gradation!L19))","v":100},{"$f":"IF(Gradation!L19=\"\",100,(100-Gradation!L19))","v":100},{"$f":"IF(Gradation!L19=\"\",100,(100-Gradation!L19))","v":100},{"$f":"IF(Gradation!L20=\"\",100,(100-Gradation!L20))","v":100}]
[{"$f":"HLOOKUP(B27,L39:Q52,11)","v":{"$error":"#N/A"}},{"$f":"HLOOKUP(B27,R56:W69,11)","v":{"$error":"#N/A"}},{"$f":"HLOOKUP(B27,R39:W52,11)","v":{"$error":"#N/A"}},{"$error":"#N/A"},null,null,null,null,null,null,null,{"$f":"IF(Gradation!C20=\"\",100,(100-Gradation!C20))","v":100},{"$f":"IF(Gradation!C20=\"\",100,(100-Gradation!C20))","v":100},{"$f":"IF(Gradation!C20=\"\",100,(100-Gradation!C20))","v":100},{"$f":"IF(Gradation!C20=\"\",100,(100-Gradation!C20))","v":100},{"$f":"IF(Gradation!C20=\"\",100,(100-Gradation!C20))","v":100},{"$f":"IF(Gradation!C21=\"\",100,(100-Gradation!C21))","v":100},{"$f":"IF(Gradation!F20=\"\",100,(100-Gradation!F20))","v":100},{"$f":"IF(Gradation!F20=\"\",100,(100-Gradation!F20))","v":100},{"$f":"IF(Gradation!F20=\"\",100,(100-Gradation!F20))","v":100},{"$f":"IF(Gradation!F20=\"\",100,(100-Gradation!F20))","v":100},{"$f":"IF(Gradation!F20=\"\",100,(100-Gradation!F20))","v":100},{"$f":"IF(Gradation!F21=\"\",100,(100-Gradation!F21))","v":100},{"$f":"IF(Gradation!I20=\"\",100,(100-Gradation!I20))","v":100},{"$f":"IF(Gradation!I20=\"\",100,(100-Gradation!I20))","v":100},{"$f":"IF(Gradation!I20=\"\",100,(100-Gradation!I20))","v":100},{"$f":"IF(Gradation!I20=\"\",100,(100-Gradation!I20))","v":100},{"$f":"IF(Gradation!I20=\"\",100,(100-Gradation!I20))","v":100},{"$f":"IF(Gradation!I21=\"\",100,(100-Gradation!I21))","v":100},{"$f":"IF(Gradation!L20=\"\",100,(100-Gradation!L20))","v":100},{"$f":"IF(Gradation!L20=\"\",100,(100-Gradation!L20))","v":100},{"$f":"IF(Gradation!L20=\"\",100,(100-Gradation!L20))","v":100},{"$f":"IF(Gradation!L20=\"\",100,(100-Gradation!L20))","v":100},{"$f":"IF(Gradation!L20=\"\",100,(100-Gradation!L20))","v":100},{"$f":"IF(Gradation!L21=\"\",100,(100-Gradation!L21))","v":100}]
[{"$f":"HLOOKUP(B27,L39:Q52,12)","v":{"$error":"#N/A"}},{"$f":"HLOOKUP(B27,R56:W69,12)","v":{"$error":"#N/A"}},{"$f":"HLOOKUP(B27,R39:W52,12)","v":{"$error":"#N/A"}},{"$error":"#N/A"},null,null,null,null,null,null,null,{"$f":"IF(Gradation!C21=\"\",100,(100-Gradation!C21))","v":100},{"$f":"IF(Gradation!C21=\"\",100,(100-Gradation!C21))","v":100},{"$f":"IF(Gradation!C21=\"\",100,(100-Gradation!C21))","v":100},{"$f":"IF(Gradation!C21=\"\",100,(100-Gradation!C21))","v":100},{"$f":"IF(Gradation!C21=\"\",100,(100-Gradation!C21))","v":100},{"$f":"IF(Gradation!C22=\"\",100,(100-Gradation!C22))","v":100},{"$f":"IF(Gradation!F21=\"\",100,(100-Gradation!F21))","v":100},{"$f":"IF(Gradation!F21=\"\",100,(100-Gradation!F21))","v":100},{"$f":"IF(Gradation!F21=\"\",100,(100-Gradation!F21))","v":100},{"$f":"IF(Gradation!F21=\"\",100,(100-Gradation!F21))","v":100},{"$f":"IF(Gradation!F21=\"\",100,(100-Gradation!F21))","v":100},{"$f":"IF(Gradation!F22=\"\",100,(100-Gradation!F22))","v":100},{"$f":"IF(Gradation!I21=\"\",100,(100-Gradation!I21))","v":100},{"$f":"IF(Gradation!I21=\"\",100,(100-Gradation!I21))","v":100},{"$f":"IF(Gradation!I21=\"\",100,(100-Gradation!I21))","v":100},{"$f":"IF(Gradation!I21=\"\",100,(100-Gradation!I21))","v":100},{"$f":"IF(Gradation!I21=\"\",100,(100-Gradation!I21))","v":100},{"$f":"IF(Gradation!I22=\"\",100,(100-Gradation!I22))","v":100},{"$f":"IF(Gradation!L21=\"\",100,(100-Gradation!L21))","v":100},{"$f":"IF(Gradation!L21=\"\",100,(100-Gradation!L21))","v":100},{"$f":"IF(Gradation!L21=\"\",100,(100-Gradation!L21))","v":100},{"$f":"IF(Gradation!L21=\"\",100,(100-Gradation!L21))","v":100},{"$f":"IF(Gradation!L21=\"\",100,(100-Gradation!L21))","v":100},{"$f":"IF(Gradation!L22=\"\",100,(100-Gradation!L22))","v":100}]
[{"$f":"HLOOKUP(B27,L39:Q52,13)","v":{"$error":"#N/A"}},{"$f":"HLOOKUP(B27,R56:W69,13)","v":{"$error":"#N/A"}},{"$f":"HLOOKUP(B27,R39:W52,13)","v":{"$error":"#N/A"}},{"$error":"#N/A"},null,null,null,null,null,null,null,{"$f":"IF(Gradation!C23=\"\",100,(100-Gradation!C23))","v":100},{"$f":"IF(Gradation!C23=\"\",100,(100-Gradation!C23))","v":100},{"$f":"IF(Gradation!C23=\"\",100,(100-Gradation!C23))","v":100},{"$f":"IF(Gradation!C23=\"\",100,(100-Gradation!C23))","v":100},{"$f":"IF(Gradation!C23=\"\",100,(100-Gradation!C23))","v":100},{"$f":"IF(Gradation!C23=\"\",100,(100-Gradation!C23))","v":100},{"$f":"IF(Gradation!F23=\"\",100,(100-Gradation!F23))","v":100},{"$f":"IF(Gradation!F23=\"\",100,(100-Gradation!F23))","v":100},{"$f":"IF(Gradation!F23=\"\",100,(100-Gradation!F23))","v":100},{"$f":"IF(Gradation!F23=\"\",100,(100-Gradation!F23))","v":100},{"$f":"IF(Gradation!F23=\"\",100,(100-Gradation!F23))","v":100},{"$f":"IF(Gradation!F23=\"\",100,(100-Gradation!F23))","v":100},{"$f":"IF(Gradation!I23=\"\",100,(100-Gradation!I23))","v":100},{"$f":"IF(Gradation!I23=\"\",100,(100-Gradation!I23))","v":100},{"$f":"IF(Gradation!I23=\"\",100,(100-Gradation!I23))","v":100},{"$f":"IF(Gradation!I23=\"\",100,(100-Gradation!I23))","v":100},{"$f":"IF(Gradation!I23=\"\",100,(100-Gradation!I23))","v":100},{"$f":"IF(Gradation!I23=\"\",100,(100-Gradation!I23))","v":100},{"$f":"IF(Gradation!L23=\"\",100,(100-Gradation!L23))","v":100},{"$f":"IF(Gradation!L23=\"\",100,(100-Gradation!L23))","v":100},{"$f":"IF(Gradation!L23=\"\",100,(100-Gradation!L23))","v":100},{"$f":"IF(Gradation!L23=\"\",100,(100-Gradation!L23))","v":100},{"$f":"IF(Gradation!L23=\"\",100,(100-Gradation!L23))","v":100},{"$f":"IF(Gradation!L23=\"\",100,(100-Gradation!L23))","v":100}]
[{"$f":"HLOOKUP(B27,L39:Q52,14)","v":{"$error":"#N/A"}},{"$f":"HLOOKUP(B27,R56:W69,14)","v":{"$error":"#N/A"}},{"$f":"HLOOKUP(B27,R39:W52,14)","v":{"$error":"#N/A"}},{"$error":"#N/A"}]
[null,{"$f":"IF(B70>=99,100,0)","v":{"$error":"#N/A"}},0,0]
[]
[]
["SUBLOT # 3"]
["Sieve","TEST JMF","Opening","Opening^0.45"]
[{"$f":"HLOOKUP(B27,L39:Q52,2)","v":{"$error":"#N/A"}},{"$f":"HLOOKUP(B27,X56:AC69,2)","v":{"$error":"#N/A"}},{"$f":"HLOOKUP(B27,R39:W52,2)","v":{"$error":"#N/A"}},{"$f":"C76^0.45","v":{"$error":"#N/A"}}]
[{"$f":"HLOOKUP(B27,L39:Q52,3)","v":{"$error":"#N/A"}},{"$f":"HLOOKUP(B27,X56:AC69,3)","v":{"$error":"#N/A"}},{"$f":"HLOOKUP(B27,R39:W52,3)","v":{"$error":"#N/A"}},{"$f":"C77^0.45","v":{"$error":"#N/A"}}]
[{"$f":"HLOOKUP(B27,L39:Q52,4)","v":{"$error":"#N/A"}},{"$f":"HLOOKUP(B27,X56:AC69,4)","v":{"$error":"#N/A"}},{"$f":"HLOOKUP(B27,R39:W52,4)","v":{"$error":"#N/A"}},{"$error":"#N/A"}]
[{"$f":"HLOOKUP(B27,L39:Q52,5)","v":{"$error":"#N/A"}},{"$f":"HLOOKUP(B27,X56:AC69,5)","v":{"$error":"#N/A"}},{"$f":"HLOOKUP(B27,R39:W52,5)","v":{"$error":"#N/A"}},{"$error":"#N/A"}]
[{"$f":"HLOOKUP(B27,L39:Q52,6)","v":{"$error":"#N/A"}},{"$f":"HLOOKUP(B27,X56:AC69,6)","v":{"$error":"#N/A"}},{"$f":"HLOOKUP(B27,R39:W52,6)","v":{"$error":"#N/A"}},{"$error":"#N/A"}]
[{"$f":"HLOOKUP(B27,L39:Q52,7)","v":{"$error":"#N/A"}},{"$f":"HLOOKUP(B27,X56:AC69,7)","v":{"$error":"#N/A"}},{"$f":"HLOOKUP(B27,R39:W52,7)","v":{"$error":"#N/A"}},{"$error":"#N/A"}]
[{"$f":"HLOOKUP(B27,L39:Q52,8)","v":{"$error":"#N/A"}},{"$f":"HLOOKUP(B27,X56:AC69,8)","v":{"$error":"#N/A"}},{"$f":"HLOOKUP(B27,R39:W52,8)","v":{"$error":"#N/A"}},{"$error":"#N/A"}]
[{"$f":"HLOOKUP(B27,L39:Q52,9)","v":{"$error":"#N/A"}},{"$f":"HLOOKUP(B27,X56:AC69,9)","v":{"$error":"#N/A"}},{"$f":"HLOOKUP(B27,R39:W52,9)","v":{"$error":"#N/A"}},{"$error":"#N/A"}]
[{"$f":"HLOOKUP(B27,L39:Q52,10)","v":{"$error":"#N/A"}},{"$f":"HLOOKUP(B27,X56:AC69,10)","v":{"$error":"#N/A"}},{"$f":"HLOOKUP(B27,R39:W52,10)","v":{"$error":"#N/A"}},{"$error":"#N/A"}]
[{"$f":"HLOOKUP(B27,L39:Q52,11)","v":{"$error":"#N/A"}},{"$f":"HLOOKUP(B27,X56:AC69,11)","v":{"$error":"#N/A"}},{"$f":"HLOOKUP(B27,R39:W52,11)","v":{"$error":"#N/A"}},{"$error":"#N/A"}]
[{"$f":"HLOOKUP(B27,L39:Q52,12)","v":{"$error":"#N/A"}},{"$f":"HLOOKUP(B27,X56:AC69,12)","v":{"$error":"#N/A"}},{"$f":"HLOOKUP(B27,R39:W52,12)","v":{"$error":"#N/A"}},{"$error":"#N/A"}]
[{"$f":"HLOOKUP(B27,L39:Q52,13)","v":{"$error":"#N/A"}},{"$f":"HLOOKUP(B27,X56:AC69,13)","v":{"$error":"#N/A"}},{"$f":"HLOOKUP(B27,R39:W52,13)","v":{"$error":"#N/A"}},{"$error":"#N/A"}]
[{"$f":"HLOOKUP(B27,L39:Q52,14)","v":{"$error":"#N/A"}},{"$f":"HLOOKUP(B27,X56:AC69,14)","v":{"$error":"#N/A"}},{"$f":"HLOOKUP(B27,R39:W52,14)","v":{"$error":"#N/A"}},{"$error":"#N/A"}]
[null,{"$f":"IF(B88>=99,100,0)","v":{"$error":"#N/A"}},0,0]
[]
[]
["SUBLOT # 4"]
["Sieve","TEST JMF","Opening","Opening^0.45"]
[{"$f":"HLOOKUP(B27,L39:Q52,2)","v":{"$error":"#N/A"}},{"$f":"HLOOKUP(B27,AD56:AI69,2)","v":{"$error":"#N/A"}},{"$f":"HLOOKUP(B27,R39:W52,2)","v":{"$error":"#N/A"}},{"$f":"C94^0.45","v":{"$error":"#N/A"}}]
[{"$f":"HLOOKUP(B27,L39:Q52,3)","v":{"$error":"#N/A"}},{"$f":"HLOOKUP(B27,AD56:AI69,3)","v":{"$error":"#N/A"}},{"$f":"HLOOKUP(B27,R39:W52,3)","v":{"$error":"#N/A"}},{"$f":"C95^0.45","v":{"$error":"#N/A"}}]
[{"$f":"HLOOKUP(B27,L39:Q52,4)","v":{"$error":"#N/A"}},{"$f":"HLOOKUP(B27,AD56:AI69,4)","v":{"$error":"#N/A"}},{"$f":"HLOOKUP(B27,R39:W52,4)","v":{"$error":"#N/A"}},{"$error":"#N/A"}]
[{"$f":"HLOOKUP(B27,L39:Q52,5)","v":{"$error":"#N/A"}},{"$f":"HLOOKUP(B27,AD56:AI69,5)","v":{"$error":"#N/A"}},{"$f":"HLOOKUP(B27,R39:W52,5)","v":{"$error":"#N/A"}},{"$error":"#N/A"}]
[{"$f":"HLOOKUP(B27,L39:Q52,6)","v":{"$error":"#N/A"}},{"$f":"HLOOKUP(B27,AD56:AI69,6)","v":{"$error":"#N/A"}},{"$f":"HLOOKUP(B27,R39:W52,6)","v":{"$error":"#N/A"}},{"$error":"#N/A"}]
[{"$f":"HLOOKUP(B27,L39:Q52,7)","v":{"$error":"#N/A"}},{"$f":"HLOOKUP(B27,AD56:AI69,7)","v":{"$error":"#N/A"}},{"$f":"HLOOKUP(B27,R39:W52,7)","v":{"$error":"#N/A"}},{"$error":"#N/A"}]
[{"$f":"HLOOKUP(B27,L39:Q52,8)","v":{"$error":"#N/A"}},{"$f":"HLOOKUP(B27,AD56:AI69,8)","v":{"$error":"#N/A"}},{"$f":"HLOOKUP(B27,R39:W52,8)","v":{"$error":"#N/A"}},{"$error":"#N/A"}]
[{"$f":"HLOOKUP(B27,L39:Q52,9)","v":{"$error":"#N/A"}},{"$f":"HLOOKUP(B27,AD56:AI69,9)","v":{"$error":"#N/A"}},{"$f":"HLOOKUP(B27,R39:W52,9)","v":{"$error":"#N/A"}},{"$error":"#N/A"}]
[{"$f":"HLOOKUP(B27,L39:Q52,10)","v":{"$error":"#N/A"}},{"$f":"HLOOKUP(B27,AD56:AI69,10)","v":{"$error":"#N/A"}},{"$f":"HLOOKUP(B27,R39:W52,10)","v":{"$error":"#N/A"}},{"$error":"#N/A"}]
[{"$f":"HLOOKUP(B27,L39:Q52,11)","v":{"$error":"#N/A"}},{"$f":"HLOOKUP(B27,AD56:AI69,11)","v":{"$error":"#N/A"}},{"$f":"HLOOKUP(B27,R39:W52,11)","v":{"$error":"#N/A"}},{"$error":"#N/A"}]
[{"$f":"HLOOKUP(B27,L39:Q52,12)","v":{"$error":"#N/A"}},{"$f":"HLOOKUP(B27,AD56:AI69,12)","v":{"$error":"#N/A"}},{"$f":"HLOOKUP(B27,R39:W52,12)","v":{"$error":"#N/A"}},{"$error":"#N/A"}]
[{"$f":"HLOOKUP(B27,L39:Q52,13)","v":{"$error":"#N/A"}},{"$f":"HLOOKUP(B27,AD56:AI69,13)","v":{"$error":"#N/A"}},{"$f":"HLOOKUP(B27,R39:W52,13)","v":{"$error":"#N/A"}},{"$error":"#N/A"}]
[{"$f":"HLOOKUP(B27,L39:Q52,14)","v":{"$error":"#N/A"}},{"$f":"HLOOKUP(B27,AD56:AI69,14)","v":{"$error":"#N/A"}},{"$f":"HLOOKUP(B27,R39:W52,14)","v":{"$error":"#N/A"}},{"$error":"#N/A"}]
[null,{"$f":"IF(B106>=99,100,0)","v":{"$error":"#N/A"}},0,0]

{"sheet":"Performance Specimens","index":17,"n_rows":58,"n_cols":15,"rows_kept":58,"cut":false,"hidden":false,"merged":[[8,11,9,14],[10,11,11,14],[17,7,17,8],[19,6,19,8],[22,2,22,3],[22,4,22,5],[22,6,22,8],[23,2,23,3],[23,4,23,5],[23,6,23,8],[24,2,24,3],[24,4,24,5],[24,6,24,8],[25,2,25,3],[25,4,25,5],[25,6,25,8],[25,13,25,14],[26,2,26,3],[26,4,26,5],[26,6,26,8],[26,13,26,14],[29,6,29,8],[27,2,27,3],[27,4,27,5],[27,6,27,8],[27,13,27,14],[28,2,28,3],[28,4,28,5],[28,6,28,8]]}
[]
["Kentucky Transportation Cabinet, Department of Highways, Division of Materials"]
["Asphalt Mixtures Testing Section"]
["1227 Wilkinson Boulevard, Frankfort, KY  40601-1226"]
[]
[]
["Performance Specimen Fabrication Results"]
[]
["SAMPLE ID #:",{"$f":"IF('Pay Values'!B3=\"\",\"\",'Pay Values'!B3)","v":""},null,null,null,"COUNTY:",null,{"$f":"IF('Pay Values'!I3=\"\",\"\",'Pay Values'!I3)","v":""},null,"TYPE OF MIX.:",null,{"$f":"IF('Pay Values'!B5=\"\",\"\",'Pay Values'!B5)","v":""}]
[]
["PROJ. #:",{"$f":"IF('Pay Values'!B4=\"\",\"\",'Pay Values'!B4)","v":""},null,null,null,"LAB:",null,{"$f":"IF('Pay Values'!I5=\"\",\"\",'Pay Values'!I5)","v":""},null,"CONTR. & LOC.:",null,{"$f":"IF('Pay Values'!C6=\"\",\"\",'Pay Values'!C6)","v":{"$error":"#N/A"}}]
[]
["BIND. GRADE:",{"$f":"IF(Calculations!E147=\"\",\"\",Calculations!E147)","v":{"$error":"#N/A"}},null,null,null,"MADE WITH:"]
["(as per bid item)"]
["BIND. SOURCE:",{"$f":"IF('Pay Values'!B46=\"\",\"\",'Pay Values'!B46)","v":""},null,null,null,null,null,null,null,null,"Test Specimen Results"]
[null,null,null,null,null,null,null,null,null,null,"Sample Identification"]
[{"$f":"IF(B33=150,\"Performance specimens are to be compacted to a\",\"TSR specimens are to be compacted by the\")","v":"Performance specimens are to be compacted to a"},null,null,null,null,null,"% AC:","% ADDITIVE:",null,null,"Sample Aggregate Weight (g)"]
[{"$f":"IF(B33=150,\"height of 62.0 mm with a target air void percentage\",\"amount of blows that will yeild 7.0% (+ or - 1.0%)\")","v":"height of 62.0 mm with a target air void percentage"},null,null,null,null,null,null,null,null,null,"Grams of Asphalt Binder (g)",null,null,{"$f":"IF(N17=\"\",\"\",(($G$18)*N17)/(100-($G$18)))","v":""},{"$f":"IF(O17=\"\",\"\",(($G$18)*O17)/(100-($G$18)))","v":""}]
[{"$f":"IF(B33=150,\"of 7.0 % (+ or - 0.5 %).\",\"air voids.  The target degree of initial saturation\")","v":"of 7.0 % (+ or - 0.5 %)."},null,null,null,null,null,"TYPE OF ADDITIVE:",null,null,null,"Dry Weight in Air (g)"]
[{"$f":"IF(B33=150,\"\",\"is 65.0% (+ or - 5.0%)\")","v":""},null,null,null,null,null,null,null,null,null,"Weight in Water (g)"]
[null,null,null,null,null,null,null,null,null,null,"SSD Weight (g)"]
["Process",null,"Date:",null,"Time:",null,null,"By:",null,null,"Bulk Volume (cm3)",null,null,{"$f":"IF(N21=\"\",\"\",N21-N20)","v":""},{"$f":"IF(O21=\"\",\"\",O21-O20)","v":""}]
["Silo Storage Time:",null,null,null,null,null,null,null,null,null,"Bulk Specific Gravity",null,null,{"$f":"IF(N22=\"\",\"\",(N19/N22))","v":""},{"$f":"IF(O22=\"\",\"\",(O19/O22))","v":""}]
["Mix Sampled:",null,null,null,null,null,null,null,null,null,"Maximum Specific Gravity",null,null,null,{"$f":"IF(N24=\"\",\"\",N24)","v":""}]
["Specimens Made:",null,null,null,null,null,null,null,null,null,"% Air Voids",null,null,{"$f":"IF(N21=\"\",\"\",(100*(N24-N23)/N24))","v":""},{"$f":"IF(O21=\"\",\"\",(100*(O24-O23)/O24))","v":""}]
["Specimens Bulked:",null,null,null,null,null,null,null,null,null,"Target % Air Voids",null,null,{"$f":"IF(N24=\"\",\"\",7)","v":""}]
["CT Specimens in 77 °F Bath:",null,null,null,null,null,null,null,null,null,"Target Aggregate Weight (g)",null,null,{"$f":"IF($N$21=\"\",\"\",(N17+(((N25-N26)/(N25-O25))*(O17-N17))))","v":""}]
["CT Specimens Broken:",null,null,null,null,null,null,null,null,null,"Asphalt Binder (g)",null,null,{"$f":"IF(N27=\"\",\"\",(($G$18)*N27)/(100-($G$18)))","v":""}]
["Hamburg Specimens in Bath:"]
["Hamburg Specimens Run:"]
[]
["Sample ID",1,2,3,4,5,6,"Average",7,8,9,10,11,12,"Average"]
["Diameter (mm)",150,{"$f":"$B$33","v":150},{"$f":"$B$33","v":150},{"$f":"$B$33","v":150},{"$f":"$B$33","v":150},{"$f":"$B$33","v":150},null,{"$f":"$B$33","v":150},150,150,150,150,150]
["Thickness (mm)"]
["Dry Weight (g)"]
["SSD Weight (g)"]
["Wt. in Water (g)"]
["Volume (cm3)",{"$f":"IF(B36=\"\",\"\",B36-B37)","v":""},"","","","","",null,{"$f":"IF(I36=\"\",\"\",I36-I37)","v":""},"","","","",""]
["Bulk Spec. Gravity",{"$f":"IF(B38=\"\",\"\",(B35/B38))","v":""},"","","","","",null,{"$f":"IF(I38=\"\",\"\",(I35/I38))","v":""},"","","","",""]
["Max. Sp. Gravity",null,{"$f":"IF(C37=\"\",\"\",$B$40)","v":""},{"$f":"IF(D37=\"\",\"\",$B$40)","v":""},{"$f":"IF(E37=\"\",\"\",$B$40)","v":""},{"$f":"IF(F37=\"\",\"\",$B$40)","v":""},{"$f":"IF(G37=\"\",\"\",$B$40)","v":""},null,{"$f":"IF(I37=\"\",\"\",$B$40)","v":""},"","","","",""]
["% Air Voids",{"$f":"IF(B39=\"\",\"\",(100*(B40-B39)/B40))","v":""},"","","","","",{"$f":"IF(B41=\"\",\"\",(AVERAGE(B41:G41)))","v":""},{"$f":"IF(I39=\"\",\"\",(100*(I40-I39)/I40))","v":""},"","","","","",{"$f":"IF(I41=\"\",\"\",(AVERAGE(I41:N41)))","v":""}]
[]
["REMARKS:"]
[]
[]
[]
["Sample ID",1,2,3,4,5,6,"Average",7,8,9,10,11,12,"Average"]
["Diameter (mm)",150,{"$f":"$B$33","v":150},{"$f":"$B$33","v":150},{"$f":"$B$33","v":150},{"$f":"$B$33","v":150},{"$f":"$B$33","v":150},null,{"$f":"$B$33","v":150},150,150,150,150,150]
["Thickness (mm)"]
["Dry Weight (g)"]
["SSD Weight (g)"]
["Wt. in Water (g)"]
["Volume (cm3)",{"$f":"IF(B51=\"\",\"\",B51-B52)","v":""},"","","","","",null,{"$f":"IF(I51=\"\",\"\",I51-I52)","v":""},"","","","",""]
["Bulk Spec. Gravity",{"$f":"IF(B53=\"\",\"\",(B50/B53))","v":""},"","","","","",null,{"$f":"IF(I53=\"\",\"\",(I50/I53))","v":""},"","","","",""]
["Max. Sp. Gravity",null,{"$f":"IF(C52=\"\",\"\",$B$40)","v":""},{"$f":"IF(D52=\"\",\"\",$B$40)","v":""},{"$f":"IF(E52=\"\",\"\",$B$40)","v":""},{"$f":"IF(F52=\"\",\"\",$B$40)","v":""},{"$f":"IF(G52=\"\",\"\",$B$40)","v":""},null,{"$f":"IF(I52=\"\",\"\",$B$40)","v":""},"","","","",""]
["% Air Voids",{"$f":"IF(B54=\"\",\"\",(100*(B55-B54)/B55))","v":""},"","","","","",{"$f":"IF(B56=\"\",\"\",(AVERAGE(B56:G56)))","v":""},{"$f":"IF(I54=\"\",\"\",(100*(I55-I54)/I55))","v":""},"","","","","",{"$f":"IF(I56=\"\",\"\",(AVERAGE(I56:N56)))","v":""}]
[]
["REMARKS:"]

{"sheet":"KYCT Data Sublot # 1","index":18,"n_rows":1031,"n_cols":25,"rows_kept":1031,"cut":false,"hidden":false,"merged":[[0,3,0,13],[3,1,3,15],[26,0,26,15],[27,0,27,1],[27,2,27,3],[27,4,27,5],[27,6,27,7],[27,8,27,9],[27,10,27,11],[27,12,27,13],[27,14,27,15]]}
["V1.03","  850 - IDEAL-CT",null,"SUBLOT # 1",null,null,null,null,null,null,null,null,null,null,null,"September 2019"]
[]
[null,null,null,null,null,null,null,null,null,null,null,null,null,null,null,"Show/Hide Formula Rows",null,null,null,null,null,null,null,"Test Number",1]
["Project ID",null,null,null,null,null,null,null,null,null,null,null,null,null,null,null,null,null,null,null,null,null,null,{"$f":"B4","v":0}]
["Num Points",{"$f":"COUNTA(INDIRECT(\"A\"&FirstRow&\":A\"&FirstRow+1000))","v":0},"Num Points",{"$f":"COUNTA(INDIRECT(\"C\"&FirstRow&\":C\"&FirstRow+1000))","v":0},"Num Points",{"$f":"COUNTA(INDIRECT(\"E\"&FirstRow&\":E\"&FirstRow+1000))","v":0},"Num Points",{"$f":"COUNTA(INDIRECT(\"G\"&FirstRow&\":G\"&FirstRow+1000))","v":0},"Num Points",{"$f":"COUNTA(INDIRECT(\"I\"&FirstRow&\":I\"&FirstRow+1000))","v":0},"Num Points",{"$f":"COUNTA(INDIRECT(\"K\"&FirstRow&\":K\"&FirstRow+1000))","v":0},"Num Points",{"$f":"COUNTA(INDIRECT(\"M\"&FirstRow&\":M\"&FirstRow+1000))","v":0},"Num Points",{"$f":"COUNTA(INDIRECT(\"O\"&FirstRow&\":O\"&FirstRow+1000))","v":0},null,null,null,null,null,null,null,{"$f":"IF(OFFSET(A5:P1031,0,(TestNum-1)*2)=\"\",NA(),OFFSET(A5:P1031,0,(TestNum-1)*2))","v":{"$error":"#NAME?"}},{"$error":"#NAME?"}]
["Peak Load",{"$f":"MAX(INDIRECT(\"B\"&FirstRow&\":B\"&FirstRow+B5))","v":0},"Peak Load",{"$f":"MAX(INDIRECT(\"D\"&FirstRow&\":D\"&FirstRow+D5))","v":0},"Peak Load",{"$f":"MAX(INDIRECT(\"F\"&FirstRow&\":F\"&FirstRow+F5))","v":0},"Peak Load",{"$f":"MAX(INDIRECT(\"H\"&FirstRow&\":H\"&FirstRow+H5))","v":0},"Peak Load",{"$f":"MAX(INDIRECT(\"J\"&FirstRow&\":J\"&FirstRow+J5))","v":0},"Peak Load",{"$f":"MAX(INDIRECT(\"L\"&FirstRow&\":L\"&FirstRow+L5))","v":0},"Peak Load",{"$f":"MAX(INDIRECT(\"N\"&FirstRow&\":N\"&FirstRow+N5))","v":0},"Peak Load",{"$f":"MAX(INDIRECT(\"P\"&FirstRow&\":P\"&FirstRow+P5))","v":0},null,"First Row of Data",31,null,null,null,null,{"$error":"#NAME?"},{"$error":"#NAME?"}]
["85% Peak",{"$f":"0.85*B6","v":0},"85% Peak",{"$f":"0.85*D6","v":0},"85% Peak",{"$f":"0.85*F6","v":0},"85% Peak",{"$f":"0.85*H6","v":0},"85% Peak",{"$f":"0.85*J6","v":0},"85% Peak",{"$f":"0.85*L6","v":0},"85% Peak",{"$f":"0.85*N6","v":0},"85% Peak",{"$f":"0.85*P6","v":0},null,null,null,null,null,null,null,{"$error":"#NAME?"},{"$error":"#NAME?"}]
["75% Peak",{"$f":"0.75*B6","v":0},"75% Peak",{"$f":"0.75*D6","v":0},"75% Peak",{"$f":"0.75*F6","v":0},"75% Peak",{"$f":"0.75*H6","v":0},"75% Peak",{"$f":"0.75*J6","v":0},"75% Peak",{"$f":"0.75*L6","v":0},"75% Peak",{"$f":"0.75*N6","v":0},"75% Peak",{"$f":"0.75*P6","v":0},null,null,null,null,null,null,null,{"$error":"#NAME?"},{"$error":"#NAME?"}]
["65% Peak",{"$f":"0.65*B6","v":0},"65% Peak",{"$f":"0.65*D6","v":0},"65% Peak",{"$f":"0.65*F6","v":0},"65% Peak",{"$f":"0.65*H6","v":0},"65% Peak",{"$f":"0.65*J6","v":0},"65% Peak",{"$f":"0.65*L6","v":0},"65% Peak",{"$f":"0.65*N6","v":0},"65% Peak",{"$f":"0.65*P6","v":0},null,null,null,null,null,null,null,{"$error":"#NAME?"},{"$error":"#NAME?"}]
["Rowpeak",{"$f":"MATCH(B6,INDIRECT(\"B\"&FirstRow&\":B\"&FirstRow+B5),0)+FirstRow-1","v":{"$error":"#N/A"}},"Rowpeak",{"$f":"MATCH(D6,INDIRECT(\"D\"&FirstRow&\":D\"&FirstRow+D5),0)+FirstRow-1","v":{"$error":"#N/A"}},"Rowpeak",{"$f":"MATCH(F6,INDIRECT(\"F\"&FirstRow&\":F\"&FirstRow+F5),0)+FirstRow-1","v":{"$error":"#N/A"}},"Rowpeak",{"$f":"MATCH(H6,INDIRECT(\"H\"&FirstRow&\":H\"&FirstRow+H5),0)+FirstRow-1","v":{"$error":"#N/A"}},"Rowpeak",{"$f":"MATCH(J6,INDIRECT(\"J\"&FirstRow&\":J\"&FirstRow+J5),0)+FirstRow-1","v":{"$error":"#N/A"}},"Rowpeak",{"$f":"MATCH(L6,INDIRECT(\"L\"&FirstRow&\":L\"&FirstRow+L5),0)+FirstRow-1","v":{"$error":"#N/A"}},"Rowpeak",{"$f":"MATCH(N6,INDIRECT(\"N\"&FirstRow&\":N\"&FirstRow+N5),0)+FirstRow-1","v":{"$error":"#N/A"}},"Rowpeak",{"$f":"MATCH(P6,INDIRECT(\"P\"&FirstRow&\":P\"&FirstRow+P5),0)+FirstRow-1","v":{"$error":"#N/A"}},null,null,null,null,null,null,null,{"$error":"#NAME?"},{"$error":"#NAME?"}]
["Row(85)",{"$f":"MATCH(B7,INDIRECT(\"B\"&B10&\":B\"&FirstRow+B5),-1)+B10","v":{"$error":"#N/A"}},"Row(85)",{"$f":"MATCH(D7,INDIRECT(\"D\"&D10&\":D\"&FirstRow+D5),-1)+D10","v":{"$error":"#N/A"}},"Row(85)",{"$f":"MATCH(F7,INDIRECT(\"F\"&F10&\":F\"&FirstRow+F5),-1)+F10","v":{"$error":"#N/A"}},"Row(85)",{"$f":"MATCH(H7,INDIRECT(\"H\"&H10&\":H\"&FirstRow+H5),-1)+H10","v":{"$error":"#N/A"}},"Row(85)",{"$f":"MATCH(J7,INDIRECT(\"J\"&J10&\":J\"&FirstRow+J5),-1)+J10","v":{"$error":"#N/A"}},"Row(85)",{"$f":"MATCH(L7,INDIRECT(\"L\"&L10&\":L\"&FirstRow+L5),-1)+L10","v":{"$error":"#N/A"}},"Row(85)",{"$f":"MATCH(N7,INDIRECT(\"N\"&N10&\":N\"&FirstRow+N5),-1)+N10","v":{"$error":"#N/A"}},"Row(85)",{"$f":"MATCH(P7,INDIRECT(\"P\"&P10&\":P\"&FirstRow+P5),-1)+P10","v":{"$error":"#N/A"}},null,null,null,null,null,null,null,{"$error":"#NAME?"},{"$error":"#NAME?"}]
["Row(75)",{"$f":"MATCH(B8,INDIRECT(\"B\"&B10&\":B\"&FirstRow+B5),-1)+B10","v":{"$error":"#N/A"}},"Row(75)",{"$f":"MATCH(D8,INDIRECT(\"D\"&D10&\":D\"&FirstRow+D5),-1)+D10","v":{"$error":"#N/A"}},"Row(75)",{"$f":"MATCH(F8,INDIRECT(\"F\"&F10&\":F\"&FirstRow+F5),-1)+F10","v":{"$error":"#N/A"}},"Row(75)",{"$f":"MATCH(H8,INDIRECT(\"H\"&H10&\":H\"&FirstRow+H5),-1)+H10","v":{"$error":"#N/A"}},"Row(75)",{"$f":"MATCH(J8,INDIRECT(\"J\"&J10&\":J\"&FirstRow+J5),-1)+J10","v":{"$error":"#N/A"}},"Row(75)",{"$f":"MATCH(L8,INDIRECT(\"L\"&L10&\":L\"&FirstRow+L5),-1)+L10","v":{"$error":"#N/A"}},"Row(75)",{"$f":"MATCH(N8,INDIRECT(\"N\"&N10&\":N\"&FirstRow+N5),-1)+N10","v":{"$error":"#N/A"}},"Row(75)",{"$f":"MATCH(P8,INDIRECT(\"P\"&P10&\":P\"&FirstRow+P5),-1)+P10","v":{"$error":"#N/A"}},null,null,null,null,null,null,null,{"$error":"#NAME?"},{"$error":"#NAME?"}]
["Row(65)",{"$f":"MATCH(B9,INDIRECT(\"B\"&B10&\":B\"&FirstRow+B5),-1)+B10","v":{"$error":"#N/A"}},"Row(65)",{"$f":"MATCH(D9,INDIRECT(\"D\"&D10&\":D\"&FirstRow+D5),-1)+D10","v":{"$error":"#N/A"}},"Row(65)",{"$f":"MATCH(F9,INDIRECT(\"F\"&F10&\":F\"&FirstRow+F5),-1)+F10","v":{"$error":"#N/A"}},"Row(65)",{"$f":"MATCH(H9,INDIRECT(\"H\"&H10&\":H\"&FirstRow+H5),-1)+H10","v":{"$error":"#N/A"}},"Row(65)",{"$f":"MATCH(J9,INDIRECT(\"J\"&J10&\":J\"&FirstRow+J5),-1)+J10","v":{"$error":"#N/A"}},"Row(65)",{"$f":"MATCH(L9,INDIRECT(\"L\"&L10&\":L\"&FirstRow+L5),-1)+L10","v":{"$error":"#N/A"}},"Row(65)",{"$f":"MATCH(N9,INDIRECT(\"N\"&N10&\":N\"&FirstRow+N5),-1)+N10","v":{"$error":"#N/A"}},"Row(65)",{"$f":"MATCH(P9,INDIRECT(\"P\"&P10&\":P\"&FirstRow+P5),-1)+P10","v":{"$error":"#N/A"}},null,null,null,null,null,null,null,{"$error":"#NAME?"},{"$error":"#NAME?"}]
["l75",{"$f":"IF(ISNA(B12),\"\",INDIRECT(\"A\"&B12))","v":""},"l75",{"$f":"IF(ISNA(D12),\"\",INDIRECT(\"C\"&D12))","v":""},"l75",{"$f":"IF(ISNA(F12),\"\",INDIRECT(\"E\"&F12))","v":""},"l75",{"$f":"IF(ISNA(H12),\"\",INDIRECT(\"G\"&H12))","v":""},"l75",{"$f":"IF(ISNA(J12),\"\",INDIRECT(\"I\"&J12))","v":""},"l75",{"$f":"IF(ISNA(L12),\"\",INDIRECT(\"K\"&L12))","v":""},"l75",{"$f":"IF(ISNA(N12),\"\",INDIRECT(\"M\"&N12))","v":""},"l75",{"$f":"IF(ISNA(P12),\"\",INDIRECT(\"O\"&P12))","v":""},null,null,null,null,null,null,null,{"$error":"#NAME?"},{"$error":"#NAME?"}]
["m",{"$f":"ABS(SLOPE((INDEX(B:B,B11):INDEX(B:B,B13)),(INDEX(A:A,B11):INDEX(A:A,B13))))","v":{"$error":"#N/A"}},"m",{"$f":"ABS(SLOPE((INDEX(D:D,D11):INDEX(D:D,D13)),(INDEX(C:C,D11):INDEX(C:C,D13))))","v":{"$error":"#N/A"}},"m",{"$f":"ABS(SLOPE((INDEX(F:F,F11):INDEX(F:F,F13)),(INDEX(E:E,F11):INDEX(E:E,F13))))","v":{"$error":"#N/A"}},"m",{"$f":"ABS(SLOPE((INDEX(H:H,H11):INDEX(H:H,H13)),(INDEX(G:G,H11):INDEX(G:G,H13))))","v":{"$error":"#N/A"}},"m",{"$f":"ABS(SLOPE((INDEX(J:J,J11):INDEX(J:J,J13)),(INDEX(I:I,J11):INDEX(I:I,J13))))","v":{"$error":"#N/A"}},"m",{"$f":"ABS(SLOPE((INDEX(L:L,L11):INDEX(L:L,L13)),(INDEX(K:K,L11):INDEX(K:K,L13))))","v":{"$error":"#N/A"}},"m",{"$f":"ABS(SLOPE((INDEX(N:N,N11):INDEX(N:N,N13)),(INDEX(M:M,N11):INDEX(M:M,N13))))","v":{"$error":"#N/A"}},"m",{"$f":"ABS(SLOPE((INDEX(P:P,P11):INDEX(P:P,P13)),(INDEX(O:O,P11):INDEX(O:O,P13))))","v":{"$error":"#N/A"}},null,null,null,null,null,null,null,{"$error":"#NAME?"},{"$error":"#NAME?"}]
["Series Name",{"$f":"IF(ISBLANK(B22),IF(ISBLANK(A28),\"\",A28),B22)","v":""},"Series Name",{"$f":"IF(ISBLANK(D22),IF(ISBLANK(C28),\"\",C28),D22)","v":""},"Series Name",{"$f":"IF(ISBLANK(F22),IF(ISBLANK(E28),\"\",E28),F22)","v":""},"Series Name",{"$f":"IF(ISBLANK(H22),IF(ISBLANK(G28),\"\",G28),H22)","v":""},"Series Name",{"$f":"IF(ISBLANK(J22),IF(ISBLANK(I28),\"\",I28),J22)","v":""},"Series Name",{"$f":"IF(ISBLANK(L22),IF(ISBLANK(K28),\"\",K28),L22)","v":""},"Series Name",{"$f":"IF(ISBLANK(N22),IF(ISBLANK(M28),\"\",M28),N22)","v":""},"Series Name",{"$f":"IF(ISBLANK(P22),IF(ISBLANK(O28),\"\",O28),P22)","v":""},null,null,null,null,null,null,null,{"$error":"#NAME?"},{"$error":"#NAME?"}]
["Row < 0.1",{"$f":"MATCH(0.1,INDIRECT(\"B\"&B10&\":B\"&FirstRow+B5),-1)+B10","v":{"$error":"#N/A"}},"Row < 0.1",{"$f":"MATCH(0.1,INDIRECT(\"D\"&D10&\":D\"&FirstRow+D5),-1)+D10","v":{"$error":"#N/A"}},"Row < 0.1",{"$f":"MATCH(0.1,INDIRECT(\"F\"&F10&\":F\"&FirstRow+F5),-1)+F10","v":{"$error":"#N/A"}},"Row < 0.1",{"$f":"MATCH(0.1,INDIRECT(\"H\"&H10&\":H\"&FirstRow+H5),-1)+H10","v":{"$error":"#N/A"}},"Row < 0.1",{"$f":"MATCH(0.1,INDIRECT(\"J\"&J10&\":J\"&FirstRow+J5),-1)+J10","v":{"$error":"#N/A"}},"Row < 0.1",{"$f":"MATCH(0.1,INDIRECT(\"L\"&L10&\":L\"&FirstRow+L5),-1)+L10","v":{"$error":"#N/A"}},"Row < 0.1",{"$f":"MATCH(0.1,INDIRECT(\"N\"&N10&\":N\"&FirstRow+N5),-1)+N10","v":{"$error":"#N/A"}},"Row < 0.1",{"$f":"MATCH(0.1,INDIRECT(\"P\"&P10&\":P\"&FirstRow+P5),-1)+P10","v":{"$error":"#N/A"}},null,null,null,null,null,null,null,{"$error":"#NAME?"},{"$error":"#NAME?"}]
["m75",{"$f":"IF(ISERROR(B15),\"\",ABS(B15))","v":""},"m75",{"$f":"IF(ISERROR(D15),\"\",ABS(D15))","v":""},"m75",{"$f":"IF(ISERROR(F15),\"\",ABS(F15))","v":""},"m75",{"$f":"IF(ISERROR(H15),\"\",ABS(H15))","v":""},"m75",{"$f":"IF(ISERROR(J15),\"\",ABS(J15))","v":""},"m75",{"$f":"IF(ISERROR(L15),\"\",ABS(L15))","v":""},"m75",{"$f":"IF(ISERROR(N15),\"\",ABS(N15))","v":""},"m75",{"$f":"IF(ISERROR(P15),\"\",ABS(P15))","v":""},null,null,null,null,null,null,null,{"$error":"#NAME?"},{"$error":"#NAME?"}]
["Wf",{"$f":"IF(ISNA(B17),\"\",SUMPRODUCT((INDIRECT(\"A\"&FirstRow+1&\":A\"&B17))-(INDIRECT(\"A\"&FirstRow&\":A\"&B17-1)),(((INDIRECT(\"B\"&FirstRow+1&\":B\"&B17))+(INDIRECT(\"B\"&FirstRow&\":B\"&B17-1)))/2)))","v":""},"Wf",{"$f":"IF(ISNA(D17),\"\",SUMPRODUCT((INDIRECT(\"C\"&FirstRow+1&\":C\"&D17))-(INDIRECT(\"C\"&FirstRow&\":C\"&D17-1)),(((INDIRECT(\"D\"&FirstRow+1&\":D\"&D17))+(INDIRECT(\"D\"&FirstRow&\":D\"&D17-1)))/2)))","v":""},"Wf",{"$f":"IF(ISNA(F17),\"\",SUMPRODUCT((INDIRECT(\"E\"&FirstRow+1&\":E\"&F17))-(INDIRECT(\"E\"&FirstRow&\":E\"&F17-1)),(((INDIRECT(\"F\"&FirstRow+1&\":F\"&F17))+(INDIRECT(\"F\"&FirstRow&\":F\"&F17-1)))/2)))","v":""},"Wf",{"$f":"IF(ISNA(H17),\"\",SUMPRODUCT((INDIRECT(\"G\"&FirstRow+1&\":G\"&H17))-(INDIRECT(\"G\"&FirstRow&\":G\"&H17-1)),(((INDIRECT(\"H\"&FirstRow+1&\":H\"&H17))+(INDIRECT(\"H\"&FirstRow&\":H\"&H17-1)))/2)))","v":""},"Wf",{"$f":"IF(ISNA(J17),\"\",SUMPRODUCT((INDIRECT(\"I\"&FirstRow+1&\":I\"&J17))-(INDIRECT(\"I\"&FirstRow&\":I\"&J17-1)),(((INDIRECT(\"J\"&FirstRow+1&\":J\"&J17))+(INDIRECT(\"J\"&FirstRow&\":J\"&J17-1)))/2)))","v":""},"Wf",{"$f":"IF(ISNA(L17),\"\",SUMPRODUCT((INDIRECT(\"K\"&FirstRow+1&\":K\"&L17))-(INDIRECT(\"K\"&FirstRow&\":K\"&L17-1)),(((INDIRECT(\"L\"&FirstRow+1&\":L\"&L17))+(INDIRECT(\"L\"&FirstRow&\":L\"&L17-1)))/2)))","v":""},"Wf",{"$f":"IF(ISNA(N17),\"\",SUMPRODUCT((INDIRECT(\"M\"&FirstRow+1&\":M\"&N17))-(INDIRECT(\"M\"&FirstRow&\":M\"&N17-1)),(((INDIRECT(\"N\"&FirstRow+1&\":N\"&N17))+(INDIRECT(\"N\"&FirstRow&\":N\"&N17-1)))/2)))","v":""},"Wf",{"$f":"IF(ISNA(P17),\"\",SUMPRODUCT((INDIRECT(\"O\"&FirstRow+1&\":O\"&P17))-(INDIRECT(\"O\"&FirstRow&\":O\"&P17-1)),(((INDIRECT(\"P\"&FirstRow+1&\":P\"&P17))+(INDIRECT(\"P\"&FirstRow&\":P\"&P17-1)))/2)))","v":""},null,null,null,null,null,null,null,{"$error":"#NAME?"},{"$error":"#NAME?"}]
["Gf",{"$f":"IF(B19=\"\",\"\",(B19/(B25*B26))*1000000)","v":""},"Gf",{"$f":"IF(D19=\"\",\"\",(D19/(D25*D26))*1000000)","v":""},"Gf",{"$f":"IF(F19=\"\",\"\",(F19/(F25*F26))*1000000)","v":""},"Gf",{"$f":"IF(H19=\"\",\"\",(H19/(H25*H26))*1000000)","v":""},"Gf",{"$f":"IF(J19=\"\",\"\",(J19/(J25*J26))*1000000)","v":""},"Gf",{"$f":"IF(L19=\"\",\"\",(L19/(L25*L26))*1000000)","v":""},"Gf",{"$f":"IF(N19=\"\",\"\",(N19/(N25*N26))*1000000)","v":""},"Gf",{"$f":"IF(P19=\"\",\"\",(P19/(P25*P26))*1000000)","v":""},null,null,null,null,null,null,null,{"$error":"#NAME?"},{"$error":"#NAME?"}]
["CTIndex",{"$f":"IF(B20=\"\",\"\",(B26/62)*(B14/B25)*(B20/B18))","v":""},"CTIndex",{"$f":"IF(D20=\"\",\"\",(D26/62)*(D14/D25)*(D20/D18))","v":""},"CTIndex",{"$f":"IF(F20=\"\",\"\",(F26/62)*(F14/F25)*(F20/F18))","v":""},"CTIndex",{"$f":"IF(H20=\"\",\"\",(H26/62)*(H14/H25)*(H20/H18))","v":""},"CTIndex",{"$f":"IF(J20=\"\",\"\",(J26/62)*(J14/J25)*(J20/J18))","v":""},"CTIndex",{"$f":"IF(L20=\"\",\"\",(L26/62)*(L14/L25)*(L20/L18))","v":""},"CTIndex",{"$f":"IF(N20=\"\",\"\",(N26/62)*(N14/N25)*(N20/N18))","v":""},"CTIndex",{"$f":"IF(P20=\"\",\"\",(P26/62)*(P14/P25)*(P20/P18))","v":""},null,null,null,null,null,null,null,{"$error":"#NAME?"},{"$error":"#NAME?"}]
["Sample 1 ID",null,"Sample 2 ID",null,"Sample 3 ID",null,"Sample 4 ID",null,"Sample 5 ID",null,"Sample 6 ID",null,"Sample 7 ID",null,"Sample 8 ID",null,null,null,null,null,null,null,null,{"$error":"#NAME?"},{"$error":"#NAME?"}]
["Temp [C]",null,"Temp [C]",null,"Temp [C]",null,"Temp [C]",null,"Temp [C]",null,"Temp [C]",null,"Temp [C]",null,"Temp [C]",null,null,null,null,null,null,null,null,{"$error":"#NAME?"},{"$error":"#NAME?"}]
["Air Voids",null,"Air Voids",null,"Air Voids",null,"Air Voids",null,"Air Voids",null,"Air Voids",null,"Air Voids",null,"Air Voids",null,null,null,null,null,null,null,null,{"$error":"#NAME?"},{"$error":"#NAME?"}]
["Diameter",null,"Diameter",null,"Diameter",null,"Diameter",null,"Diameter",null,"Diameter",null,"Diameter",null,"Diameter",null,null,null,null,null,null,null,null,{"$error":"#NAME?"},{"$error":"#NAME?"}]
["Thickness",null,"Thickness",null,"Thickness",null,"Thickness",null,"Thickness",null,"Thickness",null,"Thickness",null,"Thickness",null,null,null,null,null,null,null,null,{"$error":"#NAME?"},{"$error":"#NAME?"}]
["Flow/Stability Data",null,null,null,null,null,null,null,null,null,null,null,null,null,null,null,null,null,null,null,null,null,null,{"$error":"#NAME?"},{"$error":"#NAME?"}]
[null,null,null,null,null,null,null,null,null,null,null,null,null,null,null,null,null,null,null,null,null,null,null,{"$error":"#NAME?"},{"$error":"#NAME?"}]
[{"$f":"IF(ISBLANK(A31),\"\",INDIRECT(\"A$\"&MATCH(MAX(B31:B1031),B31:B1031,0)+FirstRow-1))","v":""},{"$f":"IF(ISBLANK(B31),\"\",MAX(B31:B1031))","v":""},{"$f":"IF(ISBLANK(C31),\"\",INDIRECT(\"C$\"&MATCH(MAX(D31:D1031),D31:D1031,0)+FirstRow-1))","v":""},{"$f":"IF(ISBLANK(D31),\"\",MAX(D31:D1031))","v":""},{"$f":"IF(ISBLANK(E31),\"\",INDIRECT(\"E$\"&MATCH(MAX(F31:F1031),F31:F1031,0)+FirstRow-1))","v":""},{"$f":"IF(ISBLANK(F31),\"\",MAX(F31:F1031))","v":""},{"$f":"IF(ISBLANK(G31),\"\",INDIRECT(\"g$\"&MATCH(MAX(H31:H1031),H31:H1031,0)+FirstRow-1))","v":""},{"$f":"IF(ISBLANK(H31),\"\",MAX(H31:H1031))","v":""},{"$f":"IF(ISBLANK(I31),\"\",INDIRECT(\"I$\"&MATCH(MAX(J31:J1031),J31:J1031,0)+FirstRow-1))","v":""},{"$f":"IF(ISBLANK(J31),\"\",MAX(J31:J1031))","v":""},{"$f":"IF(ISBLANK(K31),\"\",INDIRECT(\"K$\"&MATCH(MAX(L31:L1031),L31:L1031,0)+FirstRow-1))","v":""},{"$f":"IF(ISBLANK(L31),\"\",MAX(L31:L1031))","v":""},{"$f":"IF(ISBLANK(M31),\"\",INDIRECT(\"M$\"&MATCH(MAX(N31:N1031),N31:N1031,0)+FirstRow-1))","v":""},{"$f":"IF(ISBLANK(N31),\"\",MAX(N31:N1031))","v":""},{"$f":"IF(ISBLANK(O31),\"\",INDIRECT(\"O$\"&MATCH(MAX(P31:P1031),P31:P1031,0)+FirstRow-1))","v":""},{"$f":"IF(ISBLANK(P31),\"\",MAX(P31:P1031))","v":""},null,null,null,null,null,null,null,{"$error":"#NAME?"},{"$error":"#NAME?"}]
["Flow (mm)","Stability (kN)","Flow","Stability","Flow","Stability","Flow","Stability","Flow","Stability","Flow","Stability","Flow","Stability","Flow","Stability",null,null,null,null,null,null,null,{"$error":"#NAME?"},{"$error":"#NAME?"}]
[null,null,null,null,null,null,null,null,null,null,null,null,null,null,null,null,null,"Max Scale",{"$f":"MAX(B31:B706,D31:D706,F31:F706,H31:H706,J31:J706,L31:L706,N31:N706,P31:P706)","v":0},null,null,null,null,{"$error":"#NAME?"},{"$error":"#NAME?"}]
[null,null,null,null,null,null,null,null,null,null,null,null,null,null,null,null,null,"Port","COM1",null,null,null,null,{"$error":"#NAME?"},{"$error":"#NAME?"}]
[null,null,null,null,null,null,null,null,null,null,null,null,null,null,null,null,null,"Settings","baud=38400 parity=N data=8 stop=1",null,null,null,null,{"$error":"#NAME?"},{"$error":"#NAME?"}]
[null,null,null,null,null,null,null,null,null,null,null,null,null,null,null,null,null,null,null,null,null,null,null,{"$error":"#NAME?"},{"$error":"#NAME?"}]
[null,null,null,null,null,null,null,null,null,null,null,null,null,null,null,null,null,null,null,null,null,null,null,{"$error":"#NAME?"},{"$error":"#NAME?"}]
[null,null,null,null,null,null,null,null,null,null,null,null,null,null,null,null,null,null,null,null,null,null,null,{"$error":"#NAME?"},{"$error":"#NAME?"}]
[null,null,null,null,null,null,null,null,null,null,null,null,null,null,null,null,null,null,null,null,null,null,null,{"$error":"#NAME?"},{"$error":"#NAME?"}]
[null,null,null,null,null,null,null,null,null,null,null,null,null,null,null,null,null,null,null,null,null,null,null,{"$error":"#NAME?"},{"$error":"#NAME?"}]
[null,null,null,null,null,null,null,null,null,null,null,null,null,null,null,null,null,null,null,null,null,null,null,{"$error":"#NAME?"},{"$error":"#NAME?"}]
[null,null,null,null,null,null,null,null,null,null,null,null,null,null,null,null,null,null,null,null,null,null,null,{"$error":"#NAME?"},{"$error":"#NAME?"}]
[null,null,null,null,null,null,null,null,null,null,null,null,null,null,null,null,null,null,null,null,null,null,null,{"$error":"#NAME?"},{"$error":"#NAME?"}]
[null,null,null,null,null,null,null,null,null,null,null,null,null,null,null,null,null,null,null,null,null,null,null,{"$error":"#NAME?"},{"$error":"#NAME?"}]
[null,null,null,null,null,null,null,null,null,null,null,null,null,null,null,null,null,null,null,null,null,null,null,{"$error":"#NAME?"},{"$error":"#NAME?"}]
[null,null,null,null,null,null,null,null,null,null,null,null,null,null,null,null,null,null,null,null,null,null,null,{"$error":"#NAME?"},{"$error":"#NAME?"}]
[null,null,null,null,null,null,null,null,null,null,null,null,null,null,null,null,null,null,null,null,null,null,null,{"$error":"#NAME?"},{"$error":"#NAME?"}]
[null,null,null,null,null,null,null,null,null,null,null,null,null,null,null,null,null,null,null,null,null,null,null,{"$error":"#NAME?"},{"$error":"#NAME?"}]
[null,null,null,null,null,null,null,null,null,null,null,null,null,null,null,null,null,null,null,null,null,null,null,{"$error":"#NAME?"},{"$error":"#NAME?"}]
[null,null,null,null,null,null,null,null,null,null,null,null,null,null,null,null,null,null,null,null,null,null,null,{"$error":"#NAME?"},{"$error":"#NAME?"}]
[null,null,null,null,null,null,null,null,null,null,null,null,null,null,null,null,null,null,null,null,null,null,null,{"$error":"#NAME?"},{"$error":"#NAME?"}]
[null,null,null,null,null,null,null,null,null,null,null,null,null,null,null,null,null,null,null,null,null,null,null,{"$error":"#NAME?"},{"$error":"#NAME?"}]
[null,null,null,null,null,null,null,null,null,null,null,null,null,null,null,null,null,null,null,null,null,null,null,{"$error":"#NAME?"},{"$error":"#NAME?"}]
[null,null,null,null,null,null,null,null,null,null,null,null,null,null,null,null,null,null,null,null,null,null,null,{"$error":"#NAME?"},{"$error":"#NAME?"}]
[null,null,null,null,null,null,null,null,null,null,null,null,null,null,null,null,null,null,null,null,null,null,null,{"$error":"#NAME?"},{"$error":"#NAME?"}]
[null,null,null,null,null,null,null,null,null,null,null,null,null,null,null,null,null,null,null,null,null,null,null,{"$error":"#NAME?"},{"$error":"#NAME?"}]
[null,null,null,null,null,null,null,null,null,null,null,null,null,null,null,null,null,null,null,null,null,null,null,{"$error":"#NAME?"},{"$error":"#NAME?"}]
[null,null,null,null,null,null,null,null,null,null,null,null,null,null,null,null,null,null,null,null,null,null,null,{"$error":"#NAME?"},{"$error":"#NAME?"}]
[null,null,null,null,null,null,null,null,null,null,null,null,null,null,null,null,null,null,null,null,null,null,null,{"$error":"#NAME?"},{"$error":"#NAME?"}]
[null,null,null,null,null,null,null,null,null,null,null,null,null,null,null,null,null,null,null,null,null,null,null,{"$error":"#NAME?"},{"$error":"#NAME?"}]
[null,null,null,null,null,null,null,null,null,null,null,null,null,null,null,null,null,null,null,null,null,null,null,{"$error":"#NAME?"},{"$error":"#NAME?"}]
[null,null,null,null,null,null,null,null,null,null,null,null,null,null,null,null,null,null,null,null,null,null,null,{"$error":"#NAME?"},{"$error":"#NAME?"}]
[null,null,null,null,null,null,null,null,null,null,null,null,null,null,null,null,null,null,null,null,null,null,null,{"$error":"#NAME?"},{"$error":"#NAME?"}]
[null,null,null,null,null,null,null,null,null,null,null,null,null,null,null,null,null,null,null,null,null,null,null,{"$error":"#NAME?"},{"$error":"#NAME?"}]
[null,null,null,null,null,null,null,null,null,null,null,null,null,null,null,null,null,null,null,null,null,null,null,{"$error":"#NAME?"},{"$error":"#NAME?"}]
[null,null,null,null,null,null,null,null,null,null,null,null,null,null,null,null,null,null,null,null,null,null,null,{"$error":"#NAME?"},{"$error":"#NAME?"}]
[null,null,null,null,null,null,null,null,null,null,null,null,null,null,null,null,null,null,null,null,null,null,null,{"$error":"#NAME?"},{"$error":"#NAME?"}]
[null,null,null,null,null,null,null,null,null,null,null,null,null,null,null,null,null,null,null,null,null,null,null,{"$error":"#NAME?"},{"$error":"#NAME?"}]
[null,null,null,null,null,null,null,null,null,null,null,null,null,null,null,null,null,null,null,null,null,null,null,{"$error":"#NAME?"},{"$error":"#NAME?"}]
[null,null,null,null,null,null,null,null,null,null,null,null,null,null,null,null,null,null,null,null,null,null,null,{"$error":"#NAME?"},{"$error":"#NAME?"}]
[null,null,null,null,null,null,null,null,null,null,null,null,null,null,null,null,null,null,null,null,null,null,null,{"$error":"#NAME?"},{"$error":"#NAME?"}]
[null,null,null,null,null,null,null,null,null,null,null,null,null,null,null,null,null,null,null,null,null,null,null,{"$error":"#NAME?"},{"$error":"#NAME?"}]
[null,null,null,null,null,null,null,null,null,null,null,null,null,null,null,null,null,null,null,null,null,null,null,{"$error":"#NAME?"},{"$error":"#NAME?"}]
[null,null,null,null,null,null,null,null,null,null,null,null,null,null,null,null,null,null,null,null,null,null,null,{"$error":"#NAME?"},{"$error":"#NAME?"}]
[null,null,null,null,null,null,null,null,null,null,null,null,null,null,null,null,null,null,null,null,null,null,null,{"$error":"#NAME?"},{"$error":"#NAME?"}]
[null,null,null,null,null,null,null,null,null,null,null,null,null,null,null,null,null,null,null,null,null,null,null,{"$error":"#NAME?"},{"$error":"#NAME?"}]
[null,null,null,null,null,null,null,null,null,null,null,null,null,null,null,null,null,null,null,null,null,null,null,{"$error":"#NAME?"},{"$error":"#NAME?"}]
[null,null,null,null,null,null,null,null,null,null,null,null,null,null,null,null,null,null,null,null,null,null,null,{"$error":"#NAME?"},{"$error":"#NAME?"}]
[null,null,null,null,null,null,null,null,null,null,null,null,null,null,null,null,null,null,null,null,null,null,null,{"$error":"#NAME?"},{"$error":"#NAME?"}]
[null,null,null,null,null,null,null,null,null,null,null,null,null,null,null,null,null,null,null,null,null,null,null,{"$error":"#NAME?"},{"$error":"#NAME?"}]
[null,null,null,null,null,null,null,null,null,null,null,null,null,null,null,null,null,null,null,null,null,null,null,{"$error":"#NAME?"},{"$error":"#NAME?"}]
[null,null,null,null,null,null,null,null,null,null,null,null,null,null,null,null,null,null,null,null,null,null,null,{"$error":"#NAME?"},{"$error":"#NAME?"}]
[null,null,null,null,null,null,null,null,null,null,null,null,null,null,null,null,null,null,null,null,null,null,null,{"$error":"#NAME?"},{"$error":"#NAME?"}]
[null,null,null,null,null,null,null,null,null,null,null,null,null,null,null,null,null,null,null,null,null,null,null,{"$error":"#NAME?"},{"$error":"#NAME?"}]
[null,null,null,null,null,null,null,null,null,null,null,null,null,null,null,null,null,null,null,null,null,null,null,{"$error":"#NAME?"},{"$error":"#NAME?"}]
[null,null,null,null,null,null,null,null,null,null,null,null,null,null,null,null,null,null,null,null,null,null,null,{"$error":"#NAME?"},{"$error":"#NAME?"}]
[null,null,null,null,null,null,null,null,null,null,null,null,null,null,null,null,null,null,null,null,null,null,null,{"$error":"#NAME?"},{"$error":"#NAME?"}]
[null,null,null,null,null,null,null,null,null,null,null,null,null,null,null,null,null,null,null,null,null,null,null,{"$error":"#NAME?"},{"$error":"#NAME?"}]
[null,null,null,null,null,null,null,null,null,null,null,null,null,null,null,null,null,null,null,null,null,null,null,{"$error":"#NAME?"},{"$error":"#NAME?"}]
[null,null,null,null,null,null,null,null,null,null,null,null,null,null,null,null,null,null,null,null,null,null,null,{"$error":"#NAME?"},{"$error":"#NAME?"}]
[null,null,null,null,null,null,null,null,null,null,null,null,null,null,null,null,null,null,null,null,null,null,null,{"$error":"#NAME?"},{"$error":"#NAME?"}]
[null,null,null,null,null,null,null,null,null,null,null,null,null,null,null,null,null,null,null,null,null,null,null,{"$error":"#NAME?"},{"$error":"#NAME?"}]
[null,null,null,null,null,null,null,null,null,null,null,null,null,null,null,null,null,null,null,null,null,null,null,{"$error":"#NAME?"},{"$error":"#NAME?"}]
[null,null,null,null,null,null,null,null,null,null,null,null,null,null,null,null,null,null,null,null,null,null,null,{"$error":"#NAME?"},{"$error":"#NAME?"}]
[null,null,null,null,null,null,null,null,null,null,null,null,null,null,null,null,null,null,null,null,null,null,null,{"$error":"#NAME?"},{"$error":"#NAME?"}]
[null,null,null,null,null,null,null,null,null,null,null,null,null,null,null,null,null,null,null,null,null,null,null,{"$error":"#NAME?"},{"$error":"#NAME?"}]
[null,null,null,null,null,null,null,null,null,null,null,null,null,null,null,null,null,null,null,null,null,null,null,{"$error":"#NAME?"},{"$error":"#NAME?"}]
[null,null,null,null,null,null,null,null,null,null,null,null,null,null,null,null,null,null,null,null,null,null,null,{"$error":"#NAME?"},{"$error":"#NAME?"}]
[null,null,null,null,null,null,null,null,null,null,null,null,null,null,null,null,null,null,null,null,null,null,null,{"$error":"#NAME?"},{"$error":"#NAME?"}]
[null,null,null,null,null,null,null,null,null,null,null,null,null,null,null,null,null,null,null,null,null,null,null,{"$error":"#NAME?"},{"$error":"#NAME?"}]
[null,null,null,null,null,null,null,null,null,null,null,null,null,null,null,null,null,null,null,null,null,null,null,{"$error":"#NAME?"},{"$error":"#NAME?"}]
[null,null,null,null,null,null,null,null,null,null,null,null,null,null,null,null,null,null,null,null,null,null,null,{"$error":"#NAME?"},{"$error":"#NAME?"}]
[null,null,null,null,null,null,null,null,null,null,null,null,null,null,null,null,null,null,null,null,null,null,null,{"$error":"#NAME?"},{"$error":"#NAME?"}]
[null,null,null,null,null,null,null,null,null,null,null,null,null,null,null,null,null,null,null,null,null,null,null,{"$error":"#NAME?"},{"$error":"#NAME?"}]
[null,null,null,null,null,null,null,null,null,null,null,null,null,null,null,null,null,null,null,null,null,null,null,{"$error":"#NAME?"},{"$error":"#NAME?"}]
[null,null,null,null,null,null,null,null,null,null,null,null,null,null,null,null,null,null,null,null,null,null,null,{"$error":"#NAME?"},{"$error":"#NAME?"}]
[null,null,null,null,null,null,null,null,null,null,null,null,null,null,null,null,null,null,null,null,null,null,null,{"$error":"#NAME?"},{"$error":"#NAME?"}]
[null,null,null,null,null,null,null,null,null,null,null,null,null,null,null,null,null,null,null,null,null,null,null,{"$error":"#NAME?"},{"$error":"#NAME?"}]
[null,null,null,null,null,null,null,null,null,null,null,null,null,null,null,null,null,null,null,null,null,null,null,{"$error":"#NAME?"},{"$error":"#NAME?"}]
[null,null,null,null,null,null,null,null,null,null,null,null,null,null,null,null,null,null,null,null,null,null,null,{"$error":"#NAME?"},{"$error":"#NAME?"}]
[null,null,null,null,null,null,null,null,null,null,null,null,null,null,null,null,null,null,null,null,null,null,null,{"$error":"#NAME?"},{"$error":"#NAME?"}]
[null,null,null,null,null,null,null,null,null,null,null,null,null,null,null,null,null,null,null,null,null,null,null,{"$error":"#NAME?"},{"$error":"#NAME?"}]
[null,null,null,null,null,null,null,null,null,null,null,null,null,null,null,null,null,null,null,null,null,null,null,{"$error":"#NAME?"},{"$error":"#NAME?"}]
[null,null,null,null,null,null,null,null,null,null,null,null,null,null,null,null,null,null,null,null,null,null,null,{"$error":"#NAME?"},{"$error":"#NAME?"}]
[null,null,null,null,null,null,null,null,null,null,null,null,null,null,null,null,null,null,null,null,null,null,null,{"$error":"#NAME?"},{"$error":"#NAME?"}]
[null,null,null,null,null,null,null,null,null,null,null,null,null,null,null,null,null,null,null,null,null,null,null,{"$error":"#NAME?"},{"$error":"#NAME?"}]
[null,null,null,null,null,null,null,null,null,null,null,null,null,null,null,null,null,null,null,null,null,null,null,{"$error":"#NAME?"},{"$error":"#NAME?"}]
[null,null,null,null,null,null,null,null,null,null,null,null,null,null,null,null,null,null,null,null,null,null,null,{"$error":"#NAME?"},{"$error":"#NAME?"}]
[null,null,null,null,null,null,null,null,null,null,null,null,null,null,null,null,null,null,null,null,null,null,null,{"$error":"#NAME?"},{"$error":"#NAME?"}]
[null,null,null,null,null,null,null,null,null,null,null,null,null,null,null,null,null,null,null,null,null,null,null,{"$error":"#NAME?"},{"$error":"#NAME?"}]
[null,null,null,null,null,null,null,null,null,null,null,null,null,null,null,null,null,null,null,null,null,null,null,{"$error":"#NAME?"},{"$error":"#NAME?"}]
[null,null,null,null,null,null,null,null,null,null,null,null,null,null,null,null,null,null,null,null,null,null,null,{"$error":"#NAME?"},{"$error":"#NAME?"}]
[null,null,null,null,null,null,null,null,null,null,null,null,null,null,null,null,null,null,null,null,null,null,null,{"$error":"#NAME?"},{"$error":"#NAME?"}]
[null,null,null,null,null,null,null,null,null,null,null,null,null,null,null,null,null,null,null,null,null,null,null,{"$error":"#NAME?"},{"$error":"#NAME?"}]
[null,null,null,null,null,null,null,null,null,null,null,null,null,null,null,null,null,null,null,null,null,null,null,{"$error":"#NAME?"},{"$error":"#NAME?"}]
[null,null,null,null,null,null,null,null,null,null,null,null,null,null,null,null,null,null,null,null,null,null,null,{"$error":"#NAME?"},{"$error":"#NAME?"}]
[null,null,null,null,null,null,null,null,null,null,null,null,null,null,null,null,null,null,null,null,null,null,null,{"$error":"#NAME?"},{"$error":"#NAME?"}]
[null,null,null,null,null,null,null,null,null,null,null,null,null,null,null,null,null,null,null,null,null,null,null,{"$error":"#NAME?"},{"$error":"#NAME?"}]
[null,null,null,null,null,null,null,null,null,null,null,null,null,null,null,null,null,null,null,null,null,null,null,{"$error":"#NAME?"},{"$error":"#NAME?"}]
[null,null,null,null,null,null,null,null,null,null,null,null,null,null,null,null,null,null,null,null,null,null,null,{"$error":"#NAME?"},{"$error":"#NAME?"}]
[null,null,null,null,null,null,null,null,null,null,null,null,null,null,null,null,null,null,null,null,null,null,null,{"$error":"#NAME?"},{"$error":"#NAME?"}]
[null,null,null,null,null,null,null,null,null,null,null,null,null,null,null,null,null,null,null,null,null,null,null,{"$error":"#NAME?"},{"$error":"#NAME?"}]
[null,null,null,null,null,null,null,null,null,null,null,null,null,null,null,null,null,null,null,null,null,null,null,{"$error":"#NAME?"},{"$error":"#NAME?"}]
[null,null,null,null,null,null,null,null,null,null,null,null,null,null,null,null,null,null,null,null,null,null,null,{"$error":"#NAME?"},{"$error":"#NAME?"}]
[null,null,null,null,null,null,null,null,null,null,null,null,null,null,null,null,null,null,null,null,null,null,null,{"$error":"#NAME?"},{"$error":"#NAME?"}]
[null,null,null,null,null,null,null,null,null,null,null,null,null,null,null,null,null,null,null,null,null,null,null,{"$error":"#NAME?"},{"$error":"#NAME?"}]
[null,null,null,null,null,null,null,null,null,null,null,null,null,null,null,null,null,null,null,null,null,null,null,{"$error":"#NAME?"},{"$error":"#NAME?"}]
[null,null,null,null,null,null,null,null,null,null,null,null,null,null,null,null,null,null,null,null,null,null,null,{"$error":"#NAME?"},{"$error":"#NAME?"}]
[null,null,null,null,null,null,null,null,null,null,null,null,null,null,null,null,null,null,null,null,null,null,null,{"$error":"#NAME?"},{"$error":"#NAME?"}]
[null,null,null,null,null,null,null,null,null,null,null,null,null,null,null,null,null,null,null,null,null,null,null,{"$error":"#NAME?"},{"$error":"#NAME?"}]
[null,null,null,null,null,null,null,null,null,null,null,null,null,null,null,null,null,null,null,null,null,null,null,{"$error":"#NAME?"},{"$error":"#NAME?"}]
[null,null,null,null,null,null,null,null,null,null,null,null,null,null,null,null,null,null,null,null,null,null,null,{"$error":"#NAME?"},{"$error":"#NAME?"}]
[null,null,null,null,null,null,null,null,null,null,null,null,null,null,null,null,null,null,null,null,null,null,null,{"$error":"#NAME?"},{"$error":"#NAME?"}]
[null,null,null,null,null,null,null,null,null,null,null,null,null,null,null,null,null,null,null,null,null,null,null,{"$error":"#NAME?"},{"$error":"#NAME?"}]
[null,null,null,null,null,null,null,null,null,null,null,null,null,null,null,null,null,null,null,null,null,null,null,{"$error":"#NAME?"},{"$error":"#NAME?"}]
[null,null,null,null,null,null,null,null,null,null,null,null,null,null,null,null,null,null,null,null,null,null,null,{"$error":"#NAME?"},{"$error":"#NAME?"}]
[null,null,null,null,null,null,null,null,null,null,null,null,null,null,null,null,null,null,null,null,null,null,null,{"$error":"#NAME?"},{"$error":"#NAME?"}]
[null,null,null,null,null,null,null,null,null,null,null,null,null,null,null,null,null,null,null,null,null,null,null,{"$error":"#NAME?"},{"$error":"#NAME?"}]
[null,null,null,null,null,null,null,null,null,null,null,null,null,null,null,null,null,null,null,null,null,null,null,{"$error":"#NAME?"},{"$error":"#NAME?"}]
[null,null,null,null,null,null,null,null,null,null,null,null,null,null,null,null,null,null,null,null,null,null,null,{"$error":"#NAME?"},{"$error":"#NAME?"}]
[null,null,null,null,null,null,null,null,null,null,null,null,null,null,null,null,null,null,null,null,null,null,null,{"$error":"#NAME?"},{"$error":"#NAME?"}]
[null,null,null,null,null,null,null,null,null,null,null,null,null,null,null,null,null,null,null,null,null,null,null,{"$error":"#NAME?"},{"$error":"#NAME?"}]
[null,null,null,null,null,null,null,null,null,null,null,null,null,null,null,null,null,null,null,null,null,null,null,{"$error":"#NAME?"},{"$error":"#NAME?"}]
[null,null,null,null,null,null,null,null,null,null,null,null,null,null,null,null,null,null,null,null,null,null,null,{"$error":"#NAME?"},{"$error":"#NAME?"}]
[null,null,null,null,null,null,null,null,null,null,null,null,null,null,null,null,null,null,null,null,null,null,null,{"$error":"#NAME?"},{"$error":"#NAME?"}]
[null,null,null,null,null,null,null,null,null,null,null,null,null,null,null,null,null,null,null,null,null,null,null,{"$error":"#NAME?"},{"$error":"#NAME?"}]
[null,null,null,null,null,null,null,null,null,null,null,null,null,null,null,null,null,null,null,null,null,null,null,{"$error":"#NAME?"},{"$error":"#NAME?"}]
[null,null,null,null,null,null,null,null,null,null,null,null,null,null,null,null,null,null,null,null,null,null,null,{"$error":"#NAME?"},{"$error":"#NAME?"}]
[null,null,null,null,null,null,null,null,null,null,null,null,null,null,null,null,null,null,null,null,null,null,null,{"$error":"#NAME?"},{"$error":"#NAME?"}]
[null,null,null,null,null,null,null,null,null,null,null,null,null,null,null,null,null,null,null,null,null,null,null,{"$error":"#NAME?"},{"$error":"#NAME?"}]
[null,null,null,null,null,null,null,null,null,null,null,null,null,null,null,null,null,null,null,null,null,null,null,{"$error":"#NAME?"},{"$error":"#NAME?"}]
[null,null,null,null,null,null,null,null,null,null,null,null,null,null,null,null,null,null,null,null,null,null,null,{"$error":"#NAME?"},{"$error":"#NAME?"}]
[null,null,null,null,null,null,null,null,null,null,null,null,null,null,null,null,null,null,null,null,null,null,null,{"$error":"#NAME?"},{"$error":"#NAME?"}]
[null,null,null,null,null,null,null,null,null,null,null,null,null,null,null,null,null,null,null,null,null,null,null,{"$error":"#NAME?"},{"$error":"#NAME?"}]
[null,null,null,null,null,null,null,null,null,null,null,null,null,null,null,null,null,null,null,null,null,null,null,{"$error":"#NAME?"},{"$error":"#NAME?"}]
[null,null,null,null,null,null,null,null,null,null,null,null,null,null,null,null,null,null,null,null,null,null,null,{"$error":"#NAME?"},{"$error":"#NAME?"}]
[null,null,null,null,null,null,null,null,null,null,null,null,null,null,null,null,null,null,null,null,null,null,null,{"$error":"#NAME?"},{"$error":"#NAME?"}]
[null,null,null,null,null,null,null,null,null,null,null,null,null,null,null,null,null,null,null,null,null,null,null,{"$error":"#NAME?"},{"$error":"#NAME?"}]
[null,null,null,null,null,null,null,null,null,null,null,null,null,null,null,null,null,null,null,null,null,null,null,{"$error":"#NAME?"},{"$error":"#NAME?"}]
[null,null,null,null,null,null,null,null,null,null,null,null,null,null,null,null,null,null,null,null,null,null,null,{"$error":"#NAME?"},{"$error":"#NAME?"}]
[null,null,null,null,null,null,null,null,null,null,null,null,null,null,null,null,null,null,null,null,null,null,null,{"$error":"#NAME?"},{"$error":"#NAME?"}]
[null,null,null,null,null,null,null,null,null,null,null,null,null,null,null,null,null,null,null,null,null,null,null,{"$error":"#NAME?"},{"$error":"#NAME?"}]
[null,null,null,null,null,null,null,null,null,null,null,null,null,null,null,null,null,null,null,null,null,null,null,{"$error":"#NAME?"},{"$error":"#NAME?"}]
[null,null,null,null,null,null,null,null,null,null,null,null,null,null,null,null,null,null,null,null,null,null,null,{"$error":"#NAME?"},{"$error":"#NAME?"}]
[null,null,null,null,null,null,null,null,null,null,null,null,null,null,null,null,null,null,null,null,null,null,null,{"$error":"#NAME?"},{"$error":"#NAME?"}]
[null,null,null,null,null,null,null,null,null,null,null,null,null,null,null,null,null,null,null,null,null,null,null,{"$error":"#NAME?"},{"$error":"#NAME?"}]
[null,null,null,null,null,null,null,null,null,null,null,null,null,null,null,null,null,null,null,null,null,null,null,{"$error":"#NAME?"},{"$error":"#NAME?"}]
[null,null,null,null,null,null,null,null,null,null,null,null,null,null,null,null,null,null,null,null,null,null,null,{"$error":"#NAME?"},{"$error":"#NAME?"}]
[null,null,null,null,null,null,null,null,null,null,null,null,null,null,null,null,null,null,null,null,null,null,null,{"$error":"#NAME?"},{"$error":"#NAME?"}]
[null,null,null,null,null,null,null,null,null,null,null,null,null,null,null,null,null,null,null,null,null,null,null,{"$error":"#NAME?"},{"$error":"#NAME?"}]
[null,null,null,null,null,null,null,null,null,null,null,null,null,null,null,null,null,null,null,null,null,null,null,{"$error":"#NAME?"},{"$error":"#NAME?"}]
[null,null,null,null,null,null,null,null,null,null,null,null,null,null,null,null,null,null,null,null,null,null,null,{"$error":"#NAME?"},{"$error":"#NAME?"}]
[null,null,null,null,null,null,null,null,null,null,null,null,null,null,null,null,null,null,null,null,null,null,null,{"$error":"#NAME?"},{"$error":"#NAME?"}]
[null,null,null,null,null,null,null,null,null,null,null,null,null,null,null,null,null,null,null,null,null,null,null,{"$error":"#NAME?"},{"$error":"#NAME?"}]
[null,null,null,null,null,null,null,null,null,null,null,null,null,null,null,null,null,null,null,null,null,null,null,{"$error":"#NAME?"},{"$error":"#NAME?"}]
[null,null,null,null,null,null,null,null,null,null,null,null,null,null,null,null,null,null,null,null,null,null,null,{"$error":"#NAME?"},{"$error":"#NAME?"}]
[null,null,null,null,null,null,null,null,null,null,null,null,null,null,null,null,null,null,null,null,null,null,null,{"$error":"#NAME?"},{"$error":"#NAME?"}]
[null,null,null,null,null,null,null,null,null,null,null,null,null,null,null,null,null,null,null,null,null,null,null,{"$error":"#NAME?"},{"$error":"#NAME?"}]
[null,null,null,null,null,null,null,null,null,null,null,null,null,null,null,null,null,null,null,null,null,null,null,{"$error":"#NAME?"},{"$error":"#NAME?"}]
[null,null,null,null,null,null,null,null,null,null,null,null,null,null,null,null,null,null,null,null,null,null,null,{"$error":"#NAME?"},{"$error":"#NAME?"}]
[null,null,null,null,null,null,null,null,null,null,null,null,null,null,null,null,null,null,null,null,null,null,null,{"$error":"#NAME?"},{"$error":"#NAME?"}]
[null,null,null,null,null,null,null,null,null,null,null,null,null,null,null,null,null,null,null,null,null,null,null,{"$error":"#NAME?"},{"$error":"#NAME?"}]
[null,null,null,null,null,null,null,null,null,null,null,null,null,null,null,null,null,null,null,null,null,null,null,{"$error":"#NAME?"},{"$error":"#NAME?"}]
[null,null,null,null,null,null,null,null,null,null,null,null,null,null,null,null,null,null,null,null,null,null,null,{"$error":"#NAME?"},{"$error":"#NAME?"}]
[null,null,null,null,null,null,null,null,null,null,null,null,null,null,null,null,null,null,null,null,null,null,null,{"$error":"#NAME?"},{"$error":"#NAME?"}]
[null,null,null,null,null,null,null,null,null,null,null,null,null,null,null,null,null,null,null,null,null,null,null,{"$error":"#NAME?"},{"$error":"#NAME?"}]
[null,null,null,null,null,null,null,null,null,null,null,null,null,null,null,null,null,null,null,null,null,null,null,{"$error":"#NAME?"},{"$error":"#NAME?"}]
[null,null,null,null,null,null,null,null,null,null,null,null,null,null,null,null,null,null,null,null,null,null,null,{"$error":"#NAME?"},{"$error":"#NAME?"}]
[null,null,null,null,null,null,null,null,null,null,null,null,null,null,null,null,null,null,null,null,null,null,null,{"$error":"#NAME?"},{"$error":"#NAME?"}]
[null,null,null,null,null,null,null,null,null,null,null,null,null,null,null,null,null,null,null,null,null,null,null,{"$error":"#NAME?"},{"$error":"#NAME?"}]
[null,null,null,null,null,null,null,null,null,null,null,null,null,null,null,null,null,null,null,null,null,null,null,{"$error":"#NAME?"},{"$error":"#NAME?"}]
[null,null,null,null,null,null,null,null,null,null,null,null,null,null,null,null,null,null,null,null,null,null,null,{"$error":"#NAME?"},{"$error":"#NAME?"}]
[null,null,null,null,null,null,null,null,null,null,null,null,null,null,null,null,null,null,null,null,null,null,null,{"$error":"#NAME?"},{"$error":"#NAME?"}]
[null,null,null,null,null,null,null,null,null,null,null,null,null,null,null,null,null,null,null,null,null,null,null,{"$error":"#NAME?"},{"$error":"#NAME?"}]
[null,null,null,null,null,null,null,null,null,null,null,null,null,null,null,null,null,null,null,null,null,null,null,{"$error":"#NAME?"},{"$error":"#NAME?"}]
[null,null,null,null,null,null,null,null,null,null,null,null,null,null,null,null,null,null,null,null,null,null,null,{"$error":"#NAME?"},{"$error":"#NAME?"}]
[null,null,null,null,null,null,null,null,null,null,null,null,null,null,null,null,null,null,null,null,null,null,null,{"$error":"#NAME?"},{"$error":"#NAME?"}]
[null,null,null,null,null,null,null,null,null,null,null,null,null,null,null,null,null,null,null,null,null,null,null,{"$error":"#NAME?"},{"$error":"#NAME?"}]
[null,null,null,null,null,null,null,null,null,null,null,null,null,null,null,null,null,null,null,null,null,null,null,{"$error":"#NAME?"},{"$error":"#NAME?"}]
[null,null,null,null,null,null,null,null,null,null,null,null,null,null,null,null,null,null,null,null,null,null,null,{"$error":"#NAME?"},{"$error":"#NAME?"}]
[null,null,null,null,null,null,null,null,null,null,null,null,null,null,null,null,null,null,null,null,null,null,null,{"$error":"#NAME?"},{"$error":"#NAME?"}]
[null,null,null,null,null,null,null,null,null,null,null,null,null,null,null,null,null,null,null,null,null,null,null,{"$error":"#NAME?"},{"$error":"#NAME?"}]
[null,null,null,null,null,null,null,null,null,null,null,null,null,null,null,null,null,null,null,null,null,null,null,{"$error":"#NAME?"},{"$error":"#NAME?"}]
[null,null,null,null,null,null,null,null,null,null,null,null,null,null,null,null,null,null,null,null,null,null,null,{"$error":"#NAME?"},{"$error":"#NAME?"}]
[null,null,null,null,null,null,null,null,null,null,null,null,null,null,null,null,null,null,null,null,null,null,null,{"$error":"#NAME?"},{"$error":"#NAME?"}]
[null,null,null,null,null,null,null,null,null,null,null,null,null,null,null,null,null,null,null,null,null,null,null,{"$error":"#NAME?"},{"$error":"#NAME?"}]
[null,null,null,null,null,null,null,null,null,null,null,null,null,null,null,null,null,null,null,null,null,null,null,{"$error":"#NAME?"},{"$error":"#NAME?"}]
[null,null,null,null,null,null,null,null,null,null,null,null,null,null,null,null,null,null,null,null,null,null,null,{"$error":"#NAME?"},{"$error":"#NAME?"}]
[null,null,null,null,null,null,null,null,null,null,null,null,null,null,null,null,null,null,null,null,null,null,null,{"$error":"#NAME?"},{"$error":"#NAME?"}]
[null,null,null,null,null,null,null,null,null,null,null,null,null,null,null,null,null,null,null,null,null,null,null,{"$error":"#NAME?"},{"$error":"#NAME?"}]
[null,null,null,null,null,null,null,null,null,null,null,null,null,null,null,null,null,null,null,null,null,null,null,{"$error":"#NAME?"},{"$error":"#NAME?"}]
[null,null,null,null,null,null,null,null,null,null,null,null,null,null,null,null,null,null,null,null,null,null,null,{"$error":"#NAME?"},{"$error":"#NAME?"}]
[null,null,null,null,null,null,null,null,null,null,null,null,null,null,null,null,null,null,null,null,null,null,null,{"$error":"#NAME?"},{"$error":"#NAME?"}]
[null,null,null,null,null,null,null,null,null,null,null,null,null,null,null,null,null,null,null,null,null,null,null,{"$error":"#NAME?"},{"$error":"#NAME?"}]
[null,null,null,null,null,null,null,null,null,null,null,null,null,null,null,null,null,null,null,null,null,null,null,{"$error":"#NAME?"},{"$error":"#NAME?"}]
[null,null,null,null,null,null,null,null,null,null,null,null,null,null,null,null,null,null,null,null,null,null,null,{"$error":"#NAME?"},{"$error":"#NAME?"}]
[null,null,null,null,null,null,null,null,null,null,null,null,null,null,null,null,null,null,null,null,null,null,null,{"$error":"#NAME?"},{"$error":"#NAME?"}]
[null,null,null,null,null,null,null,null,null,null,null,null,null,null,null,null,null,null,null,null,null,null,null,{"$error":"#NAME?"},{"$error":"#NAME?"}]
[null,null,null,null,null,null,null,null,null,null,null,null,null,null,null,null,null,null,null,null,null,null,null,{"$error":"#NAME?"},{"$error":"#NAME?"}]
[null,null,null,null,null,null,null,null,null,null,null,null,null,null,null,null,null,null,null,null,null,null,null,{"$error":"#NAME?"},{"$error":"#NAME?"}]
[null,null,null,null,null,null,null,null,null,null,null,null,null,null,null,null,null,null,null,null,null,null,null,{"$error":"#NAME?"},{"$error":"#NAME?"}]
[null,null,null,null,null,null,null,null,null,null,null,null,null,null,null,null,null,null,null,null,null,null,null,{"$error":"#NAME?"},{"$error":"#NAME?"}]
[null,null,null,null,null,null,null,null,null,null,null,null,null,null,null,null,null,null,null,null,null,null,null,{"$error":"#NAME?"},{"$error":"#NAME?"}]
[null,null,null,null,null,null,null,null,null,null,null,null,null,null,null,null,null,null,null,null,null,null,null,{"$error":"#NAME?"},{"$error":"#NAME?"}]
[null,null,null,null,null,null,null,null,null,null,null,null,null,null,null,null,null,null,null,null,null,null,null,{"$error":"#NAME?"},{"$error":"#NAME?"}]
[null,null,null,null,null,null,null,null,null,null,null,null,null,null,null,null,null,null,null,null,null,null,null,{"$error":"#NAME?"},{"$error":"#NAME?"}]
[null,null,null,null,null,null,null,null,null,null,null,null,null,null,null,null,null,null,null,null,null,null,null,{"$error":"#NAME?"},{"$error":"#NAME?"}]
[null,null,null,null,null,null,null,null,null,null,null,null,null,null,null,null,null,null,null,null,null,null,null,{"$error":"#NAME?"},{"$error":"#NAME?"}]
[null,null,null,null,null,null,null,null,null,null,null,null,null,null,null,null,null,null,null,null,null,null,null,{"$error":"#NAME?"},{"$error":"#NAME?"}]
[null,null,null,null,null,null,null,null,null,null,null,null,null,null,null,null,null,null,null,null,null,null,null,{"$error":"#NAME?"},{"$error":"#NAME?"}]
[null,null,null,null,null,null,null,null,null,null,null,null,null,null,null,null,null,null,null,null,null,null,null,{"$error":"#NAME?"},{"$error":"#NAME?"}]
[null,null,null,null,null,null,null,null,null,null,null,null,null,null,null,null,null,null,null,null,null,null,null,{"$error":"#NAME?"},{"$error":"#NAME?"}]
[null,null,null,null,null,null,null,null,null,null,null,null,null,null,null,null,null,null,null,null,null,null,null,{"$error":"#NAME?"},{"$error":"#NAME?"}]
[null,null,null,null,null,null,null,null,null,null,null,null,null,null,null,null,null,null,null,null,null,null,null,{"$error":"#NAME?"},{"$error":"#NAME?"}]
[null,null,null,null,null,null,null,null,null,null,null,null,null,null,null,null,null,null,null,null,null,null,null,{"$error":"#NAME?"},{"$error":"#NAME?"}]
[null,null,null,null,null,null,null,null,null,null,null,null,null,null,null,null,null,null,null,null,null,null,null,{"$error":"#NAME?"},{"$error":"#NAME?"}]
[null,null,null,null,null,null,null,null,null,null,null,null,null,null,null,null,null,null,null,null,null,null,null,{"$error":"#NAME?"},{"$error":"#NAME?"}]
[null,null,null,null,null,null,null,null,null,null,null,null,null,null,null,null,null,null,null,null,null,null,null,{"$error":"#NAME?"},{"$error":"#NAME?"}]
[null,null,null,null,null,null,null,null,null,null,null,null,null,null,null,null,null,null,null,null,null,null,null,{"$error":"#NAME?"},{"$error":"#NAME?"}]
[null,null,null,null,null,null,null,null,null,null,null,null,null,null,null,null,null,null,null,null,null,null,null,{"$error":"#NAME?"},{"$error":"#NAME?"}]
[null,null,null,null,null,null,null,null,null,null,null,null,null,null,null,null,null,null,null,null,null,null,null,{"$error":"#NAME?"},{"$error":"#NAME?"}]
[null,null,null,null,null,null,null,null,null,null,null,null,null,null,null,null,null,null,null,null,null,null,null,{"$error":"#NAME?"},{"$error":"#NAME?"}]
[null,null,null,null,null,null,null,null,null,null,null,null,null,null,null,null,null,null,null,null,null,null,null,{"$error":"#NAME?"},{"$error":"#NAME?"}]
[null,null,null,null,null,null,null,null,null,null,null,null,null,null,null,null,null,null,null,null,null,null,null,{"$error":"#NAME?"},{"$error":"#NAME?"}]
[null,null,null,null,null,null,null,null,null,null,null,null,null,null,null,null,null,null,null,null,null,null,null,{"$error":"#NAME?"},{"$error":"#NAME?"}]
[null,null,null,null,null,null,null,null,null,null,null,null,null,null,null,null,null,null,null,null,null,null,null,{"$error":"#NAME?"},{"$error":"#NAME?"}]
[null,null,null,null,null,null,null,null,null,null,null,null,null,null,null,null,null,null,null,null,null,null,null,{"$error":"#NAME?"},{"$error":"#NAME?"}]
[null,null,null,null,null,null,null,null,null,null,null,null,null,null,null,null,null,null,null,null,null,null,null,{"$error":"#NAME?"},{"$error":"#NAME?"}]
[null,null,null,null,null,null,null,null,null,null,null,null,null,null,null,null,null,null,null,null,null,null,null,{"$error":"#NAME?"},{"$error":"#NAME?"}]
[null,null,null,null,null,null,null,null,null,null,null,null,null,null,null,null,null,null,null,null,null,null,null,{"$error":"#NAME?"},{"$error":"#NAME?"}]
[null,null,null,null,null,null,null,null,null,null,null,null,null,null,null,null,null,null,null,null,null,null,null,{"$error":"#NAME?"},{"$error":"#NAME?"}]
[null,null,null,null,null,null,null,null,null,null,null,null,null,null,null,null,null,null,null,null,null,null,null,{"$error":"#NAME?"},{"$error":"#NAME?"}]
[null,null,null,null,null,null,null,null,null,null,null,null,null,null,null,null,null,null,null,null,null,null,null,{"$error":"#NAME?"},{"$error":"#NAME?"}]
[null,null,null,null,null,null,null,null,null,null,null,null,null,null,null,null,null,null,null,null,null,null,null,{"$error":"#NAME?"},{"$error":"#NAME?"}]
[null,null,null,null,null,null,null,null,null,null,null,null,null,null,null,null,null,null,null,null,null,null,null,{"$error":"#NAME?"},{"$error":"#NAME?"}]
[null,null,null,null,null,null,null,null,null,null,null,null,null,null,null,null,null,null,null,null,null,null,null,{"$error":"#NAME?"},{"$error":"#NAME?"}]
[null,null,null,null,null,null,null,null,null,null,null,null,null,null,null,null,null,null,null,null,null,null,null,{"$error":"#NAME?"},{"$error":"#NAME?"}]
[null,null,null,null,null,null,null,null,null,null,null,null,null,null,null,null,null,null,null,null,null,null,null,{"$error":"#NAME?"},{"$error":"#NAME?"}]
[null,null,null,null,null,null,null,null,null,null,null,null,null,null,null,null,null,null,null,null,null,null,null,{"$error":"#NAME?"},{"$error":"#NAME?"}]
[null,null,null,null,null,null,null,null,null,null,null,null,null,null,null,null,null,null,null,null,null,null,null,{"$error":"#NAME?"},{"$error":"#NAME?"}]
[null,null,null,null,null,null,null,null,null,null,null,null,null,null,null,null,null,null,null,null,null,null,null,{"$error":"#NAME?"},{"$error":"#NAME?"}]
[null,null,null,null,null,null,null,null,null,null,null,null,null,null,null,null,null,null,null,null,null,null,null,{"$error":"#NAME?"},{"$error":"#NAME?"}]
[null,null,null,null,null,null,null,null,null,null,null,null,null,null,null,null,null,null,null,null,null,null,null,{"$error":"#NAME?"},{"$error":"#NAME?"}]
[null,null,null,null,null,null,null,null,null,null,null,null,null,null,null,null,null,null,null,null,null,null,null,{"$error":"#NAME?"},{"$error":"#NAME?"}]
[null,null,null,null,null,null,null,null,null,null,null,null,null,null,null,null,null,null,null,null,null,null,null,{"$error":"#NAME?"},{"$error":"#NAME?"}]
[null,null,null,null,null,null,null,null,null,null,null,null,null,null,null,null,null,null,null,null,null,null,null,{"$error":"#NAME?"},{"$error":"#NAME?"}]
[null,null,null,null,null,null,null,null,null,null,null,null,null,null,null,null,null,null,null,null,null,null,null,{"$error":"#NAME?"},{"$error":"#NAME?"}]
[null,null,null,null,null,null,null,null,null,null,null,null,null,null,null,null,null,null,null,null,null,null,null,{"$error":"#NAME?"},{"$error":"#NAME?"}]
[null,null,null,null,null,null,null,null,null,null,null,null,null,null,null,null,null,null,null,null,null,null,null,{"$error":"#NAME?"},{"$error":"#NAME?"}]
[null,null,null,null,null,null,null,null,null,null,null,null,null,null,null,null,null,null,null,null,null,null,null,{"$error":"#NAME?"},{"$error":"#NAME?"}]
[null,null,null,null,null,null,null,null,null,null,null,null,null,null,null,null,null,null,null,null,null,null,null,{"$error":"#NAME?"},{"$error":"#NAME?"}]
[null,null,null,null,null,null,null,null,null,null,null,null,null,null,null,null,null,null,null,null,null,null,null,{"$error":"#NAME?"},{"$error":"#NAME?"}]
[null,null,null,null,null,null,null,null,null,null,null,null,null,null,null,null,null,null,null,null,null,null,null,{"$error":"#NAME?"},{"$error":"#NAME?"}]
[null,null,null,null,null,null,null,null,null,null,null,null,null,null,null,null,null,null,null,null,null,null,null,{"$error":"#NAME?"},{"$error":"#NAME?"}]
[null,null,null,null,null,null,null,null,null,null,null,null,null,null,null,null,null,null,null,null,null,null,null,{"$error":"#NAME?"},{"$error":"#NAME?"}]
[null,null,null,null,null,null,null,null,null,null,null,null,null,null,null,null,null,null,null,null,null,null,null,{"$error":"#NAME?"},{"$error":"#NAME?"}]
[null,null,null,null,null,null,null,null,null,null,null,null,null,null,null,null,null,null,null,null,null,null,null,{"$error":"#NAME?"},{"$error":"#NAME?"}]
[null,null,null,null,null,null,null,null,null,null,null,null,null,null,null,null,null,null,null,null,null,null,null,{"$error":"#NAME?"},{"$error":"#NAME?"}]
[null,null,null,null,null,null,null,null,null,null,null,null,null,null,null,null,null,null,null,null,null,null,null,{"$error":"#NAME?"},{"$error":"#NAME?"}]
[null,null,null,null,null,null,null,null,null,null,null,null,null,null,null,null,null,null,null,null,null,null,null,{"$error":"#NAME?"},{"$error":"#NAME?"}]
[null,null,null,null,null,null,null,null,null,null,null,null,null,null,null,null,null,null,null,null,null,null,null,{"$error":"#NAME?"},{"$error":"#NAME?"}]
[null,null,null,null,null,null,null,null,null,null,null,null,null,null,null,null,null,null,null,null,null,null,null,{"$error":"#NAME?"},{"$error":"#NAME?"}]
[null,null,null,null,null,null,null,null,null,null,null,null,null,null,null,null,null,null,null,null,null,null,null,{"$error":"#NAME?"},{"$error":"#NAME?"}]
[null,null,null,null,null,null,null,null,null,null,null,null,null,null,null,null,null,null,null,null,null,null,null,{"$error":"#NAME?"},{"$error":"#NAME?"}]
[null,null,null,null,null,null,null,null,null,null,null,null,null,null,null,null,null,null,null,null,null,null,null,{"$error":"#NAME?"},{"$error":"#NAME?"}]
[null,null,null,null,null,null,null,null,null,null,null,null,null,null,null,null,null,null,null,null,null,null,null,{"$error":"#NAME?"},{"$error":"#NAME?"}]
[null,null,null,null,null,null,null,null,null,null,null,null,null,null,null,null,null,null,null,null,null,null,null,{"$error":"#NAME?"},{"$error":"#NAME?"}]
[null,null,null,null,null,null,null,null,null,null,null,null,null,null,null,null,null,null,null,null,null,null,null,{"$error":"#NAME?"},{"$error":"#NAME?"}]
[null,null,null,null,null,null,null,null,null,null,null,null,null,null,null,null,null,null,null,null,null,null,null,{"$error":"#NAME?"},{"$error":"#NAME?"}]
[null,null,null,null,null,null,null,null,null,null,null,null,null,null,null,null,null,null,null,null,null,null,null,{"$error":"#NAME?"},{"$error":"#NAME?"}]
[null,null,null,null,null,null,null,null,null,null,null,null,null,null,null,null,null,null,null,null,null,null,null,{"$error":"#NAME?"},{"$error":"#NAME?"}]
[null,null,null,null,null,null,null,null,null,null,null,null,null,null,null,null,null,null,null,null,null,null,null,{"$error":"#NAME?"},{"$error":"#NAME?"}]
[null,null,null,null,null,null,null,null,null,null,null,null,null,null,null,null,null,null,null,null,null,null,null,{"$error":"#NAME?"},{"$error":"#NAME?"}]
[null,null,null,null,null,null,null,null,null,null,null,null,null,null,null,null,null,null,null,null,null,null,null,{"$error":"#NAME?"},{"$error":"#NAME?"}]
[null,null,null,null,null,null,null,null,null,null,null,null,null,null,null,null,null,null,null,null,null,null,null,{"$error":"#NAME?"},{"$error":"#NAME?"}]
[null,null,null,null,null,null,null,null,null,null,null,null,null,null,null,null,null,null,null,null,null,null,null,{"$error":"#NAME?"},{"$error":"#NAME?"}]
[null,null,null,null,null,null,null,null,null,null,null,null,null,null,null,null,null,null,null,null,null,null,null,{"$error":"#NAME?"},{"$error":"#NAME?"}]
[null,null,null,null,null,null,null,null,null,null,null,null,null,null,null,null,null,null,null,null,null,null,null,{"$error":"#NAME?"},{"$error":"#NAME?"}]
[null,null,null,null,null,null,null,null,null,null,null,null,null,null,null,null,null,null,null,null,null,null,null,{"$error":"#NAME?"},{"$error":"#NAME?"}]
[null,null,null,null,null,null,null,null,null,null,null,null,null,null,null,null,null,null,null,null,null,null,null,{"$error":"#NAME?"},{"$error":"#NAME?"}]
[null,null,null,null,null,null,null,null,null,null,null,null,null,null,null,null,null,null,null,null,null,null,null,{"$error":"#NAME?"},{"$error":"#NAME?"}]
[null,null,null,null,null,null,null,null,null,null,null,null,null,null,null,null,null,null,null,null,null,null,null,{"$error":"#NAME?"},{"$error":"#NAME?"}]
[null,null,null,null,null,null,null,null,null,null,null,null,null,null,null,null,null,null,null,null,null,null,null,{"$error":"#NAME?"},{"$error":"#NAME?"}]
[null,null,null,null,null,null,null,null,null,null,null,null,null,null,null,null,null,null,null,null,null,null,null,{"$error":"#NAME?"},{"$error":"#NAME?"}]
[null,null,null,null,null,null,null,null,null,null,null,null,null,null,null,null,null,null,null,null,null,null,null,{"$error":"#NAME?"},{"$error":"#NAME?"}]
[null,null,null,null,null,null,null,null,null,null,null,null,null,null,null,null,null,null,null,null,null,null,null,{"$error":"#NAME?"},{"$error":"#NAME?"}]
[null,null,null,null,null,null,null,null,null,null,null,null,null,null,null,null,null,null,null,null,null,null,null,{"$error":"#NAME?"},{"$error":"#NAME?"}]
[null,null,null,null,null,null,null,null,null,null,null,null,null,null,null,null,null,null,null,null,null,null,null,{"$error":"#NAME?"},{"$error":"#NAME?"}]
[null,null,null,null,null,null,null,null,null,null,null,null,null,null,null,null,null,null,null,null,null,null,null,{"$error":"#NAME?"},{"$error":"#NAME?"}]
[null,null,null,null,null,null,null,null,null,null,null,null,null,null,null,null,null,null,null,null,null,null,null,{"$error":"#NAME?"},{"$error":"#NAME?"}]
[null,null,null,null,null,null,null,null,null,null,null,null,null,null,null,null,null,null,null,null,null,null,null,{"$error":"#NAME?"},{"$error":"#NAME?"}]
[null,null,null,null,null,null,null,null,null,null,null,null,null,null,null,null,null,null,null,null,null,null,null,{"$error":"#NAME?"},{"$error":"#NAME?"}]
[null,null,null,null,null,null,null,null,null,null,null,null,null,null,null,null,null,null,null,null,null,null,null,{"$error":"#NAME?"},{"$error":"#NAME?"}]
[null,null,null,null,null,null,null,null,null,null,null,null,null,null,null,null,null,null,null,null,null,null,null,{"$error":"#NAME?"},{"$error":"#NAME?"}]
[null,null,null,null,null,null,null,null,null,null,null,null,null,null,null,null,null,null,null,null,null,null,null,{"$error":"#NAME?"},{"$error":"#NAME?"}]
[null,null,null,null,null,null,null,null,null,null,null,null,null,null,null,null,null,null,null,null,null,null,null,{"$error":"#NAME?"},{"$error":"#NAME?"}]
[null,null,null,null,null,null,null,null,null,null,null,null,null,null,null,null,null,null,null,null,null,null,null,{"$error":"#NAME?"},{"$error":"#NAME?"}]
[null,null,null,null,null,null,null,null,null,null,null,null,null,null,null,null,null,null,null,null,null,null,null,{"$error":"#NAME?"},{"$error":"#NAME?"}]
[null,null,null,null,null,null,null,null,null,null,null,null,null,null,null,null,null,null,null,null,null,null,null,{"$error":"#NAME?"},{"$error":"#NAME?"}]
[null,null,null,null,null,null,null,null,null,null,null,null,null,null,null,null,null,null,null,null,null,null,null,{"$error":"#NAME?"},{"$error":"#NAME?"}]
[null,null,null,null,null,null,null,null,null,null,null,null,null,null,null,null,null,null,null,null,null,null,null,{"$error":"#NAME?"},{"$error":"#NAME?"}]
[null,null,null,null,null,null,null,null,null,null,null,null,null,null,null,null,null,null,null,null,null,null,null,{"$error":"#NAME?"},{"$error":"#NAME?"}]
[null,null,null,null,null,null,null,null,null,null,null,null,null,null,null,null,null,null,null,null,null,null,null,{"$error":"#NAME?"},{"$error":"#NAME?"}]
[null,null,null,null,null,null,null,null,null,null,null,null,null,null,null,null,null,null,null,null,null,null,null,{"$error":"#NAME?"},{"$error":"#NAME?"}]
[null,null,null,null,null,null,null,null,null,null,null,null,null,null,null,null,null,null,null,null,null,null,null,{"$error":"#NAME?"},{"$error":"#NAME?"}]
[null,null,null,null,null,null,null,null,null,null,null,null,null,null,null,null,null,null,null,null,null,null,null,{"$error":"#NAME?"},{"$error":"#NAME?"}]
[null,null,null,null,null,null,null,null,null,null,null,null,null,null,null,null,null,null,null,null,null,null,null,{"$error":"#NAME?"},{"$error":"#NAME?"}]
[null,null,null,null,null,null,null,null,null,null,null,null,null,null,null,null,null,null,null,null,null,null,null,{"$error":"#NAME?"},{"$error":"#NAME?"}]
[null,null,null,null,null,null,null,null,null,null,null,null,null,null,null,null,null,null,null,null,null,null,null,{"$error":"#NAME?"},{"$error":"#NAME?"}]
[null,null,null,null,null,null,null,null,null,null,null,null,null,null,null,null,null,null,null,null,null,null,null,{"$error":"#NAME?"},{"$error":"#NAME?"}]
[null,null,null,null,null,null,null,null,null,null,null,null,null,null,null,null,null,null,null,null,null,null,null,{"$error":"#NAME?"},{"$error":"#NAME?"}]
[null,null,null,null,null,null,null,null,null,null,null,null,null,null,null,null,null,null,null,null,null,null,null,{"$error":"#NAME?"},{"$error":"#NAME?"}]
[null,null,null,null,null,null,null,null,null,null,null,null,null,null,null,null,null,null,null,null,null,null,null,{"$error":"#NAME?"},{"$error":"#NAME?"}]
[null,null,null,null,null,null,null,null,null,null,null,null,null,null,null,null,null,null,null,null,null,null,null,{"$error":"#NAME?"},{"$error":"#NAME?"}]
[null,null,null,null,null,null,null,null,null,null,null,null,null,null,null,null,null,null,null,null,null,null,null,{"$error":"#NAME?"},{"$error":"#NAME?"}]
[null,null,null,null,null,null,null,null,null,null,null,null,null,null,null,null,null,null,null,null,null,null,null,{"$error":"#NAME?"},{"$error":"#NAME?"}]
[null,null,null,null,null,null,null,null,null,null,null,null,null,null,null,null,null,null,null,null,null,null,null,{"$error":"#NAME?"},{"$error":"#NAME?"}]
[null,null,null,null,null,null,null,null,null,null,null,null,null,null,null,null,null,null,null,null,null,null,null,{"$error":"#NAME?"},{"$error":"#NAME?"}]
[null,null,null,null,null,null,null,null,null,null,null,null,null,null,null,null,null,null,null,null,null,null,null,{"$error":"#NAME?"},{"$error":"#NAME?"}]
[null,null,null,null,null,null,null,null,null,null,null,null,null,null,null,null,null,null,null,null,null,null,null,{"$error":"#NAME?"},{"$error":"#NAME?"}]
[null,null,null,null,null,null,null,null,null,null,null,null,null,null,null,null,null,null,null,null,null,null,null,{"$error":"#NAME?"},{"$error":"#NAME?"}]
[null,null,null,null,null,null,null,null,null,null,null,null,null,null,null,null,null,null,null,null,null,null,null,{"$error":"#NAME?"},{"$error":"#NAME?"}]
[null,null,null,null,null,null,null,null,null,null,null,null,null,null,null,null,null,null,null,null,null,null,null,{"$error":"#NAME?"},{"$error":"#NAME?"}]
[null,null,null,null,null,null,null,null,null,null,null,null,null,null,null,null,null,null,null,null,null,null,null,{"$error":"#NAME?"},{"$error":"#NAME?"}]
[null,null,null,null,null,null,null,null,null,null,null,null,null,null,null,null,null,null,null,null,null,null,null,{"$error":"#NAME?"},{"$error":"#NAME?"}]
[null,null,null,null,null,null,null,null,null,null,null,null,null,null,null,null,null,null,null,null,null,null,null,{"$error":"#NAME?"},{"$error":"#NAME?"}]
[null,null,null,null,null,null,null,null,null,null,null,null,null,null,null,null,null,null,null,null,null,null,null,{"$error":"#NAME?"},{"$error":"#NAME?"}]
[null,null,null,null,null,null,null,null,null,null,null,null,null,null,null,null,null,null,null,null,null,null,null,{"$error":"#NAME?"},{"$error":"#NAME?"}]
[null,null,null,null,null,null,null,null,null,null,null,null,null,null,null,null,null,null,null,null,null,null,null,{"$error":"#NAME?"},{"$error":"#NAME?"}]
[null,null,null,null,null,null,null,null,null,null,null,null,null,null,null,null,null,null,null,null,null,null,null,{"$error":"#NAME?"},{"$error":"#NAME?"}]
[null,null,null,null,null,null,null,null,null,null,null,null,null,null,null,null,null,null,null,null,null,null,null,{"$error":"#NAME?"},{"$error":"#NAME?"}]
[null,null,null,null,null,null,null,null,null,null,null,null,null,null,null,null,null,null,null,null,null,null,null,{"$error":"#NAME?"},{"$error":"#NAME?"}]
[null,null,null,null,null,null,null,null,null,null,null,null,null,null,null,null,null,null,null,null,null,null,null,{"$error":"#NAME?"},{"$error":"#NAME?"}]
[null,null,null,null,null,null,null,null,null,null,null,null,null,null,null,null,null,null,null,null,null,null,null,{"$error":"#NAME?"},{"$error":"#NAME?"}]
[null,null,null,null,null,null,null,null,null,null,null,null,null,null,null,null,null,null,null,null,null,null,null,{"$error":"#NAME?"},{"$error":"#NAME?"}]
[null,null,null,null,null,null,null,null,null,null,null,null,null,null,null,null,null,null,null,null,null,null,null,{"$error":"#NAME?"},{"$error":"#NAME?"}]
[null,null,null,null,null,null,null,null,null,null,null,null,null,null,null,null,null,null,null,null,null,null,null,{"$error":"#NAME?"},{"$error":"#NAME?"}]
[null,null,null,null,null,null,null,null,null,null,null,null,null,null,null,null,null,null,null,null,null,null,null,{"$error":"#NAME?"},{"$error":"#NAME?"}]
[null,null,null,null,null,null,null,null,null,null,null,null,null,null,null,null,null,null,null,null,null,null,null,{"$error":"#NAME?"},{"$error":"#NAME?"}]
[null,null,null,null,null,null,null,null,null,null,null,null,null,null,null,null,null,null,null,null,null,null,null,{"$error":"#NAME?"},{"$error":"#NAME?"}]
[null,null,null,null,null,null,null,null,null,null,null,null,null,null,null,null,null,null,null,null,null,null,null,{"$error":"#NAME?"},{"$error":"#NAME?"}]
[null,null,null,null,null,null,null,null,null,null,null,null,null,null,null,null,null,null,null,null,null,null,null,{"$error":"#NAME?"},{"$error":"#NAME?"}]
[null,null,null,null,null,null,null,null,null,null,null,null,null,null,null,null,null,null,null,null,null,null,null,{"$error":"#NAME?"},{"$error":"#NAME?"}]
[null,null,null,null,null,null,null,null,null,null,null,null,null,null,null,null,null,null,null,null,null,null,null,{"$error":"#NAME?"},{"$error":"#NAME?"}]
[null,null,null,null,null,null,null,null,null,null,null,null,null,null,null,null,null,null,null,null,null,null,null,{"$error":"#NAME?"},{"$error":"#NAME?"}]
[null,null,null,null,null,null,null,null,null,null,null,null,null,null,null,null,null,null,null,null,null,null,null,{"$error":"#NAME?"},{"$error":"#NAME?"}]
[null,null,null,null,null,null,null,null,null,null,null,null,null,null,null,null,null,null,null,null,null,null,null,{"$error":"#NAME?"},{"$error":"#NAME?"}]
[null,null,null,null,null,null,null,null,null,null,null,null,null,null,null,null,null,null,null,null,null,null,null,{"$error":"#NAME?"},{"$error":"#NAME?"}]
[null,null,null,null,null,null,null,null,null,null,null,null,null,null,null,null,null,null,null,null,null,null,null,{"$error":"#NAME?"},{"$error":"#NAME?"}]
[null,null,null,null,null,null,null,null,null,null,null,null,null,null,null,null,null,null,null,null,null,null,null,{"$error":"#NAME?"},{"$error":"#NAME?"}]
[null,null,null,null,null,null,null,null,null,null,null,null,null,null,null,null,null,null,null,null,null,null,null,{"$error":"#NAME?"},{"$error":"#NAME?"}]
[null,null,null,null,null,null,null,null,null,null,null,null,null,null,null,null,null,null,null,null,null,null,null,{"$error":"#NAME?"},{"$error":"#NAME?"}]
[null,null,null,null,null,null,null,null,null,null,null,null,null,null,null,null,null,null,null,null,null,null,null,{"$error":"#NAME?"},{"$error":"#NAME?"}]
[null,null,null,null,null,null,null,null,null,null,null,null,null,null,null,null,null,null,null,null,null,null,null,{"$error":"#NAME?"},{"$error":"#NAME?"}]
[null,null,null,null,null,null,null,null,null,null,null,null,null,null,null,null,null,null,null,null,null,null,null,{"$error":"#NAME?"},{"$error":"#NAME?"}]
[null,null,null,null,null,null,null,null,null,null,null,null,null,null,null,null,null,null,null,null,null,null,null,{"$error":"#NAME?"},{"$error":"#NAME?"}]
[null,null,null,null,null,null,null,null,null,null,null,null,null,null,null,null,null,null,null,null,null,null,null,{"$error":"#NAME?"},{"$error":"#NAME?"}]
[null,null,null,null,null,null,null,null,null,null,null,null,null,null,null,null,null,null,null,null,null,null,null,{"$error":"#NAME?"},{"$error":"#NAME?"}]
[null,null,null,null,null,null,null,null,null,null,null,null,null,null,null,null,null,null,null,null,null,null,null,{"$error":"#NAME?"},{"$error":"#NAME?"}]
[null,null,null,null,null,null,null,null,null,null,null,null,null,null,null,null,null,null,null,null,null,null,null,{"$error":"#NAME?"},{"$error":"#NAME?"}]
[null,null,null,null,null,null,null,null,null,null,null,null,null,null,null,null,null,null,null,null,null,null,null,{"$error":"#NAME?"},{"$error":"#NAME?"}]
[null,null,null,null,null,null,null,null,null,null,null,null,null,null,null,null,null,null,null,null,null,null,null,{"$error":"#NAME?"},{"$error":"#NAME?"}]
[null,null,null,null,null,null,null,null,null,null,null,null,null,null,null,null,null,null,null,null,null,null,null,{"$error":"#NAME?"},{"$error":"#NAME?"}]
[null,null,null,null,null,null,null,null,null,null,null,null,null,null,null,null,null,null,null,null,null,null,null,{"$error":"#NAME?"},{"$error":"#NAME?"}]
[null,null,null,null,null,null,null,null,null,null,null,null,null,null,null,null,null,null,null,null,null,null,null,{"$error":"#NAME?"},{"$error":"#NAME?"}]
[null,null,null,null,null,null,null,null,null,null,null,null,null,null,null,null,null,null,null,null,null,null,null,{"$error":"#NAME?"},{"$error":"#NAME?"}]
[null,null,null,null,null,null,null,null,null,null,null,null,null,null,null,null,null,null,null,null,null,null,null,{"$error":"#NAME?"},{"$error":"#NAME?"}]
[null,null,null,null,null,null,null,null,null,null,null,null,null,null,null,null,null,null,null,null,null,null,null,{"$error":"#NAME?"},{"$error":"#NAME?"}]
[null,null,null,null,null,null,null,null,null,null,null,null,null,null,null,null,null,null,null,null,null,null,null,{"$error":"#NAME?"},{"$error":"#NAME?"}]
[null,null,null,null,null,null,null,null,null,null,null,null,null,null,null,null,null,null,null,null,null,null,null,{"$error":"#NAME?"},{"$error":"#NAME?"}]
[null,null,null,null,null,null,null,null,null,null,null,null,null,null,null,null,null,null,null,null,null,null,null,{"$error":"#NAME?"},{"$error":"#NAME?"}]
[null,null,null,null,null,null,null,null,null,null,null,null,null,null,null,null,null,null,null,null,null,null,null,{"$error":"#NAME?"},{"$error":"#NAME?"}]
[null,null,null,null,null,null,null,null,null,null,null,null,null,null,null,null,null,null,null,null,null,null,null,{"$error":"#NAME?"},{"$error":"#NAME?"}]
[null,null,null,null,null,null,null,null,null,null,null,null,null,null,null,null,null,null,null,null,null,null,null,{"$error":"#NAME?"},{"$error":"#NAME?"}]
[null,null,null,null,null,null,null,null,null,null,null,null,null,null,null,null,null,null,null,null,null,null,null,{"$error":"#NAME?"},{"$error":"#NAME?"}]
[null,null,null,null,null,null,null,null,null,null,null,null,null,null,null,null,null,null,null,null,null,null,null,{"$error":"#NAME?"},{"$error":"#NAME?"}]
[null,null,null,null,null,null,null,null,null,null,null,null,null,null,null,null,null,null,null,null,null,null,null,{"$error":"#NAME?"},{"$error":"#NAME?"}]
[null,null,null,null,null,null,null,null,null,null,null,null,null,null,null,null,null,null,null,null,null,null,null,{"$error":"#NAME?"},{"$error":"#NAME?"}]
[null,null,null,null,null,null,null,null,null,null,null,null,null,null,null,null,null,null,null,null,null,null,null,{"$error":"#NAME?"},{"$error":"#NAME?"}]
[null,null,null,null,null,null,null,null,null,null,null,null,null,null,null,null,null,null,null,null,null,null,null,{"$error":"#NAME?"},{"$error":"#NAME?"}]
[null,null,null,null,null,null,null,null,null,null,null,null,null,null,null,null,null,null,null,null,null,null,null,{"$error":"#NAME?"},{"$error":"#NAME?"}]
[null,null,null,null,null,null,null,null,null,null,null,null,null,null,null,null,null,null,null,null,null,null,null,{"$error":"#NAME?"},{"$error":"#NAME?"}]
[null,null,null,null,null,null,null,null,null,null,null,null,null,null,null,null,null,null,null,null,null,null,null,{"$error":"#NAME?"},{"$error":"#NAME?"}]
[null,null,null,null,null,null,null,null,null,null,null,null,null,null,null,null,null,null,null,null,null,null,null,{"$error":"#NAME?"},{"$error":"#NAME?"}]
[null,null,null,null,null,null,null,null,null,null,null,null,null,null,null,null,null,null,null,null,null,null,null,{"$error":"#NAME?"},{"$error":"#NAME?"}]
[null,null,null,null,null,null,null,null,null,null,null,null,null,null,null,null,null,null,null,null,null,null,null,{"$error":"#NAME?"},{"$error":"#NAME?"}]
[null,null,null,null,null,null,null,null,null,null,null,null,null,null,null,null,null,null,null,null,null,null,null,{"$error":"#NAME?"},{"$error":"#NAME?"}]
[null,null,null,null,null,null,null,null,null,null,null,null,null,null,null,null,null,null,null,null,null,null,null,{"$error":"#NAME?"},{"$error":"#NAME?"}]
[null,null,null,null,null,null,null,null,null,null,null,null,null,null,null,null,null,null,null,null,null,null,null,{"$error":"#NAME?"},{"$error":"#NAME?"}]
[null,null,null,null,null,null,null,null,null,null,null,null,null,null,null,null,null,null,null,null,null,null,null,{"$error":"#NAME?"},{"$error":"#NAME?"}]
[null,null,null,null,null,null,null,null,null,null,null,null,null,null,null,null,null,null,null,null,null,null,null,{"$error":"#NAME?"},{"$error":"#NAME?"}]
[null,null,null,null,null,null,null,null,null,null,null,null,null,null,null,null,null,null,null,null,null,null,null,{"$error":"#NAME?"},{"$error":"#NAME?"}]
[null,null,null,null,null,null,null,null,null,null,null,null,null,null,null,null,null,null,null,null,null,null,null,{"$error":"#NAME?"},{"$error":"#NAME?"}]
[null,null,null,null,null,null,null,null,null,null,null,null,null,null,null,null,null,null,null,null,null,null,null,{"$error":"#NAME?"},{"$error":"#NAME?"}]
[null,null,null,null,null,null,null,null,null,null,null,null,null,null,null,null,null,null,null,null,null,null,null,{"$error":"#NAME?"},{"$error":"#NAME?"}]
[null,null,null,null,null,null,null,null,null,null,null,null,null,null,null,null,null,null,null,null,null,null,null,{"$error":"#NAME?"},{"$error":"#NAME?"}]
[null,null,null,null,null,null,null,null,null,null,null,null,null,null,null,null,null,null,null,null,null,null,null,{"$error":"#NAME?"},{"$error":"#NAME?"}]
[null,null,null,null,null,null,null,null,null,null,null,null,null,null,null,null,null,null,null,null,null,null,null,{"$error":"#NAME?"},{"$error":"#NAME?"}]
[null,null,null,null,null,null,null,null,null,null,null,null,null,null,null,null,null,null,null,null,null,null,null,{"$error":"#NAME?"},{"$error":"#NAME?"}]
[null,null,null,null,null,null,null,null,null,null,null,null,null,null,null,null,null,null,null,null,null,null,null,{"$error":"#NAME?"},{"$error":"#NAME?"}]
[null,null,null,null,null,null,null,null,null,null,null,null,null,null,null,null,null,null,null,null,null,null,null,{"$error":"#NAME?"},{"$error":"#NAME?"}]
[null,null,null,null,null,null,null,null,null,null,null,null,null,null,null,null,null,null,null,null,null,null,null,{"$error":"#NAME?"},{"$error":"#NAME?"}]
[null,null,null,null,null,null,null,null,null,null,null,null,null,null,null,null,null,null,null,null,null,null,null,{"$error":"#NAME?"},{"$error":"#NAME?"}]
[null,null,null,null,null,null,null,null,null,null,null,null,null,null,null,null,null,null,null,null,null,null,null,{"$error":"#NAME?"},{"$error":"#NAME?"}]
[null,null,null,null,null,null,null,null,null,null,null,null,null,null,null,null,null,null,null,null,null,null,null,{"$error":"#NAME?"},{"$error":"#NAME?"}]
[null,null,null,null,null,null,null,null,null,null,null,null,null,null,null,null,null,null,null,null,null,null,null,{"$error":"#NAME?"},{"$error":"#NAME?"}]
[null,null,null,null,null,null,null,null,null,null,null,null,null,null,null,null,null,null,null,null,null,null,null,{"$error":"#NAME?"},{"$error":"#NAME?"}]
[null,null,null,null,null,null,null,null,null,null,null,null,null,null,null,null,null,null,null,null,null,null,null,{"$error":"#NAME?"},{"$error":"#NAME?"}]
[null,null,null,null,null,null,null,null,null,null,null,null,null,null,null,null,null,null,null,null,null,null,null,{"$error":"#NAME?"},{"$error":"#NAME?"}]
[null,null,null,null,null,null,null,null,null,null,null,null,null,null,null,null,null,null,null,null,null,null,null,{"$error":"#NAME?"},{"$error":"#NAME?"}]
[null,null,null,null,null,null,null,null,null,null,null,null,null,null,null,null,null,null,null,null,null,null,null,{"$error":"#NAME?"},{"$error":"#NAME?"}]
[null,null,null,null,null,null,null,null,null,null,null,null,null,null,null,null,null,null,null,null,null,null,null,{"$error":"#NAME?"},{"$error":"#NAME?"}]
[null,null,null,null,null,null,null,null,null,null,null,null,null,null,null,null,null,null,null,null,null,null,null,{"$error":"#NAME?"},{"$error":"#NAME?"}]
[null,null,null,null,null,null,null,null,null,null,null,null,null,null,null,null,null,null,null,null,null,null,null,{"$error":"#NAME?"},{"$error":"#NAME?"}]
[null,null,null,null,null,null,null,null,null,null,null,null,null,null,null,null,null,null,null,null,null,null,null,{"$error":"#NAME?"},{"$error":"#NAME?"}]
[null,null,null,null,null,null,null,null,null,null,null,null,null,null,null,null,null,null,null,null,null,null,null,{"$error":"#NAME?"},{"$error":"#NAME?"}]
[null,null,null,null,null,null,null,null,null,null,null,null,null,null,null,null,null,null,null,null,null,null,null,{"$error":"#NAME?"},{"$error":"#NAME?"}]
[null,null,null,null,null,null,null,null,null,null,null,null,null,null,null,null,null,null,null,null,null,null,null,{"$error":"#NAME?"},{"$error":"#NAME?"}]
[null,null,null,null,null,null,null,null,null,null,null,null,null,null,null,null,null,null,null,null,null,null,null,{"$error":"#NAME?"},{"$error":"#NAME?"}]
[null,null,null,null,null,null,null,null,null,null,null,null,null,null,null,null,null,null,null,null,null,null,null,{"$error":"#NAME?"},{"$error":"#NAME?"}]
[null,null,null,null,null,null,null,null,null,null,null,null,null,null,null,null,null,null,null,null,null,null,null,{"$error":"#NAME?"},{"$error":"#NAME?"}]
[null,null,null,null,null,null,null,null,null,null,null,null,null,null,null,null,null,null,null,null,null,null,null,{"$error":"#NAME?"},{"$error":"#NAME?"}]
[null,null,null,null,null,null,null,null,null,null,null,null,null,null,null,null,null,null,null,null,null,null,null,{"$error":"#NAME?"},{"$error":"#NAME?"}]
[null,null,null,null,null,null,null,null,null,null,null,null,null,null,null,null,null,null,null,null,null,null,null,{"$error":"#NAME?"},{"$error":"#NAME?"}]
[null,null,null,null,null,null,null,null,null,null,null,null,null,null,null,null,null,null,null,null,null,null,null,{"$error":"#NAME?"},{"$error":"#NAME?"}]
[null,null,null,null,null,null,null,null,null,null,null,null,null,null,null,null,null,null,null,null,null,null,null,{"$error":"#NAME?"},{"$error":"#NAME?"}]
[null,null,null,null,null,null,null,null,null,null,null,null,null,null,null,null,null,null,null,null,null,null,null,{"$error":"#NAME?"},{"$error":"#NAME?"}]
[null,null,null,null,null,null,null,null,null,null,null,null,null,null,null,null,null,null,null,null,null,null,null,{"$error":"#NAME?"},{"$error":"#NAME?"}]
[null,null,null,null,null,null,null,null,null,null,null,null,null,null,null,null,null,null,null,null,null,null,null,{"$error":"#NAME?"},{"$error":"#NAME?"}]
[null,null,null,null,null,null,null,null,null,null,null,null,null,null,null,null,null,null,null,null,null,null,null,{"$error":"#NAME?"},{"$error":"#NAME?"}]
[null,null,null,null,null,null,null,null,null,null,null,null,null,null,null,null,null,null,null,null,null,null,null,{"$error":"#NAME?"},{"$error":"#NAME?"}]
[null,null,null,null,null,null,null,null,null,null,null,null,null,null,null,null,null,null,null,null,null,null,null,{"$error":"#NAME?"},{"$error":"#NAME?"}]
[null,null,null,null,null,null,null,null,null,null,null,null,null,null,null,null,null,null,null,null,null,null,null,{"$error":"#NAME?"},{"$error":"#NAME?"}]
[null,null,null,null,null,null,null,null,null,null,null,null,null,null,null,null,null,null,null,null,null,null,null,{"$error":"#NAME?"},{"$error":"#NAME?"}]
[null,null,null,null,null,null,null,null,null,null,null,null,null,null,null,null,null,null,null,null,null,null,null,{"$error":"#NAME?"},{"$error":"#NAME?"}]
[null,null,null,null,null,null,null,null,null,null,null,null,null,null,null,null,null,null,null,null,null,null,null,{"$error":"#NAME?"},{"$error":"#NAME?"}]
[null,null,null,null,null,null,null,null,null,null,null,null,null,null,null,null,null,null,null,null,null,null,null,{"$error":"#NAME?"},{"$error":"#NAME?"}]
[null,null,null,null,null,null,null,null,null,null,null,null,null,null,null,null,null,null,null,null,null,null,null,{"$error":"#NAME?"},{"$error":"#NAME?"}]
[null,null,null,null,null,null,null,null,null,null,null,null,null,null,null,null,null,null,null,null,null,null,null,{"$error":"#NAME?"},{"$error":"#NAME?"}]
[null,null,null,null,null,null,null,null,null,null,null,null,null,null,null,null,null,null,null,null,null,null,null,{"$error":"#NAME?"},{"$error":"#NAME?"}]
[null,null,null,null,null,null,null,null,null,null,null,null,null,null,null,null,null,null,null,null,null,null,null,{"$error":"#NAME?"},{"$error":"#NAME?"}]
[null,null,null,null,null,null,null,null,null,null,null,null,null,null,null,null,null,null,null,null,null,null,null,{"$error":"#NAME?"},{"$error":"#NAME?"}]
[null,null,null,null,null,null,null,null,null,null,null,null,null,null,null,null,null,null,null,null,null,null,null,{"$error":"#NAME?"},{"$error":"#NAME?"}]
[null,null,null,null,null,null,null,null,null,null,null,null,null,null,null,null,null,null,null,null,null,null,null,{"$error":"#NAME?"},{"$error":"#NAME?"}]
[null,null,null,null,null,null,null,null,null,null,null,null,null,null,null,null,null,null,null,null,null,null,null,{"$error":"#NAME?"},{"$error":"#NAME?"}]
[null,null,null,null,null,null,null,null,null,null,null,null,null,null,null,null,null,null,null,null,null,null,null,{"$error":"#NAME?"},{"$error":"#NAME?"}]
[null,null,null,null,null,null,null,null,null,null,null,null,null,null,null,null,null,null,null,null,null,null,null,{"$error":"#NAME?"},{"$error":"#NAME?"}]
[null,null,null,null,null,null,null,null,null,null,null,null,null,null,null,null,null,null,null,null,null,null,null,{"$error":"#NAME?"},{"$error":"#NAME?"}]
[null,null,null,null,null,null,null,null,null,null,null,null,null,null,null,null,null,null,null,null,null,null,null,{"$error":"#NAME?"},{"$error":"#NAME?"}]
[null,null,null,null,null,null,null,null,null,null,null,null,null,null,null,null,null,null,null,null,null,null,null,{"$error":"#NAME?"},{"$error":"#NAME?"}]
[null,null,null,null,null,null,null,null,null,null,null,null,null,null,null,null,null,null,null,null,null,null,null,{"$error":"#NAME?"},{"$error":"#NAME?"}]
[null,null,null,null,null,null,null,null,null,null,null,null,null,null,null,null,null,null,null,null,null,null,null,{"$error":"#NAME?"},{"$error":"#NAME?"}]
[null,null,null,null,null,null,null,null,null,null,null,null,null,null,null,null,null,null,null,null,null,null,null,{"$error":"#NAME?"},{"$error":"#NAME?"}]
[null,null,null,null,null,null,null,null,null,null,null,null,null,null,null,null,null,null,null,null,null,null,null,{"$error":"#NAME?"},{"$error":"#NAME?"}]
[null,null,null,null,null,null,null,null,null,null,null,null,null,null,null,null,null,null,null,null,null,null,null,{"$error":"#NAME?"},{"$error":"#NAME?"}]
[null,null,null,null,null,null,null,null,null,null,null,null,null,null,null,null,null,null,null,null,null,null,null,{"$error":"#NAME?"},{"$error":"#NAME?"}]
[null,null,null,null,null,null,null,null,null,null,null,null,null,null,null,null,null,null,null,null,null,null,null,{"$error":"#NAME?"},{"$error":"#NAME?"}]
[null,null,null,null,null,null,null,null,null,null,null,null,null,null,null,null,null,null,null,null,null,null,null,{"$error":"#NAME?"},{"$error":"#NAME?"}]
[null,null,null,null,null,null,null,null,null,null,null,null,null,null,null,null,null,null,null,null,null,null,null,{"$error":"#NAME?"},{"$error":"#NAME?"}]
[null,null,null,null,null,null,null,null,null,null,null,null,null,null,null,null,null,null,null,null,null,null,null,{"$error":"#NAME?"},{"$error":"#NAME?"}]
[null,null,null,null,null,null,null,null,null,null,null,null,null,null,null,null,null,null,null,null,null,null,null,{"$error":"#NAME?"},{"$error":"#NAME?"}]
[null,null,null,null,null,null,null,null,null,null,null,null,null,null,null,null,null,null,null,null,null,null,null,{"$error":"#NAME?"},{"$error":"#NAME?"}]
[null,null,null,null,null,null,null,null,null,null,null,null,null,null,null,null,null,null,null,null,null,null,null,{"$error":"#NAME?"},{"$error":"#NAME?"}]
[null,null,null,null,null,null,null,null,null,null,null,null,null,null,null,null,null,null,null,null,null,null,null,{"$error":"#NAME?"},{"$error":"#NAME?"}]
[null,null,null,null,null,null,null,null,null,null,null,null,null,null,null,null,null,null,null,null,null,null,null,{"$error":"#NAME?"},{"$error":"#NAME?"}]
[null,null,null,null,null,null,null,null,null,null,null,null,null,null,null,null,null,null,null,null,null,null,null,{"$error":"#NAME?"},{"$error":"#NAME?"}]
[null,null,null,null,null,null,null,null,null,null,null,null,null,null,null,null,null,null,null,null,null,null,null,{"$error":"#NAME?"},{"$error":"#NAME?"}]
[null,null,null,null,null,null,null,null,null,null,null,null,null,null,null,null,null,null,null,null,null,null,null,{"$error":"#NAME?"},{"$error":"#NAME?"}]
[null,null,null,null,null,null,null,null,null,null,null,null,null,null,null,null,null,null,null,null,null,null,null,{"$error":"#NAME?"},{"$error":"#NAME?"}]
[null,null,null,null,null,null,null,null,null,null,null,null,null,null,null,null,null,null,null,null,null,null,null,{"$error":"#NAME?"},{"$error":"#NAME?"}]
[null,null,null,null,null,null,null,null,null,null,null,null,null,null,null,null,null,null,null,null,null,null,null,{"$error":"#NAME?"},{"$error":"#NAME?"}]
[null,null,null,null,null,null,null,null,null,null,null,null,null,null,null,null,null,null,null,null,null,null,null,{"$error":"#NAME?"},{"$error":"#NAME?"}]
[null,null,null,null,null,null,null,null,null,null,null,null,null,null,null,null,null,null,null,null,null,null,null,{"$error":"#NAME?"},{"$error":"#NAME?"}]
[null,null,null,null,null,null,null,null,null,null,null,null,null,null,null,null,null,null,null,null,null,null,null,{"$error":"#NAME?"},{"$error":"#NAME?"}]
[null,null,null,null,null,null,null,null,null,null,null,null,null,null,null,null,null,null,null,null,null,null,null,{"$error":"#NAME?"},{"$error":"#NAME?"}]
[null,null,null,null,null,null,null,null,null,null,null,null,null,null,null,null,null,null,null,null,null,null,null,{"$error":"#NAME?"},{"$error":"#NAME?"}]
[null,null,null,null,null,null,null,null,null,null,null,null,null,null,null,null,null,null,null,null,null,null,null,{"$error":"#NAME?"},{"$error":"#NAME?"}]
[null,null,null,null,null,null,null,null,null,null,null,null,null,null,null,null,null,null,null,null,null,null,null,{"$error":"#NAME?"},{"$error":"#NAME?"}]
[null,null,null,null,null,null,null,null,null,null,null,null,null,null,null,null,null,null,null,null,null,null,null,{"$error":"#NAME?"},{"$error":"#NAME?"}]
[null,null,null,null,null,null,null,null,null,null,null,null,null,null,null,null,null,null,null,null,null,null,null,{"$error":"#NAME?"},{"$error":"#NAME?"}]
[null,null,null,null,null,null,null,null,null,null,null,null,null,null,null,null,null,null,null,null,null,null,null,{"$error":"#NAME?"},{"$error":"#NAME?"}]
[null,null,null,null,null,null,null,null,null,null,null,null,null,null,null,null,null,null,null,null,null,null,null,{"$error":"#NAME?"},{"$error":"#NAME?"}]
[null,null,null,null,null,null,null,null,null,null,null,null,null,null,null,null,null,null,null,null,null,null,null,{"$error":"#NAME?"},{"$error":"#NAME?"}]
[null,null,null,null,null,null,null,null,null,null,null,null,null,null,null,null,null,null,null,null,null,null,null,{"$error":"#NAME?"},{"$error":"#NAME?"}]
[null,null,null,null,null,null,null,null,null,null,null,null,null,null,null,null,null,null,null,null,null,null,null,{"$error":"#NAME?"},{"$error":"#NAME?"}]
[null,null,null,null,null,null,null,null,null,null,null,null,null,null,null,null,null,null,null,null,null,null,null,{"$error":"#NAME?"},{"$error":"#NAME?"}]
[null,null,null,null,null,null,null,null,null,null,null,null,null,null,null,null,null,null,null,null,null,null,null,{"$error":"#NAME?"},{"$error":"#NAME?"}]
[null,null,null,null,null,null,null,null,null,null,null,null,null,null,null,null,null,null,null,null,null,null,null,{"$error":"#NAME?"},{"$error":"#NAME?"}]
[null,null,null,null,null,null,null,null,null,null,null,null,null,null,null,null,null,null,null,null,null,null,null,{"$error":"#NAME?"},{"$error":"#NAME?"}]
[null,null,null,null,null,null,null,null,null,null,null,null,null,null,null,null,null,null,null,null,null,null,null,{"$error":"#NAME?"},{"$error":"#NAME?"}]
[null,null,null,null,null,null,null,null,null,null,null,null,null,null,null,null,null,null,null,null,null,null,null,{"$error":"#NAME?"},{"$error":"#NAME?"}]
[null,null,null,null,null,null,null,null,null,null,null,null,null,null,null,null,null,null,null,null,null,null,null,{"$error":"#NAME?"},{"$error":"#NAME?"}]
[null,null,null,null,null,null,null,null,null,null,null,null,null,null,null,null,null,null,null,null,null,null,null,{"$error":"#NAME?"},{"$error":"#NAME?"}]
[null,null,null,null,null,null,null,null,null,null,null,null,null,null,null,null,null,null,null,null,null,null,null,{"$error":"#NAME?"},{"$error":"#NAME?"}]
[null,null,null,null,null,null,null,null,null,null,null,null,null,null,null,null,null,null,null,null,null,null,null,{"$error":"#NAME?"},{"$error":"#NAME?"}]
[null,null,null,null,null,null,null,null,null,null,null,null,null,null,null,null,null,null,null,null,null,null,null,{"$error":"#NAME?"},{"$error":"#NAME?"}]
[null,null,null,null,null,null,null,null,null,null,null,null,null,null,null,null,null,null,null,null,null,null,null,{"$error":"#NAME?"},{"$error":"#NAME?"}]
[null,null,null,null,null,null,null,null,null,null,null,null,null,null,null,null,null,null,null,null,null,null,null,{"$error":"#NAME?"},{"$error":"#NAME?"}]
[null,null,null,null,null,null,null,null,null,null,null,null,null,null,null,null,null,null,null,null,null,null,null,{"$error":"#NAME?"},{"$error":"#NAME?"}]
[null,null,null,null,null,null,null,null,null,null,null,null,null,null,null,null,null,null,null,null,null,null,null,{"$error":"#NAME?"},{"$error":"#NAME?"}]
[null,null,null,null,null,null,null,null,null,null,null,null,null,null,null,null,null,null,null,null,null,null,null,{"$error":"#NAME?"},{"$error":"#NAME?"}]
[null,null,null,null,null,null,null,null,null,null,null,null,null,null,null,null,null,null,null,null,null,null,null,{"$error":"#NAME?"},{"$error":"#NAME?"}]
[null,null,null,null,null,null,null,null,null,null,null,null,null,null,null,null,null,null,null,null,null,null,null,{"$error":"#NAME?"},{"$error":"#NAME?"}]
[null,null,null,null,null,null,null,null,null,null,null,null,null,null,null,null,null,null,null,null,null,null,null,{"$error":"#NAME?"},{"$error":"#NAME?"}]
[null,null,null,null,null,null,null,null,null,null,null,null,null,null,null,null,null,null,null,null,null,null,null,{"$error":"#NAME?"},{"$error":"#NAME?"}]
[null,null,null,null,null,null,null,null,null,null,null,null,null,null,null,null,null,null,null,null,null,null,null,{"$error":"#NAME?"},{"$error":"#NAME?"}]
[null,null,null,null,null,null,null,null,null,null,null,null,null,null,null,null,null,null,null,null,null,null,null,{"$error":"#NAME?"},{"$error":"#NAME?"}]
[null,null,null,null,null,null,null,null,null,null,null,null,null,null,null,null,null,null,null,null,null,null,null,{"$error":"#NAME?"},{"$error":"#NAME?"}]
[null,null,null,null,null,null,null,null,null,null,null,null,null,null,null,null,null,null,null,null,null,null,null,{"$error":"#NAME?"},{"$error":"#NAME?"}]
[null,null,null,null,null,null,null,null,null,null,null,null,null,null,null,null,null,null,null,null,null,null,null,{"$error":"#NAME?"},{"$error":"#NAME?"}]
[null,null,null,null,null,null,null,null,null,null,null,null,null,null,null,null,null,null,null,null,null,null,null,{"$error":"#NAME?"},{"$error":"#NAME?"}]
[null,null,null,null,null,null,null,null,null,null,null,null,null,null,null,null,null,null,null,null,null,null,null,{"$error":"#NAME?"},{"$error":"#NAME?"}]
[null,null,null,null,null,null,null,null,null,null,null,null,null,null,null,null,null,null,null,null,null,null,null,{"$error":"#NAME?"},{"$error":"#NAME?"}]
[null,null,null,null,null,null,null,null,null,null,null,null,null,null,null,null,null,null,null,null,null,null,null,{"$error":"#NAME?"},{"$error":"#NAME?"}]
[null,null,null,null,null,null,null,null,null,null,null,null,null,null,null,null,null,null,null,null,null,null,null,{"$error":"#NAME?"},{"$error":"#NAME?"}]
[null,null,null,null,null,null,null,null,null,null,null,null,null,null,null,null,null,null,null,null,null,null,null,{"$error":"#NAME?"},{"$error":"#NAME?"}]
[null,null,null,null,null,null,null,null,null,null,null,null,null,null,null,null,null,null,null,null,null,null,null,{"$error":"#NAME?"},{"$error":"#NAME?"}]
[null,null,null,null,null,null,null,null,null,null,null,null,null,null,null,null,null,null,null,null,null,null,null,{"$error":"#NAME?"},{"$error":"#NAME?"}]
[null,null,null,null,null,null,null,null,null,null,null,null,null,null,null,null,null,null,null,null,null,null,null,{"$error":"#NAME?"},{"$error":"#NAME?"}]
[null,null,null,null,null,null,null,null,null,null,null,null,null,null,null,null,null,null,null,null,null,null,null,{"$error":"#NAME?"},{"$error":"#NAME?"}]
[null,null,null,null,null,null,null,null,null,null,null,null,null,null,null,null,null,null,null,null,null,null,null,{"$error":"#NAME?"},{"$error":"#NAME?"}]
[null,null,null,null,null,null,null,null,null,null,null,null,null,null,null,null,null,null,null,null,null,null,null,{"$error":"#NAME?"},{"$error":"#NAME?"}]
[null,null,null,null,null,null,null,null,null,null,null,null,null,null,null,null,null,null,null,null,null,null,null,{"$error":"#NAME?"},{"$error":"#NAME?"}]
[null,null,null,null,null,null,null,null,null,null,null,null,null,null,null,null,null,null,null,null,null,null,null,{"$error":"#NAME?"},{"$error":"#NAME?"}]
[null,null,null,null,null,null,null,null,null,null,null,null,null,null,null,null,null,null,null,null,null,null,null,{"$error":"#NAME?"},{"$error":"#NAME?"}]
[null,null,null,null,null,null,null,null,null,null,null,null,null,null,null,null,null,null,null,null,null,null,null,{"$error":"#NAME?"},{"$error":"#NAME?"}]
[null,null,null,null,null,null,null,null,null,null,null,null,null,null,null,null,null,null,null,null,null,null,null,{"$error":"#NAME?"},{"$error":"#NAME?"}]
[null,null,null,null,null,null,null,null,null,null,null,null,null,null,null,null,null,null,null,null,null,null,null,{"$error":"#NAME?"},{"$error":"#NAME?"}]
[null,null,null,null,null,null,null,null,null,null,null,null,null,null,null,null,null,null,null,null,null,null,null,{"$error":"#NAME?"},{"$error":"#NAME?"}]
[null,null,null,null,null,null,null,null,null,null,null,null,null,null,null,null,null,null,null,null,null,null,null,{"$error":"#NAME?"},{"$error":"#NAME?"}]
[null,null,null,null,null,null,null,null,null,null,null,null,null,null,null,null,null,null,null,null,null,null,null,{"$error":"#NAME?"},{"$error":"#NAME?"}]
[null,null,null,null,null,null,null,null,null,null,null,null,null,null,null,null,null,null,null,null,null,null,null,{"$error":"#NAME?"},{"$error":"#NAME?"}]
[null,null,null,null,null,null,null,null,null,null,null,null,null,null,null,null,null,null,null,null,null,null,null,{"$error":"#NAME?"},{"$error":"#NAME?"}]
[null,null,null,null,null,null,null,null,null,null,null,null,null,null,null,null,null,null,null,null,null,null,null,{"$error":"#NAME?"},{"$error":"#NAME?"}]
[null,null,null,null,null,null,null,null,null,null,null,null,null,null,null,null,null,null,null,null,null,null,null,{"$error":"#NAME?"},{"$error":"#NAME?"}]
[null,null,null,null,null,null,null,null,null,null,null,null,null,null,null,null,null,null,null,null,null,null,null,{"$error":"#NAME?"},{"$error":"#NAME?"}]
[null,null,null,null,null,null,null,null,null,null,null,null,null,null,null,null,null,null,null,null,null,null,null,{"$error":"#NAME?"},{"$error":"#NAME?"}]
[null,null,null,null,null,null,null,null,null,null,null,null,null,null,null,null,null,null,null,null,null,null,null,{"$error":"#NAME?"},{"$error":"#NAME?"}]
[null,null,null,null,null,null,null,null,null,null,null,null,null,null,null,null,null,null,null,null,null,null,null,{"$error":"#NAME?"},{"$error":"#NAME?"}]
[null,null,null,null,null,null,null,null,null,null,null,null,null,null,null,null,null,null,null,null,null,null,null,{"$error":"#NAME?"},{"$error":"#NAME?"}]
[null,null,null,null,null,null,null,null,null,null,null,null,null,null,null,null,null,null,null,null,null,null,null,{"$error":"#NAME?"},{"$error":"#NAME?"}]
[null,null,null,null,null,null,null,null,null,null,null,null,null,null,null,null,null,null,null,null,null,null,null,{"$error":"#NAME?"},{"$error":"#NAME?"}]
[null,null,null,null,null,null,null,null,null,null,null,null,null,null,null,null,null,null,null,null,null,null,null,{"$error":"#NAME?"},{"$error":"#NAME?"}]
[null,null,null,null,null,null,null,null,null,null,null,null,null,null,null,null,null,null,null,null,null,null,null,{"$error":"#NAME?"},{"$error":"#NAME?"}]
[null,null,null,null,null,null,null,null,null,null,null,null,null,null,null,null,null,null,null,null,null,null,null,{"$error":"#NAME?"},{"$error":"#NAME?"}]
[null,null,null,null,null,null,null,null,null,null,null,null,null,null,null,null,null,null,null,null,null,null,null,{"$error":"#NAME?"},{"$error":"#NAME?"}]
[null,null,null,null,null,null,null,null,null,null,null,null,null,null,null,null,null,null,null,null,null,null,null,{"$error":"#NAME?"},{"$error":"#NAME?"}]
[null,null,null,null,null,null,null,null,null,null,null,null,null,null,null,null,null,null,null,null,null,null,null,{"$error":"#NAME?"},{"$error":"#NAME?"}]
[null,null,null,null,null,null,null,null,null,null,null,null,null,null,null,null,null,null,null,null,null,null,null,{"$error":"#NAME?"},{"$error":"#NAME?"}]
[null,null,null,null,null,null,null,null,null,null,null,null,null,null,null,null,null,null,null,null,null,null,null,{"$error":"#NAME?"},{"$error":"#NAME?"}]
[null,null,null,null,null,null,null,null,null,null,null,null,null,null,null,null,null,null,null,null,null,null,null,{"$error":"#NAME?"},{"$error":"#NAME?"}]
[null,null,null,null,null,null,null,null,null,null,null,null,null,null,null,null,null,null,null,null,null,null,null,{"$error":"#NAME?"},{"$error":"#NAME?"}]
[null,null,null,null,null,null,null,null,null,null,null,null,null,null,null,null,null,null,null,null,null,null,null,{"$error":"#NAME?"},{"$error":"#NAME?"}]
[null,null,null,null,null,null,null,null,null,null,null,null,null,null,null,null,null,null,null,null,null,null,null,{"$error":"#NAME?"},{"$error":"#NAME?"}]
[null,null,null,null,null,null,null,null,null,null,null,null,null,null,null,null,null,null,null,null,null,null,null,{"$error":"#NAME?"},{"$error":"#NAME?"}]
[null,null,null,null,null,null,null,null,null,null,null,null,null,null,null,null,null,null,null,null,null,null,null,{"$error":"#NAME?"},{"$error":"#NAME?"}]
[null,null,null,null,null,null,null,null,null,null,null,null,null,null,null,null,null,null,null,null,null,null,null,{"$error":"#NAME?"},{"$error":"#NAME?"}]
[null,null,null,null,null,null,null,null,null,null,null,null,null,null,null,null,null,null,null,null,null,null,null,{"$error":"#NAME?"},{"$error":"#NAME?"}]
[null,null,null,null,null,null,null,null,null,null,null,null,null,null,null,null,null,null,null,null,null,null,null,{"$error":"#NAME?"},{"$error":"#NAME?"}]
[null,null,null,null,null,null,null,null,null,null,null,null,null,null,null,null,null,null,null,null,null,null,null,{"$error":"#NAME?"},{"$error":"#NAME?"}]
[null,null,null,null,null,null,null,null,null,null,null,null,null,null,null,null,null,null,null,null,null,null,null,{"$error":"#NAME?"},{"$error":"#NAME?"}]
[null,null,null,null,null,null,null,null,null,null,null,null,null,null,null,null,null,null,null,null,null,null,null,{"$error":"#NAME?"},{"$error":"#NAME?"}]
[null,null,null,null,null,null,null,null,null,null,null,null,null,null,null,null,null,null,null,null,null,null,null,{"$error":"#NAME?"},{"$error":"#NAME?"}]
[null,null,null,null,null,null,null,null,null,null,null,null,null,null,null,null,null,null,null,null,null,null,null,{"$error":"#NAME?"},{"$error":"#NAME?"}]
[null,null,null,null,null,null,null,null,null,null,null,null,null,null,null,null,null,null,null,null,null,null,null,{"$error":"#NAME?"},{"$error":"#NAME?"}]
[null,null,null,null,null,null,null,null,null,null,null,null,null,null,null,null,null,null,null,null,null,null,null,{"$error":"#NAME?"},{"$error":"#NAME?"}]
[null,null,null,null,null,null,null,null,null,null,null,null,null,null,null,null,null,null,null,null,null,null,null,{"$error":"#NAME?"},{"$error":"#NAME?"}]
[null,null,null,null,null,null,null,null,null,null,null,null,null,null,null,null,null,null,null,null,null,null,null,{"$error":"#NAME?"},{"$error":"#NAME?"}]
[null,null,null,null,null,null,null,null,null,null,null,null,null,null,null,null,null,null,null,null,null,null,null,{"$error":"#NAME?"},{"$error":"#NAME?"}]
[null,null,null,null,null,null,null,null,null,null,null,null,null,null,null,null,null,null,null,null,null,null,null,{"$error":"#NAME?"},{"$error":"#NAME?"}]
[null,null,null,null,null,null,null,null,null,null,null,null,null,null,null,null,null,null,null,null,null,null,null,{"$error":"#NAME?"},{"$error":"#NAME?"}]
[null,null,null,null,null,null,null,null,null,null,null,null,null,null,null,null,null,null,null,null,null,null,null,{"$error":"#NAME?"},{"$error":"#NAME?"}]
[null,null,null,null,null,null,null,null,null,null,null,null,null,null,null,null,null,null,null,null,null,null,null,{"$error":"#NAME?"},{"$error":"#NAME?"}]
[null,null,null,null,null,null,null,null,null,null,null,null,null,null,null,null,null,null,null,null,null,null,null,{"$error":"#NAME?"},{"$error":"#NAME?"}]
[null,null,null,null,null,null,null,null,null,null,null,null,null,null,null,null,null,null,null,null,null,null,null,{"$error":"#NAME?"},{"$error":"#NAME?"}]
[null,null,null,null,null,null,null,null,null,null,null,null,null,null,null,null,null,null,null,null,null,null,null,{"$error":"#NAME?"},{"$error":"#NAME?"}]
[null,null,null,null,null,null,null,null,null,null,null,null,null,null,null,null,null,null,null,null,null,null,null,{"$error":"#NAME?"},{"$error":"#NAME?"}]
[null,null,null,null,null,null,null,null,null,null,null,null,null,null,null,null,null,null,null,null,null,null,null,{"$error":"#NAME?"},{"$error":"#NAME?"}]
[null,null,null,null,null,null,null,null,null,null,null,null,null,null,null,null,null,null,null,null,null,null,null,{"$error":"#NAME?"},{"$error":"#NAME?"}]
[null,null,null,null,null,null,null,null,null,null,null,null,null,null,null,null,null,null,null,null,null,null,null,{"$error":"#NAME?"},{"$error":"#NAME?"}]
[null,null,null,null,null,null,null,null,null,null,null,null,null,null,null,null,null,null,null,null,null,null,null,{"$error":"#NAME?"},{"$error":"#NAME?"}]
[null,null,null,null,null,null,null,null,null,null,null,null,null,null,null,null,null,null,null,null,null,null,null,{"$error":"#NAME?"},{"$error":"#NAME?"}]
[null,null,null,null,null,null,null,null,null,null,null,null,null,null,null,null,null,null,null,null,null,null,null,{"$error":"#NAME?"},{"$error":"#NAME?"}]
[null,null,null,null,null,null,null,null,null,null,null,null,null,null,null,null,null,null,null,null,null,null,null,{"$error":"#NAME?"},{"$error":"#NAME?"}]
[null,null,null,null,null,null,null,null,null,null,null,null,null,null,null,null,null,null,null,null,null,null,null,{"$error":"#NAME?"},{"$error":"#NAME?"}]
[null,null,null,null,null,null,null,null,null,null,null,null,null,null,null,null,null,null,null,null,null,null,null,{"$error":"#NAME?"},{"$error":"#NAME?"}]
[null,null,null,null,null,null,null,null,null,null,null,null,null,null,null,null,null,null,null,null,null,null,null,{"$error":"#NAME?"},{"$error":"#NAME?"}]
[null,null,null,null,null,null,null,null,null,null,null,null,null,null,null,null,null,null,null,null,null,null,null,{"$error":"#NAME?"},{"$error":"#NAME?"}]
[null,null,null,null,null,null,null,null,null,null,null,null,null,null,null,null,null,null,null,null,null,null,null,{"$error":"#NAME?"},{"$error":"#NAME?"}]
[null,null,null,null,null,null,null,null,null,null,null,null,null,null,null,null,null,null,null,null,null,null,null,{"$error":"#NAME?"},{"$error":"#NAME?"}]
[null,null,null,null,null,null,null,null,null,null,null,null,null,null,null,null,null,null,null,null,null,null,null,{"$error":"#NAME?"},{"$error":"#NAME?"}]
[null,null,null,null,null,null,null,null,null,null,null,null,null,null,null,null,null,null,null,null,null,null,null,{"$error":"#NAME?"},{"$error":"#NAME?"}]
[null,null,null,null,null,null,null,null,null,null,null,null,null,null,null,null,null,null,null,null,null,null,null,{"$error":"#NAME?"},{"$error":"#NAME?"}]
[null,null,null,null,null,null,null,null,null,null,null,null,null,null,null,null,null,null,null,null,null,null,null,{"$error":"#NAME?"},{"$error":"#NAME?"}]
[null,null,null,null,null,null,null,null,null,null,null,null,null,null,null,null,null,null,null,null,null,null,null,{"$error":"#NAME?"},{"$error":"#NAME?"}]
[null,null,null,null,null,null,null,null,null,null,null,null,null,null,null,null,null,null,null,null,null,null,null,{"$error":"#NAME?"},{"$error":"#NAME?"}]
[null,null,null,null,null,null,null,null,null,null,null,null,null,null,null,null,null,null,null,null,null,null,null,{"$error":"#NAME?"},{"$error":"#NAME?"}]
[null,null,null,null,null,null,null,null,null,null,null,null,null,null,null,null,null,null,null,null,null,null,null,{"$error":"#NAME?"},{"$error":"#NAME?"}]
[null,null,null,null,null,null,null,null,null,null,null,null,null,null,null,null,null,null,null,null,null,null,null,{"$error":"#NAME?"},{"$error":"#NAME?"}]
[null,null,null,null,null,null,null,null,null,null,null,null,null,null,null,null,null,null,null,null,null,null,null,{"$error":"#NAME?"},{"$error":"#NAME?"}]
[null,null,null,null,null,null,null,null,null,null,null,null,null,null,null,null,null,null,null,null,null,null,null,{"$error":"#NAME?"},{"$error":"#NAME?"}]
[null,null,null,null,null,null,null,null,null,null,null,null,null,null,null,null,null,null,null,null,null,null,null,{"$error":"#NAME?"},{"$error":"#NAME?"}]
[null,null,null,null,null,null,null,null,null,null,null,null,null,null,null,null,null,null,null,null,null,null,null,{"$error":"#NAME?"},{"$error":"#NAME?"}]
[null,null,null,null,null,null,null,null,null,null,null,null,null,null,null,null,null,null,null,null,null,null,null,{"$error":"#NAME?"},{"$error":"#NAME?"}]
[null,null,null,null,null,null,null,null,null,null,null,null,null,null,null,null,null,null,null,null,null,null,null,{"$error":"#NAME?"},{"$error":"#NAME?"}]
[null,null,null,null,null,null,null,null,null,null,null,null,null,null,null,null,null,null,null,null,null,null,null,{"$error":"#NAME?"},{"$error":"#NAME?"}]
[null,null,null,null,null,null,null,null,null,null,null,null,null,null,null,null,null,null,null,null,null,null,null,{"$error":"#NAME?"},{"$error":"#NAME?"}]
[null,null,null,null,null,null,null,null,null,null,null,null,null,null,null,null,null,null,null,null,null,null,null,{"$error":"#NAME?"},{"$error":"#NAME?"}]
[null,null,null,null,null,null,null,null,null,null,null,null,null,null,null,null,null,null,null,null,null,null,null,{"$error":"#NAME?"},{"$error":"#NAME?"}]
[null,null,null,null,null,null,null,null,null,null,null,null,null,null,null,null,null,null,null,null,null,null,null,{"$error":"#NAME?"},{"$error":"#NAME?"}]
[null,null,null,null,null,null,null,null,null,null,null,null,null,null,null,null,null,null,null,null,null,null,null,{"$error":"#NAME?"},{"$error":"#NAME?"}]
[null,null,null,null,null,null,null,null,null,null,null,null,null,null,null,null,null,null,null,null,null,null,null,{"$error":"#NAME?"},{"$error":"#NAME?"}]
[null,null,null,null,null,null,null,null,null,null,null,null,null,null,null,null,null,null,null,null,null,null,null,{"$error":"#NAME?"},{"$error":"#NAME?"}]
[null,null,null,null,null,null,null,null,null,null,null,null,null,null,null,null,null,null,null,null,null,null,null,{"$error":"#NAME?"},{"$error":"#NAME?"}]
[null,null,null,null,null,null,null,null,null,null,null,null,null,null,null,null,null,null,null,null,null,null,null,{"$error":"#NAME?"},{"$error":"#NAME?"}]
[null,null,null,null,null,null,null,null,null,null,null,null,null,null,null,null,null,null,null,null,null,null,null,{"$error":"#NAME?"},{"$error":"#NAME?"}]
[null,null,null,null,null,null,null,null,null,null,null,null,null,null,null,null,null,null,null,null,null,null,null,{"$error":"#NAME?"},{"$error":"#NAME?"}]
[null,null,null,null,null,null,null,null,null,null,null,null,null,null,null,null,null,null,null,null,null,null,null,{"$error":"#NAME?"},{"$error":"#NAME?"}]
[null,null,null,null,null,null,null,null,null,null,null,null,null,null,null,null,null,null,null,null,null,null,null,{"$error":"#NAME?"},{"$error":"#NAME?"}]
[null,null,null,null,null,null,null,null,null,null,null,null,null,null,null,null,null,null,null,null,null,null,null,{"$error":"#NAME?"},{"$error":"#NAME?"}]
[null,null,null,null,null,null,null,null,null,null,null,null,null,null,null,null,null,null,null,null,null,null,null,{"$error":"#NAME?"},{"$error":"#NAME?"}]
[null,null,null,null,null,null,null,null,null,null,null,null,null,null,null,null,null,null,null,null,null,null,null,{"$error":"#NAME?"},{"$error":"#NAME?"}]
[null,null,null,null,null,null,null,null,null,null,null,null,null,null,null,null,null,null,null,null,null,null,null,{"$error":"#NAME?"},{"$error":"#NAME?"}]
[null,null,null,null,null,null,null,null,null,null,null,null,null,null,null,null,null,null,null,null,null,null,null,{"$error":"#NAME?"},{"$error":"#NAME?"}]
[null,null,null,null,null,null,null,null,null,null,null,null,null,null,null,null,null,null,null,null,null,null,null,{"$error":"#NAME?"},{"$error":"#NAME?"}]
[null,null,null,null,null,null,null,null,null,null,null,null,null,null,null,null,null,null,null,null,null,null,null,{"$error":"#NAME?"},{"$error":"#NAME?"}]
[null,null,null,null,null,null,null,null,null,null,null,null,null,null,null,null,null,null,null,null,null,null,null,{"$error":"#NAME?"},{"$error":"#NAME?"}]
[null,null,null,null,null,null,null,null,null,null,null,null,null,null,null,null,null,null,null,null,null,null,null,{"$error":"#NAME?"},{"$error":"#NAME?"}]
[null,null,null,null,null,null,null,null,null,null,null,null,null,null,null,null,null,null,null,null,null,null,null,{"$error":"#NAME?"},{"$error":"#NAME?"}]
[null,null,null,null,null,null,null,null,null,null,null,null,null,null,null,null,null,null,null,null,null,null,null,{"$error":"#NAME?"},{"$error":"#NAME?"}]
[null,null,null,null,null,null,null,null,null,null,null,null,null,null,null,null,null,null,null,null,null,null,null,{"$error":"#NAME?"},{"$error":"#NAME?"}]
[null,null,null,null,null,null,null,null,null,null,null,null,null,null,null,null,null,null,null,null,null,null,null,{"$error":"#NAME?"},{"$error":"#NAME?"}]
[null,null,null,null,null,null,null,null,null,null,null,null,null,null,null,null,null,null,null,null,null,null,null,{"$error":"#NAME?"},{"$error":"#NAME?"}]
[null,null,null,null,null,null,null,null,null,null,null,null,null,null,null,null,null,null,null,null,null,null,null,{"$error":"#NAME?"},{"$error":"#NAME?"}]
[null,null,null,null,null,null,null,null,null,null,null,null,null,null,null,null,null,null,null,null,null,null,null,{"$error":"#NAME?"},{"$error":"#NAME?"}]
[null,null,null,null,null,null,null,null,null,null,null,null,null,null,null,null,null,null,null,null,null,null,null,{"$error":"#NAME?"},{"$error":"#NAME?"}]
[null,null,null,null,null,null,null,null,null,null,null,null,null,null,null,null,null,null,null,null,null,null,null,{"$error":"#NAME?"},{"$error":"#NAME?"}]
[null,null,null,null,null,null,null,null,null,null,null,null,null,null,null,null,null,null,null,null,null,null,null,{"$error":"#NAME?"},{"$error":"#NAME?"}]
[null,null,null,null,null,null,null,null,null,null,null,null,null,null,null,null,null,null,null,null,null,null,null,{"$error":"#NAME?"},{"$error":"#NAME?"}]
[null,null,null,null,null,null,null,null,null,null,null,null,null,null,null,null,null,null,null,null,null,null,null,{"$error":"#NAME?"},{"$error":"#NAME?"}]
[null,null,null,null,null,null,null,null,null,null,null,null,null,null,null,null,null,null,null,null,null,null,null,{"$error":"#NAME?"},{"$error":"#NAME?"}]
[null,null,null,null,null,null,null,null,null,null,null,null,null,null,null,null,null,null,null,null,null,null,null,{"$error":"#NAME?"},{"$error":"#NAME?"}]
[null,null,null,null,null,null,null,null,null,null,null,null,null,null,null,null,null,null,null,null,null,null,null,{"$error":"#NAME?"},{"$error":"#NAME?"}]
[null,null,null,null,null,null,null,null,null,null,null,null,null,null,null,null,null,null,null,null,null,null,null,{"$error":"#NAME?"},{"$error":"#NAME?"}]
[null,null,null,null,null,null,null,null,null,null,null,null,null,null,null,null,null,null,null,null,null,null,null,{"$error":"#NAME?"},{"$error":"#NAME?"}]
[null,null,null,null,null,null,null,null,null,null,null,null,null,null,null,null,null,null,null,null,null,null,null,{"$error":"#NAME?"},{"$error":"#NAME?"}]
[null,null,null,null,null,null,null,null,null,null,null,null,null,null,null,null,null,null,null,null,null,null,null,{"$error":"#NAME?"},{"$error":"#NAME?"}]
[null,null,null,null,null,null,null,null,null,null,null,null,null,null,null,null,null,null,null,null,null,null,null,{"$error":"#NAME?"},{"$error":"#NAME?"}]
[null,null,null,null,null,null,null,null,null,null,null,null,null,null,null,null,null,null,null,null,null,null,null,{"$error":"#NAME?"},{"$error":"#NAME?"}]
[null,null,null,null,null,null,null,null,null,null,null,null,null,null,null,null,null,null,null,null,null,null,null,{"$error":"#NAME?"},{"$error":"#NAME?"}]
[null,null,null,null,null,null,null,null,null,null,null,null,null,null,null,null,null,null,null,null,null,null,null,{"$error":"#NAME?"},{"$error":"#NAME?"}]
[null,null,null,null,null,null,null,null,null,null,null,null,null,null,null,null,null,null,null,null,null,null,null,{"$error":"#NAME?"},{"$error":"#NAME?"}]
[null,null,null,null,null,null,null,null,null,null,null,null,null,null,null,null,null,null,null,null,null,null,null,{"$error":"#NAME?"},{"$error":"#NAME?"}]
[null,null,null,null,null,null,null,null,null,null,null,null,null,null,null,null,null,null,null,null,null,null,null,{"$error":"#NAME?"},{"$error":"#NAME?"}]
[null,null,null,null,null,null,null,null,null,null,null,null,null,null,null,null,null,null,null,null,null,null,null,{"$error":"#NAME?"},{"$error":"#NAME?"}]
[null,null,null,null,null,null,null,null,null,null,null,null,null,null,null,null,null,null,null,null,null,null,null,{"$error":"#NAME?"},{"$error":"#NAME?"}]
[null,null,null,null,null,null,null,null,null,null,null,null,null,null,null,null,null,null,null,null,null,null,null,{"$error":"#NAME?"},{"$error":"#NAME?"}]
[null,null,null,null,null,null,null,null,null,null,null,null,null,null,null,null,null,null,null,null,null,null,null,{"$error":"#NAME?"},{"$error":"#NAME?"}]
[null,null,null,null,null,null,null,null,null,null,null,null,null,null,null,null,null,null,null,null,null,null,null,{"$error":"#NAME?"},{"$error":"#NAME?"}]
[null,null,null,null,null,null,null,null,null,null,null,null,null,null,null,null,null,null,null,null,null,null,null,{"$error":"#NAME?"},{"$error":"#NAME?"}]
[null,null,null,null,null,null,null,null,null,null,null,null,null,null,null,null,null,null,null,null,null,null,null,{"$error":"#NAME?"},{"$error":"#NAME?"}]
[null,null,null,null,null,null,null,null,null,null,null,null,null,null,null,null,null,null,null,null,null,null,null,{"$error":"#NAME?"},{"$error":"#NAME?"}]
[null,null,null,null,null,null,null,null,null,null,null,null,null,null,null,null,null,null,null,null,null,null,null,{"$error":"#NAME?"},{"$error":"#NAME?"}]
[null,null,null,null,null,null,null,null,null,null,null,null,null,null,null,null,null,null,null,null,null,null,null,{"$error":"#NAME?"},{"$error":"#NAME?"}]
[null,null,null,null,null,null,null,null,null,null,null,null,null,null,null,null,null,null,null,null,null,null,null,{"$error":"#NAME?"},{"$error":"#NAME?"}]
[null,null,null,null,null,null,null,null,null,null,null,null,null,null,null,null,null,null,null,null,null,null,null,{"$error":"#NAME?"},{"$error":"#NAME?"}]
[null,null,null,null,null,null,null,null,null,null,null,null,null,null,null,null,null,null,null,null,null,null,null,{"$error":"#NAME?"},{"$error":"#NAME?"}]
[null,null,null,null,null,null,null,null,null,null,null,null,null,null,null,null,null,null,null,null,null,null,null,{"$error":"#NAME?"},{"$error":"#NAME?"}]
[null,null,null,null,null,null,null,null,null,null,null,null,null,null,null,null,null,null,null,null,null,null,null,{"$error":"#NAME?"},{"$error":"#NAME?"}]
[null,null,null,null,null,null,null,null,null,null,null,null,null,null,null,null,null,null,null,null,null,null,null,{"$error":"#NAME?"},{"$error":"#NAME?"}]
[null,null,null,null,null,null,null,null,null,null,null,null,null,null,null,null,null,null,null,null,null,null,null,{"$error":"#NAME?"},{"$error":"#NAME?"}]
[null,null,null,null,null,null,null,null,null,null,null,null,null,null,null,null,null,null,null,null,null,null,null,{"$error":"#NAME?"},{"$error":"#NAME?"}]
[null,null,null,null,null,null,null,null,null,null,null,null,null,null,null,null,null,null,null,null,null,null,null,{"$error":"#NAME?"},{"$error":"#NAME?"}]
[null,null,null,null,null,null,null,null,null,null,null,null,null,null,null,null,null,null,null,null,null,null,null,{"$error":"#NAME?"},{"$error":"#NAME?"}]
[null,null,null,null,null,null,null,null,null,null,null,null,null,null,null,null,null,null,null,null,null,null,null,{"$error":"#NAME?"},{"$error":"#NAME?"}]
[null,null,null,null,null,null,null,null,null,null,null,null,null,null,null,null,null,null,null,null,null,null,null,{"$error":"#NAME?"},{"$error":"#NAME?"}]
[null,null,null,null,null,null,null,null,null,null,null,null,null,null,null,null,null,null,null,null,null,null,null,{"$error":"#NAME?"},{"$error":"#NAME?"}]
[null,null,null,null,null,null,null,null,null,null,null,null,null,null,null,null,null,null,null,null,null,null,null,{"$error":"#NAME?"},{"$error":"#NAME?"}]
[null,null,null,null,null,null,null,null,null,null,null,null,null,null,null,null,null,null,null,null,null,null,null,{"$error":"#NAME?"},{"$error":"#NAME?"}]
[null,null,null,null,null,null,null,null,null,null,null,null,null,null,null,null,null,null,null,null,null,null,null,{"$error":"#NAME?"},{"$error":"#NAME?"}]
[null,null,null,null,null,null,null,null,null,null,null,null,null,null,null,null,null,null,null,null,null,null,null,{"$error":"#NAME?"},{"$error":"#NAME?"}]
[null,null,null,null,null,null,null,null,null,null,null,null,null,null,null,null,null,null,null,null,null,null,null,{"$error":"#NAME?"},{"$error":"#NAME?"}]
[null,null,null,null,null,null,null,null,null,null,null,null,null,null,null,null,null,null,null,null,null,null,null,{"$error":"#NAME?"},{"$error":"#NAME?"}]
[null,null,null,null,null,null,null,null,null,null,null,null,null,null,null,null,null,null,null,null,null,null,null,{"$error":"#NAME?"},{"$error":"#NAME?"}]
[null,null,null,null,null,null,null,null,null,null,null,null,null,null,null,null,null,null,null,null,null,null,null,{"$error":"#NAME?"},{"$error":"#NAME?"}]
[null,null,null,null,null,null,null,null,null,null,null,null,null,null,null,null,null,null,null,null,null,null,null,{"$error":"#NAME?"},{"$error":"#NAME?"}]
[null,null,null,null,null,null,null,null,null,null,null,null,null,null,null,null,null,null,null,null,null,null,null,{"$error":"#NAME?"},{"$error":"#NAME?"}]
[null,null,null,null,null,null,null,null,null,null,null,null,null,null,null,null,null,null,null,null,null,null,null,{"$error":"#NAME?"},{"$error":"#NAME?"}]
[null,null,null,null,null,null,null,null,null,null,null,null,null,null,null,null,null,null,null,null,null,null,null,{"$error":"#NAME?"},{"$error":"#NAME?"}]
[null,null,null,null,null,null,null,null,null,null,null,null,null,null,null,null,null,null,null,null,null,null,null,{"$error":"#NAME?"},{"$error":"#NAME?"}]
[null,null,null,null,null,null,null,null,null,null,null,null,null,null,null,null,null,null,null,null,null,null,null,{"$error":"#NAME?"},{"$error":"#NAME?"}]
[null,null,null,null,null,null,null,null,null,null,null,null,null,null,null,null,null,null,null,null,null,null,null,{"$error":"#NAME?"},{"$error":"#NAME?"}]
[null,null,null,null,null,null,null,null,null,null,null,null,null,null,null,null,null,null,null,null,null,null,null,{"$error":"#NAME?"},{"$error":"#NAME?"}]
[null,null,null,null,null,null,null,null,null,null,null,null,null,null,null,null,null,null,null,null,null,null,null,{"$error":"#NAME?"},{"$error":"#NAME?"}]
[null,null,null,null,null,null,null,null,null,null,null,null,null,null,null,null,null,null,null,null,null,null,null,{"$error":"#NAME?"},{"$error":"#NAME?"}]
[null,null,null,null,null,null,null,null,null,null,null,null,null,null,null,null,null,null,null,null,null,null,null,{"$error":"#NAME?"},{"$error":"#NAME?"}]
[null,null,null,null,null,null,null,null,null,null,null,null,null,null,null,null,null,null,null,null,null,null,null,{"$error":"#NAME?"},{"$error":"#NAME?"}]
[null,null,null,null,null,null,null,null,null,null,null,null,null,null,null,null,null,null,null,null,null,null,null,{"$error":"#NAME?"},{"$error":"#NAME?"}]
[null,null,null,null,null,null,null,null,null,null,null,null,null,null,null,null,null,null,null,null,null,null,null,{"$error":"#NAME?"},{"$error":"#NAME?"}]
[null,null,null,null,null,null,null,null,null,null,null,null,null,null,null,null,null,null,null,null,null,null,null,{"$error":"#NAME?"},{"$error":"#NAME?"}]
[null,null,null,null,null,null,null,null,null,null,null,null,null,null,null,null,null,null,null,null,null,null,null,{"$error":"#NAME?"},{"$error":"#NAME?"}]
[null,null,null,null,null,null,null,null,null,null,null,null,null,null,null,null,null,null,null,null,null,null,null,{"$error":"#NAME?"},{"$error":"#NAME?"}]
[null,null,null,null,null,null,null,null,null,null,null,null,null,null,null,null,null,null,null,null,null,null,null,{"$error":"#NAME?"},{"$error":"#NAME?"}]
[null,null,null,null,null,null,null,null,null,null,null,null,null,null,null,null,null,null,null,null,null,null,null,{"$error":"#NAME?"},{"$error":"#NAME?"}]
[null,null,null,null,null,null,null,null,null,null,null,null,null,null,null,null,null,null,null,null,null,null,null,{"$error":"#NAME?"},{"$error":"#NAME?"}]
[null,null,null,null,null,null,null,null,null,null,null,null,null,null,null,null,null,null,null,null,null,null,null,{"$error":"#NAME?"},{"$error":"#NAME?"}]
[null,null,null,null,null,null,null,null,null,null,null,null,null,null,null,null,null,null,null,null,null,null,null,{"$error":"#NAME?"},{"$error":"#NAME?"}]
[null,null,null,null,null,null,null,null,null,null,null,null,null,null,null,null,null,null,null,null,null,null,null,{"$error":"#NAME?"},{"$error":"#NAME?"}]
[null,null,null,null,null,null,null,null,null,null,null,null,null,null,null,null,null,null,null,null,null,null,null,{"$error":"#NAME?"},{"$error":"#NAME?"}]
[null,null,null,null,null,null,null,null,null,null,null,null,null,null,null,null,null,null,null,null,null,null,null,{"$error":"#NAME?"},{"$error":"#NAME?"}]
[null,null,null,null,null,null,null,null,null,null,null,null,null,null,null,null,null,null,null,null,null,null,null,{"$error":"#NAME?"},{"$error":"#NAME?"}]
[null,null,null,null,null,null,null,null,null,null,null,null,null,null,null,null,null,null,null,null,null,null,null,{"$error":"#NAME?"},{"$error":"#NAME?"}]
[null,null,null,null,null,null,null,null,null,null,null,null,null,null,null,null,null,null,null,null,null,null,null,{"$error":"#NAME?"},{"$error":"#NAME?"}]
[null,null,null,null,null,null,null,null,null,null,null,null,null,null,null,null,null,null,null,null,null,null,null,{"$error":"#NAME?"},{"$error":"#NAME?"}]
[null,null,null,null,null,null,null,null,null,null,null,null,null,null,null,null,null,null,null,null,null,null,null,{"$error":"#NAME?"},{"$error":"#NAME?"}]
[null,null,null,null,null,null,null,null,null,null,null,null,null,null,null,null,null,null,null,null,null,null,null,{"$error":"#NAME?"},{"$error":"#NAME?"}]
[null,null,null,null,null,null,null,null,null,null,null,null,null,null,null,null,null,null,null,null,null,null,null,{"$error":"#NAME?"},{"$error":"#NAME?"}]
[null,null,null,null,null,null,null,null,null,null,null,null,null,null,null,null,null,null,null,null,null,null,null,{"$error":"#NAME?"},{"$error":"#NAME?"}]
[null,null,null,null,null,null,null,null,null,null,null,null,null,null,null,null,null,null,null,null,null,null,null,{"$error":"#NAME?"},{"$error":"#NAME?"}]
[null,null,null,null,null,null,null,null,null,null,null,null,null,null,null,null,null,null,null,null,null,null,null,{"$error":"#NAME?"},{"$error":"#NAME?"}]
[null,null,null,null,null,null,null,null,null,null,null,null,null,null,null,null,null,null,null,null,null,null,null,{"$error":"#NAME?"},{"$error":"#NAME?"}]
[null,null,null,null,null,null,null,null,null,null,null,null,null,null,null,null,null,null,null,null,null,null,null,{"$error":"#NAME?"},{"$error":"#NAME?"}]
[null,null,null,null,null,null,null,null,null,null,null,null,null,null,null,null,null,null,null,null,null,null,null,{"$error":"#NAME?"},{"$error":"#NAME?"}]
[null,null,null,null,null,null,null,null,null,null,null,null,null,null,null,null,null,null,null,null,null,null,null,{"$error":"#NAME?"},{"$error":"#NAME?"}]
[null,null,null,null,null,null,null,null,null,null,null,null,null,null,null,null,null,null,null,null,null,null,null,{"$error":"#NAME?"},{"$error":"#NAME?"}]
[null,null,null,null,null,null,null,null,null,null,null,null,null,null,null,null,null,null,null,null,null,null,null,{"$error":"#NAME?"},{"$error":"#NAME?"}]
[null,null,null,null,null,null,null,null,null,null,null,null,null,null,null,null,null,null,null,null,null,null,null,{"$error":"#NAME?"},{"$error":"#NAME?"}]
[null,null,null,null,null,null,null,null,null,null,null,null,null,null,null,null,null,null,null,null,null,null,null,{"$error":"#NAME?"},{"$error":"#NAME?"}]
[null,null,null,null,null,null,null,null,null,null,null,null,null,null,null,null,null,null,null,null,null,null,null,{"$error":"#NAME?"},{"$error":"#NAME?"}]
[null,null,null,null,null,null,null,null,null,null,null,null,null,null,null,null,null,null,null,null,null,null,null,{"$error":"#NAME?"},{"$error":"#NAME?"}]
[null,null,null,null,null,null,null,null,null,null,null,null,null,null,null,null,null,null,null,null,null,null,null,{"$error":"#NAME?"},{"$error":"#NAME?"}]
[null,null,null,null,null,null,null,null,null,null,null,null,null,null,null,null,null,null,null,null,null,null,null,{"$error":"#NAME?"},{"$error":"#NAME?"}]
[null,null,null,null,null,null,null,null,null,null,null,null,null,null,null,null,null,null,null,null,null,null,null,{"$error":"#NAME?"},{"$error":"#NAME?"}]
[null,null,null,null,null,null,null,null,null,null,null,null,null,null,null,null,null,null,null,null,null,null,null,{"$error":"#NAME?"},{"$error":"#NAME?"}]
[null,null,null,null,null,null,null,null,null,null,null,null,null,null,null,null,null,null,null,null,null,null,null,{"$error":"#NAME?"},{"$error":"#NAME?"}]
[null,null,null,null,null,null,null,null,null,null,null,null,null,null,null,null,null,null,null,null,null,null,null,{"$error":"#NAME?"},{"$error":"#NAME?"}]
[null,null,null,null,null,null,null,null,null,null,null,null,null,null,null,null,null,null,null,null,null,null,null,{"$error":"#NAME?"},{"$error":"#NAME?"}]
[null,null,null,null,null,null,null,null,null,null,null,null,null,null,null,null,null,null,null,null,null,null,null,{"$error":"#NAME?"},{"$error":"#NAME?"}]
[null,null,null,null,null,null,null,null,null,null,null,null,null,null,null,null,null,null,null,null,null,null,null,{"$error":"#NAME?"},{"$error":"#NAME?"}]
[null,null,null,null,null,null,null,null,null,null,null,null,null,null,null,null,null,null,null,null,null,null,null,{"$error":"#NAME?"},{"$error":"#NAME?"}]
[null,null,null,null,null,null,null,null,null,null,null,null,null,null,null,null,null,null,null,null,null,null,null,{"$error":"#NAME?"},{"$error":"#NAME?"}]
[null,null,null,null,null,null,null,null,null,null,null,null,null,null,null,null,null,null,null,null,null,null,null,{"$error":"#NAME?"},{"$error":"#NAME?"}]
[null,null,null,null,null,null,null,null,null,null,null,null,null,null,null,null,null,null,null,null,null,null,null,{"$error":"#NAME?"},{"$error":"#NAME?"}]
[null,null,null,null,null,null,null,null,null,null,null,null,null,null,null,null,null,null,null,null,null,null,null,{"$error":"#NAME?"},{"$error":"#NAME?"}]
[null,null,null,null,null,null,null,null,null,null,null,null,null,null,null,null,null,null,null,null,null,null,null,{"$error":"#NAME?"},{"$error":"#NAME?"}]
[null,null,null,null,null,null,null,null,null,null,null,null,null,null,null,null,null,null,null,null,null,null,null,{"$error":"#NAME?"},{"$error":"#NAME?"}]
[null,null,null,null,null,null,null,null,null,null,null,null,null,null,null,null,null,null,null,null,null,null,null,{"$error":"#NAME?"},{"$error":"#NAME?"}]
[null,null,null,null,null,null,null,null,null,null,null,null,null,null,null,null,null,null,null,null,null,null,null,{"$error":"#NAME?"},{"$error":"#NAME?"}]
[null,null,null,null,null,null,null,null,null,null,null,null,null,null,null,null,null,null,null,null,null,null,null,{"$error":"#NAME?"},{"$error":"#NAME?"}]
[null,null,null,null,null,null,null,null,null,null,null,null,null,null,null,null,null,null,null,null,null,null,null,{"$error":"#NAME?"},{"$error":"#NAME?"}]
[null,null,null,null,null,null,null,null,null,null,null,null,null,null,null,null,null,null,null,null,null,null,null,{"$error":"#NAME?"},{"$error":"#NAME?"}]
[null,null,null,null,null,null,null,null,null,null,null,null,null,null,null,null,null,null,null,null,null,null,null,{"$error":"#NAME?"},{"$error":"#NAME?"}]
[null,null,null,null,null,null,null,null,null,null,null,null,null,null,null,null,null,null,null,null,null,null,null,{"$error":"#NAME?"},{"$error":"#NAME?"}]
[null,null,null,null,null,null,null,null,null,null,null,null,null,null,null,null,null,null,null,null,null,null,null,{"$error":"#NAME?"},{"$error":"#NAME?"}]
[null,null,null,null,null,null,null,null,null,null,null,null,null,null,null,null,null,null,null,null,null,null,null,{"$error":"#NAME?"},{"$error":"#NAME?"}]
[null,null,null,null,null,null,null,null,null,null,null,null,null,null,null,null,null,null,null,null,null,null,null,{"$error":"#NAME?"},{"$error":"#NAME?"}]
[null,null,null,null,null,null,null,null,null,null,null,null,null,null,null,null,null,null,null,null,null,null,null,{"$error":"#NAME?"},{"$error":"#NAME?"}]
[null,null,null,null,null,null,null,null,null,null,null,null,null,null,null,null,null,null,null,null,null,null,null,{"$error":"#NAME?"},{"$error":"#NAME?"}]
[null,null,null,null,null,null,null,null,null,null,null,null,null,null,null,null,null,null,null,null,null,null,null,{"$error":"#NAME?"},{"$error":"#NAME?"}]
[null,null,null,null,null,null,null,null,null,null,null,null,null,null,null,null,null,null,null,null,null,null,null,{"$error":"#NAME?"},{"$error":"#NAME?"}]
[null,null,null,null,null,null,null,null,null,null,null,null,null,null,null,null,null,null,null,null,null,null,null,{"$error":"#NAME?"},{"$error":"#NAME?"}]
[null,null,null,null,null,null,null,null,null,null,null,null,null,null,null,null,null,null,null,null,null,null,null,{"$error":"#NAME?"},{"$error":"#NAME?"}]
[null,null,null,null,null,null,null,null,null,null,null,null,null,null,null,null,null,null,null,null,null,null,null,{"$error":"#NAME?"},{"$error":"#NAME?"}]
[null,null,null,null,null,null,null,null,null,null,null,null,null,null,null,null,null,null,null,null,null,null,null,{"$error":"#NAME?"},{"$error":"#NAME?"}]
[null,null,null,null,null,null,null,null,null,null,null,null,null,null,null,null,null,null,null,null,null,null,null,{"$error":"#NAME?"},{"$error":"#NAME?"}]
[null,null,null,null,null,null,null,null,null,null,null,null,null,null,null,null,null,null,null,null,null,null,null,{"$error":"#NAME?"},{"$error":"#NAME?"}]
[null,null,null,null,null,null,null,null,null,null,null,null,null,null,null,null,null,null,null,null,null,null,null,{"$error":"#NAME?"},{"$error":"#NAME?"}]
[null,null,null,null,null,null,null,null,null,null,null,null,null,null,null,null,null,null,null,null,null,null,null,{"$error":"#NAME?"},{"$error":"#NAME?"}]
[null,null,null,null,null,null,null,null,null,null,null,null,null,null,null,null,null,null,null,null,null,null,null,{"$error":"#NAME?"},{"$error":"#NAME?"}]
[null,null,null,null,null,null,null,null,null,null,null,null,null,null,null,null,null,null,null,null,null,null,null,{"$error":"#NAME?"},{"$error":"#NAME?"}]
[null,null,null,null,null,null,null,null,null,null,null,null,null,null,null,null,null,null,null,null,null,null,null,{"$error":"#NAME?"},{"$error":"#NAME?"}]
[null,null,null,null,null,null,null,null,null,null,null,null,null,null,null,null,null,null,null,null,null,null,null,{"$error":"#NAME?"},{"$error":"#NAME?"}]
[null,null,null,null,null,null,null,null,null,null,null,null,null,null,null,null,null,null,null,null,null,null,null,{"$error":"#NAME?"},{"$error":"#NAME?"}]
[null,null,null,null,null,null,null,null,null,null,null,null,null,null,null,null,null,null,null,null,null,null,null,{"$error":"#NAME?"},{"$error":"#NAME?"}]
[null,null,null,null,null,null,null,null,null,null,null,null,null,null,null,null,null,null,null,null,null,null,null,{"$error":"#NAME?"},{"$error":"#NAME?"}]
[null,null,null,null,null,null,null,null,null,null,null,null,null,null,null,null,null,null,null,null,null,null,null,{"$error":"#NAME?"},{"$error":"#NAME?"}]
[null,null,null,null,null,null,null,null,null,null,null,null,null,null,null,null,null,null,null,null,null,null,null,{"$error":"#NAME?"},{"$error":"#NAME?"}]
[null,null,null,null,null,null,null,null,null,null,null,null,null,null,null,null,null,null,null,null,null,null,null,{"$error":"#NAME?"},{"$error":"#NAME?"}]
[null,null,null,null,null,null,null,null,null,null,null,null,null,null,null,null,null,null,null,null,null,null,null,{"$error":"#NAME?"},{"$error":"#NAME?"}]
[null,null,null,null,null,null,null,null,null,null,null,null,null,null,null,null,null,null,null,null,null,null,null,{"$error":"#NAME?"},{"$error":"#NAME?"}]
[null,null,null,null,null,null,null,null,null,null,null,null,null,null,null,null,null,null,null,null,null,null,null,{"$error":"#NAME?"},{"$error":"#NAME?"}]
[null,null,null,null,null,null,null,null,null,null,null,null,null,null,null,null,null,null,null,null,null,null,null,{"$error":"#NAME?"},{"$error":"#NAME?"}]
[null,null,null,null,null,null,null,null,null,null,null,null,null,null,null,null,null,null,null,null,null,null,null,{"$error":"#NAME?"},{"$error":"#NAME?"}]
[null,null,null,null,null,null,null,null,null,null,null,null,null,null,null,null,null,null,null,null,null,null,null,{"$error":"#NAME?"},{"$error":"#NAME?"}]
[null,null,null,null,null,null,null,null,null,null,null,null,null,null,null,null,null,null,null,null,null,null,null,{"$error":"#NAME?"},{"$error":"#NAME?"}]
[null,null,null,null,null,null,null,null,null,null,null,null,null,null,null,null,null,null,null,null,null,null,null,{"$error":"#NAME?"},{"$error":"#NAME?"}]
[null,null,null,null,null,null,null,null,null,null,null,null,null,null,null,null,null,null,null,null,null,null,null,{"$error":"#NAME?"},{"$error":"#NAME?"}]
[null,null,null,null,null,null,null,null,null,null,null,null,null,null,null,null,null,null,null,null,null,null,null,{"$error":"#NAME?"},{"$error":"#NAME?"}]
[null,null,null,null,null,null,null,null,null,null,null,null,null,null,null,null,null,null,null,null,null,null,null,{"$error":"#NAME?"},{"$error":"#NAME?"}]
[null,null,null,null,null,null,null,null,null,null,null,null,null,null,null,null,null,null,null,null,null,null,null,{"$error":"#NAME?"},{"$error":"#NAME?"}]
[null,null,null,null,null,null,null,null,null,null,null,null,null,null,null,null,null,null,null,null,null,null,null,{"$error":"#NAME?"},{"$error":"#NAME?"}]
[null,null,null,null,null,null,null,null,null,null,null,null,null,null,null,null,null,null,null,null,null,null,null,{"$error":"#NAME?"},{"$error":"#NAME?"}]
[null,null,null,null,null,null,null,null,null,null,null,null,null,null,null,null,null,null,null,null,null,null,null,{"$error":"#NAME?"},{"$error":"#NAME?"}]
[null,null,null,null,null,null,null,null,null,null,null,null,null,null,null,null,null,null,null,null,null,null,null,{"$error":"#NAME?"},{"$error":"#NAME?"}]
[null,null,null,null,null,null,null,null,null,null,null,null,null,null,null,null,null,null,null,null,null,null,null,{"$error":"#NAME?"},{"$error":"#NAME?"}]
[null,null,null,null,null,null,null,null,null,null,null,null,null,null,null,null,null,null,null,null,null,null,null,{"$error":"#NAME?"},{"$error":"#NAME?"}]
[null,null,null,null,null,null,null,null,null,null,null,null,null,null,null,null,null,null,null,null,null,null,null,{"$error":"#NAME?"},{"$error":"#NAME?"}]
[null,null,null,null,null,null,null,null,null,null,null,null,null,null,null,null,null,null,null,null,null,null,null,{"$error":"#NAME?"},{"$error":"#NAME?"}]
[null,null,null,null,null,null,null,null,null,null,null,null,null,null,null,null,null,null,null,null,null,null,null,{"$error":"#NAME?"},{"$error":"#NAME?"}]
[null,null,null,null,null,null,null,null,null,null,null,null,null,null,null,null,null,null,null,null,null,null,null,{"$error":"#NAME?"},{"$error":"#NAME?"}]
[null,null,null,null,null,null,null,null,null,null,null,null,null,null,null,null,null,null,null,null,null,null,null,{"$error":"#NAME?"},{"$error":"#NAME?"}]
[null,null,null,null,null,null,null,null,null,null,null,null,null,null,null,null,null,null,null,null,null,null,null,{"$error":"#NAME?"},{"$error":"#NAME?"}]
[null,null,null,null,null,null,null,null,null,null,null,null,null,null,null,null,null,null,null,null,null,null,null,{"$error":"#NAME?"},{"$error":"#NAME?"}]
[null,null,null,null,null,null,null,null,null,null,null,null,null,null,null,null,null,null,null,null,null,null,null,{"$error":"#NAME?"},{"$error":"#NAME?"}]
[null,null,null,null,null,null,null,null,null,null,null,null,null,null,null,null,null,null,null,null,null,null,null,{"$error":"#NAME?"},{"$error":"#NAME?"}]
[null,null,null,null,null,null,null,null,null,null,null,null,null,null,null,null,null,null,null,null,null,null,null,{"$error":"#NAME?"},{"$error":"#NAME?"}]
[null,null,null,null,null,null,null,null,null,null,null,null,null,null,null,null,null,null,null,null,null,null,null,{"$error":"#NAME?"},{"$error":"#NAME?"}]
[null,null,null,null,null,null,null,null,null,null,null,null,null,null,null,null,null,null,null,null,null,null,null,{"$error":"#NAME?"},{"$error":"#NAME?"}]
[null,null,null,null,null,null,null,null,null,null,null,null,null,null,null,null,null,null,null,null,null,null,null,{"$error":"#NAME?"},{"$error":"#NAME?"}]
[null,null,null,null,null,null,null,null,null,null,null,null,null,null,null,null,null,null,null,null,null,null,null,{"$error":"#NAME?"},{"$error":"#NAME?"}]
[null,null,null,null,null,null,null,null,null,null,null,null,null,null,null,null,null,null,null,null,null,null,null,{"$error":"#NAME?"},{"$error":"#NAME?"}]
[null,null,null,null,null,null,null,null,null,null,null,null,null,null,null,null,null,null,null,null,null,null,null,{"$error":"#NAME?"},{"$error":"#NAME?"}]
[null,null,null,null,null,null,null,null,null,null,null,null,null,null,null,null,null,null,null,null,null,null,null,{"$error":"#NAME?"},{"$error":"#NAME?"}]
[null,null,null,null,null,null,null,null,null,null,null,null,null,null,null,null,null,null,null,null,null,null,null,{"$error":"#NAME?"},{"$error":"#NAME?"}]
[null,null,null,null,null,null,null,null,null,null,null,null,null,null,null,null,null,null,null,null,null,null,null,{"$error":"#NAME?"},{"$error":"#NAME?"}]
[null,null,null,null,null,null,null,null,null,null,null,null,null,null,null,null,null,null,null,null,null,null,null,{"$error":"#NAME?"},{"$error":"#NAME?"}]
[null,null,null,null,null,null,null,null,null,null,null,null,null,null,null,null,null,null,null,null,null,null,null,{"$error":"#NAME?"},{"$error":"#NAME?"}]
[null,null,null,null,null,null,null,null,null,null,null,null,null,null,null,null,null,null,null,null,null,null,null,{"$error":"#NAME?"},{"$error":"#NAME?"}]
[null,null,null,null,null,null,null,null,null,null,null,null,null,null,null,null,null,null,null,null,null,null,null,{"$error":"#NAME?"},{"$error":"#NAME?"}]
[null,null,null,null,null,null,null,null,null,null,null,null,null,null,null,null,null,null,null,null,null,null,null,{"$error":"#NAME?"},{"$error":"#NAME?"}]
[null,null,null,null,null,null,null,null,null,null,null,null,null,null,null,null,null,null,null,null,null,null,null,{"$error":"#NAME?"},{"$error":"#NAME?"}]
[null,null,null,null,null,null,null,null,null,null,null,null,null,null,null,null,null,null,null,null,null,null,null,{"$error":"#NAME?"},{"$error":"#NAME?"}]
[null,null,null,null,null,null,null,null,null,null,null,null,null,null,null,null,null,null,null,null,null,null,null,{"$error":"#NAME?"},{"$error":"#NAME?"}]
[null,null,null,null,null,null,null,null,null,null,null,null,null,null,null,null,null,null,null,null,null,null,null,{"$error":"#NAME?"},{"$error":"#NAME?"}]
[null,null,null,null,null,null,null,null,null,null,null,null,null,null,null,null,null,null,null,null,null,null,null,{"$error":"#NAME?"},{"$error":"#NAME?"}]
[null,null,null,null,null,null,null,null,null,null,null,null,null,null,null,null,null,null,null,null,null,null,null,{"$error":"#NAME?"},{"$error":"#NAME?"}]
[null,null,null,null,null,null,null,null,null,null,null,null,null,null,null,null,null,null,null,null,null,null,null,{"$error":"#NAME?"},{"$error":"#NAME?"}]
[null,null,null,null,null,null,null,null,null,null,null,null,null,null,null,null,null,null,null,null,null,null,null,{"$error":"#NAME?"},{"$error":"#NAME?"}]
[null,null,null,null,null,null,null,null,null,null,null,null,null,null,null,null,null,null,null,null,null,null,null,{"$error":"#NAME?"},{"$error":"#NAME?"}]
[null,null,null,null,null,null,null,null,null,null,null,null,null,null,null,null,null,null,null,null,null,null,null,{"$error":"#NAME?"},{"$error":"#NAME?"}]
[null,null,null,null,null,null,null,null,null,null,null,null,null,null,null,null,null,null,null,null,null,null,null,{"$error":"#NAME?"},{"$error":"#NAME?"}]
[null,null,null,null,null,null,null,null,null,null,null,null,null,null,null,null,null,null,null,null,null,null,null,{"$error":"#NAME?"},{"$error":"#NAME?"}]
[null,null,null,null,null,null,null,null,null,null,null,null,null,null,null,null,null,null,null,null,null,null,null,{"$error":"#NAME?"},{"$error":"#NAME?"}]
[null,null,null,null,null,null,null,null,null,null,null,null,null,null,null,null,null,null,null,null,null,null,null,{"$error":"#NAME?"},{"$error":"#NAME?"}]
[null,null,null,null,null,null,null,null,null,null,null,null,null,null,null,null,null,null,null,null,null,null,null,{"$error":"#NAME?"},{"$error":"#NAME?"}]
[null,null,null,null,null,null,null,null,null,null,null,null,null,null,null,null,null,null,null,null,null,null,null,{"$error":"#NAME?"},{"$error":"#NAME?"}]
[null,null,null,null,null,null,null,null,null,null,null,null,null,null,null,null,null,null,null,null,null,null,null,{"$error":"#NAME?"},{"$error":"#NAME?"}]
[null,null,null,null,null,null,null,null,null,null,null,null,null,null,null,null,null,null,null,null,null,null,null,{"$error":"#NAME?"},{"$error":"#NAME?"}]
[null,null,null,null,null,null,null,null,null,null,null,null,null,null,null,null,null,null,null,null,null,null,null,{"$error":"#NAME?"},{"$error":"#NAME?"}]
[null,null,null,null,null,null,null,null,null,null,null,null,null,null,null,null,null,null,null,null,null,null,null,{"$error":"#NAME?"},{"$error":"#NAME?"}]
[null,null,null,null,null,null,null,null,null,null,null,null,null,null,null,null,null,null,null,null,null,null,null,{"$error":"#NAME?"},{"$error":"#NAME?"}]
[null,null,null,null,null,null,null,null,null,null,null,null,null,null,null,null,null,null,null,null,null,null,null,{"$error":"#NAME?"},{"$error":"#NAME?"}]
[null,null,null,null,null,null,null,null,null,null,null,null,null,null,null,null,null,null,null,null,null,null,null,{"$error":"#NAME?"},{"$error":"#NAME?"}]
[null,null,null,null,null,null,null,null,null,null,null,null,null,null,null,null,null,null,null,null,null,null,null,{"$error":"#NAME?"},{"$error":"#NAME?"}]
[null,null,null,null,null,null,null,null,null,null,null,null,null,null,null,null,null,null,null,null,null,null,null,{"$error":"#NAME?"},{"$error":"#NAME?"}]
[null,null,null,null,null,null,null,null,null,null,null,null,null,null,null,null,null,null,null,null,null,null,null,{"$error":"#NAME?"},{"$error":"#NAME?"}]
[null,null,null,null,null,null,null,null,null,null,null,null,null,null,null,null,null,null,null,null,null,null,null,{"$error":"#NAME?"},{"$error":"#NAME?"}]
[null,null,null,null,null,null,null,null,null,null,null,null,null,null,null,null,null,null,null,null,null,null,null,{"$error":"#NAME?"},{"$error":"#NAME?"}]
[null,null,null,null,null,null,null,null,null,null,null,null,null,null,null,null,null,null,null,null,null,null,null,{"$error":"#NAME?"},{"$error":"#NAME?"}]
[null,null,null,null,null,null,null,null,null,null,null,null,null,null,null,null,null,null,null,null,null,null,null,{"$error":"#NAME?"},{"$error":"#NAME?"}]
[null,null,null,null,null,null,null,null,null,null,null,null,null,null,null,null,null,null,null,null,null,null,null,{"$error":"#NAME?"},{"$error":"#NAME?"}]
[null,null,null,null,null,null,null,null,null,null,null,null,null,null,null,null,null,null,null,null,null,null,null,{"$error":"#NAME?"},{"$error":"#NAME?"}]
[null,null,null,null,null,null,null,null,null,null,null,null,null,null,null,null,null,null,null,null,null,null,null,{"$error":"#NAME?"},{"$error":"#NAME?"}]
[null,null,null,null,null,null,null,null,null,null,null,null,null,null,null,null,null,null,null,null,null,null,null,{"$error":"#NAME?"},{"$error":"#NAME?"}]
[null,null,null,null,null,null,null,null,null,null,null,null,null,null,null,null,null,null,null,null,null,null,null,{"$error":"#NAME?"},{"$error":"#NAME?"}]
[null,null,null,null,null,null,null,null,null,null,null,null,null,null,null,null,null,null,null,null,null,null,null,{"$error":"#NAME?"},{"$error":"#NAME?"}]
[null,null,null,null,null,null,null,null,null,null,null,null,null,null,null,null,null,null,null,null,null,null,null,{"$error":"#NAME?"},{"$error":"#NAME?"}]
[null,null,null,null,null,null,null,null,null,null,null,null,null,null,null,null,null,null,null,null,null,null,null,{"$error":"#NAME?"},{"$error":"#NAME?"}]
[null,null,null,null,null,null,null,null,null,null,null,null,null,null,null,null,null,null,null,null,null,null,null,{"$error":"#NAME?"},{"$error":"#NAME?"}]
[null,null,null,null,null,null,null,null,null,null,null,null,null,null,null,null,null,null,null,null,null,null,null,{"$error":"#NAME?"},{"$error":"#NAME?"}]
[null,null,null,null,null,null,null,null,null,null,null,null,null,null,null,null,null,null,null,null,null,null,null,{"$error":"#NAME?"},{"$error":"#NAME?"}]
[null,null,null,null,null,null,null,null,null,null,null,null,null,null,null,null,null,null,null,null,null,null,null,{"$error":"#NAME?"},{"$error":"#NAME?"}]
[null,null,null,null,null,null,null,null,null,null,null,null,null,null,null,null,null,null,null,null,null,null,null,{"$error":"#NAME?"},{"$error":"#NAME?"}]
[null,null,null,null,null,null,null,null,null,null,null,null,null,null,null,null,null,null,null,null,null,null,null,{"$error":"#NAME?"},{"$error":"#NAME?"}]
[null,null,null,null,null,null,null,null,null,null,null,null,null,null,null,null,null,null,null,null,null,null,null,{"$error":"#NAME?"},{"$error":"#NAME?"}]
[null,null,null,null,null,null,null,null,null,null,null,null,null,null,null,null,null,null,null,null,null,null,null,{"$error":"#NAME?"},{"$error":"#NAME?"}]
[null,null,null,null,null,null,null,null,null,null,null,null,null,null,null,null,null,null,null,null,null,null,null,{"$error":"#NAME?"},{"$error":"#NAME?"}]
[null,null,null,null,null,null,null,null,null,null,null,null,null,null,null,null,null,null,null,null,null,null,null,{"$error":"#NAME?"},{"$error":"#NAME?"}]
[null,null,null,null,null,null,null,null,null,null,null,null,null,null,null,null,null,null,null,null,null,null,null,{"$error":"#NAME?"},{"$error":"#NAME?"}]
[null,null,null,null,null,null,null,null,null,null,null,null,null,null,null,null,null,null,null,null,null,null,null,{"$error":"#NAME?"},{"$error":"#NAME?"}]
[null,null,null,null,null,null,null,null,null,null,null,null,null,null,null,null,null,null,null,null,null,null,null,{"$error":"#NAME?"},{"$error":"#NAME?"}]
[null,null,null,null,null,null,null,null,null,null,null,null,null,null,null,null,null,null,null,null,null,null,null,{"$error":"#NAME?"},{"$error":"#NAME?"}]
[null,null,null,null,null,null,null,null,null,null,null,null,null,null,null,null,null,null,null,null,null,null,null,{"$error":"#NAME?"},{"$error":"#NAME?"}]
[null,null,null,null,null,null,null,null,null,null,null,null,null,null,null,null,null,null,null,null,null,null,null,{"$error":"#NAME?"},{"$error":"#NAME?"}]
[null,null,null,null,null,null,null,null,null,null,null,null,null,null,null,null,null,null,null,null,null,null,null,{"$error":"#NAME?"},{"$error":"#NAME?"}]
[null,null,null,null,null,null,null,null,null,null,null,null,null,null,null,null,null,null,null,null,null,null,null,{"$error":"#NAME?"},{"$error":"#NAME?"}]
[null,null,null,null,null,null,null,null,null,null,null,null,null,null,null,null,null,null,null,null,null,null,null,{"$error":"#NAME?"},{"$error":"#NAME?"}]
[null,null,null,null,null,null,null,null,null,null,null,null,null,null,null,null,null,null,null,null,null,null,null,{"$error":"#NAME?"},{"$error":"#NAME?"}]
[null,null,null,null,null,null,null,null,null,null,null,null,null,null,null,null,null,null,null,null,null,null,null,{"$error":"#NAME?"},{"$error":"#NAME?"}]
[null,null,null,null,null,null,null,null,null,null,null,null,null,null,null,null,null,null,null,null,null,null,null,{"$error":"#NAME?"},{"$error":"#NAME?"}]
[null,null,null,null,null,null,null,null,null,null,null,null,null,null,null,null,null,null,null,null,null,null,null,{"$error":"#NAME?"},{"$error":"#NAME?"}]
[null,null,null,null,null,null,null,null,null,null,null,null,null,null,null,null,null,null,null,null,null,null,null,{"$error":"#NAME?"},{"$error":"#NAME?"}]
[null,null,null,null,null,null,null,null,null,null,null,null,null,null,null,null,null,null,null,null,null,null,null,{"$error":"#NAME?"},{"$error":"#NAME?"}]
[null,null,null,null,null,null,null,null,null,null,null,null,null,null,null,null,null,null,null,null,null,null,null,{"$error":"#NAME?"},{"$error":"#NAME?"}]
[null,null,null,null,null,null,null,null,null,null,null,null,null,null,null,null,null,null,null,null,null,null,null,{"$error":"#NAME?"},{"$error":"#NAME?"}]
[null,null,null,null,null,null,null,null,null,null,null,null,null,null,null,null,null,null,null,null,null,null,null,{"$error":"#NAME?"},{"$error":"#NAME?"}]
[null,null,null,null,null,null,null,null,null,null,null,null,null,null,null,null,null,null,null,null,null,null,null,{"$error":"#NAME?"},{"$error":"#NAME?"}]
[null,null,null,null,null,null,null,null,null,null,null,null,null,null,null,null,null,null,null,null,null,null,null,{"$error":"#NAME?"},{"$error":"#NAME?"}]
[null,null,null,null,null,null,null,null,null,null,null,null,null,null,null,null,null,null,null,null,null,null,null,{"$error":"#NAME?"},{"$error":"#NAME?"}]
[null,null,null,null,null,null,null,null,null,null,null,null,null,null,null,null,null,null,null,null,null,null,null,{"$error":"#NAME?"},{"$error":"#NAME?"}]
[null,null,null,null,null,null,null,null,null,null,null,null,null,null,null,null,null,null,null,null,null,null,null,{"$error":"#NAME?"},{"$error":"#NAME?"}]
[null,null,null,null,null,null,null,null,null,null,null,null,null,null,null,null,null,null,null,null,null,null,null,{"$error":"#NAME?"},{"$error":"#NAME?"}]
[null,null,null,null,null,null,null,null,null,null,null,null,null,null,null,null,null,null,null,null,null,null,null,{"$error":"#NAME?"},{"$error":"#NAME?"}]
[null,null,null,null,null,null,null,null,null,null,null,null,null,null,null,null,null,null,null,null,null,null,null,{"$error":"#NAME?"},{"$error":"#NAME?"}]
[null,null,null,null,null,null,null,null,null,null,null,null,null,null,null,null,null,null,null,null,null,null,null,{"$error":"#NAME?"},{"$error":"#NAME?"}]
[null,null,null,null,null,null,null,null,null,null,null,null,null,null,null,null,null,null,null,null,null,null,null,{"$error":"#NAME?"},{"$error":"#NAME?"}]
[null,null,null,null,null,null,null,null,null,null,null,null,null,null,null,null,null,null,null,null,null,null,null,{"$error":"#NAME?"},{"$error":"#NAME?"}]
[null,null,null,null,null,null,null,null,null,null,null,null,null,null,null,null,null,null,null,null,null,null,null,{"$error":"#NAME?"},{"$error":"#NAME?"}]
[null,null,null,null,null,null,null,null,null,null,null,null,null,null,null,null,null,null,null,null,null,null,null,{"$error":"#NAME?"},{"$error":"#NAME?"}]
[null,null,null,null,null,null,null,null,null,null,null,null,null,null,null,null,null,null,null,null,null,null,null,{"$error":"#NAME?"},{"$error":"#NAME?"}]
[null,null,null,null,null,null,null,null,null,null,null,null,null,null,null,null,null,null,null,null,null,null,null,{"$error":"#NAME?"},{"$error":"#NAME?"}]
[null,null,null,null,null,null,null,null,null,null,null,null,null,null,null,null,null,null,null,null,null,null,null,{"$error":"#NAME?"},{"$error":"#NAME?"}]
[null,null,null,null,null,null,null,null,null,null,null,null,null,null,null,null,null,null,null,null,null,null,null,{"$error":"#NAME?"},{"$error":"#NAME?"}]
[null,null,null,null,null,null,null,null,null,null,null,null,null,null,null,null,null,null,null,null,null,null,null,{"$error":"#NAME?"},{"$error":"#NAME?"}]
[null,null,null,null,null,null,null,null,null,null,null,null,null,null,null,null,null,null,null,null,null,null,null,{"$error":"#NAME?"},{"$error":"#NAME?"}]
[null,null,null,null,null,null,null,null,null,null,null,null,null,null,null,null,null,null,null,null,null,null,null,{"$error":"#NAME?"},{"$error":"#NAME?"}]
[null,null,null,null,null,null,null,null,null,null,null,null,null,null,null,null,null,null,null,null,null,null,null,{"$error":"#NAME?"},{"$error":"#NAME?"}]
[null,null,null,null,null,null,null,null,null,null,null,null,null,null,null,null,null,null,null,null,null,null,null,{"$error":"#NAME?"},{"$error":"#NAME?"}]
[null,null,null,null,null,null,null,null,null,null,null,null,null,null,null,null,null,null,null,null,null,null,null,{"$error":"#NAME?"},{"$error":"#NAME?"}]
[null,null,null,null,null,null,null,null,null,null,null,null,null,null,null,null,null,null,null,null,null,null,null,{"$error":"#NAME?"},{"$error":"#NAME?"}]
[null,null,null,null,null,null,null,null,null,null,null,null,null,null,null,null,null,null,null,null,null,null,null,{"$error":"#NAME?"},{"$error":"#NAME?"}]
[null,null,null,null,null,null,null,null,null,null,null,null,null,null,null,null,null,null,null,null,null,null,null,{"$error":"#NAME?"},{"$error":"#NAME?"}]
[null,null,null,null,null,null,null,null,null,null,null,null,null,null,null,null,null,null,null,null,null,null,null,{"$error":"#NAME?"},{"$error":"#NAME?"}]
[null,null,null,null,null,null,null,null,null,null,null,null,null,null,null,null,null,null,null,null,null,null,null,{"$error":"#NAME?"},{"$error":"#NAME?"}]
[null,null,null,null,null,null,null,null,null,null,null,null,null,null,null,null,null,null,null,null,null,null,null,{"$error":"#NAME?"},{"$error":"#NAME?"}]
[null,null,null,null,null,null,null,null,null,null,null,null,null,null,null,null,null,null,null,null,null,null,null,{"$error":"#NAME?"},{"$error":"#NAME?"}]
[null,null,null,null,null,null,null,null,null,null,null,null,null,null,null,null,null,null,null,null,null,null,null,{"$error":"#NAME?"},{"$error":"#NAME?"}]
[null,null,null,null,null,null,null,null,null,null,null,null,null,null,null,null,null,null,null,null,null,null,null,{"$error":"#NAME?"},{"$error":"#NAME?"}]
[null,null,null,null,null,null,null,null,null,null,null,null,null,null,null,null,null,null,null,null,null,null,null,{"$error":"#NAME?"},{"$error":"#NAME?"}]
[null,null,null,null,null,null,null,null,null,null,null,null,null,null,null,null,null,null,null,null,null,null,null,{"$error":"#NAME?"},{"$error":"#NAME?"}]
[null,null,null,null,null,null,null,null,null,null,null,null,null,null,null,null,null,null,null,null,null,null,null,{"$error":"#NAME?"},{"$error":"#NAME?"}]
[null,null,null,null,null,null,null,null,null,null,null,null,null,null,null,null,null,null,null,null,null,null,null,{"$error":"#NAME?"},{"$error":"#NAME?"}]
[null,null,null,null,null,null,null,null,null,null,null,null,null,null,null,null,null,null,null,null,null,null,null,{"$error":"#NAME?"},{"$error":"#NAME?"}]
[null,null,null,null,null,null,null,null,null,null,null,null,null,null,null,null,null,null,null,null,null,null,null,{"$error":"#NAME?"},{"$error":"#NAME?"}]
[null,null,null,null,null,null,null,null,null,null,null,null,null,null,null,null,null,null,null,null,null,null,null,{"$error":"#NAME?"},{"$error":"#NAME?"}]
[null,null,null,null,null,null,null,null,null,null,null,null,null,null,null,null,null,null,null,null,null,null,null,{"$error":"#NAME?"},{"$error":"#NAME?"}]
[null,null,null,null,null,null,null,null,null,null,null,null,null,null,null,null,null,null,null,null,null,null,null,{"$error":"#NAME?"},{"$error":"#NAME?"}]
[null,null,null,null,null,null,null,null,null,null,null,null,null,null,null,null,null,null,null,null,null,null,null,{"$error":"#NAME?"},{"$error":"#NAME?"}]
[null,null,null,null,null,null,null,null,null,null,null,null,null,null,null,null,null,null,null,null,null,null,null,{"$error":"#NAME?"},{"$error":"#NAME?"}]
[null,null,null,null,null,null,null,null,null,null,null,null,null,null,null,null,null,null,null,null,null,null,null,{"$error":"#NAME?"},{"$error":"#NAME?"}]
[null,null,null,null,null,null,null,null,null,null,null,null,null,null,null,null,null,null,null,null,null,null,null,{"$error":"#NAME?"},{"$error":"#NAME?"}]
[null,null,null,null,null,null,null,null,null,null,null,null,null,null,null,null,null,null,null,null,null,null,null,{"$error":"#NAME?"},{"$error":"#NAME?"}]
[null,null,null,null,null,null,null,null,null,null,null,null,null,null,null,null,null,null,null,null,null,null,null,{"$error":"#NAME?"},{"$error":"#NAME?"}]
[null,null,null,null,null,null,null,null,null,null,null,null,null,null,null,null,null,null,null,null,null,null,null,{"$error":"#NAME?"},{"$error":"#NAME?"}]
[null,null,null,null,null,null,null,null,null,null,null,null,null,null,null,null,null,null,null,null,null,null,null,{"$error":"#NAME?"},{"$error":"#NAME?"}]
[null,null,null,null,null,null,null,null,null,null,null,null,null,null,null,null,null,null,null,null,null,null,null,{"$error":"#NAME?"},{"$error":"#NAME?"}]
[null,null,null,null,null,null,null,null,null,null,null,null,null,null,null,null,null,null,null,null,null,null,null,{"$error":"#NAME?"},{"$error":"#NAME?"}]
[null,null,null,null,null,null,null,null,null,null,null,null,null,null,null,null,null,null,null,null,null,null,null,{"$error":"#NAME?"},{"$error":"#NAME?"}]
[null,null,null,null,null,null,null,null,null,null,null,null,null,null,null,null,null,null,null,null,null,null,null,{"$error":"#NAME?"},{"$error":"#NAME?"}]
[null,null,null,null,null,null,null,null,null,null,null,null,null,null,null,null,null,null,null,null,null,null,null,{"$error":"#NAME?"},{"$error":"#NAME?"}]
[null,null,null,null,null,null,null,null,null,null,null,null,null,null,null,null,null,null,null,null,null,null,null,{"$error":"#NAME?"},{"$error":"#NAME?"}]
[null,null,null,null,null,null,null,null,null,null,null,null,null,null,null,null,null,null,null,null,null,null,null,{"$error":"#NAME?"},{"$error":"#NAME?"}]
[null,null,null,null,null,null,null,null,null,null,null,null,null,null,null,null,null,null,null,null,null,null,null,{"$error":"#NAME?"},{"$error":"#NAME?"}]
[null,null,null,null,null,null,null,null,null,null,null,null,null,null,null,null,null,null,null,null,null,null,null,{"$error":"#NAME?"},{"$error":"#NAME?"}]
[null,null,null,null,null,null,null,null,null,null,null,null,null,null,null,null,null,null,null,null,null,null,null,{"$error":"#NAME?"},{"$error":"#NAME?"}]
[null,null,null,null,null,null,null,null,null,null,null,null,null,null,null,null,null,null,null,null,null,null,null,{"$error":"#NAME?"},{"$error":"#NAME?"}]
[null,null,null,null,null,null,null,null,null,null,null,null,null,null,null,null,null,null,null,null,null,null,null,{"$error":"#NAME?"},{"$error":"#NAME?"}]
[null,null,null,null,null,null,null,null,null,null,null,null,null,null,null,null,null,null,null,null,null,null,null,{"$error":"#NAME?"},{"$error":"#NAME?"}]
[null,null,null,null,null,null,null,null,null,null,null,null,null,null,null,null,null,null,null,null,null,null,null,{"$error":"#NAME?"},{"$error":"#NAME?"}]
[null,null,null,null,null,null,null,null,null,null,null,null,null,null,null,null,null,null,null,null,null,null,null,{"$error":"#NAME?"},{"$error":"#NAME?"}]
[null,null,null,null,null,null,null,null,null,null,null,null,null,null,null,null,null,null,null,null,null,null,null,{"$error":"#NAME?"},{"$error":"#NAME?"}]
[null,null,null,null,null,null,null,null,null,null,null,null,null,null,null,null,null,null,null,null,null,null,null,{"$error":"#NAME?"},{"$error":"#NAME?"}]
[null,null,null,null,null,null,null,null,null,null,null,null,null,null,null,null,null,null,null,null,null,null,null,{"$error":"#NAME?"},{"$error":"#NAME?"}]
[null,null,null,null,null,null,null,null,null,null,null,null,null,null,null,null,null,null,null,null,null,null,null,{"$error":"#NAME?"},{"$error":"#NAME?"}]
[null,null,null,null,null,null,null,null,null,null,null,null,null,null,null,null,null,null,null,null,null,null,null,{"$error":"#NAME?"},{"$error":"#NAME?"}]
[null,null,null,null,null,null,null,null,null,null,null,null,null,null,null,null,null,null,null,null,null,null,null,{"$error":"#NAME?"},{"$error":"#NAME?"}]
[null,null,null,null,null,null,null,null,null,null,null,null,null,null,null,null,null,null,null,null,null,null,null,{"$error":"#NAME?"},{"$error":"#NAME?"}]
[null,null,null,null,null,null,null,null,null,null,null,null,null,null,null,null,null,null,null,null,null,null,null,{"$error":"#NAME?"},{"$error":"#NAME?"}]
[null,null,null,null,null,null,null,null,null,null,null,null,null,null,null,null,null,null,null,null,null,null,null,{"$error":"#NAME?"},{"$error":"#NAME?"}]
[null,null,null,null,null,null,null,null,null,null,null,null,null,null,null,null,null,null,null,null,null,null,null,{"$error":"#NAME?"},{"$error":"#NAME?"}]
[null,null,null,null,null,null,null,null,null,null,null,null,null,null,null,null,null,null,null,null,null,null,null,{"$error":"#NAME?"},{"$error":"#NAME?"}]
[null,null,null,null,null,null,null,null,null,null,null,null,null,null,null,null,null,null,null,null,null,null,null,{"$error":"#NAME?"},{"$error":"#NAME?"}]
[null,null,null,null,null,null,null,null,null,null,null,null,null,null,null,null,null,null,null,null,null,null,null,{"$error":"#NAME?"},{"$error":"#NAME?"}]
[null,null,null,null,null,null,null,null,null,null,null,null,null,null,null,null,null,null,null,null,null,null,null,{"$error":"#NAME?"},{"$error":"#NAME?"}]
[null,null,null,null,null,null,null,null,null,null,null,null,null,null,null,null,null,null,null,null,null,null,null,{"$error":"#NAME?"},{"$error":"#NAME?"}]
[null,null,null,null,null,null,null,null,null,null,null,null,null,null,null,null,null,null,null,null,null,null,null,{"$error":"#NAME?"},{"$error":"#NAME?"}]
[null,null,null,null,null,null,null,null,null,null,null,null,null,null,null,null,null,null,null,null,null,null,null,{"$error":"#NAME?"},{"$error":"#NAME?"}]
[null,null,null,null,null,null,null,null,null,null,null,null,null,null,null,null,null,null,null,null,null,null,null,{"$error":"#NAME?"},{"$error":"#NAME?"}]
[null,null,null,null,null,null,null,null,null,null,null,null,null,null,null,null,null,null,null,null,null,null,null,{"$error":"#NAME?"},{"$error":"#NAME?"}]
[null,null,null,null,null,null,null,null,null,null,null,null,null,null,null,null,null,null,null,null,null,null,null,{"$error":"#NAME?"},{"$error":"#NAME?"}]
[null,null,null,null,null,null,null,null,null,null,null,null,null,null,null,null,null,null,null,null,null,null,null,{"$error":"#NAME?"},{"$error":"#NAME?"}]
[null,null,null,null,null,null,null,null,null,null,null,null,null,null,null,null,null,null,null,null,null,null,null,{"$error":"#NAME?"},{"$error":"#NAME?"}]
[null,null,null,null,null,null,null,null,null,null,null,null,null,null,null,null,null,null,null,null,null,null,null,{"$error":"#NAME?"},{"$error":"#NAME?"}]
[null,null,null,null,null,null,null,null,null,null,null,null,null,null,null,null,null,null,null,null,null,null,null,{"$error":"#NAME?"},{"$error":"#NAME?"}]
[null,null,null,null,null,null,null,null,null,null,null,null,null,null,null,null,null,null,null,null,null,null,null,{"$error":"#NAME?"},{"$error":"#NAME?"}]
[null,null,null,null,null,null,null,null,null,null,null,null,null,null,null,null,null,null,null,null,null,null,null,{"$error":"#NAME?"},{"$error":"#NAME?"}]
[null,null,null,null,null,null,null,null,null,null,null,null,null,null,null,null,null,null,null,null,null,null,null,{"$error":"#NAME?"},{"$error":"#NAME?"}]
[null,null,null,null,null,null,null,null,null,null,null,null,null,null,null,null,null,null,null,null,null,null,null,{"$error":"#NAME?"},{"$error":"#NAME?"}]
[null,null,null,null,null,null,null,null,null,null,null,null,null,null,null,null,null,null,null,null,null,null,null,{"$error":"#NAME?"},{"$error":"#NAME?"}]
[null,null,null,null,null,null,null,null,null,null,null,null,null,null,null,null,null,null,null,null,null,null,null,{"$error":"#NAME?"},{"$error":"#NAME?"}]
[null,null,null,null,null,null,null,null,null,null,null,null,null,null,null,null,null,null,null,null,null,null,null,{"$error":"#NAME?"},{"$error":"#NAME?"}]
[null,null,null,null,null,null,null,null,null,null,null,null,null,null,null,null,null,null,null,null,null,null,null,{"$error":"#NAME?"},{"$error":"#NAME?"}]
[null,null,null,null,null,null,null,null,null,null,null,null,null,null,null,null,null,null,null,null,null,null,null,{"$error":"#NAME?"},{"$error":"#NAME?"}]
[null,null,null,null,null,null,null,null,null,null,null,null,null,null,null,null,null,null,null,null,null,null,null,{"$error":"#NAME?"},{"$error":"#NAME?"}]
[null,null,null,null,null,null,null,null,null,null,null,null,null,null,null,null,null,null,null,null,null,null,null,{"$error":"#NAME?"},{"$error":"#NAME?"}]
[null,null,null,null,null,null,null,null,null,null,null,null,null,null,null,null,null,null,null,null,null,null,null,{"$error":"#NAME?"},{"$error":"#NAME?"}]
[null,null,null,null,null,null,null,null,null,null,null,null,null,null,null,null,null,null,null,null,null,null,null,{"$error":"#NAME?"},{"$error":"#NAME?"}]
[null,null,null,null,null,null,null,null,null,null,null,null,null,null,null,null,null,null,null,null,null,null,null,{"$error":"#NAME?"},{"$error":"#NAME?"}]
[null,null,null,null,null,null,null,null,null,null,null,null,null,null,null,null,null,null,null,null,null,null,null,{"$error":"#NAME?"},{"$error":"#NAME?"}]
[null,null,null,null,null,null,null,null,null,null,null,null,null,null,null,null,null,null,null,null,null,null,null,{"$error":"#NAME?"},{"$error":"#NAME?"}]
[null,null,null,null,null,null,null,null,null,null,null,null,null,null,null,null,null,null,null,null,null,null,null,{"$error":"#NAME?"},{"$error":"#NAME?"}]
[null,null,null,null,null,null,null,null,null,null,null,null,null,null,null,null,null,null,null,null,null,null,null,{"$error":"#NAME?"},{"$error":"#NAME?"}]
[null,null,null,null,null,null,null,null,null,null,null,null,null,null,null,null,null,null,null,null,null,null,null,{"$error":"#NAME?"},{"$error":"#NAME?"}]
[null,null,null,null,null,null,null,null,null,null,null,null,null,null,null,null,null,null,null,null,null,null,null,{"$error":"#NAME?"},{"$error":"#NAME?"}]
[null,null,null,null,null,null,null,null,null,null,null,null,null,null,null,null,null,null,null,null,null,null,null,{"$error":"#NAME?"},{"$error":"#NAME?"}]
[null,null,null,null,null,null,null,null,null,null,null,null,null,null,null,null,null,null,null,null,null,null,null,{"$error":"#NAME?"},{"$error":"#NAME?"}]
[null,null,null,null,null,null,null,null,null,null,null,null,null,null,null,null,null,null,null,null,null,null,null,{"$error":"#NAME?"},{"$error":"#NAME?"}]
[null,null,null,null,null,null,null,null,null,null,null,null,null,null,null,null,null,null,null,null,null,null,null,{"$error":"#NAME?"},{"$error":"#NAME?"}]
[null,null,null,null,null,null,null,null,null,null,null,null,null,null,null,null,null,null,null,null,null,null,null,{"$error":"#NAME?"},{"$error":"#NAME?"}]
[null,null,null,null,null,null,null,null,null,null,null,null,null,null,null,null,null,null,null,null,null,null,null,{"$error":"#NAME?"},{"$error":"#NAME?"}]
[null,null,null,null,null,null,null,null,null,null,null,null,null,null,null,null,null,null,null,null,null,null,null,{"$error":"#NAME?"},{"$error":"#NAME?"}]
[null,null,null,null,null,null,null,null,null,null,null,null,null,null,null,null,null,null,null,null,null,null,null,{"$error":"#NAME?"},{"$error":"#NAME?"}]
[null,null,null,null,null,null,null,null,null,null,null,null,null,null,null,null,null,null,null,null,null,null,null,{"$error":"#NAME?"},{"$error":"#NAME?"}]

{"sheet":"KYCT Data Sublot # 2","index":19,"n_rows":1031,"n_cols":25,"rows_kept":1031,"cut":false,"hidden":false,"merged":[[27,14,27,15],[0,3,0,13],[3,1,3,15],[26,0,26,15],[27,0,27,1],[27,2,27,3],[27,4,27,5],[27,6,27,7],[27,8,27,9],[27,10,27,11],[27,12,27,13]]}
["V1.03","  850 - IDEAL-CT",null,"SUBLOT # 2",null,null,null,null,null,null,null,null,null,null,null,"September 2019"]
[]
[null,null,null,null,null,null,null,null,null,null,null,null,null,null,null,"Show/Hide Formula Rows",null,null,null,null,null,null,null,"Test Number",1]
["Project ID",null,null,null,null,null,null,null,null,null,null,null,null,null,null,null,null,null,null,null,null,null,null,{"$f":"B4","v":0}]
["Num Points",{"$f":"COUNTA(INDIRECT(\"A\"&FirstRow&\":A\"&FirstRow+1000))","v":0},"Num Points",{"$f":"COUNTA(INDIRECT(\"C\"&FirstRow&\":C\"&FirstRow+1000))","v":0},"Num Points",{"$f":"COUNTA(INDIRECT(\"E\"&FirstRow&\":E\"&FirstRow+1000))","v":0},"Num Points",{"$f":"COUNTA(INDIRECT(\"G\"&FirstRow&\":G\"&FirstRow+1000))","v":0},"Num Points",{"$f":"COUNTA(INDIRECT(\"I\"&FirstRow&\":I\"&FirstRow+1000))","v":0},"Num Points",{"$f":"COUNTA(INDIRECT(\"K\"&FirstRow&\":K\"&FirstRow+1000))","v":0},"Num Points",{"$f":"COUNTA(INDIRECT(\"M\"&FirstRow&\":M\"&FirstRow+1000))","v":0},"Num Points",{"$f":"COUNTA(INDIRECT(\"O\"&FirstRow&\":O\"&FirstRow+1000))","v":0},null,null,null,null,null,null,null,{"$f":"IF(OFFSET(A5:P1031,0,(TestNum-1)*2)=\"\",NA(),OFFSET(A5:P1031,0,(TestNum-1)*2))","v":{"$error":"#NAME?"}},{"$error":"#NAME?"}]
["Peak Load",{"$f":"MAX(INDIRECT(\"B\"&FirstRow&\":B\"&FirstRow+B5))","v":0},"Peak Load",{"$f":"MAX(INDIRECT(\"D\"&FirstRow&\":D\"&FirstRow+D5))","v":0},"Peak Load",{"$f":"MAX(INDIRECT(\"F\"&FirstRow&\":F\"&FirstRow+F5))","v":0},"Peak Load",{"$f":"MAX(INDIRECT(\"H\"&FirstRow&\":H\"&FirstRow+H5))","v":0},"Peak Load",{"$f":"MAX(INDIRECT(\"J\"&FirstRow&\":J\"&FirstRow+J5))","v":0},"Peak Load",{"$f":"MAX(INDIRECT(\"L\"&FirstRow&\":L\"&FirstRow+L5))","v":0},"Peak Load",{"$f":"MAX(INDIRECT(\"N\"&FirstRow&\":N\"&FirstRow+N5))","v":0},"Peak Load",{"$f":"MAX(INDIRECT(\"P\"&FirstRow&\":P\"&FirstRow+P5))","v":0},null,"First Row of Data",31,null,null,null,null,{"$error":"#NAME?"},{"$error":"#NAME?"}]
["85% Peak",{"$f":"0.85*B6","v":0},"85% Peak",{"$f":"0.85*D6","v":0},"85% Peak",{"$f":"0.85*F6","v":0},"85% Peak",{"$f":"0.85*H6","v":0},"85% Peak",{"$f":"0.85*J6","v":0},"85% Peak",{"$f":"0.85*L6","v":0},"85% Peak",{"$f":"0.85*N6","v":0},"85% Peak",{"$f":"0.85*P6","v":0},null,null,null,null,null,null,null,{"$error":"#NAME?"},{"$error":"#NAME?"}]
["75% Peak",{"$f":"0.75*B6","v":0},"75% Peak",{"$f":"0.75*D6","v":0},"75% Peak",{"$f":"0.75*F6","v":0},"75% Peak",{"$f":"0.75*H6","v":0},"75% Peak",{"$f":"0.75*J6","v":0},"75% Peak",{"$f":"0.75*L6","v":0},"75% Peak",{"$f":"0.75*N6","v":0},"75% Peak",{"$f":"0.75*P6","v":0},null,null,null,null,null,null,null,{"$error":"#NAME?"},{"$error":"#NAME?"}]
["65% Peak",{"$f":"0.65*B6","v":0},"65% Peak",{"$f":"0.65*D6","v":0},"65% Peak",{"$f":"0.65*F6","v":0},"65% Peak",{"$f":"0.65*H6","v":0},"65% Peak",{"$f":"0.65*J6","v":0},"65% Peak",{"$f":"0.65*L6","v":0},"65% Peak",{"$f":"0.65*N6","v":0},"65% Peak",{"$f":"0.65*P6","v":0},null,null,null,null,null,null,null,{"$error":"#NAME?"},{"$error":"#NAME?"}]
["Rowpeak",{"$f":"MATCH(B6,INDIRECT(\"B\"&FirstRow&\":B\"&FirstRow+B5),0)+FirstRow-1","v":{"$error":"#N/A"}},"Rowpeak",{"$f":"MATCH(D6,INDIRECT(\"D\"&FirstRow&\":D\"&FirstRow+D5),0)+FirstRow-1","v":{"$error":"#N/A"}},"Rowpeak",{"$f":"MATCH(F6,INDIRECT(\"F\"&FirstRow&\":F\"&FirstRow+F5),0)+FirstRow-1","v":{"$error":"#N/A"}},"Rowpeak",{"$f":"MATCH(H6,INDIRECT(\"H\"&FirstRow&\":H\"&FirstRow+H5),0)+FirstRow-1","v":{"$error":"#N/A"}},"Rowpeak",{"$f":"MATCH(J6,INDIRECT(\"J\"&FirstRow&\":J\"&FirstRow+J5),0)+FirstRow-1","v":{"$error":"#N/A"}},"Rowpeak",{"$f":"MATCH(L6,INDIRECT(\"L\"&FirstRow&\":L\"&FirstRow+L5),0)+FirstRow-1","v":{"$error":"#N/A"}},"Rowpeak",{"$f":"MATCH(N6,INDIRECT(\"N\"&FirstRow&\":N\"&FirstRow+N5),0)+FirstRow-1","v":{"$error":"#N/A"}},"Rowpeak",{"$f":"MATCH(P6,INDIRECT(\"P\"&FirstRow&\":P\"&FirstRow+P5),0)+FirstRow-1","v":{"$error":"#N/A"}},null,null,null,null,null,null,null,{"$error":"#NAME?"},{"$error":"#NAME?"}]
["Row(85)",{"$f":"MATCH(B7,INDIRECT(\"B\"&B10&\":B\"&FirstRow+B5),-1)+B10","v":{"$error":"#N/A"}},"Row(85)",{"$f":"MATCH(D7,INDIRECT(\"D\"&D10&\":D\"&FirstRow+D5),-1)+D10","v":{"$error":"#N/A"}},"Row(85)",{"$f":"MATCH(F7,INDIRECT(\"F\"&F10&\":F\"&FirstRow+F5),-1)+F10","v":{"$error":"#N/A"}},"Row(85)",{"$f":"MATCH(H7,INDIRECT(\"H\"&H10&\":H\"&FirstRow+H5),-1)+H10","v":{"$error":"#N/A"}},"Row(85)",{"$f":"MATCH(J7,INDIRECT(\"J\"&J10&\":J\"&FirstRow+J5),-1)+J10","v":{"$error":"#N/A"}},"Row(85)",{"$f":"MATCH(L7,INDIRECT(\"L\"&L10&\":L\"&FirstRow+L5),-1)+L10","v":{"$error":"#N/A"}},"Row(85)",{"$f":"MATCH(N7,INDIRECT(\"N\"&N10&\":N\"&FirstRow+N5),-1)+N10","v":{"$error":"#N/A"}},"Row(85)",{"$f":"MATCH(P7,INDIRECT(\"P\"&P10&\":P\"&FirstRow+P5),-1)+P10","v":{"$error":"#N/A"}},null,null,null,null,null,null,null,{"$error":"#NAME?"},{"$error":"#NAME?"}]
["Row(75)",{"$f":"MATCH(B8,INDIRECT(\"B\"&B10&\":B\"&FirstRow+B5),-1)+B10","v":{"$error":"#N/A"}},"Row(75)",{"$f":"MATCH(D8,INDIRECT(\"D\"&D10&\":D\"&FirstRow+D5),-1)+D10","v":{"$error":"#N/A"}},"Row(75)",{"$f":"MATCH(F8,INDIRECT(\"F\"&F10&\":F\"&FirstRow+F5),-1)+F10","v":{"$error":"#N/A"}},"Row(75)",{"$f":"MATCH(H8,INDIRECT(\"H\"&H10&\":H\"&FirstRow+H5),-1)+H10","v":{"$error":"#N/A"}},"Row(75)",{"$f":"MATCH(J8,INDIRECT(\"J\"&J10&\":J\"&FirstRow+J5),-1)+J10","v":{"$error":"#N/A"}},"Row(75)",{"$f":"MATCH(L8,INDIRECT(\"L\"&L10&\":L\"&FirstRow+L5),-1)+L10","v":{"$error":"#N/A"}},"Row(75)",{"$f":"MATCH(N8,INDIRECT(\"N\"&N10&\":N\"&FirstRow+N5),-1)+N10","v":{"$error":"#N/A"}},"Row(75)",{"$f":"MATCH(P8,INDIRECT(\"P\"&P10&\":P\"&FirstRow+P5),-1)+P10","v":{"$error":"#N/A"}},null,null,null,null,null,null,null,{"$error":"#NAME?"},{"$error":"#NAME?"}]
["Row(65)",{"$f":"MATCH(B9,INDIRECT(\"B\"&B10&\":B\"&FirstRow+B5),-1)+B10","v":{"$error":"#N/A"}},"Row(65)",{"$f":"MATCH(D9,INDIRECT(\"D\"&D10&\":D\"&FirstRow+D5),-1)+D10","v":{"$error":"#N/A"}},"Row(65)",{"$f":"MATCH(F9,INDIRECT(\"F\"&F10&\":F\"&FirstRow+F5),-1)+F10","v":{"$error":"#N/A"}},"Row(65)",{"$f":"MATCH(H9,INDIRECT(\"H\"&H10&\":H\"&FirstRow+H5),-1)+H10","v":{"$error":"#N/A"}},"Row(65)",{"$f":"MATCH(J9,INDIRECT(\"J\"&J10&\":J\"&FirstRow+J5),-1)+J10","v":{"$error":"#N/A"}},"Row(65)",{"$f":"MATCH(L9,INDIRECT(\"L\"&L10&\":L\"&FirstRow+L5),-1)+L10","v":{"$error":"#N/A"}},"Row(65)",{"$f":"MATCH(N9,INDIRECT(\"N\"&N10&\":N\"&FirstRow+N5),-1)+N10","v":{"$error":"#N/A"}},"Row(65)",{"$f":"MATCH(P9,INDIRECT(\"P\"&P10&\":P\"&FirstRow+P5),-1)+P10","v":{"$error":"#N/A"}},null,null,null,null,null,null,null,{"$error":"#NAME?"},{"$error":"#NAME?"}]
["l75",{"$f":"IF(ISNA(B12),\"\",INDIRECT(\"A\"&B12))","v":""},"l75",{"$f":"IF(ISNA(D12),\"\",INDIRECT(\"C\"&D12))","v":""},"l75",{"$f":"IF(ISNA(F12),\"\",INDIRECT(\"E\"&F12))","v":""},"l75",{"$f":"IF(ISNA(H12),\"\",INDIRECT(\"G\"&H12))","v":""},"l75",{"$f":"IF(ISNA(J12),\"\",INDIRECT(\"I\"&J12))","v":""},"l75",{"$f":"IF(ISNA(L12),\"\",INDIRECT(\"K\"&L12))","v":""},"l75",{"$f":"IF(ISNA(N12),\"\",INDIRECT(\"M\"&N12))","v":""},"l75",{"$f":"IF(ISNA(P12),\"\",INDIRECT(\"O\"&P12))","v":""},null,null,null,null,null,null,null,{"$error":"#NAME?"},{"$error":"#NAME?"}]
["m",{"$f":"ABS(SLOPE((INDEX(B:B,B11):INDEX(B:B,B13)),(INDEX(A:A,B11):INDEX(A:A,B13))))","v":{"$error":"#N/A"}},"m",{"$f":"ABS(SLOPE((INDEX(D:D,D11):INDEX(D:D,D13)),(INDEX(C:C,D11):INDEX(C:C,D13))))","v":{"$error":"#N/A"}},"m",{"$f":"ABS(SLOPE((INDEX(F:F,F11):INDEX(F:F,F13)),(INDEX(E:E,F11):INDEX(E:E,F13))))","v":{"$error":"#N/A"}},"m",{"$f":"ABS(SLOPE((INDEX(H:H,H11):INDEX(H:H,H13)),(INDEX(G:G,H11):INDEX(G:G,H13))))","v":{"$error":"#N/A"}},"m",{"$f":"ABS(SLOPE((INDEX(J:J,J11):INDEX(J:J,J13)),(INDEX(I:I,J11):INDEX(I:I,J13))))","v":{"$error":"#N/A"}},"m",{"$f":"ABS(SLOPE((INDEX(L:L,L11):INDEX(L:L,L13)),(INDEX(K:K,L11):INDEX(K:K,L13))))","v":{"$error":"#N/A"}},"m",{"$f":"ABS(SLOPE((INDEX(N:N,N11):INDEX(N:N,N13)),(INDEX(M:M,N11):INDEX(M:M,N13))))","v":{"$error":"#N/A"}},"m",{"$f":"ABS(SLOPE((INDEX(P:P,P11):INDEX(P:P,P13)),(INDEX(O:O,P11):INDEX(O:O,P13))))","v":{"$error":"#N/A"}},null,null,null,null,null,null,null,{"$error":"#NAME?"},{"$error":"#NAME?"}]
["Series Name",{"$f":"IF(ISBLANK(B22),IF(ISBLANK(A28),\"\",A28),B22)","v":""},"Series Name",{"$f":"IF(ISBLANK(D22),IF(ISBLANK(C28),\"\",C28),D22)","v":""},"Series Name",{"$f":"IF(ISBLANK(F22),IF(ISBLANK(E28),\"\",E28),F22)","v":""},"Series Name",{"$f":"IF(ISBLANK(H22),IF(ISBLANK(G28),\"\",G28),H22)","v":""},"Series Name",{"$f":"IF(ISBLANK(J22),IF(ISBLANK(I28),\"\",I28),J22)","v":""},"Series Name",{"$f":"IF(ISBLANK(L22),IF(ISBLANK(K28),\"\",K28),L22)","v":""},"Series Name",{"$f":"IF(ISBLANK(N22),IF(ISBLANK(M28),\"\",M28),N22)","v":""},"Series Name",{"$f":"IF(ISBLANK(P22),IF(ISBLANK(O28),\"\",O28),P22)","v":""},null,null,null,null,null,null,null,{"$error":"#NAME?"},{"$error":"#NAME?"}]
["Row < 0.1",{"$f":"MATCH(0.1,INDIRECT(\"B\"&B10&\":B\"&FirstRow+B5),-1)+B10","v":{"$error":"#N/A"}},"Row < 0.1",{"$f":"MATCH(0.1,INDIRECT(\"D\"&D10&\":D\"&FirstRow+D5),-1)+D10","v":{"$error":"#N/A"}},"Row < 0.1",{"$f":"MATCH(0.1,INDIRECT(\"F\"&F10&\":F\"&FirstRow+F5),-1)+F10","v":{"$error":"#N/A"}},"Row < 0.1",{"$f":"MATCH(0.1,INDIRECT(\"H\"&H10&\":H\"&FirstRow+H5),-1)+H10","v":{"$error":"#N/A"}},"Row < 0.1",{"$f":"MATCH(0.1,INDIRECT(\"J\"&J10&\":J\"&FirstRow+J5),-1)+J10","v":{"$error":"#N/A"}},"Row < 0.1",{"$f":"MATCH(0.1,INDIRECT(\"L\"&L10&\":L\"&FirstRow+L5),-1)+L10","v":{"$error":"#N/A"}},"Row < 0.1",{"$f":"MATCH(0.1,INDIRECT(\"N\"&N10&\":N\"&FirstRow+N5),-1)+N10","v":{"$error":"#N/A"}},"Row < 0.1",{"$f":"MATCH(0.1,INDIRECT(\"P\"&P10&\":P\"&FirstRow+P5),-1)+P10","v":{"$error":"#N/A"}},null,null,null,null,null,null,null,{"$error":"#NAME?"},{"$error":"#NAME?"}]
["m75",{"$f":"IF(ISERROR(B15),\"\",ABS(B15))","v":""},"m75",{"$f":"IF(ISERROR(D15),\"\",ABS(D15))","v":""},"m75",{"$f":"IF(ISERROR(F15),\"\",ABS(F15))","v":""},"m75",{"$f":"IF(ISERROR(H15),\"\",ABS(H15))","v":""},"m75",{"$f":"IF(ISERROR(J15),\"\",ABS(J15))","v":""},"m75",{"$f":"IF(ISERROR(L15),\"\",ABS(L15))","v":""},"m75",{"$f":"IF(ISERROR(N15),\"\",ABS(N15))","v":""},"m75",{"$f":"IF(ISERROR(P15),\"\",ABS(P15))","v":""},null,null,null,null,null,null,null,{"$error":"#NAME?"},{"$error":"#NAME?"}]
["Wf",{"$f":"IF(ISNA(B17),\"\",SUMPRODUCT((INDIRECT(\"A\"&FirstRow+1&\":A\"&B17))-(INDIRECT(\"A\"&FirstRow&\":A\"&B17-1)),(((INDIRECT(\"B\"&FirstRow+1&\":B\"&B17))+(INDIRECT(\"B\"&FirstRow&\":B\"&B17-1)))/2)))","v":""},"Wf",{"$f":"IF(ISNA(D17),\"\",SUMPRODUCT((INDIRECT(\"C\"&FirstRow+1&\":C\"&D17))-(INDIRECT(\"C\"&FirstRow&\":C\"&D17-1)),(((INDIRECT(\"D\"&FirstRow+1&\":D\"&D17))+(INDIRECT(\"D\"&FirstRow&\":D\"&D17-1)))/2)))","v":""},"Wf",{"$f":"IF(ISNA(F17),\"\",SUMPRODUCT((INDIRECT(\"E\"&FirstRow+1&\":E\"&F17))-(INDIRECT(\"E\"&FirstRow&\":E\"&F17-1)),(((INDIRECT(\"F\"&FirstRow+1&\":F\"&F17))+(INDIRECT(\"F\"&FirstRow&\":F\"&F17-1)))/2)))","v":""},"Wf",{"$f":"IF(ISNA(H17),\"\",SUMPRODUCT((INDIRECT(\"G\"&FirstRow+1&\":G\"&H17))-(INDIRECT(\"G\"&FirstRow&\":G\"&H17-1)),(((INDIRECT(\"H\"&FirstRow+1&\":H\"&H17))+(INDIRECT(\"H\"&FirstRow&\":H\"&H17-1)))/2)))","v":""},"Wf",{"$f":"IF(ISNA(J17),\"\",SUMPRODUCT((INDIRECT(\"I\"&FirstRow+1&\":I\"&J17))-(INDIRECT(\"I\"&FirstRow&\":I\"&J17-1)),(((INDIRECT(\"J\"&FirstRow+1&\":J\"&J17))+(INDIRECT(\"J\"&FirstRow&\":J\"&J17-1)))/2)))","v":""},"Wf",{"$f":"IF(ISNA(L17),\"\",SUMPRODUCT((INDIRECT(\"K\"&FirstRow+1&\":K\"&L17))-(INDIRECT(\"K\"&FirstRow&\":K\"&L17-1)),(((INDIRECT(\"L\"&FirstRow+1&\":L\"&L17))+(INDIRECT(\"L\"&FirstRow&\":L\"&L17-1)))/2)))","v":""},"Wf",{"$f":"IF(ISNA(N17),\"\",SUMPRODUCT((INDIRECT(\"M\"&FirstRow+1&\":M\"&N17))-(INDIRECT(\"M\"&FirstRow&\":M\"&N17-1)),(((INDIRECT(\"N\"&FirstRow+1&\":N\"&N17))+(INDIRECT(\"N\"&FirstRow&\":N\"&N17-1)))/2)))","v":""},"Wf",{"$f":"IF(ISNA(P17),\"\",SUMPRODUCT((INDIRECT(\"O\"&FirstRow+1&\":O\"&P17))-(INDIRECT(\"O\"&FirstRow&\":O\"&P17-1)),(((INDIRECT(\"P\"&FirstRow+1&\":P\"&P17))+(INDIRECT(\"P\"&FirstRow&\":P\"&P17-1)))/2)))","v":""},null,null,null,null,null,null,null,{"$error":"#NAME?"},{"$error":"#NAME?"}]
["Gf",{"$f":"IF(B19=\"\",\"\",(B19/(B25*B26))*1000000)","v":""},"Gf",{"$f":"IF(D19=\"\",\"\",(D19/(D25*D26))*1000000)","v":""},"Gf",{"$f":"IF(F19=\"\",\"\",(F19/(F25*F26))*1000000)","v":""},"Gf",{"$f":"IF(H19=\"\",\"\",(H19/(H25*H26))*1000000)","v":""},"Gf",{"$f":"IF(J19=\"\",\"\",(J19/(J25*J26))*1000000)","v":""},"Gf",{"$f":"IF(L19=\"\",\"\",(L19/(L25*L26))*1000000)","v":""},"Gf",{"$f":"IF(N19=\"\",\"\",(N19/(N25*N26))*1000000)","v":""},"Gf",{"$f":"IF(P19=\"\",\"\",(P19/(P25*P26))*1000000)","v":""},null,null,null,null,null,null,null,{"$error":"#NAME?"},{"$error":"#NAME?"}]
["CTIndex",{"$f":"IF(B20=\"\",\"\",(B26/62)*(B14/B25)*(B20/B18))","v":""},"CTIndex",{"$f":"IF(D20=\"\",\"\",(D26/62)*(D14/D25)*(D20/D18))","v":""},"CTIndex",{"$f":"IF(F20=\"\",\"\",(F26/62)*(F14/F25)*(F20/F18))","v":""},"CTIndex",{"$f":"IF(H20=\"\",\"\",(H26/62)*(H14/H25)*(H20/H18))","v":""},"CTIndex",{"$f":"IF(J20=\"\",\"\",(J26/62)*(J14/J25)*(J20/J18))","v":""},"CTIndex",{"$f":"IF(L20=\"\",\"\",(L26/62)*(L14/L25)*(L20/L18))","v":""},"CTIndex",{"$f":"IF(N20=\"\",\"\",(N26/62)*(N14/N25)*(N20/N18))","v":""},"CTIndex",{"$f":"IF(P20=\"\",\"\",(P26/62)*(P14/P25)*(P20/P18))","v":""},null,null,null,null,null,null,null,{"$error":"#NAME?"},{"$error":"#NAME?"}]
["Sample 1 ID",null,"Sample 2 ID",null,"Sample 3 ID",null,"Sample 4 ID",null,"Sample 5 ID",null,"Sample 6 ID",null,"Sample 7 ID",null,"Sample 8 ID",null,null,null,null,null,null,null,null,{"$error":"#NAME?"},{"$error":"#NAME?"}]
["Temp [C]",null,"Temp [C]",null,"Temp [C]",null,"Temp [C]",null,"Temp [C]",null,"Temp [C]",null,"Temp [C]",null,"Temp [C]",null,null,null,null,null,null,null,null,{"$error":"#NAME?"},{"$error":"#NAME?"}]
["Air Voids",null,"Air Voids",null,"Air Voids",null,"Air Voids",null,"Air Voids",null,"Air Voids",null,"Air Voids",null,"Air Voids",null,null,null,null,null,null,null,null,{"$error":"#NAME?"},{"$error":"#NAME?"}]
["Diameter",null,"Diameter",null,"Diameter",null,"Diameter",null,"Diameter",null,"Diameter",null,"Diameter",null,"Diameter",null,null,null,null,null,null,null,null,{"$error":"#NAME?"},{"$error":"#NAME?"}]
["Thickness",null,"Thickness",null,"Thickness",null,"Thickness",null,"Thickness",null,"Thickness",null,"Thickness",null,"Thickness",null,null,null,null,null,null,null,null,{"$error":"#NAME?"},{"$error":"#NAME?"}]
["Flow/Stability Data",null,null,null,null,null,null,null,null,null,null,null,null,null,null,null,null,null,null,null,null,null,null,{"$error":"#NAME?"},{"$error":"#NAME?"}]
[null,null,null,null,null,null,null,null,null,null,null,null,null,null,null,null,null,null,null,null,null,null,null,{"$error":"#NAME?"},{"$error":"#NAME?"}]
[{"$f":"IF(ISBLANK(A31),\"\",INDIRECT(\"A$\"&MATCH(MAX(B31:B1031),B31:B1031,0)+FirstRow-1))","v":""},{"$f":"IF(ISBLANK(B31),\"\",MAX(B31:B1031))","v":""},{"$f":"IF(ISBLANK(C31),\"\",INDIRECT(\"C$\"&MATCH(MAX(D31:D1031),D31:D1031,0)+FirstRow-1))","v":""},{"$f":"IF(ISBLANK(D31),\"\",MAX(D31:D1031))","v":""},{"$f":"IF(ISBLANK(E31),\"\",INDIRECT(\"E$\"&MATCH(MAX(F31:F1031),F31:F1031,0)+FirstRow-1))","v":""},{"$f":"IF(ISBLANK(F31),\"\",MAX(F31:F1031))","v":""},{"$f":"IF(ISBLANK(G31),\"\",INDIRECT(\"g$\"&MATCH(MAX(H31:H1031),H31:H1031,0)+FirstRow-1))","v":""},{"$f":"IF(ISBLANK(H31),\"\",MAX(H31:H1031))","v":""},{"$f":"IF(ISBLANK(I31),\"\",INDIRECT(\"I$\"&MATCH(MAX(J31:J1031),J31:J1031,0)+FirstRow-1))","v":""},{"$f":"IF(ISBLANK(J31),\"\",MAX(J31:J1031))","v":""},{"$f":"IF(ISBLANK(K31),\"\",INDIRECT(\"K$\"&MATCH(MAX(L31:L1031),L31:L1031,0)+FirstRow-1))","v":""},{"$f":"IF(ISBLANK(L31),\"\",MAX(L31:L1031))","v":""},{"$f":"IF(ISBLANK(M31),\"\",INDIRECT(\"M$\"&MATCH(MAX(N31:N1031),N31:N1031,0)+FirstRow-1))","v":""},{"$f":"IF(ISBLANK(N31),\"\",MAX(N31:N1031))","v":""},{"$f":"IF(ISBLANK(O31),\"\",INDIRECT(\"O$\"&MATCH(MAX(P31:P1031),P31:P1031,0)+FirstRow-1))","v":""},{"$f":"IF(ISBLANK(P31),\"\",MAX(P31:P1031))","v":""},null,null,null,null,null,null,null,{"$error":"#NAME?"},{"$error":"#NAME?"}]
["Flow (mm)","Stability (kN)","Flow","Stability","Flow","Stability","Flow","Stability","Flow","Stability","Flow","Stability","Flow","Stability","Flow","Stability",null,null,null,null,null,null,null,{"$error":"#NAME?"},{"$error":"#NAME?"}]
[null,null,null,null,null,null,null,null,null,null,null,null,null,null,null,null,null,"Max Scale",{"$f":"MAX(B31:B706,D31:D706,F31:F706,H31:H706,J31:J706,L31:L706,N31:N706,P31:P706)","v":0},null,null,null,null,{"$error":"#NAME?"},{"$error":"#NAME?"}]
[null,null,null,null,null,null,null,null,null,null,null,null,null,null,null,null,null,"Port","COM1",null,null,null,null,{"$error":"#NAME?"},{"$error":"#NAME?"}]
[null,null,null,null,null,null,null,null,null,null,null,null,null,null,null,null,null,"Settings","baud=38400 parity=N data=8 stop=1",null,null,null,null,{"$error":"#NAME?"},{"$error":"#NAME?"}]
[null,null,null,null,null,null,null,null,null,null,null,null,null,null,null,null,null,null,null,null,null,null,null,{"$error":"#NAME?"},{"$error":"#NAME?"}]
[null,null,null,null,null,null,null,null,null,null,null,null,null,null,null,null,null,null,null,null,null,null,null,{"$error":"#NAME?"},{"$error":"#NAME?"}]
[null,null,null,null,null,null,null,null,null,null,null,null,null,null,null,null,null,null,null,null,null,null,null,{"$error":"#NAME?"},{"$error":"#NAME?"}]
[null,null,null,null,null,null,null,null,null,null,null,null,null,null,null,null,null,null,null,null,null,null,null,{"$error":"#NAME?"},{"$error":"#NAME?"}]
[null,null,null,null,null,null,null,null,null,null,null,null,null,null,null,null,null,null,null,null,null,null,null,{"$error":"#NAME?"},{"$error":"#NAME?"}]
[null,null,null,null,null,null,null,null,null,null,null,null,null,null,null,null,null,null,null,null,null,null,null,{"$error":"#NAME?"},{"$error":"#NAME?"}]
[null,null,null,null,null,null,null,null,null,null,null,null,null,null,null,null,null,null,null,null,null,null,null,{"$error":"#NAME?"},{"$error":"#NAME?"}]
[null,null,null,null,null,null,null,null,null,null,null,null,null,null,null,null,null,null,null,null,null,null,null,{"$error":"#NAME?"},{"$error":"#NAME?"}]
[null,null,null,null,null,null,null,null,null,null,null,null,null,null,null,null,null,null,null,null,null,null,null,{"$error":"#NAME?"},{"$error":"#NAME?"}]
[null,null,null,null,null,null,null,null,null,null,null,null,null,null,null,null,null,null,null,null,null,null,null,{"$error":"#NAME?"},{"$error":"#NAME?"}]
[null,null,null,null,null,null,null,null,null,null,null,null,null,null,null,null,null,null,null,null,null,null,null,{"$error":"#NAME?"},{"$error":"#NAME?"}]
[null,null,null,null,null,null,null,null,null,null,null,null,null,null,null,null,null,null,null,null,null,null,null,{"$error":"#NAME?"},{"$error":"#NAME?"}]
[null,null,null,null,null,null,null,null,null,null,null,null,null,null,null,null,null,null,null,null,null,null,null,{"$error":"#NAME?"},{"$error":"#NAME?"}]
[null,null,null,null,null,null,null,null,null,null,null,null,null,null,null,null,null,null,null,null,null,null,null,{"$error":"#NAME?"},{"$error":"#NAME?"}]
[null,null,null,null,null,null,null,null,null,null,null,null,null,null,null,null,null,null,null,null,null,null,null,{"$error":"#NAME?"},{"$error":"#NAME?"}]
[null,null,null,null,null,null,null,null,null,null,null,null,null,null,null,null,null,null,null,null,null,null,null,{"$error":"#NAME?"},{"$error":"#NAME?"}]
[null,null,null,null,null,null,null,null,null,null,null,null,null,null,null,null,null,null,null,null,null,null,null,{"$error":"#NAME?"},{"$error":"#NAME?"}]
[null,null,null,null,null,null,null,null,null,null,null,null,null,null,null,null,null,null,null,null,null,null,null,{"$error":"#NAME?"},{"$error":"#NAME?"}]
[null,null,null,null,null,null,null,null,null,null,null,null,null,null,null,null,null,null,null,null,null,null,null,{"$error":"#NAME?"},{"$error":"#NAME?"}]
[null,null,null,null,null,null,null,null,null,null,null,null,null,null,null,null,null,null,null,null,null,null,null,{"$error":"#NAME?"},{"$error":"#NAME?"}]
[null,null,null,null,null,null,null,null,null,null,null,null,null,null,null,null,null,null,null,null,null,null,null,{"$error":"#NAME?"},{"$error":"#NAME?"}]
[null,null,null,null,null,null,null,null,null,null,null,null,null,null,null,null,null,null,null,null,null,null,null,{"$error":"#NAME?"},{"$error":"#NAME?"}]
[null,null,null,null,null,null,null,null,null,null,null,null,null,null,null,null,null,null,null,null,null,null,null,{"$error":"#NAME?"},{"$error":"#NAME?"}]
[null,null,null,null,null,null,null,null,null,null,null,null,null,null,null,null,null,null,null,null,null,null,null,{"$error":"#NAME?"},{"$error":"#NAME?"}]
[null,null,null,null,null,null,null,null,null,null,null,null,null,null,null,null,null,null,null,null,null,null,null,{"$error":"#NAME?"},{"$error":"#NAME?"}]
[null,null,null,null,null,null,null,null,null,null,null,null,null,null,null,null,null,null,null,null,null,null,null,{"$error":"#NAME?"},{"$error":"#NAME?"}]
[null,null,null,null,null,null,null,null,null,null,null,null,null,null,null,null,null,null,null,null,null,null,null,{"$error":"#NAME?"},{"$error":"#NAME?"}]
[null,null,null,null,null,null,null,null,null,null,null,null,null,null,null,null,null,null,null,null,null,null,null,{"$error":"#NAME?"},{"$error":"#NAME?"}]
[null,null,null,null,null,null,null,null,null,null,null,null,null,null,null,null,null,null,null,null,null,null,null,{"$error":"#NAME?"},{"$error":"#NAME?"}]
[null,null,null,null,null,null,null,null,null,null,null,null,null,null,null,null,null,null,null,null,null,null,null,{"$error":"#NAME?"},{"$error":"#NAME?"}]
[null,null,null,null,null,null,null,null,null,null,null,null,null,null,null,null,null,null,null,null,null,null,null,{"$error":"#NAME?"},{"$error":"#NAME?"}]
[null,null,null,null,null,null,null,null,null,null,null,null,null,null,null,null,null,null,null,null,null,null,null,{"$error":"#NAME?"},{"$error":"#NAME?"}]
[null,null,null,null,null,null,null,null,null,null,null,null,null,null,null,null,null,null,null,null,null,null,null,{"$error":"#NAME?"},{"$error":"#NAME?"}]
[null,null,null,null,null,null,null,null,null,null,null,null,null,null,null,null,null,null,null,null,null,null,null,{"$error":"#NAME?"},{"$error":"#NAME?"}]
[null,null,null,null,null,null,null,null,null,null,null,null,null,null,null,null,null,null,null,null,null,null,null,{"$error":"#NAME?"},{"$error":"#NAME?"}]
[null,null,null,null,null,null,null,null,null,null,null,null,null,null,null,null,null,null,null,null,null,null,null,{"$error":"#NAME?"},{"$error":"#NAME?"}]
[null,null,null,null,null,null,null,null,null,null,null,null,null,null,null,null,null,null,null,null,null,null,null,{"$error":"#NAME?"},{"$error":"#NAME?"}]
[null,null,null,null,null,null,null,null,null,null,null,null,null,null,null,null,null,null,null,null,null,null,null,{"$error":"#NAME?"},{"$error":"#NAME?"}]
[null,null,null,null,null,null,null,null,null,null,null,null,null,null,null,null,null,null,null,null,null,null,null,{"$error":"#NAME?"},{"$error":"#NAME?"}]
[null,null,null,null,null,null,null,null,null,null,null,null,null,null,null,null,null,null,null,null,null,null,null,{"$error":"#NAME?"},{"$error":"#NAME?"}]
[null,null,null,null,null,null,null,null,null,null,null,null,null,null,null,null,null,null,null,null,null,null,null,{"$error":"#NAME?"},{"$error":"#NAME?"}]
[null,null,null,null,null,null,null,null,null,null,null,null,null,null,null,null,null,null,null,null,null,null,null,{"$error":"#NAME?"},{"$error":"#NAME?"}]
[null,null,null,null,null,null,null,null,null,null,null,null,null,null,null,null,null,null,null,null,null,null,null,{"$error":"#NAME?"},{"$error":"#NAME?"}]
[null,null,null,null,null,null,null,null,null,null,null,null,null,null,null,null,null,null,null,null,null,null,null,{"$error":"#NAME?"},{"$error":"#NAME?"}]
[null,null,null,null,null,null,null,null,null,null,null,null,null,null,null,null,null,null,null,null,null,null,null,{"$error":"#NAME?"},{"$error":"#NAME?"}]
[null,null,null,null,null,null,null,null,null,null,null,null,null,null,null,null,null,null,null,null,null,null,null,{"$error":"#NAME?"},{"$error":"#NAME?"}]
[null,null,null,null,null,null,null,null,null,null,null,null,null,null,null,null,null,null,null,null,null,null,null,{"$error":"#NAME?"},{"$error":"#NAME?"}]
[null,null,null,null,null,null,null,null,null,null,null,null,null,null,null,null,null,null,null,null,null,null,null,{"$error":"#NAME?"},{"$error":"#NAME?"}]
[null,null,null,null,null,null,null,null,null,null,null,null,null,null,null,null,null,null,null,null,null,null,null,{"$error":"#NAME?"},{"$error":"#NAME?"}]
[null,null,null,null,null,null,null,null,null,null,null,null,null,null,null,null,null,null,null,null,null,null,null,{"$error":"#NAME?"},{"$error":"#NAME?"}]
[null,null,null,null,null,null,null,null,null,null,null,null,null,null,null,null,null,null,null,null,null,null,null,{"$error":"#NAME?"},{"$error":"#NAME?"}]
[null,null,null,null,null,null,null,null,null,null,null,null,null,null,null,null,null,null,null,null,null,null,null,{"$error":"#NAME?"},{"$error":"#NAME?"}]
[null,null,null,null,null,null,null,null,null,null,null,null,null,null,null,null,null,null,null,null,null,null,null,{"$error":"#NAME?"},{"$error":"#NAME?"}]
[null,null,null,null,null,null,null,null,null,null,null,null,null,null,null,null,null,null,null,null,null,null,null,{"$error":"#NAME?"},{"$error":"#NAME?"}]
[null,null,null,null,null,null,null,null,null,null,null,null,null,null,null,null,null,null,null,null,null,null,null,{"$error":"#NAME?"},{"$error":"#NAME?"}]
[null,null,null,null,null,null,null,null,null,null,null,null,null,null,null,null,null,null,null,null,null,null,null,{"$error":"#NAME?"},{"$error":"#NAME?"}]
[null,null,null,null,null,null,null,null,null,null,null,null,null,null,null,null,null,null,null,null,null,null,null,{"$error":"#NAME?"},{"$error":"#NAME?"}]
[null,null,null,null,null,null,null,null,null,null,null,null,null,null,null,null,null,null,null,null,null,null,null,{"$error":"#NAME?"},{"$error":"#NAME?"}]
[null,null,null,null,null,null,null,null,null,null,null,null,null,null,null,null,null,null,null,null,null,null,null,{"$error":"#NAME?"},{"$error":"#NAME?"}]
[null,null,null,null,null,null,null,null,null,null,null,null,null,null,null,null,null,null,null,null,null,null,null,{"$error":"#NAME?"},{"$error":"#NAME?"}]
[null,null,null,null,null,null,null,null,null,null,null,null,null,null,null,null,null,null,null,null,null,null,null,{"$error":"#NAME?"},{"$error":"#NAME?"}]
[null,null,null,null,null,null,null,null,null,null,null,null,null,null,null,null,null,null,null,null,null,null,null,{"$error":"#NAME?"},{"$error":"#NAME?"}]
[null,null,null,null,null,null,null,null,null,null,null,null,null,null,null,null,null,null,null,null,null,null,null,{"$error":"#NAME?"},{"$error":"#NAME?"}]
[null,null,null,null,null,null,null,null,null,null,null,null,null,null,null,null,null,null,null,null,null,null,null,{"$error":"#NAME?"},{"$error":"#NAME?"}]
[null,null,null,null,null,null,null,null,null,null,null,null,null,null,null,null,null,null,null,null,null,null,null,{"$error":"#NAME?"},{"$error":"#NAME?"}]
[null,null,null,null,null,null,null,null,null,null,null,null,null,null,null,null,null,null,null,null,null,null,null,{"$error":"#NAME?"},{"$error":"#NAME?"}]
[null,null,null,null,null,null,null,null,null,null,null,null,null,null,null,null,null,null,null,null,null,null,null,{"$error":"#NAME?"},{"$error":"#NAME?"}]
[null,null,null,null,null,null,null,null,null,null,null,null,null,null,null,null,null,null,null,null,null,null,null,{"$error":"#NAME?"},{"$error":"#NAME?"}]
[null,null,null,null,null,null,null,null,null,null,null,null,null,null,null,null,null,null,null,null,null,null,null,{"$error":"#NAME?"},{"$error":"#NAME?"}]
[null,null,null,null,null,null,null,null,null,null,null,null,null,null,null,null,null,null,null,null,null,null,null,{"$error":"#NAME?"},{"$error":"#NAME?"}]
[null,null,null,null,null,null,null,null,null,null,null,null,null,null,null,null,null,null,null,null,null,null,null,{"$error":"#NAME?"},{"$error":"#NAME?"}]
[null,null,null,null,null,null,null,null,null,null,null,null,null,null,null,null,null,null,null,null,null,null,null,{"$error":"#NAME?"},{"$error":"#NAME?"}]
[null,null,null,null,null,null,null,null,null,null,null,null,null,null,null,null,null,null,null,null,null,null,null,{"$error":"#NAME?"},{"$error":"#NAME?"}]
[null,null,null,null,null,null,null,null,null,null,null,null,null,null,null,null,null,null,null,null,null,null,null,{"$error":"#NAME?"},{"$error":"#NAME?"}]
[null,null,null,null,null,null,null,null,null,null,null,null,null,null,null,null,null,null,null,null,null,null,null,{"$error":"#NAME?"},{"$error":"#NAME?"}]
[null,null,null,null,null,null,null,null,null,null,null,null,null,null,null,null,null,null,null,null,null,null,null,{"$error":"#NAME?"},{"$error":"#NAME?"}]
[null,null,null,null,null,null,null,null,null,null,null,null,null,null,null,null,null,null,null,null,null,null,null,{"$error":"#NAME?"},{"$error":"#NAME?"}]
[null,null,null,null,null,null,null,null,null,null,null,null,null,null,null,null,null,null,null,null,null,null,null,{"$error":"#NAME?"},{"$error":"#NAME?"}]
[null,null,null,null,null,null,null,null,null,null,null,null,null,null,null,null,null,null,null,null,null,null,null,{"$error":"#NAME?"},{"$error":"#NAME?"}]
[null,null,null,null,null,null,null,null,null,null,null,null,null,null,null,null,null,null,null,null,null,null,null,{"$error":"#NAME?"},{"$error":"#NAME?"}]
[null,null,null,null,null,null,null,null,null,null,null,null,null,null,null,null,null,null,null,null,null,null,null,{"$error":"#NAME?"},{"$error":"#NAME?"}]
[null,null,null,null,null,null,null,null,null,null,null,null,null,null,null,null,null,null,null,null,null,null,null,{"$error":"#NAME?"},{"$error":"#NAME?"}]
[null,null,null,null,null,null,null,null,null,null,null,null,null,null,null,null,null,null,null,null,null,null,null,{"$error":"#NAME?"},{"$error":"#NAME?"}]
[null,null,null,null,null,null,null,null,null,null,null,null,null,null,null,null,null,null,null,null,null,null,null,{"$error":"#NAME?"},{"$error":"#NAME?"}]
[null,null,null,null,null,null,null,null,null,null,null,null,null,null,null,null,null,null,null,null,null,null,null,{"$error":"#NAME?"},{"$error":"#NAME?"}]
[null,null,null,null,null,null,null,null,null,null,null,null,null,null,null,null,null,null,null,null,null,null,null,{"$error":"#NAME?"},{"$error":"#NAME?"}]
[null,null,null,null,null,null,null,null,null,null,null,null,null,null,null,null,null,null,null,null,null,null,null,{"$error":"#NAME?"},{"$error":"#NAME?"}]
[null,null,null,null,null,null,null,null,null,null,null,null,null,null,null,null,null,null,null,null,null,null,null,{"$error":"#NAME?"},{"$error":"#NAME?"}]
[null,null,null,null,null,null,null,null,null,null,null,null,null,null,null,null,null,null,null,null,null,null,null,{"$error":"#NAME?"},{"$error":"#NAME?"}]
[null,null,null,null,null,null,null,null,null,null,null,null,null,null,null,null,null,null,null,null,null,null,null,{"$error":"#NAME?"},{"$error":"#NAME?"}]
[null,null,null,null,null,null,null,null,null,null,null,null,null,null,null,null,null,null,null,null,null,null,null,{"$error":"#NAME?"},{"$error":"#NAME?"}]
[null,null,null,null,null,null,null,null,null,null,null,null,null,null,null,null,null,null,null,null,null,null,null,{"$error":"#NAME?"},{"$error":"#NAME?"}]
[null,null,null,null,null,null,null,null,null,null,null,null,null,null,null,null,null,null,null,null,null,null,null,{"$error":"#NAME?"},{"$error":"#NAME?"}]
[null,null,null,null,null,null,null,null,null,null,null,null,null,null,null,null,null,null,null,null,null,null,null,{"$error":"#NAME?"},{"$error":"#NAME?"}]
[null,null,null,null,null,null,null,null,null,null,null,null,null,null,null,null,null,null,null,null,null,null,null,{"$error":"#NAME?"},{"$error":"#NAME?"}]
[null,null,null,null,null,null,null,null,null,null,null,null,null,null,null,null,null,null,null,null,null,null,null,{"$error":"#NAME?"},{"$error":"#NAME?"}]
[null,null,null,null,null,null,null,null,null,null,null,null,null,null,null,null,null,null,null,null,null,null,null,{"$error":"#NAME?"},{"$error":"#NAME?"}]
[null,null,null,null,null,null,null,null,null,null,null,null,null,null,null,null,null,null,null,null,null,null,null,{"$error":"#NAME?"},{"$error":"#NAME?"}]
[null,null,null,null,null,null,null,null,null,null,null,null,null,null,null,null,null,null,null,null,null,null,null,{"$error":"#NAME?"},{"$error":"#NAME?"}]
[null,null,null,null,null,null,null,null,null,null,null,null,null,null,null,null,null,null,null,null,null,null,null,{"$error":"#NAME?"},{"$error":"#NAME?"}]
[null,null,null,null,null,null,null,null,null,null,null,null,null,null,null,null,null,null,null,null,null,null,null,{"$error":"#NAME?"},{"$error":"#NAME?"}]
[null,null,null,null,null,null,null,null,null,null,null,null,null,null,null,null,null,null,null,null,null,null,null,{"$error":"#NAME?"},{"$error":"#NAME?"}]
[null,null,null,null,null,null,null,null,null,null,null,null,null,null,null,null,null,null,null,null,null,null,null,{"$error":"#NAME?"},{"$error":"#NAME?"}]
[null,null,null,null,null,null,null,null,null,null,null,null,null,null,null,null,null,null,null,null,null,null,null,{"$error":"#NAME?"},{"$error":"#NAME?"}]
[null,null,null,null,null,null,null,null,null,null,null,null,null,null,null,null,null,null,null,null,null,null,null,{"$error":"#NAME?"},{"$error":"#NAME?"}]
[null,null,null,null,null,null,null,null,null,null,null,null,null,null,null,null,null,null,null,null,null,null,null,{"$error":"#NAME?"},{"$error":"#NAME?"}]
[null,null,null,null,null,null,null,null,null,null,null,null,null,null,null,null,null,null,null,null,null,null,null,{"$error":"#NAME?"},{"$error":"#NAME?"}]
[null,null,null,null,null,null,null,null,null,null,null,null,null,null,null,null,null,null,null,null,null,null,null,{"$error":"#NAME?"},{"$error":"#NAME?"}]
[null,null,null,null,null,null,null,null,null,null,null,null,null,null,null,null,null,null,null,null,null,null,null,{"$error":"#NAME?"},{"$error":"#NAME?"}]
[null,null,null,null,null,null,null,null,null,null,null,null,null,null,null,null,null,null,null,null,null,null,null,{"$error":"#NAME?"},{"$error":"#NAME?"}]
[null,null,null,null,null,null,null,null,null,null,null,null,null,null,null,null,null,null,null,null,null,null,null,{"$error":"#NAME?"},{"$error":"#NAME?"}]
[null,null,null,null,null,null,null,null,null,null,null,null,null,null,null,null,null,null,null,null,null,null,null,{"$error":"#NAME?"},{"$error":"#NAME?"}]
[null,null,null,null,null,null,null,null,null,null,null,null,null,null,null,null,null,null,null,null,null,null,null,{"$error":"#NAME?"},{"$error":"#NAME?"}]
[null,null,null,null,null,null,null,null,null,null,null,null,null,null,null,null,null,null,null,null,null,null,null,{"$error":"#NAME?"},{"$error":"#NAME?"}]
[null,null,null,null,null,null,null,null,null,null,null,null,null,null,null,null,null,null,null,null,null,null,null,{"$error":"#NAME?"},{"$error":"#NAME?"}]
[null,null,null,null,null,null,null,null,null,null,null,null,null,null,null,null,null,null,null,null,null,null,null,{"$error":"#NAME?"},{"$error":"#NAME?"}]
[null,null,null,null,null,null,null,null,null,null,null,null,null,null,null,null,null,null,null,null,null,null,null,{"$error":"#NAME?"},{"$error":"#NAME?"}]
[null,null,null,null,null,null,null,null,null,null,null,null,null,null,null,null,null,null,null,null,null,null,null,{"$error":"#NAME?"},{"$error":"#NAME?"}]
[null,null,null,null,null,null,null,null,null,null,null,null,null,null,null,null,null,null,null,null,null,null,null,{"$error":"#NAME?"},{"$error":"#NAME?"}]
[null,null,null,null,null,null,null,null,null,null,null,null,null,null,null,null,null,null,null,null,null,null,null,{"$error":"#NAME?"},{"$error":"#NAME?"}]
[null,null,null,null,null,null,null,null,null,null,null,null,null,null,null,null,null,null,null,null,null,null,null,{"$error":"#NAME?"},{"$error":"#NAME?"}]
[null,null,null,null,null,null,null,null,null,null,null,null,null,null,null,null,null,null,null,null,null,null,null,{"$error":"#NAME?"},{"$error":"#NAME?"}]
[null,null,null,null,null,null,null,null,null,null,null,null,null,null,null,null,null,null,null,null,null,null,null,{"$error":"#NAME?"},{"$error":"#NAME?"}]
[null,null,null,null,null,null,null,null,null,null,null,null,null,null,null,null,null,null,null,null,null,null,null,{"$error":"#NAME?"},{"$error":"#NAME?"}]
[null,null,null,null,null,null,null,null,null,null,null,null,null,null,null,null,null,null,null,null,null,null,null,{"$error":"#NAME?"},{"$error":"#NAME?"}]
[null,null,null,null,null,null,null,null,null,null,null,null,null,null,null,null,null,null,null,null,null,null,null,{"$error":"#NAME?"},{"$error":"#NAME?"}]
[null,null,null,null,null,null,null,null,null,null,null,null,null,null,null,null,null,null,null,null,null,null,null,{"$error":"#NAME?"},{"$error":"#NAME?"}]
[null,null,null,null,null,null,null,null,null,null,null,null,null,null,null,null,null,null,null,null,null,null,null,{"$error":"#NAME?"},{"$error":"#NAME?"}]
[null,null,null,null,null,null,null,null,null,null,null,null,null,null,null,null,null,null,null,null,null,null,null,{"$error":"#NAME?"},{"$error":"#NAME?"}]
[null,null,null,null,null,null,null,null,null,null,null,null,null,null,null,null,null,null,null,null,null,null,null,{"$error":"#NAME?"},{"$error":"#NAME?"}]
[null,null,null,null,null,null,null,null,null,null,null,null,null,null,null,null,null,null,null,null,null,null,null,{"$error":"#NAME?"},{"$error":"#NAME?"}]
[null,null,null,null,null,null,null,null,null,null,null,null,null,null,null,null,null,null,null,null,null,null,null,{"$error":"#NAME?"},{"$error":"#NAME?"}]
[null,null,null,null,null,null,null,null,null,null,null,null,null,null,null,null,null,null,null,null,null,null,null,{"$error":"#NAME?"},{"$error":"#NAME?"}]
[null,null,null,null,null,null,null,null,null,null,null,null,null,null,null,null,null,null,null,null,null,null,null,{"$error":"#NAME?"},{"$error":"#NAME?"}]
[null,null,null,null,null,null,null,null,null,null,null,null,null,null,null,null,null,null,null,null,null,null,null,{"$error":"#NAME?"},{"$error":"#NAME?"}]
[null,null,null,null,null,null,null,null,null,null,null,null,null,null,null,null,null,null,null,null,null,null,null,{"$error":"#NAME?"},{"$error":"#NAME?"}]
[null,null,null,null,null,null,null,null,null,null,null,null,null,null,null,null,null,null,null,null,null,null,null,{"$error":"#NAME?"},{"$error":"#NAME?"}]
[null,null,null,null,null,null,null,null,null,null,null,null,null,null,null,null,null,null,null,null,null,null,null,{"$error":"#NAME?"},{"$error":"#NAME?"}]
[null,null,null,null,null,null,null,null,null,null,null,null,null,null,null,null,null,null,null,null,null,null,null,{"$error":"#NAME?"},{"$error":"#NAME?"}]
[null,null,null,null,null,null,null,null,null,null,null,null,null,null,null,null,null,null,null,null,null,null,null,{"$error":"#NAME?"},{"$error":"#NAME?"}]
[null,null,null,null,null,null,null,null,null,null,null,null,null,null,null,null,null,null,null,null,null,null,null,{"$error":"#NAME?"},{"$error":"#NAME?"}]
[null,null,null,null,null,null,null,null,null,null,null,null,null,null,null,null,null,null,null,null,null,null,null,{"$error":"#NAME?"},{"$error":"#NAME?"}]
[null,null,null,null,null,null,null,null,null,null,null,null,null,null,null,null,null,null,null,null,null,null,null,{"$error":"#NAME?"},{"$error":"#NAME?"}]
[null,null,null,null,null,null,null,null,null,null,null,null,null,null,null,null,null,null,null,null,null,null,null,{"$error":"#NAME?"},{"$error":"#NAME?"}]
[null,null,null,null,null,null,null,null,null,null,null,null,null,null,null,null,null,null,null,null,null,null,null,{"$error":"#NAME?"},{"$error":"#NAME?"}]
[null,null,null,null,null,null,null,null,null,null,null,null,null,null,null,null,null,null,null,null,null,null,null,{"$error":"#NAME?"},{"$error":"#NAME?"}]
[null,null,null,null,null,null,null,null,null,null,null,null,null,null,null,null,null,null,null,null,null,null,null,{"$error":"#NAME?"},{"$error":"#NAME?"}]
[null,null,null,null,null,null,null,null,null,null,null,null,null,null,null,null,null,null,null,null,null,null,null,{"$error":"#NAME?"},{"$error":"#NAME?"}]
[null,null,null,null,null,null,null,null,null,null,null,null,null,null,null,null,null,null,null,null,null,null,null,{"$error":"#NAME?"},{"$error":"#NAME?"}]
[null,null,null,null,null,null,null,null,null,null,null,null,null,null,null,null,null,null,null,null,null,null,null,{"$error":"#NAME?"},{"$error":"#NAME?"}]
[null,null,null,null,null,null,null,null,null,null,null,null,null,null,null,null,null,null,null,null,null,null,null,{"$error":"#NAME?"},{"$error":"#NAME?"}]
[null,null,null,null,null,null,null,null,null,null,null,null,null,null,null,null,null,null,null,null,null,null,null,{"$error":"#NAME?"},{"$error":"#NAME?"}]
[null,null,null,null,null,null,null,null,null,null,null,null,null,null,null,null,null,null,null,null,null,null,null,{"$error":"#NAME?"},{"$error":"#NAME?"}]
[null,null,null,null,null,null,null,null,null,null,null,null,null,null,null,null,null,null,null,null,null,null,null,{"$error":"#NAME?"},{"$error":"#NAME?"}]
[null,null,null,null,null,null,null,null,null,null,null,null,null,null,null,null,null,null,null,null,null,null,null,{"$error":"#NAME?"},{"$error":"#NAME?"}]
[null,null,null,null,null,null,null,null,null,null,null,null,null,null,null,null,null,null,null,null,null,null,null,{"$error":"#NAME?"},{"$error":"#NAME?"}]
[null,null,null,null,null,null,null,null,null,null,null,null,null,null,null,null,null,null,null,null,null,null,null,{"$error":"#NAME?"},{"$error":"#NAME?"}]
[null,null,null,null,null,null,null,null,null,null,null,null,null,null,null,null,null,null,null,null,null,null,null,{"$error":"#NAME?"},{"$error":"#NAME?"}]
[null,null,null,null,null,null,null,null,null,null,null,null,null,null,null,null,null,null,null,null,null,null,null,{"$error":"#NAME?"},{"$error":"#NAME?"}]
[null,null,null,null,null,null,null,null,null,null,null,null,null,null,null,null,null,null,null,null,null,null,null,{"$error":"#NAME?"},{"$error":"#NAME?"}]
[null,null,null,null,null,null,null,null,null,null,null,null,null,null,null,null,null,null,null,null,null,null,null,{"$error":"#NAME?"},{"$error":"#NAME?"}]
[null,null,null,null,null,null,null,null,null,null,null,null,null,null,null,null,null,null,null,null,null,null,null,{"$error":"#NAME?"},{"$error":"#NAME?"}]
[null,null,null,null,null,null,null,null,null,null,null,null,null,null,null,null,null,null,null,null,null,null,null,{"$error":"#NAME?"},{"$error":"#NAME?"}]
[null,null,null,null,null,null,null,null,null,null,null,null,null,null,null,null,null,null,null,null,null,null,null,{"$error":"#NAME?"},{"$error":"#NAME?"}]
[null,null,null,null,null,null,null,null,null,null,null,null,null,null,null,null,null,null,null,null,null,null,null,{"$error":"#NAME?"},{"$error":"#NAME?"}]
[null,null,null,null,null,null,null,null,null,null,null,null,null,null,null,null,null,null,null,null,null,null,null,{"$error":"#NAME?"},{"$error":"#NAME?"}]
[null,null,null,null,null,null,null,null,null,null,null,null,null,null,null,null,null,null,null,null,null,null,null,{"$error":"#NAME?"},{"$error":"#NAME?"}]
[null,null,null,null,null,null,null,null,null,null,null,null,null,null,null,null,null,null,null,null,null,null,null,{"$error":"#NAME?"},{"$error":"#NAME?"}]
[null,null,null,null,null,null,null,null,null,null,null,null,null,null,null,null,null,null,null,null,null,null,null,{"$error":"#NAME?"},{"$error":"#NAME?"}]
[null,null,null,null,null,null,null,null,null,null,null,null,null,null,null,null,null,null,null,null,null,null,null,{"$error":"#NAME?"},{"$error":"#NAME?"}]
[null,null,null,null,null,null,null,null,null,null,null,null,null,null,null,null,null,null,null,null,null,null,null,{"$error":"#NAME?"},{"$error":"#NAME?"}]
[null,null,null,null,null,null,null,null,null,null,null,null,null,null,null,null,null,null,null,null,null,null,null,{"$error":"#NAME?"},{"$error":"#NAME?"}]
[null,null,null,null,null,null,null,null,null,null,null,null,null,null,null,null,null,null,null,null,null,null,null,{"$error":"#NAME?"},{"$error":"#NAME?"}]
[null,null,null,null,null,null,null,null,null,null,null,null,null,null,null,null,null,null,null,null,null,null,null,{"$error":"#NAME?"},{"$error":"#NAME?"}]
[null,null,null,null,null,null,null,null,null,null,null,null,null,null,null,null,null,null,null,null,null,null,null,{"$error":"#NAME?"},{"$error":"#NAME?"}]
[null,null,null,null,null,null,null,null,null,null,null,null,null,null,null,null,null,null,null,null,null,null,null,{"$error":"#NAME?"},{"$error":"#NAME?"}]
[null,null,null,null,null,null,null,null,null,null,null,null,null,null,null,null,null,null,null,null,null,null,null,{"$error":"#NAME?"},{"$error":"#NAME?"}]
[null,null,null,null,null,null,null,null,null,null,null,null,null,null,null,null,null,null,null,null,null,null,null,{"$error":"#NAME?"},{"$error":"#NAME?"}]
[null,null,null,null,null,null,null,null,null,null,null,null,null,null,null,null,null,null,null,null,null,null,null,{"$error":"#NAME?"},{"$error":"#NAME?"}]
[null,null,null,null,null,null,null,null,null,null,null,null,null,null,null,null,null,null,null,null,null,null,null,{"$error":"#NAME?"},{"$error":"#NAME?"}]
[null,null,null,null,null,null,null,null,null,null,null,null,null,null,null,null,null,null,null,null,null,null,null,{"$error":"#NAME?"},{"$error":"#NAME?"}]
[null,null,null,null,null,null,null,null,null,null,null,null,null,null,null,null,null,null,null,null,null,null,null,{"$error":"#NAME?"},{"$error":"#NAME?"}]
[null,null,null,null,null,null,null,null,null,null,null,null,null,null,null,null,null,null,null,null,null,null,null,{"$error":"#NAME?"},{"$error":"#NAME?"}]
[null,null,null,null,null,null,null,null,null,null,null,null,null,null,null,null,null,null,null,null,null,null,null,{"$error":"#NAME?"},{"$error":"#NAME?"}]
[null,null,null,null,null,null,null,null,null,null,null,null,null,null,null,null,null,null,null,null,null,null,null,{"$error":"#NAME?"},{"$error":"#NAME?"}]
[null,null,null,null,null,null,null,null,null,null,null,null,null,null,null,null,null,null,null,null,null,null,null,{"$error":"#NAME?"},{"$error":"#NAME?"}]
[null,null,null,null,null,null,null,null,null,null,null,null,null,null,null,null,null,null,null,null,null,null,null,{"$error":"#NAME?"},{"$error":"#NAME?"}]
[null,null,null,null,null,null,null,null,null,null,null,null,null,null,null,null,null,null,null,null,null,null,null,{"$error":"#NAME?"},{"$error":"#NAME?"}]
[null,null,null,null,null,null,null,null,null,null,null,null,null,null,null,null,null,null,null,null,null,null,null,{"$error":"#NAME?"},{"$error":"#NAME?"}]
[null,null,null,null,null,null,null,null,null,null,null,null,null,null,null,null,null,null,null,null,null,null,null,{"$error":"#NAME?"},{"$error":"#NAME?"}]
[null,null,null,null,null,null,null,null,null,null,null,null,null,null,null,null,null,null,null,null,null,null,null,{"$error":"#NAME?"},{"$error":"#NAME?"}]
[null,null,null,null,null,null,null,null,null,null,null,null,null,null,null,null,null,null,null,null,null,null,null,{"$error":"#NAME?"},{"$error":"#NAME?"}]
[null,null,null,null,null,null,null,null,null,null,null,null,null,null,null,null,null,null,null,null,null,null,null,{"$error":"#NAME?"},{"$error":"#NAME?"}]
[null,null,null,null,null,null,null,null,null,null,null,null,null,null,null,null,null,null,null,null,null,null,null,{"$error":"#NAME?"},{"$error":"#NAME?"}]
[null,null,null,null,null,null,null,null,null,null,null,null,null,null,null,null,null,null,null,null,null,null,null,{"$error":"#NAME?"},{"$error":"#NAME?"}]
[null,null,null,null,null,null,null,null,null,null,null,null,null,null,null,null,null,null,null,null,null,null,null,{"$error":"#NAME?"},{"$error":"#NAME?"}]
[null,null,null,null,null,null,null,null,null,null,null,null,null,null,null,null,null,null,null,null,null,null,null,{"$error":"#NAME?"},{"$error":"#NAME?"}]
[null,null,null,null,null,null,null,null,null,null,null,null,null,null,null,null,null,null,null,null,null,null,null,{"$error":"#NAME?"},{"$error":"#NAME?"}]
[null,null,null,null,null,null,null,null,null,null,null,null,null,null,null,null,null,null,null,null,null,null,null,{"$error":"#NAME?"},{"$error":"#NAME?"}]
[null,null,null,null,null,null,null,null,null,null,null,null,null,null,null,null,null,null,null,null,null,null,null,{"$error":"#NAME?"},{"$error":"#NAME?"}]
[null,null,null,null,null,null,null,null,null,null,null,null,null,null,null,null,null,null,null,null,null,null,null,{"$error":"#NAME?"},{"$error":"#NAME?"}]
[null,null,null,null,null,null,null,null,null,null,null,null,null,null,null,null,null,null,null,null,null,null,null,{"$error":"#NAME?"},{"$error":"#NAME?"}]
[null,null,null,null,null,null,null,null,null,null,null,null,null,null,null,null,null,null,null,null,null,null,null,{"$error":"#NAME?"},{"$error":"#NAME?"}]
[null,null,null,null,null,null,null,null,null,null,null,null,null,null,null,null,null,null,null,null,null,null,null,{"$error":"#NAME?"},{"$error":"#NAME?"}]
[null,null,null,null,null,null,null,null,null,null,null,null,null,null,null,null,null,null,null,null,null,null,null,{"$error":"#NAME?"},{"$error":"#NAME?"}]
[null,null,null,null,null,null,null,null,null,null,null,null,null,null,null,null,null,null,null,null,null,null,null,{"$error":"#NAME?"},{"$error":"#NAME?"}]
[null,null,null,null,null,null,null,null,null,null,null,null,null,null,null,null,null,null,null,null,null,null,null,{"$error":"#NAME?"},{"$error":"#NAME?"}]
[null,null,null,null,null,null,null,null,null,null,null,null,null,null,null,null,null,null,null,null,null,null,null,{"$error":"#NAME?"},{"$error":"#NAME?"}]
[null,null,null,null,null,null,null,null,null,null,null,null,null,null,null,null,null,null,null,null,null,null,null,{"$error":"#NAME?"},{"$error":"#NAME?"}]
[null,null,null,null,null,null,null,null,null,null,null,null,null,null,null,null,null,null,null,null,null,null,null,{"$error":"#NAME?"},{"$error":"#NAME?"}]
[null,null,null,null,null,null,null,null,null,null,null,null,null,null,null,null,null,null,null,null,null,null,null,{"$error":"#NAME?"},{"$error":"#NAME?"}]
[null,null,null,null,null,null,null,null,null,null,null,null,null,null,null,null,null,null,null,null,null,null,null,{"$error":"#NAME?"},{"$error":"#NAME?"}]
[null,null,null,null,null,null,null,null,null,null,null,null,null,null,null,null,null,null,null,null,null,null,null,{"$error":"#NAME?"},{"$error":"#NAME?"}]
[null,null,null,null,null,null,null,null,null,null,null,null,null,null,null,null,null,null,null,null,null,null,null,{"$error":"#NAME?"},{"$error":"#NAME?"}]
[null,null,null,null,null,null,null,null,null,null,null,null,null,null,null,null,null,null,null,null,null,null,null,{"$error":"#NAME?"},{"$error":"#NAME?"}]
[null,null,null,null,null,null,null,null,null,null,null,null,null,null,null,null,null,null,null,null,null,null,null,{"$error":"#NAME?"},{"$error":"#NAME?"}]
[null,null,null,null,null,null,null,null,null,null,null,null,null,null,null,null,null,null,null,null,null,null,null,{"$error":"#NAME?"},{"$error":"#NAME?"}]
[null,null,null,null,null,null,null,null,null,null,null,null,null,null,null,null,null,null,null,null,null,null,null,{"$error":"#NAME?"},{"$error":"#NAME?"}]
[null,null,null,null,null,null,null,null,null,null,null,null,null,null,null,null,null,null,null,null,null,null,null,{"$error":"#NAME?"},{"$error":"#NAME?"}]
[null,null,null,null,null,null,null,null,null,null,null,null,null,null,null,null,null,null,null,null,null,null,null,{"$error":"#NAME?"},{"$error":"#NAME?"}]
[null,null,null,null,null,null,null,null,null,null,null,null,null,null,null,null,null,null,null,null,null,null,null,{"$error":"#NAME?"},{"$error":"#NAME?"}]
[null,null,null,null,null,null,null,null,null,null,null,null,null,null,null,null,null,null,null,null,null,null,null,{"$error":"#NAME?"},{"$error":"#NAME?"}]
[null,null,null,null,null,null,null,null,null,null,null,null,null,null,null,null,null,null,null,null,null,null,null,{"$error":"#NAME?"},{"$error":"#NAME?"}]
[null,null,null,null,null,null,null,null,null,null,null,null,null,null,null,null,null,null,null,null,null,null,null,{"$error":"#NAME?"},{"$error":"#NAME?"}]
[null,null,null,null,null,null,null,null,null,null,null,null,null,null,null,null,null,null,null,null,null,null,null,{"$error":"#NAME?"},{"$error":"#NAME?"}]
[null,null,null,null,null,null,null,null,null,null,null,null,null,null,null,null,null,null,null,null,null,null,null,{"$error":"#NAME?"},{"$error":"#NAME?"}]
[null,null,null,null,null,null,null,null,null,null,null,null,null,null,null,null,null,null,null,null,null,null,null,{"$error":"#NAME?"},{"$error":"#NAME?"}]
[null,null,null,null,null,null,null,null,null,null,null,null,null,null,null,null,null,null,null,null,null,null,null,{"$error":"#NAME?"},{"$error":"#NAME?"}]
[null,null,null,null,null,null,null,null,null,null,null,null,null,null,null,null,null,null,null,null,null,null,null,{"$error":"#NAME?"},{"$error":"#NAME?"}]
[null,null,null,null,null,null,null,null,null,null,null,null,null,null,null,null,null,null,null,null,null,null,null,{"$error":"#NAME?"},{"$error":"#NAME?"}]
[null,null,null,null,null,null,null,null,null,null,null,null,null,null,null,null,null,null,null,null,null,null,null,{"$error":"#NAME?"},{"$error":"#NAME?"}]
[null,null,null,null,null,null,null,null,null,null,null,null,null,null,null,null,null,null,null,null,null,null,null,{"$error":"#NAME?"},{"$error":"#NAME?"}]
[null,null,null,null,null,null,null,null,null,null,null,null,null,null,null,null,null,null,null,null,null,null,null,{"$error":"#NAME?"},{"$error":"#NAME?"}]
[null,null,null,null,null,null,null,null,null,null,null,null,null,null,null,null,null,null,null,null,null,null,null,{"$error":"#NAME?"},{"$error":"#NAME?"}]
[null,null,null,null,null,null,null,null,null,null,null,null,null,null,null,null,null,null,null,null,null,null,null,{"$error":"#NAME?"},{"$error":"#NAME?"}]
[null,null,null,null,null,null,null,null,null,null,null,null,null,null,null,null,null,null,null,null,null,null,null,{"$error":"#NAME?"},{"$error":"#NAME?"}]
[null,null,null,null,null,null,null,null,null,null,null,null,null,null,null,null,null,null,null,null,null,null,null,{"$error":"#NAME?"},{"$error":"#NAME?"}]
[null,null,null,null,null,null,null,null,null,null,null,null,null,null,null,null,null,null,null,null,null,null,null,{"$error":"#NAME?"},{"$error":"#NAME?"}]
[null,null,null,null,null,null,null,null,null,null,null,null,null,null,null,null,null,null,null,null,null,null,null,{"$error":"#NAME?"},{"$error":"#NAME?"}]
[null,null,null,null,null,null,null,null,null,null,null,null,null,null,null,null,null,null,null,null,null,null,null,{"$error":"#NAME?"},{"$error":"#NAME?"}]
[null,null,null,null,null,null,null,null,null,null,null,null,null,null,null,null,null,null,null,null,null,null,null,{"$error":"#NAME?"},{"$error":"#NAME?"}]
[null,null,null,null,null,null,null,null,null,null,null,null,null,null,null,null,null,null,null,null,null,null,null,{"$error":"#NAME?"},{"$error":"#NAME?"}]
[null,null,null,null,null,null,null,null,null,null,null,null,null,null,null,null,null,null,null,null,null,null,null,{"$error":"#NAME?"},{"$error":"#NAME?"}]
[null,null,null,null,null,null,null,null,null,null,null,null,null,null,null,null,null,null,null,null,null,null,null,{"$error":"#NAME?"},{"$error":"#NAME?"}]
[null,null,null,null,null,null,null,null,null,null,null,null,null,null,null,null,null,null,null,null,null,null,null,{"$error":"#NAME?"},{"$error":"#NAME?"}]
[null,null,null,null,null,null,null,null,null,null,null,null,null,null,null,null,null,null,null,null,null,null,null,{"$error":"#NAME?"},{"$error":"#NAME?"}]
[null,null,null,null,null,null,null,null,null,null,null,null,null,null,null,null,null,null,null,null,null,null,null,{"$error":"#NAME?"},{"$error":"#NAME?"}]
[null,null,null,null,null,null,null,null,null,null,null,null,null,null,null,null,null,null,null,null,null,null,null,{"$error":"#NAME?"},{"$error":"#NAME?"}]
[null,null,null,null,null,null,null,null,null,null,null,null,null,null,null,null,null,null,null,null,null,null,null,{"$error":"#NAME?"},{"$error":"#NAME?"}]
[null,null,null,null,null,null,null,null,null,null,null,null,null,null,null,null,null,null,null,null,null,null,null,{"$error":"#NAME?"},{"$error":"#NAME?"}]
[null,null,null,null,null,null,null,null,null,null,null,null,null,null,null,null,null,null,null,null,null,null,null,{"$error":"#NAME?"},{"$error":"#NAME?"}]
[null,null,null,null,null,null,null,null,null,null,null,null,null,null,null,null,null,null,null,null,null,null,null,{"$error":"#NAME?"},{"$error":"#NAME?"}]
[null,null,null,null,null,null,null,null,null,null,null,null,null,null,null,null,null,null,null,null,null,null,null,{"$error":"#NAME?"},{"$error":"#NAME?"}]
[null,null,null,null,null,null,null,null,null,null,null,null,null,null,null,null,null,null,null,null,null,null,null,{"$error":"#NAME?"},{"$error":"#NAME?"}]
[null,null,null,null,null,null,null,null,null,null,null,null,null,null,null,null,null,null,null,null,null,null,null,{"$error":"#NAME?"},{"$error":"#NAME?"}]
[null,null,null,null,null,null,null,null,null,null,null,null,null,null,null,null,null,null,null,null,null,null,null,{"$error":"#NAME?"},{"$error":"#NAME?"}]
[null,null,null,null,null,null,null,null,null,null,null,null,null,null,null,null,null,null,null,null,null,null,null,{"$error":"#NAME?"},{"$error":"#NAME?"}]
[null,null,null,null,null,null,null,null,null,null,null,null,null,null,null,null,null,null,null,null,null,null,null,{"$error":"#NAME?"},{"$error":"#NAME?"}]
[null,null,null,null,null,null,null,null,null,null,null,null,null,null,null,null,null,null,null,null,null,null,null,{"$error":"#NAME?"},{"$error":"#NAME?"}]
[null,null,null,null,null,null,null,null,null,null,null,null,null,null,null,null,null,null,null,null,null,null,null,{"$error":"#NAME?"},{"$error":"#NAME?"}]
[null,null,null,null,null,null,null,null,null,null,null,null,null,null,null,null,null,null,null,null,null,null,null,{"$error":"#NAME?"},{"$error":"#NAME?"}]
[null,null,null,null,null,null,null,null,null,null,null,null,null,null,null,null,null,null,null,null,null,null,null,{"$error":"#NAME?"},{"$error":"#NAME?"}]
[null,null,null,null,null,null,null,null,null,null,null,null,null,null,null,null,null,null,null,null,null,null,null,{"$error":"#NAME?"},{"$error":"#NAME?"}]
[null,null,null,null,null,null,null,null,null,null,null,null,null,null,null,null,null,null,null,null,null,null,null,{"$error":"#NAME?"},{"$error":"#NAME?"}]
[null,null,null,null,null,null,null,null,null,null,null,null,null,null,null,null,null,null,null,null,null,null,null,{"$error":"#NAME?"},{"$error":"#NAME?"}]
[null,null,null,null,null,null,null,null,null,null,null,null,null,null,null,null,null,null,null,null,null,null,null,{"$error":"#NAME?"},{"$error":"#NAME?"}]
[null,null,null,null,null,null,null,null,null,null,null,null,null,null,null,null,null,null,null,null,null,null,null,{"$error":"#NAME?"},{"$error":"#NAME?"}]
[null,null,null,null,null,null,null,null,null,null,null,null,null,null,null,null,null,null,null,null,null,null,null,{"$error":"#NAME?"},{"$error":"#NAME?"}]
[null,null,null,null,null,null,null,null,null,null,null,null,null,null,null,null,null,null,null,null,null,null,null,{"$error":"#NAME?"},{"$error":"#NAME?"}]
[null,null,null,null,null,null,null,null,null,null,null,null,null,null,null,null,null,null,null,null,null,null,null,{"$error":"#NAME?"},{"$error":"#NAME?"}]
[null,null,null,null,null,null,null,null,null,null,null,null,null,null,null,null,null,null,null,null,null,null,null,{"$error":"#NAME?"},{"$error":"#NAME?"}]
[null,null,null,null,null,null,null,null,null,null,null,null,null,null,null,null,null,null,null,null,null,null,null,{"$error":"#NAME?"},{"$error":"#NAME?"}]
[null,null,null,null,null,null,null,null,null,null,null,null,null,null,null,null,null,null,null,null,null,null,null,{"$error":"#NAME?"},{"$error":"#NAME?"}]
[null,null,null,null,null,null,null,null,null,null,null,null,null,null,null,null,null,null,null,null,null,null,null,{"$error":"#NAME?"},{"$error":"#NAME?"}]
[null,null,null,null,null,null,null,null,null,null,null,null,null,null,null,null,null,null,null,null,null,null,null,{"$error":"#NAME?"},{"$error":"#NAME?"}]
[null,null,null,null,null,null,null,null,null,null,null,null,null,null,null,null,null,null,null,null,null,null,null,{"$error":"#NAME?"},{"$error":"#NAME?"}]
[null,null,null,null,null,null,null,null,null,null,null,null,null,null,null,null,null,null,null,null,null,null,null,{"$error":"#NAME?"},{"$error":"#NAME?"}]
[null,null,null,null,null,null,null,null,null,null,null,null,null,null,null,null,null,null,null,null,null,null,null,{"$error":"#NAME?"},{"$error":"#NAME?"}]
[null,null,null,null,null,null,null,null,null,null,null,null,null,null,null,null,null,null,null,null,null,null,null,{"$error":"#NAME?"},{"$error":"#NAME?"}]
[null,null,null,null,null,null,null,null,null,null,null,null,null,null,null,null,null,null,null,null,null,null,null,{"$error":"#NAME?"},{"$error":"#NAME?"}]
[null,null,null,null,null,null,null,null,null,null,null,null,null,null,null,null,null,null,null,null,null,null,null,{"$error":"#NAME?"},{"$error":"#NAME?"}]
[null,null,null,null,null,null,null,null,null,null,null,null,null,null,null,null,null,null,null,null,null,null,null,{"$error":"#NAME?"},{"$error":"#NAME?"}]
[null,null,null,null,null,null,null,null,null,null,null,null,null,null,null,null,null,null,null,null,null,null,null,{"$error":"#NAME?"},{"$error":"#NAME?"}]
[null,null,null,null,null,null,null,null,null,null,null,null,null,null,null,null,null,null,null,null,null,null,null,{"$error":"#NAME?"},{"$error":"#NAME?"}]
[null,null,null,null,null,null,null,null,null,null,null,null,null,null,null,null,null,null,null,null,null,null,null,{"$error":"#NAME?"},{"$error":"#NAME?"}]
[null,null,null,null,null,null,null,null,null,null,null,null,null,null,null,null,null,null,null,null,null,null,null,{"$error":"#NAME?"},{"$error":"#NAME?"}]
[null,null,null,null,null,null,null,null,null,null,null,null,null,null,null,null,null,null,null,null,null,null,null,{"$error":"#NAME?"},{"$error":"#NAME?"}]
[null,null,null,null,null,null,null,null,null,null,null,null,null,null,null,null,null,null,null,null,null,null,null,{"$error":"#NAME?"},{"$error":"#NAME?"}]
[null,null,null,null,null,null,null,null,null,null,null,null,null,null,null,null,null,null,null,null,null,null,null,{"$error":"#NAME?"},{"$error":"#NAME?"}]
[null,null,null,null,null,null,null,null,null,null,null,null,null,null,null,null,null,null,null,null,null,null,null,{"$error":"#NAME?"},{"$error":"#NAME?"}]
[null,null,null,null,null,null,null,null,null,null,null,null,null,null,null,null,null,null,null,null,null,null,null,{"$error":"#NAME?"},{"$error":"#NAME?"}]
[null,null,null,null,null,null,null,null,null,null,null,null,null,null,null,null,null,null,null,null,null,null,null,{"$error":"#NAME?"},{"$error":"#NAME?"}]
[null,null,null,null,null,null,null,null,null,null,null,null,null,null,null,null,null,null,null,null,null,null,null,{"$error":"#NAME?"},{"$error":"#NAME?"}]
[null,null,null,null,null,null,null,null,null,null,null,null,null,null,null,null,null,null,null,null,null,null,null,{"$error":"#NAME?"},{"$error":"#NAME?"}]
[null,null,null,null,null,null,null,null,null,null,null,null,null,null,null,null,null,null,null,null,null,null,null,{"$error":"#NAME?"},{"$error":"#NAME?"}]
[null,null,null,null,null,null,null,null,null,null,null,null,null,null,null,null,null,null,null,null,null,null,null,{"$error":"#NAME?"},{"$error":"#NAME?"}]
[null,null,null,null,null,null,null,null,null,null,null,null,null,null,null,null,null,null,null,null,null,null,null,{"$error":"#NAME?"},{"$error":"#NAME?"}]
[null,null,null,null,null,null,null,null,null,null,null,null,null,null,null,null,null,null,null,null,null,null,null,{"$error":"#NAME?"},{"$error":"#NAME?"}]
[null,null,null,null,null,null,null,null,null,null,null,null,null,null,null,null,null,null,null,null,null,null,null,{"$error":"#NAME?"},{"$error":"#NAME?"}]
[null,null,null,null,null,null,null,null,null,null,null,null,null,null,null,null,null,null,null,null,null,null,null,{"$error":"#NAME?"},{"$error":"#NAME?"}]
[null,null,null,null,null,null,null,null,null,null,null,null,null,null,null,null,null,null,null,null,null,null,null,{"$error":"#NAME?"},{"$error":"#NAME?"}]
[null,null,null,null,null,null,null,null,null,null,null,null,null,null,null,null,null,null,null,null,null,null,null,{"$error":"#NAME?"},{"$error":"#NAME?"}]
[null,null,null,null,null,null,null,null,null,null,null,null,null,null,null,null,null,null,null,null,null,null,null,{"$error":"#NAME?"},{"$error":"#NAME?"}]
[null,null,null,null,null,null,null,null,null,null,null,null,null,null,null,null,null,null,null,null,null,null,null,{"$error":"#NAME?"},{"$error":"#NAME?"}]
[null,null,null,null,null,null,null,null,null,null,null,null,null,null,null,null,null,null,null,null,null,null,null,{"$error":"#NAME?"},{"$error":"#NAME?"}]
[null,null,null,null,null,null,null,null,null,null,null,null,null,null,null,null,null,null,null,null,null,null,null,{"$error":"#NAME?"},{"$error":"#NAME?"}]
[null,null,null,null,null,null,null,null,null,null,null,null,null,null,null,null,null,null,null,null,null,null,null,{"$error":"#NAME?"},{"$error":"#NAME?"}]
[null,null,null,null,null,null,null,null,null,null,null,null,null,null,null,null,null,null,null,null,null,null,null,{"$error":"#NAME?"},{"$error":"#NAME?"}]
[null,null,null,null,null,null,null,null,null,null,null,null,null,null,null,null,null,null,null,null,null,null,null,{"$error":"#NAME?"},{"$error":"#NAME?"}]
[null,null,null,null,null,null,null,null,null,null,null,null,null,null,null,null,null,null,null,null,null,null,null,{"$error":"#NAME?"},{"$error":"#NAME?"}]
[null,null,null,null,null,null,null,null,null,null,null,null,null,null,null,null,null,null,null,null,null,null,null,{"$error":"#NAME?"},{"$error":"#NAME?"}]
[null,null,null,null,null,null,null,null,null,null,null,null,null,null,null,null,null,null,null,null,null,null,null,{"$error":"#NAME?"},{"$error":"#NAME?"}]
[null,null,null,null,null,null,null,null,null,null,null,null,null,null,null,null,null,null,null,null,null,null,null,{"$error":"#NAME?"},{"$error":"#NAME?"}]
[null,null,null,null,null,null,null,null,null,null,null,null,null,null,null,null,null,null,null,null,null,null,null,{"$error":"#NAME?"},{"$error":"#NAME?"}]
[null,null,null,null,null,null,null,null,null,null,null,null,null,null,null,null,null,null,null,null,null,null,null,{"$error":"#NAME?"},{"$error":"#NAME?"}]
[null,null,null,null,null,null,null,null,null,null,null,null,null,null,null,null,null,null,null,null,null,null,null,{"$error":"#NAME?"},{"$error":"#NAME?"}]
[null,null,null,null,null,null,null,null,null,null,null,null,null,null,null,null,null,null,null,null,null,null,null,{"$error":"#NAME?"},{"$error":"#NAME?"}]
[null,null,null,null,null,null,null,null,null,null,null,null,null,null,null,null,null,null,null,null,null,null,null,{"$error":"#NAME?"},{"$error":"#NAME?"}]
[null,null,null,null,null,null,null,null,null,null,null,null,null,null,null,null,null,null,null,null,null,null,null,{"$error":"#NAME?"},{"$error":"#NAME?"}]
[null,null,null,null,null,null,null,null,null,null,null,null,null,null,null,null,null,null,null,null,null,null,null,{"$error":"#NAME?"},{"$error":"#NAME?"}]
[null,null,null,null,null,null,null,null,null,null,null,null,null,null,null,null,null,null,null,null,null,null,null,{"$error":"#NAME?"},{"$error":"#NAME?"}]
[null,null,null,null,null,null,null,null,null,null,null,null,null,null,null,null,null,null,null,null,null,null,null,{"$error":"#NAME?"},{"$error":"#NAME?"}]
[null,null,null,null,null,null,null,null,null,null,null,null,null,null,null,null,null,null,null,null,null,null,null,{"$error":"#NAME?"},{"$error":"#NAME?"}]
[null,null,null,null,null,null,null,null,null,null,null,null,null,null,null,null,null,null,null,null,null,null,null,{"$error":"#NAME?"},{"$error":"#NAME?"}]
[null,null,null,null,null,null,null,null,null,null,null,null,null,null,null,null,null,null,null,null,null,null,null,{"$error":"#NAME?"},{"$error":"#NAME?"}]
[null,null,null,null,null,null,null,null,null,null,null,null,null,null,null,null,null,null,null,null,null,null,null,{"$error":"#NAME?"},{"$error":"#NAME?"}]
[null,null,null,null,null,null,null,null,null,null,null,null,null,null,null,null,null,null,null,null,null,null,null,{"$error":"#NAME?"},{"$error":"#NAME?"}]
[null,null,null,null,null,null,null,null,null,null,null,null,null,null,null,null,null,null,null,null,null,null,null,{"$error":"#NAME?"},{"$error":"#NAME?"}]
[null,null,null,null,null,null,null,null,null,null,null,null,null,null,null,null,null,null,null,null,null,null,null,{"$error":"#NAME?"},{"$error":"#NAME?"}]
[null,null,null,null,null,null,null,null,null,null,null,null,null,null,null,null,null,null,null,null,null,null,null,{"$error":"#NAME?"},{"$error":"#NAME?"}]
[null,null,null,null,null,null,null,null,null,null,null,null,null,null,null,null,null,null,null,null,null,null,null,{"$error":"#NAME?"},{"$error":"#NAME?"}]
[null,null,null,null,null,null,null,null,null,null,null,null,null,null,null,null,null,null,null,null,null,null,null,{"$error":"#NAME?"},{"$error":"#NAME?"}]
[null,null,null,null,null,null,null,null,null,null,null,null,null,null,null,null,null,null,null,null,null,null,null,{"$error":"#NAME?"},{"$error":"#NAME?"}]
[null,null,null,null,null,null,null,null,null,null,null,null,null,null,null,null,null,null,null,null,null,null,null,{"$error":"#NAME?"},{"$error":"#NAME?"}]
[null,null,null,null,null,null,null,null,null,null,null,null,null,null,null,null,null,null,null,null,null,null,null,{"$error":"#NAME?"},{"$error":"#NAME?"}]
[null,null,null,null,null,null,null,null,null,null,null,null,null,null,null,null,null,null,null,null,null,null,null,{"$error":"#NAME?"},{"$error":"#NAME?"}]
[null,null,null,null,null,null,null,null,null,null,null,null,null,null,null,null,null,null,null,null,null,null,null,{"$error":"#NAME?"},{"$error":"#NAME?"}]
[null,null,null,null,null,null,null,null,null,null,null,null,null,null,null,null,null,null,null,null,null,null,null,{"$error":"#NAME?"},{"$error":"#NAME?"}]
[null,null,null,null,null,null,null,null,null,null,null,null,null,null,null,null,null,null,null,null,null,null,null,{"$error":"#NAME?"},{"$error":"#NAME?"}]
[null,null,null,null,null,null,null,null,null,null,null,null,null,null,null,null,null,null,null,null,null,null,null,{"$error":"#NAME?"},{"$error":"#NAME?"}]
[null,null,null,null,null,null,null,null,null,null,null,null,null,null,null,null,null,null,null,null,null,null,null,{"$error":"#NAME?"},{"$error":"#NAME?"}]
[null,null,null,null,null,null,null,null,null,null,null,null,null,null,null,null,null,null,null,null,null,null,null,{"$error":"#NAME?"},{"$error":"#NAME?"}]
[null,null,null,null,null,null,null,null,null,null,null,null,null,null,null,null,null,null,null,null,null,null,null,{"$error":"#NAME?"},{"$error":"#NAME?"}]
[null,null,null,null,null,null,null,null,null,null,null,null,null,null,null,null,null,null,null,null,null,null,null,{"$error":"#NAME?"},{"$error":"#NAME?"}]
[null,null,null,null,null,null,null,null,null,null,null,null,null,null,null,null,null,null,null,null,null,null,null,{"$error":"#NAME?"},{"$error":"#NAME?"}]
[null,null,null,null,null,null,null,null,null,null,null,null,null,null,null,null,null,null,null,null,null,null,null,{"$error":"#NAME?"},{"$error":"#NAME?"}]
[null,null,null,null,null,null,null,null,null,null,null,null,null,null,null,null,null,null,null,null,null,null,null,{"$error":"#NAME?"},{"$error":"#NAME?"}]
[null,null,null,null,null,null,null,null,null,null,null,null,null,null,null,null,null,null,null,null,null,null,null,{"$error":"#NAME?"},{"$error":"#NAME?"}]
[null,null,null,null,null,null,null,null,null,null,null,null,null,null,null,null,null,null,null,null,null,null,null,{"$error":"#NAME?"},{"$error":"#NAME?"}]
[null,null,null,null,null,null,null,null,null,null,null,null,null,null,null,null,null,null,null,null,null,null,null,{"$error":"#NAME?"},{"$error":"#NAME?"}]
[null,null,null,null,null,null,null,null,null,null,null,null,null,null,null,null,null,null,null,null,null,null,null,{"$error":"#NAME?"},{"$error":"#NAME?"}]
[null,null,null,null,null,null,null,null,null,null,null,null,null,null,null,null,null,null,null,null,null,null,null,{"$error":"#NAME?"},{"$error":"#NAME?"}]
[null,null,null,null,null,null,null,null,null,null,null,null,null,null,null,null,null,null,null,null,null,null,null,{"$error":"#NAME?"},{"$error":"#NAME?"}]
[null,null,null,null,null,null,null,null,null,null,null,null,null,null,null,null,null,null,null,null,null,null,null,{"$error":"#NAME?"},{"$error":"#NAME?"}]
[null,null,null,null,null,null,null,null,null,null,null,null,null,null,null,null,null,null,null,null,null,null,null,{"$error":"#NAME?"},{"$error":"#NAME?"}]
[null,null,null,null,null,null,null,null,null,null,null,null,null,null,null,null,null,null,null,null,null,null,null,{"$error":"#NAME?"},{"$error":"#NAME?"}]
[null,null,null,null,null,null,null,null,null,null,null,null,null,null,null,null,null,null,null,null,null,null,null,{"$error":"#NAME?"},{"$error":"#NAME?"}]
[null,null,null,null,null,null,null,null,null,null,null,null,null,null,null,null,null,null,null,null,null,null,null,{"$error":"#NAME?"},{"$error":"#NAME?"}]
[null,null,null,null,null,null,null,null,null,null,null,null,null,null,null,null,null,null,null,null,null,null,null,{"$error":"#NAME?"},{"$error":"#NAME?"}]
[null,null,null,null,null,null,null,null,null,null,null,null,null,null,null,null,null,null,null,null,null,null,null,{"$error":"#NAME?"},{"$error":"#NAME?"}]
[null,null,null,null,null,null,null,null,null,null,null,null,null,null,null,null,null,null,null,null,null,null,null,{"$error":"#NAME?"},{"$error":"#NAME?"}]
[null,null,null,null,null,null,null,null,null,null,null,null,null,null,null,null,null,null,null,null,null,null,null,{"$error":"#NAME?"},{"$error":"#NAME?"}]
[null,null,null,null,null,null,null,null,null,null,null,null,null,null,null,null,null,null,null,null,null,null,null,{"$error":"#NAME?"},{"$error":"#NAME?"}]
[null,null,null,null,null,null,null,null,null,null,null,null,null,null,null,null,null,null,null,null,null,null,null,{"$error":"#NAME?"},{"$error":"#NAME?"}]
[null,null,null,null,null,null,null,null,null,null,null,null,null,null,null,null,null,null,null,null,null,null,null,{"$error":"#NAME?"},{"$error":"#NAME?"}]
[null,null,null,null,null,null,null,null,null,null,null,null,null,null,null,null,null,null,null,null,null,null,null,{"$error":"#NAME?"},{"$error":"#NAME?"}]
[null,null,null,null,null,null,null,null,null,null,null,null,null,null,null,null,null,null,null,null,null,null,null,{"$error":"#NAME?"},{"$error":"#NAME?"}]
[null,null,null,null,null,null,null,null,null,null,null,null,null,null,null,null,null,null,null,null,null,null,null,{"$error":"#NAME?"},{"$error":"#NAME?"}]
[null,null,null,null,null,null,null,null,null,null,null,null,null,null,null,null,null,null,null,null,null,null,null,{"$error":"#NAME?"},{"$error":"#NAME?"}]
[null,null,null,null,null,null,null,null,null,null,null,null,null,null,null,null,null,null,null,null,null,null,null,{"$error":"#NAME?"},{"$error":"#NAME?"}]
[null,null,null,null,null,null,null,null,null,null,null,null,null,null,null,null,null,null,null,null,null,null,null,{"$error":"#NAME?"},{"$error":"#NAME?"}]
[null,null,null,null,null,null,null,null,null,null,null,null,null,null,null,null,null,null,null,null,null,null,null,{"$error":"#NAME?"},{"$error":"#NAME?"}]
[null,null,null,null,null,null,null,null,null,null,null,null,null,null,null,null,null,null,null,null,null,null,null,{"$error":"#NAME?"},{"$error":"#NAME?"}]
[null,null,null,null,null,null,null,null,null,null,null,null,null,null,null,null,null,null,null,null,null,null,null,{"$error":"#NAME?"},{"$error":"#NAME?"}]
[null,null,null,null,null,null,null,null,null,null,null,null,null,null,null,null,null,null,null,null,null,null,null,{"$error":"#NAME?"},{"$error":"#NAME?"}]
[null,null,null,null,null,null,null,null,null,null,null,null,null,null,null,null,null,null,null,null,null,null,null,{"$error":"#NAME?"},{"$error":"#NAME?"}]
[null,null,null,null,null,null,null,null,null,null,null,null,null,null,null,null,null,null,null,null,null,null,null,{"$error":"#NAME?"},{"$error":"#NAME?"}]
[null,null,null,null,null,null,null,null,null,null,null,null,null,null,null,null,null,null,null,null,null,null,null,{"$error":"#NAME?"},{"$error":"#NAME?"}]
[null,null,null,null,null,null,null,null,null,null,null,null,null,null,null,null,null,null,null,null,null,null,null,{"$error":"#NAME?"},{"$error":"#NAME?"}]
[null,null,null,null,null,null,null,null,null,null,null,null,null,null,null,null,null,null,null,null,null,null,null,{"$error":"#NAME?"},{"$error":"#NAME?"}]
[null,null,null,null,null,null,null,null,null,null,null,null,null,null,null,null,null,null,null,null,null,null,null,{"$error":"#NAME?"},{"$error":"#NAME?"}]
[null,null,null,null,null,null,null,null,null,null,null,null,null,null,null,null,null,null,null,null,null,null,null,{"$error":"#NAME?"},{"$error":"#NAME?"}]
[null,null,null,null,null,null,null,null,null,null,null,null,null,null,null,null,null,null,null,null,null,null,null,{"$error":"#NAME?"},{"$error":"#NAME?"}]
[null,null,null,null,null,null,null,null,null,null,null,null,null,null,null,null,null,null,null,null,null,null,null,{"$error":"#NAME?"},{"$error":"#NAME?"}]
[null,null,null,null,null,null,null,null,null,null,null,null,null,null,null,null,null,null,null,null,null,null,null,{"$error":"#NAME?"},{"$error":"#NAME?"}]
[null,null,null,null,null,null,null,null,null,null,null,null,null,null,null,null,null,null,null,null,null,null,null,{"$error":"#NAME?"},{"$error":"#NAME?"}]
[null,null,null,null,null,null,null,null,null,null,null,null,null,null,null,null,null,null,null,null,null,null,null,{"$error":"#NAME?"},{"$error":"#NAME?"}]
[null,null,null,null,null,null,null,null,null,null,null,null,null,null,null,null,null,null,null,null,null,null,null,{"$error":"#NAME?"},{"$error":"#NAME?"}]
[null,null,null,null,null,null,null,null,null,null,null,null,null,null,null,null,null,null,null,null,null,null,null,{"$error":"#NAME?"},{"$error":"#NAME?"}]
[null,null,null,null,null,null,null,null,null,null,null,null,null,null,null,null,null,null,null,null,null,null,null,{"$error":"#NAME?"},{"$error":"#NAME?"}]
[null,null,null,null,null,null,null,null,null,null,null,null,null,null,null,null,null,null,null,null,null,null,null,{"$error":"#NAME?"},{"$error":"#NAME?"}]
[null,null,null,null,null,null,null,null,null,null,null,null,null,null,null,null,null,null,null,null,null,null,null,{"$error":"#NAME?"},{"$error":"#NAME?"}]
[null,null,null,null,null,null,null,null,null,null,null,null,null,null,null,null,null,null,null,null,null,null,null,{"$error":"#NAME?"},{"$error":"#NAME?"}]
[null,null,null,null,null,null,null,null,null,null,null,null,null,null,null,null,null,null,null,null,null,null,null,{"$error":"#NAME?"},{"$error":"#NAME?"}]
[null,null,null,null,null,null,null,null,null,null,null,null,null,null,null,null,null,null,null,null,null,null,null,{"$error":"#NAME?"},{"$error":"#NAME?"}]
[null,null,null,null,null,null,null,null,null,null,null,null,null,null,null,null,null,null,null,null,null,null,null,{"$error":"#NAME?"},{"$error":"#NAME?"}]
[null,null,null,null,null,null,null,null,null,null,null,null,null,null,null,null,null,null,null,null,null,null,null,{"$error":"#NAME?"},{"$error":"#NAME?"}]
[null,null,null,null,null,null,null,null,null,null,null,null,null,null,null,null,null,null,null,null,null,null,null,{"$error":"#NAME?"},{"$error":"#NAME?"}]
[null,null,null,null,null,null,null,null,null,null,null,null,null,null,null,null,null,null,null,null,null,null,null,{"$error":"#NAME?"},{"$error":"#NAME?"}]
[null,null,null,null,null,null,null,null,null,null,null,null,null,null,null,null,null,null,null,null,null,null,null,{"$error":"#NAME?"},{"$error":"#NAME?"}]
[null,null,null,null,null,null,null,null,null,null,null,null,null,null,null,null,null,null,null,null,null,null,null,{"$error":"#NAME?"},{"$error":"#NAME?"}]
[null,null,null,null,null,null,null,null,null,null,null,null,null,null,null,null,null,null,null,null,null,null,null,{"$error":"#NAME?"},{"$error":"#NAME?"}]
[null,null,null,null,null,null,null,null,null,null,null,null,null,null,null,null,null,null,null,null,null,null,null,{"$error":"#NAME?"},{"$error":"#NAME?"}]
[null,null,null,null,null,null,null,null,null,null,null,null,null,null,null,null,null,null,null,null,null,null,null,{"$error":"#NAME?"},{"$error":"#NAME?"}]
[null,null,null,null,null,null,null,null,null,null,null,null,null,null,null,null,null,null,null,null,null,null,null,{"$error":"#NAME?"},{"$error":"#NAME?"}]
[null,null,null,null,null,null,null,null,null,null,null,null,null,null,null,null,null,null,null,null,null,null,null,{"$error":"#NAME?"},{"$error":"#NAME?"}]
[null,null,null,null,null,null,null,null,null,null,null,null,null,null,null,null,null,null,null,null,null,null,null,{"$error":"#NAME?"},{"$error":"#NAME?"}]
[null,null,null,null,null,null,null,null,null,null,null,null,null,null,null,null,null,null,null,null,null,null,null,{"$error":"#NAME?"},{"$error":"#NAME?"}]
[null,null,null,null,null,null,null,null,null,null,null,null,null,null,null,null,null,null,null,null,null,null,null,{"$error":"#NAME?"},{"$error":"#NAME?"}]
[null,null,null,null,null,null,null,null,null,null,null,null,null,null,null,null,null,null,null,null,null,null,null,{"$error":"#NAME?"},{"$error":"#NAME?"}]
[null,null,null,null,null,null,null,null,null,null,null,null,null,null,null,null,null,null,null,null,null,null,null,{"$error":"#NAME?"},{"$error":"#NAME?"}]
[null,null,null,null,null,null,null,null,null,null,null,null,null,null,null,null,null,null,null,null,null,null,null,{"$error":"#NAME?"},{"$error":"#NAME?"}]
[null,null,null,null,null,null,null,null,null,null,null,null,null,null,null,null,null,null,null,null,null,null,null,{"$error":"#NAME?"},{"$error":"#NAME?"}]
[null,null,null,null,null,null,null,null,null,null,null,null,null,null,null,null,null,null,null,null,null,null,null,{"$error":"#NAME?"},{"$error":"#NAME?"}]
[null,null,null,null,null,null,null,null,null,null,null,null,null,null,null,null,null,null,null,null,null,null,null,{"$error":"#NAME?"},{"$error":"#NAME?"}]
[null,null,null,null,null,null,null,null,null,null,null,null,null,null,null,null,null,null,null,null,null,null,null,{"$error":"#NAME?"},{"$error":"#NAME?"}]
[null,null,null,null,null,null,null,null,null,null,null,null,null,null,null,null,null,null,null,null,null,null,null,{"$error":"#NAME?"},{"$error":"#NAME?"}]
[null,null,null,null,null,null,null,null,null,null,null,null,null,null,null,null,null,null,null,null,null,null,null,{"$error":"#NAME?"},{"$error":"#NAME?"}]
[null,null,null,null,null,null,null,null,null,null,null,null,null,null,null,null,null,null,null,null,null,null,null,{"$error":"#NAME?"},{"$error":"#NAME?"}]
[null,null,null,null,null,null,null,null,null,null,null,null,null,null,null,null,null,null,null,null,null,null,null,{"$error":"#NAME?"},{"$error":"#NAME?"}]
[null,null,null,null,null,null,null,null,null,null,null,null,null,null,null,null,null,null,null,null,null,null,null,{"$error":"#NAME?"},{"$error":"#NAME?"}]
[null,null,null,null,null,null,null,null,null,null,null,null,null,null,null,null,null,null,null,null,null,null,null,{"$error":"#NAME?"},{"$error":"#NAME?"}]
[null,null,null,null,null,null,null,null,null,null,null,null,null,null,null,null,null,null,null,null,null,null,null,{"$error":"#NAME?"},{"$error":"#NAME?"}]
[null,null,null,null,null,null,null,null,null,null,null,null,null,null,null,null,null,null,null,null,null,null,null,{"$error":"#NAME?"},{"$error":"#NAME?"}]
[null,null,null,null,null,null,null,null,null,null,null,null,null,null,null,null,null,null,null,null,null,null,null,{"$error":"#NAME?"},{"$error":"#NAME?"}]
[null,null,null,null,null,null,null,null,null,null,null,null,null,null,null,null,null,null,null,null,null,null,null,{"$error":"#NAME?"},{"$error":"#NAME?"}]
[null,null,null,null,null,null,null,null,null,null,null,null,null,null,null,null,null,null,null,null,null,null,null,{"$error":"#NAME?"},{"$error":"#NAME?"}]
[null,null,null,null,null,null,null,null,null,null,null,null,null,null,null,null,null,null,null,null,null,null,null,{"$error":"#NAME?"},{"$error":"#NAME?"}]
[null,null,null,null,null,null,null,null,null,null,null,null,null,null,null,null,null,null,null,null,null,null,null,{"$error":"#NAME?"},{"$error":"#NAME?"}]
[null,null,null,null,null,null,null,null,null,null,null,null,null,null,null,null,null,null,null,null,null,null,null,{"$error":"#NAME?"},{"$error":"#NAME?"}]
[null,null,null,null,null,null,null,null,null,null,null,null,null,null,null,null,null,null,null,null,null,null,null,{"$error":"#NAME?"},{"$error":"#NAME?"}]
[null,null,null,null,null,null,null,null,null,null,null,null,null,null,null,null,null,null,null,null,null,null,null,{"$error":"#NAME?"},{"$error":"#NAME?"}]
[null,null,null,null,null,null,null,null,null,null,null,null,null,null,null,null,null,null,null,null,null,null,null,{"$error":"#NAME?"},{"$error":"#NAME?"}]
[null,null,null,null,null,null,null,null,null,null,null,null,null,null,null,null,null,null,null,null,null,null,null,{"$error":"#NAME?"},{"$error":"#NAME?"}]
[null,null,null,null,null,null,null,null,null,null,null,null,null,null,null,null,null,null,null,null,null,null,null,{"$error":"#NAME?"},{"$error":"#NAME?"}]
[null,null,null,null,null,null,null,null,null,null,null,null,null,null,null,null,null,null,null,null,null,null,null,{"$error":"#NAME?"},{"$error":"#NAME?"}]
[null,null,null,null,null,null,null,null,null,null,null,null,null,null,null,null,null,null,null,null,null,null,null,{"$error":"#NAME?"},{"$error":"#NAME?"}]
[null,null,null,null,null,null,null,null,null,null,null,null,null,null,null,null,null,null,null,null,null,null,null,{"$error":"#NAME?"},{"$error":"#NAME?"}]
[null,null,null,null,null,null,null,null,null,null,null,null,null,null,null,null,null,null,null,null,null,null,null,{"$error":"#NAME?"},{"$error":"#NAME?"}]
[null,null,null,null,null,null,null,null,null,null,null,null,null,null,null,null,null,null,null,null,null,null,null,{"$error":"#NAME?"},{"$error":"#NAME?"}]
[null,null,null,null,null,null,null,null,null,null,null,null,null,null,null,null,null,null,null,null,null,null,null,{"$error":"#NAME?"},{"$error":"#NAME?"}]
[null,null,null,null,null,null,null,null,null,null,null,null,null,null,null,null,null,null,null,null,null,null,null,{"$error":"#NAME?"},{"$error":"#NAME?"}]
[null,null,null,null,null,null,null,null,null,null,null,null,null,null,null,null,null,null,null,null,null,null,null,{"$error":"#NAME?"},{"$error":"#NAME?"}]
[null,null,null,null,null,null,null,null,null,null,null,null,null,null,null,null,null,null,null,null,null,null,null,{"$error":"#NAME?"},{"$error":"#NAME?"}]
[null,null,null,null,null,null,null,null,null,null,null,null,null,null,null,null,null,null,null,null,null,null,null,{"$error":"#NAME?"},{"$error":"#NAME?"}]
[null,null,null,null,null,null,null,null,null,null,null,null,null,null,null,null,null,null,null,null,null,null,null,{"$error":"#NAME?"},{"$error":"#NAME?"}]
[null,null,null,null,null,null,null,null,null,null,null,null,null,null,null,null,null,null,null,null,null,null,null,{"$error":"#NAME?"},{"$error":"#NAME?"}]
[null,null,null,null,null,null,null,null,null,null,null,null,null,null,null,null,null,null,null,null,null,null,null,{"$error":"#NAME?"},{"$error":"#NAME?"}]
[null,null,null,null,null,null,null,null,null,null,null,null,null,null,null,null,null,null,null,null,null,null,null,{"$error":"#NAME?"},{"$error":"#NAME?"}]
[null,null,null,null,null,null,null,null,null,null,null,null,null,null,null,null,null,null,null,null,null,null,null,{"$error":"#NAME?"},{"$error":"#NAME?"}]
[null,null,null,null,null,null,null,null,null,null,null,null,null,null,null,null,null,null,null,null,null,null,null,{"$error":"#NAME?"},{"$error":"#NAME?"}]
[null,null,null,null,null,null,null,null,null,null,null,null,null,null,null,null,null,null,null,null,null,null,null,{"$error":"#NAME?"},{"$error":"#NAME?"}]
[null,null,null,null,null,null,null,null,null,null,null,null,null,null,null,null,null,null,null,null,null,null,null,{"$error":"#NAME?"},{"$error":"#NAME?"}]
[null,null,null,null,null,null,null,null,null,null,null,null,null,null,null,null,null,null,null,null,null,null,null,{"$error":"#NAME?"},{"$error":"#NAME?"}]
[null,null,null,null,null,null,null,null,null,null,null,null,null,null,null,null,null,null,null,null,null,null,null,{"$error":"#NAME?"},{"$error":"#NAME?"}]
[null,null,null,null,null,null,null,null,null,null,null,null,null,null,null,null,null,null,null,null,null,null,null,{"$error":"#NAME?"},{"$error":"#NAME?"}]
[null,null,null,null,null,null,null,null,null,null,null,null,null,null,null,null,null,null,null,null,null,null,null,{"$error":"#NAME?"},{"$error":"#NAME?"}]
[null,null,null,null,null,null,null,null,null,null,null,null,null,null,null,null,null,null,null,null,null,null,null,{"$error":"#NAME?"},{"$error":"#NAME?"}]
[null,null,null,null,null,null,null,null,null,null,null,null,null,null,null,null,null,null,null,null,null,null,null,{"$error":"#NAME?"},{"$error":"#NAME?"}]
[null,null,null,null,null,null,null,null,null,null,null,null,null,null,null,null,null,null,null,null,null,null,null,{"$error":"#NAME?"},{"$error":"#NAME?"}]
[null,null,null,null,null,null,null,null,null,null,null,null,null,null,null,null,null,null,null,null,null,null,null,{"$error":"#NAME?"},{"$error":"#NAME?"}]
[null,null,null,null,null,null,null,null,null,null,null,null,null,null,null,null,null,null,null,null,null,null,null,{"$error":"#NAME?"},{"$error":"#NAME?"}]
[null,null,null,null,null,null,null,null,null,null,null,null,null,null,null,null,null,null,null,null,null,null,null,{"$error":"#NAME?"},{"$error":"#NAME?"}]
[null,null,null,null,null,null,null,null,null,null,null,null,null,null,null,null,null,null,null,null,null,null,null,{"$error":"#NAME?"},{"$error":"#NAME?"}]
[null,null,null,null,null,null,null,null,null,null,null,null,null,null,null,null,null,null,null,null,null,null,null,{"$error":"#NAME?"},{"$error":"#NAME?"}]
[null,null,null,null,null,null,null,null,null,null,null,null,null,null,null,null,null,null,null,null,null,null,null,{"$error":"#NAME?"},{"$error":"#NAME?"}]
[null,null,null,null,null,null,null,null,null,null,null,null,null,null,null,null,null,null,null,null,null,null,null,{"$error":"#NAME?"},{"$error":"#NAME?"}]
[null,null,null,null,null,null,null,null,null,null,null,null,null,null,null,null,null,null,null,null,null,null,null,{"$error":"#NAME?"},{"$error":"#NAME?"}]
[null,null,null,null,null,null,null,null,null,null,null,null,null,null,null,null,null,null,null,null,null,null,null,{"$error":"#NAME?"},{"$error":"#NAME?"}]
[null,null,null,null,null,null,null,null,null,null,null,null,null,null,null,null,null,null,null,null,null,null,null,{"$error":"#NAME?"},{"$error":"#NAME?"}]
[null,null,null,null,null,null,null,null,null,null,null,null,null,null,null,null,null,null,null,null,null,null,null,{"$error":"#NAME?"},{"$error":"#NAME?"}]
[null,null,null,null,null,null,null,null,null,null,null,null,null,null,null,null,null,null,null,null,null,null,null,{"$error":"#NAME?"},{"$error":"#NAME?"}]
[null,null,null,null,null,null,null,null,null,null,null,null,null,null,null,null,null,null,null,null,null,null,null,{"$error":"#NAME?"},{"$error":"#NAME?"}]
[null,null,null,null,null,null,null,null,null,null,null,null,null,null,null,null,null,null,null,null,null,null,null,{"$error":"#NAME?"},{"$error":"#NAME?"}]
[null,null,null,null,null,null,null,null,null,null,null,null,null,null,null,null,null,null,null,null,null,null,null,{"$error":"#NAME?"},{"$error":"#NAME?"}]
[null,null,null,null,null,null,null,null,null,null,null,null,null,null,null,null,null,null,null,null,null,null,null,{"$error":"#NAME?"},{"$error":"#NAME?"}]
[null,null,null,null,null,null,null,null,null,null,null,null,null,null,null,null,null,null,null,null,null,null,null,{"$error":"#NAME?"},{"$error":"#NAME?"}]
[null,null,null,null,null,null,null,null,null,null,null,null,null,null,null,null,null,null,null,null,null,null,null,{"$error":"#NAME?"},{"$error":"#NAME?"}]
[null,null,null,null,null,null,null,null,null,null,null,null,null,null,null,null,null,null,null,null,null,null,null,{"$error":"#NAME?"},{"$error":"#NAME?"}]
[null,null,null,null,null,null,null,null,null,null,null,null,null,null,null,null,null,null,null,null,null,null,null,{"$error":"#NAME?"},{"$error":"#NAME?"}]
[null,null,null,null,null,null,null,null,null,null,null,null,null,null,null,null,null,null,null,null,null,null,null,{"$error":"#NAME?"},{"$error":"#NAME?"}]
[null,null,null,null,null,null,null,null,null,null,null,null,null,null,null,null,null,null,null,null,null,null,null,{"$error":"#NAME?"},{"$error":"#NAME?"}]
[null,null,null,null,null,null,null,null,null,null,null,null,null,null,null,null,null,null,null,null,null,null,null,{"$error":"#NAME?"},{"$error":"#NAME?"}]
[null,null,null,null,null,null,null,null,null,null,null,null,null,null,null,null,null,null,null,null,null,null,null,{"$error":"#NAME?"},{"$error":"#NAME?"}]
[null,null,null,null,null,null,null,null,null,null,null,null,null,null,null,null,null,null,null,null,null,null,null,{"$error":"#NAME?"},{"$error":"#NAME?"}]
[null,null,null,null,null,null,null,null,null,null,null,null,null,null,null,null,null,null,null,null,null,null,null,{"$error":"#NAME?"},{"$error":"#NAME?"}]
[null,null,null,null,null,null,null,null,null,null,null,null,null,null,null,null,null,null,null,null,null,null,null,{"$error":"#NAME?"},{"$error":"#NAME?"}]
[null,null,null,null,null,null,null,null,null,null,null,null,null,null,null,null,null,null,null,null,null,null,null,{"$error":"#NAME?"},{"$error":"#NAME?"}]
[null,null,null,null,null,null,null,null,null,null,null,null,null,null,null,null,null,null,null,null,null,null,null,{"$error":"#NAME?"},{"$error":"#NAME?"}]
[null,null,null,null,null,null,null,null,null,null,null,null,null,null,null,null,null,null,null,null,null,null,null,{"$error":"#NAME?"},{"$error":"#NAME?"}]
[null,null,null,null,null,null,null,null,null,null,null,null,null,null,null,null,null,null,null,null,null,null,null,{"$error":"#NAME?"},{"$error":"#NAME?"}]
[null,null,null,null,null,null,null,null,null,null,null,null,null,null,null,null,null,null,null,null,null,null,null,{"$error":"#NAME?"},{"$error":"#NAME?"}]
[null,null,null,null,null,null,null,null,null,null,null,null,null,null,null,null,null,null,null,null,null,null,null,{"$error":"#NAME?"},{"$error":"#NAME?"}]
[null,null,null,null,null,null,null,null,null,null,null,null,null,null,null,null,null,null,null,null,null,null,null,{"$error":"#NAME?"},{"$error":"#NAME?"}]
[null,null,null,null,null,null,null,null,null,null,null,null,null,null,null,null,null,null,null,null,null,null,null,{"$error":"#NAME?"},{"$error":"#NAME?"}]
[null,null,null,null,null,null,null,null,null,null,null,null,null,null,null,null,null,null,null,null,null,null,null,{"$error":"#NAME?"},{"$error":"#NAME?"}]
[null,null,null,null,null,null,null,null,null,null,null,null,null,null,null,null,null,null,null,null,null,null,null,{"$error":"#NAME?"},{"$error":"#NAME?"}]
[null,null,null,null,null,null,null,null,null,null,null,null,null,null,null,null,null,null,null,null,null,null,null,{"$error":"#NAME?"},{"$error":"#NAME?"}]
[null,null,null,null,null,null,null,null,null,null,null,null,null,null,null,null,null,null,null,null,null,null,null,{"$error":"#NAME?"},{"$error":"#NAME?"}]
[null,null,null,null,null,null,null,null,null,null,null,null,null,null,null,null,null,null,null,null,null,null,null,{"$error":"#NAME?"},{"$error":"#NAME?"}]
[null,null,null,null,null,null,null,null,null,null,null,null,null,null,null,null,null,null,null,null,null,null,null,{"$error":"#NAME?"},{"$error":"#NAME?"}]
[null,null,null,null,null,null,null,null,null,null,null,null,null,null,null,null,null,null,null,null,null,null,null,{"$error":"#NAME?"},{"$error":"#NAME?"}]
[null,null,null,null,null,null,null,null,null,null,null,null,null,null,null,null,null,null,null,null,null,null,null,{"$error":"#NAME?"},{"$error":"#NAME?"}]
[null,null,null,null,null,null,null,null,null,null,null,null,null,null,null,null,null,null,null,null,null,null,null,{"$error":"#NAME?"},{"$error":"#NAME?"}]
[null,null,null,null,null,null,null,null,null,null,null,null,null,null,null,null,null,null,null,null,null,null,null,{"$error":"#NAME?"},{"$error":"#NAME?"}]
[null,null,null,null,null,null,null,null,null,null,null,null,null,null,null,null,null,null,null,null,null,null,null,{"$error":"#NAME?"},{"$error":"#NAME?"}]
[null,null,null,null,null,null,null,null,null,null,null,null,null,null,null,null,null,null,null,null,null,null,null,{"$error":"#NAME?"},{"$error":"#NAME?"}]
[null,null,null,null,null,null,null,null,null,null,null,null,null,null,null,null,null,null,null,null,null,null,null,{"$error":"#NAME?"},{"$error":"#NAME?"}]
[null,null,null,null,null,null,null,null,null,null,null,null,null,null,null,null,null,null,null,null,null,null,null,{"$error":"#NAME?"},{"$error":"#NAME?"}]
[null,null,null,null,null,null,null,null,null,null,null,null,null,null,null,null,null,null,null,null,null,null,null,{"$error":"#NAME?"},{"$error":"#NAME?"}]
[null,null,null,null,null,null,null,null,null,null,null,null,null,null,null,null,null,null,null,null,null,null,null,{"$error":"#NAME?"},{"$error":"#NAME?"}]
[null,null,null,null,null,null,null,null,null,null,null,null,null,null,null,null,null,null,null,null,null,null,null,{"$error":"#NAME?"},{"$error":"#NAME?"}]
[null,null,null,null,null,null,null,null,null,null,null,null,null,null,null,null,null,null,null,null,null,null,null,{"$error":"#NAME?"},{"$error":"#NAME?"}]
[null,null,null,null,null,null,null,null,null,null,null,null,null,null,null,null,null,null,null,null,null,null,null,{"$error":"#NAME?"},{"$error":"#NAME?"}]
[null,null,null,null,null,null,null,null,null,null,null,null,null,null,null,null,null,null,null,null,null,null,null,{"$error":"#NAME?"},{"$error":"#NAME?"}]
[null,null,null,null,null,null,null,null,null,null,null,null,null,null,null,null,null,null,null,null,null,null,null,{"$error":"#NAME?"},{"$error":"#NAME?"}]
[null,null,null,null,null,null,null,null,null,null,null,null,null,null,null,null,null,null,null,null,null,null,null,{"$error":"#NAME?"},{"$error":"#NAME?"}]
[null,null,null,null,null,null,null,null,null,null,null,null,null,null,null,null,null,null,null,null,null,null,null,{"$error":"#NAME?"},{"$error":"#NAME?"}]
[null,null,null,null,null,null,null,null,null,null,null,null,null,null,null,null,null,null,null,null,null,null,null,{"$error":"#NAME?"},{"$error":"#NAME?"}]
[null,null,null,null,null,null,null,null,null,null,null,null,null,null,null,null,null,null,null,null,null,null,null,{"$error":"#NAME?"},{"$error":"#NAME?"}]
[null,null,null,null,null,null,null,null,null,null,null,null,null,null,null,null,null,null,null,null,null,null,null,{"$error":"#NAME?"},{"$error":"#NAME?"}]
[null,null,null,null,null,null,null,null,null,null,null,null,null,null,null,null,null,null,null,null,null,null,null,{"$error":"#NAME?"},{"$error":"#NAME?"}]
[null,null,null,null,null,null,null,null,null,null,null,null,null,null,null,null,null,null,null,null,null,null,null,{"$error":"#NAME?"},{"$error":"#NAME?"}]
[null,null,null,null,null,null,null,null,null,null,null,null,null,null,null,null,null,null,null,null,null,null,null,{"$error":"#NAME?"},{"$error":"#NAME?"}]
[null,null,null,null,null,null,null,null,null,null,null,null,null,null,null,null,null,null,null,null,null,null,null,{"$error":"#NAME?"},{"$error":"#NAME?"}]
[null,null,null,null,null,null,null,null,null,null,null,null,null,null,null,null,null,null,null,null,null,null,null,{"$error":"#NAME?"},{"$error":"#NAME?"}]
[null,null,null,null,null,null,null,null,null,null,null,null,null,null,null,null,null,null,null,null,null,null,null,{"$error":"#NAME?"},{"$error":"#NAME?"}]
[null,null,null,null,null,null,null,null,null,null,null,null,null,null,null,null,null,null,null,null,null,null,null,{"$error":"#NAME?"},{"$error":"#NAME?"}]
[null,null,null,null,null,null,null,null,null,null,null,null,null,null,null,null,null,null,null,null,null,null,null,{"$error":"#NAME?"},{"$error":"#NAME?"}]
[null,null,null,null,null,null,null,null,null,null,null,null,null,null,null,null,null,null,null,null,null,null,null,{"$error":"#NAME?"},{"$error":"#NAME?"}]
[null,null,null,null,null,null,null,null,null,null,null,null,null,null,null,null,null,null,null,null,null,null,null,{"$error":"#NAME?"},{"$error":"#NAME?"}]
[null,null,null,null,null,null,null,null,null,null,null,null,null,null,null,null,null,null,null,null,null,null,null,{"$error":"#NAME?"},{"$error":"#NAME?"}]
[null,null,null,null,null,null,null,null,null,null,null,null,null,null,null,null,null,null,null,null,null,null,null,{"$error":"#NAME?"},{"$error":"#NAME?"}]
[null,null,null,null,null,null,null,null,null,null,null,null,null,null,null,null,null,null,null,null,null,null,null,{"$error":"#NAME?"},{"$error":"#NAME?"}]
[null,null,null,null,null,null,null,null,null,null,null,null,null,null,null,null,null,null,null,null,null,null,null,{"$error":"#NAME?"},{"$error":"#NAME?"}]
[null,null,null,null,null,null,null,null,null,null,null,null,null,null,null,null,null,null,null,null,null,null,null,{"$error":"#NAME?"},{"$error":"#NAME?"}]
[null,null,null,null,null,null,null,null,null,null,null,null,null,null,null,null,null,null,null,null,null,null,null,{"$error":"#NAME?"},{"$error":"#NAME?"}]
[null,null,null,null,null,null,null,null,null,null,null,null,null,null,null,null,null,null,null,null,null,null,null,{"$error":"#NAME?"},{"$error":"#NAME?"}]
[null,null,null,null,null,null,null,null,null,null,null,null,null,null,null,null,null,null,null,null,null,null,null,{"$error":"#NAME?"},{"$error":"#NAME?"}]
[null,null,null,null,null,null,null,null,null,null,null,null,null,null,null,null,null,null,null,null,null,null,null,{"$error":"#NAME?"},{"$error":"#NAME?"}]
[null,null,null,null,null,null,null,null,null,null,null,null,null,null,null,null,null,null,null,null,null,null,null,{"$error":"#NAME?"},{"$error":"#NAME?"}]
[null,null,null,null,null,null,null,null,null,null,null,null,null,null,null,null,null,null,null,null,null,null,null,{"$error":"#NAME?"},{"$error":"#NAME?"}]
[null,null,null,null,null,null,null,null,null,null,null,null,null,null,null,null,null,null,null,null,null,null,null,{"$error":"#NAME?"},{"$error":"#NAME?"}]
[null,null,null,null,null,null,null,null,null,null,null,null,null,null,null,null,null,null,null,null,null,null,null,{"$error":"#NAME?"},{"$error":"#NAME?"}]
[null,null,null,null,null,null,null,null,null,null,null,null,null,null,null,null,null,null,null,null,null,null,null,{"$error":"#NAME?"},{"$error":"#NAME?"}]
[null,null,null,null,null,null,null,null,null,null,null,null,null,null,null,null,null,null,null,null,null,null,null,{"$error":"#NAME?"},{"$error":"#NAME?"}]
[null,null,null,null,null,null,null,null,null,null,null,null,null,null,null,null,null,null,null,null,null,null,null,{"$error":"#NAME?"},{"$error":"#NAME?"}]
[null,null,null,null,null,null,null,null,null,null,null,null,null,null,null,null,null,null,null,null,null,null,null,{"$error":"#NAME?"},{"$error":"#NAME?"}]
[null,null,null,null,null,null,null,null,null,null,null,null,null,null,null,null,null,null,null,null,null,null,null,{"$error":"#NAME?"},{"$error":"#NAME?"}]
[null,null,null,null,null,null,null,null,null,null,null,null,null,null,null,null,null,null,null,null,null,null,null,{"$error":"#NAME?"},{"$error":"#NAME?"}]
[null,null,null,null,null,null,null,null,null,null,null,null,null,null,null,null,null,null,null,null,null,null,null,{"$error":"#NAME?"},{"$error":"#NAME?"}]
[null,null,null,null,null,null,null,null,null,null,null,null,null,null,null,null,null,null,null,null,null,null,null,{"$error":"#NAME?"},{"$error":"#NAME?"}]
[null,null,null,null,null,null,null,null,null,null,null,null,null,null,null,null,null,null,null,null,null,null,null,{"$error":"#NAME?"},{"$error":"#NAME?"}]
[null,null,null,null,null,null,null,null,null,null,null,null,null,null,null,null,null,null,null,null,null,null,null,{"$error":"#NAME?"},{"$error":"#NAME?"}]
[null,null,null,null,null,null,null,null,null,null,null,null,null,null,null,null,null,null,null,null,null,null,null,{"$error":"#NAME?"},{"$error":"#NAME?"}]
[null,null,null,null,null,null,null,null,null,null,null,null,null,null,null,null,null,null,null,null,null,null,null,{"$error":"#NAME?"},{"$error":"#NAME?"}]
[null,null,null,null,null,null,null,null,null,null,null,null,null,null,null,null,null,null,null,null,null,null,null,{"$error":"#NAME?"},{"$error":"#NAME?"}]
[null,null,null,null,null,null,null,null,null,null,null,null,null,null,null,null,null,null,null,null,null,null,null,{"$error":"#NAME?"},{"$error":"#NAME?"}]
[null,null,null,null,null,null,null,null,null,null,null,null,null,null,null,null,null,null,null,null,null,null,null,{"$error":"#NAME?"},{"$error":"#NAME?"}]
[null,null,null,null,null,null,null,null,null,null,null,null,null,null,null,null,null,null,null,null,null,null,null,{"$error":"#NAME?"},{"$error":"#NAME?"}]
[null,null,null,null,null,null,null,null,null,null,null,null,null,null,null,null,null,null,null,null,null,null,null,{"$error":"#NAME?"},{"$error":"#NAME?"}]
[null,null,null,null,null,null,null,null,null,null,null,null,null,null,null,null,null,null,null,null,null,null,null,{"$error":"#NAME?"},{"$error":"#NAME?"}]
[null,null,null,null,null,null,null,null,null,null,null,null,null,null,null,null,null,null,null,null,null,null,null,{"$error":"#NAME?"},{"$error":"#NAME?"}]
[null,null,null,null,null,null,null,null,null,null,null,null,null,null,null,null,null,null,null,null,null,null,null,{"$error":"#NAME?"},{"$error":"#NAME?"}]
[null,null,null,null,null,null,null,null,null,null,null,null,null,null,null,null,null,null,null,null,null,null,null,{"$error":"#NAME?"},{"$error":"#NAME?"}]
[null,null,null,null,null,null,null,null,null,null,null,null,null,null,null,null,null,null,null,null,null,null,null,{"$error":"#NAME?"},{"$error":"#NAME?"}]
[null,null,null,null,null,null,null,null,null,null,null,null,null,null,null,null,null,null,null,null,null,null,null,{"$error":"#NAME?"},{"$error":"#NAME?"}]
[null,null,null,null,null,null,null,null,null,null,null,null,null,null,null,null,null,null,null,null,null,null,null,{"$error":"#NAME?"},{"$error":"#NAME?"}]
[null,null,null,null,null,null,null,null,null,null,null,null,null,null,null,null,null,null,null,null,null,null,null,{"$error":"#NAME?"},{"$error":"#NAME?"}]
[null,null,null,null,null,null,null,null,null,null,null,null,null,null,null,null,null,null,null,null,null,null,null,{"$error":"#NAME?"},{"$error":"#NAME?"}]
[null,null,null,null,null,null,null,null,null,null,null,null,null,null,null,null,null,null,null,null,null,null,null,{"$error":"#NAME?"},{"$error":"#NAME?"}]
[null,null,null,null,null,null,null,null,null,null,null,null,null,null,null,null,null,null,null,null,null,null,null,{"$error":"#NAME?"},{"$error":"#NAME?"}]
[null,null,null,null,null,null,null,null,null,null,null,null,null,null,null,null,null,null,null,null,null,null,null,{"$error":"#NAME?"},{"$error":"#NAME?"}]
[null,null,null,null,null,null,null,null,null,null,null,null,null,null,null,null,null,null,null,null,null,null,null,{"$error":"#NAME?"},{"$error":"#NAME?"}]
[null,null,null,null,null,null,null,null,null,null,null,null,null,null,null,null,null,null,null,null,null,null,null,{"$error":"#NAME?"},{"$error":"#NAME?"}]
[null,null,null,null,null,null,null,null,null,null,null,null,null,null,null,null,null,null,null,null,null,null,null,{"$error":"#NAME?"},{"$error":"#NAME?"}]
[null,null,null,null,null,null,null,null,null,null,null,null,null,null,null,null,null,null,null,null,null,null,null,{"$error":"#NAME?"},{"$error":"#NAME?"}]
[null,null,null,null,null,null,null,null,null,null,null,null,null,null,null,null,null,null,null,null,null,null,null,{"$error":"#NAME?"},{"$error":"#NAME?"}]
[null,null,null,null,null,null,null,null,null,null,null,null,null,null,null,null,null,null,null,null,null,null,null,{"$error":"#NAME?"},{"$error":"#NAME?"}]
[null,null,null,null,null,null,null,null,null,null,null,null,null,null,null,null,null,null,null,null,null,null,null,{"$error":"#NAME?"},{"$error":"#NAME?"}]
[null,null,null,null,null,null,null,null,null,null,null,null,null,null,null,null,null,null,null,null,null,null,null,{"$error":"#NAME?"},{"$error":"#NAME?"}]
[null,null,null,null,null,null,null,null,null,null,null,null,null,null,null,null,null,null,null,null,null,null,null,{"$error":"#NAME?"},{"$error":"#NAME?"}]
[null,null,null,null,null,null,null,null,null,null,null,null,null,null,null,null,null,null,null,null,null,null,null,{"$error":"#NAME?"},{"$error":"#NAME?"}]
[null,null,null,null,null,null,null,null,null,null,null,null,null,null,null,null,null,null,null,null,null,null,null,{"$error":"#NAME?"},{"$error":"#NAME?"}]
[null,null,null,null,null,null,null,null,null,null,null,null,null,null,null,null,null,null,null,null,null,null,null,{"$error":"#NAME?"},{"$error":"#NAME?"}]
[null,null,null,null,null,null,null,null,null,null,null,null,null,null,null,null,null,null,null,null,null,null,null,{"$error":"#NAME?"},{"$error":"#NAME?"}]
[null,null,null,null,null,null,null,null,null,null,null,null,null,null,null,null,null,null,null,null,null,null,null,{"$error":"#NAME?"},{"$error":"#NAME?"}]
[null,null,null,null,null,null,null,null,null,null,null,null,null,null,null,null,null,null,null,null,null,null,null,{"$error":"#NAME?"},{"$error":"#NAME?"}]
[null,null,null,null,null,null,null,null,null,null,null,null,null,null,null,null,null,null,null,null,null,null,null,{"$error":"#NAME?"},{"$error":"#NAME?"}]
[null,null,null,null,null,null,null,null,null,null,null,null,null,null,null,null,null,null,null,null,null,null,null,{"$error":"#NAME?"},{"$error":"#NAME?"}]
[null,null,null,null,null,null,null,null,null,null,null,null,null,null,null,null,null,null,null,null,null,null,null,{"$error":"#NAME?"},{"$error":"#NAME?"}]
[null,null,null,null,null,null,null,null,null,null,null,null,null,null,null,null,null,null,null,null,null,null,null,{"$error":"#NAME?"},{"$error":"#NAME?"}]
[null,null,null,null,null,null,null,null,null,null,null,null,null,null,null,null,null,null,null,null,null,null,null,{"$error":"#NAME?"},{"$error":"#NAME?"}]
[null,null,null,null,null,null,null,null,null,null,null,null,null,null,null,null,null,null,null,null,null,null,null,{"$error":"#NAME?"},{"$error":"#NAME?"}]
[null,null,null,null,null,null,null,null,null,null,null,null,null,null,null,null,null,null,null,null,null,null,null,{"$error":"#NAME?"},{"$error":"#NAME?"}]
[null,null,null,null,null,null,null,null,null,null,null,null,null,null,null,null,null,null,null,null,null,null,null,{"$error":"#NAME?"},{"$error":"#NAME?"}]
[null,null,null,null,null,null,null,null,null,null,null,null,null,null,null,null,null,null,null,null,null,null,null,{"$error":"#NAME?"},{"$error":"#NAME?"}]
[null,null,null,null,null,null,null,null,null,null,null,null,null,null,null,null,null,null,null,null,null,null,null,{"$error":"#NAME?"},{"$error":"#NAME?"}]
[null,null,null,null,null,null,null,null,null,null,null,null,null,null,null,null,null,null,null,null,null,null,null,{"$error":"#NAME?"},{"$error":"#NAME?"}]
[null,null,null,null,null,null,null,null,null,null,null,null,null,null,null,null,null,null,null,null,null,null,null,{"$error":"#NAME?"},{"$error":"#NAME?"}]
[null,null,null,null,null,null,null,null,null,null,null,null,null,null,null,null,null,null,null,null,null,null,null,{"$error":"#NAME?"},{"$error":"#NAME?"}]
[null,null,null,null,null,null,null,null,null,null,null,null,null,null,null,null,null,null,null,null,null,null,null,{"$error":"#NAME?"},{"$error":"#NAME?"}]
[null,null,null,null,null,null,null,null,null,null,null,null,null,null,null,null,null,null,null,null,null,null,null,{"$error":"#NAME?"},{"$error":"#NAME?"}]
[null,null,null,null,null,null,null,null,null,null,null,null,null,null,null,null,null,null,null,null,null,null,null,{"$error":"#NAME?"},{"$error":"#NAME?"}]
[null,null,null,null,null,null,null,null,null,null,null,null,null,null,null,null,null,null,null,null,null,null,null,{"$error":"#NAME?"},{"$error":"#NAME?"}]
[null,null,null,null,null,null,null,null,null,null,null,null,null,null,null,null,null,null,null,null,null,null,null,{"$error":"#NAME?"},{"$error":"#NAME?"}]
[null,null,null,null,null,null,null,null,null,null,null,null,null,null,null,null,null,null,null,null,null,null,null,{"$error":"#NAME?"},{"$error":"#NAME?"}]
[null,null,null,null,null,null,null,null,null,null,null,null,null,null,null,null,null,null,null,null,null,null,null,{"$error":"#NAME?"},{"$error":"#NAME?"}]
[null,null,null,null,null,null,null,null,null,null,null,null,null,null,null,null,null,null,null,null,null,null,null,{"$error":"#NAME?"},{"$error":"#NAME?"}]
[null,null,null,null,null,null,null,null,null,null,null,null,null,null,null,null,null,null,null,null,null,null,null,{"$error":"#NAME?"},{"$error":"#NAME?"}]
[null,null,null,null,null,null,null,null,null,null,null,null,null,null,null,null,null,null,null,null,null,null,null,{"$error":"#NAME?"},{"$error":"#NAME?"}]
[null,null,null,null,null,null,null,null,null,null,null,null,null,null,null,null,null,null,null,null,null,null,null,{"$error":"#NAME?"},{"$error":"#NAME?"}]
[null,null,null,null,null,null,null,null,null,null,null,null,null,null,null,null,null,null,null,null,null,null,null,{"$error":"#NAME?"},{"$error":"#NAME?"}]
[null,null,null,null,null,null,null,null,null,null,null,null,null,null,null,null,null,null,null,null,null,null,null,{"$error":"#NAME?"},{"$error":"#NAME?"}]
[null,null,null,null,null,null,null,null,null,null,null,null,null,null,null,null,null,null,null,null,null,null,null,{"$error":"#NAME?"},{"$error":"#NAME?"}]
[null,null,null,null,null,null,null,null,null,null,null,null,null,null,null,null,null,null,null,null,null,null,null,{"$error":"#NAME?"},{"$error":"#NAME?"}]
[null,null,null,null,null,null,null,null,null,null,null,null,null,null,null,null,null,null,null,null,null,null,null,{"$error":"#NAME?"},{"$error":"#NAME?"}]
[null,null,null,null,null,null,null,null,null,null,null,null,null,null,null,null,null,null,null,null,null,null,null,{"$error":"#NAME?"},{"$error":"#NAME?"}]
[null,null,null,null,null,null,null,null,null,null,null,null,null,null,null,null,null,null,null,null,null,null,null,{"$error":"#NAME?"},{"$error":"#NAME?"}]
[null,null,null,null,null,null,null,null,null,null,null,null,null,null,null,null,null,null,null,null,null,null,null,{"$error":"#NAME?"},{"$error":"#NAME?"}]
[null,null,null,null,null,null,null,null,null,null,null,null,null,null,null,null,null,null,null,null,null,null,null,{"$error":"#NAME?"},{"$error":"#NAME?"}]
[null,null,null,null,null,null,null,null,null,null,null,null,null,null,null,null,null,null,null,null,null,null,null,{"$error":"#NAME?"},{"$error":"#NAME?"}]
[null,null,null,null,null,null,null,null,null,null,null,null,null,null,null,null,null,null,null,null,null,null,null,{"$error":"#NAME?"},{"$error":"#NAME?"}]
[null,null,null,null,null,null,null,null,null,null,null,null,null,null,null,null,null,null,null,null,null,null,null,{"$error":"#NAME?"},{"$error":"#NAME?"}]
[null,null,null,null,null,null,null,null,null,null,null,null,null,null,null,null,null,null,null,null,null,null,null,{"$error":"#NAME?"},{"$error":"#NAME?"}]
[null,null,null,null,null,null,null,null,null,null,null,null,null,null,null,null,null,null,null,null,null,null,null,{"$error":"#NAME?"},{"$error":"#NAME?"}]
[null,null,null,null,null,null,null,null,null,null,null,null,null,null,null,null,null,null,null,null,null,null,null,{"$error":"#NAME?"},{"$error":"#NAME?"}]
[null,null,null,null,null,null,null,null,null,null,null,null,null,null,null,null,null,null,null,null,null,null,null,{"$error":"#NAME?"},{"$error":"#NAME?"}]
[null,null,null,null,null,null,null,null,null,null,null,null,null,null,null,null,null,null,null,null,null,null,null,{"$error":"#NAME?"},{"$error":"#NAME?"}]
[null,null,null,null,null,null,null,null,null,null,null,null,null,null,null,null,null,null,null,null,null,null,null,{"$error":"#NAME?"},{"$error":"#NAME?"}]
[null,null,null,null,null,null,null,null,null,null,null,null,null,null,null,null,null,null,null,null,null,null,null,{"$error":"#NAME?"},{"$error":"#NAME?"}]
[null,null,null,null,null,null,null,null,null,null,null,null,null,null,null,null,null,null,null,null,null,null,null,{"$error":"#NAME?"},{"$error":"#NAME?"}]
[null,null,null,null,null,null,null,null,null,null,null,null,null,null,null,null,null,null,null,null,null,null,null,{"$error":"#NAME?"},{"$error":"#NAME?"}]
[null,null,null,null,null,null,null,null,null,null,null,null,null,null,null,null,null,null,null,null,null,null,null,{"$error":"#NAME?"},{"$error":"#NAME?"}]
[null,null,null,null,null,null,null,null,null,null,null,null,null,null,null,null,null,null,null,null,null,null,null,{"$error":"#NAME?"},{"$error":"#NAME?"}]
[null,null,null,null,null,null,null,null,null,null,null,null,null,null,null,null,null,null,null,null,null,null,null,{"$error":"#NAME?"},{"$error":"#NAME?"}]
[null,null,null,null,null,null,null,null,null,null,null,null,null,null,null,null,null,null,null,null,null,null,null,{"$error":"#NAME?"},{"$error":"#NAME?"}]
[null,null,null,null,null,null,null,null,null,null,null,null,null,null,null,null,null,null,null,null,null,null,null,{"$error":"#NAME?"},{"$error":"#NAME?"}]
[null,null,null,null,null,null,null,null,null,null,null,null,null,null,null,null,null,null,null,null,null,null,null,{"$error":"#NAME?"},{"$error":"#NAME?"}]
[null,null,null,null,null,null,null,null,null,null,null,null,null,null,null,null,null,null,null,null,null,null,null,{"$error":"#NAME?"},{"$error":"#NAME?"}]
[null,null,null,null,null,null,null,null,null,null,null,null,null,null,null,null,null,null,null,null,null,null,null,{"$error":"#NAME?"},{"$error":"#NAME?"}]
[null,null,null,null,null,null,null,null,null,null,null,null,null,null,null,null,null,null,null,null,null,null,null,{"$error":"#NAME?"},{"$error":"#NAME?"}]
[null,null,null,null,null,null,null,null,null,null,null,null,null,null,null,null,null,null,null,null,null,null,null,{"$error":"#NAME?"},{"$error":"#NAME?"}]
[null,null,null,null,null,null,null,null,null,null,null,null,null,null,null,null,null,null,null,null,null,null,null,{"$error":"#NAME?"},{"$error":"#NAME?"}]
[null,null,null,null,null,null,null,null,null,null,null,null,null,null,null,null,null,null,null,null,null,null,null,{"$error":"#NAME?"},{"$error":"#NAME?"}]
[null,null,null,null,null,null,null,null,null,null,null,null,null,null,null,null,null,null,null,null,null,null,null,{"$error":"#NAME?"},{"$error":"#NAME?"}]
[null,null,null,null,null,null,null,null,null,null,null,null,null,null,null,null,null,null,null,null,null,null,null,{"$error":"#NAME?"},{"$error":"#NAME?"}]
[null,null,null,null,null,null,null,null,null,null,null,null,null,null,null,null,null,null,null,null,null,null,null,{"$error":"#NAME?"},{"$error":"#NAME?"}]
[null,null,null,null,null,null,null,null,null,null,null,null,null,null,null,null,null,null,null,null,null,null,null,{"$error":"#NAME?"},{"$error":"#NAME?"}]
[null,null,null,null,null,null,null,null,null,null,null,null,null,null,null,null,null,null,null,null,null,null,null,{"$error":"#NAME?"},{"$error":"#NAME?"}]
[null,null,null,null,null,null,null,null,null,null,null,null,null,null,null,null,null,null,null,null,null,null,null,{"$error":"#NAME?"},{"$error":"#NAME?"}]
[null,null,null,null,null,null,null,null,null,null,null,null,null,null,null,null,null,null,null,null,null,null,null,{"$error":"#NAME?"},{"$error":"#NAME?"}]
[null,null,null,null,null,null,null,null,null,null,null,null,null,null,null,null,null,null,null,null,null,null,null,{"$error":"#NAME?"},{"$error":"#NAME?"}]
[null,null,null,null,null,null,null,null,null,null,null,null,null,null,null,null,null,null,null,null,null,null,null,{"$error":"#NAME?"},{"$error":"#NAME?"}]
[null,null,null,null,null,null,null,null,null,null,null,null,null,null,null,null,null,null,null,null,null,null,null,{"$error":"#NAME?"},{"$error":"#NAME?"}]
[null,null,null,null,null,null,null,null,null,null,null,null,null,null,null,null,null,null,null,null,null,null,null,{"$error":"#NAME?"},{"$error":"#NAME?"}]
[null,null,null,null,null,null,null,null,null,null,null,null,null,null,null,null,null,null,null,null,null,null,null,{"$error":"#NAME?"},{"$error":"#NAME?"}]
[null,null,null,null,null,null,null,null,null,null,null,null,null,null,null,null,null,null,null,null,null,null,null,{"$error":"#NAME?"},{"$error":"#NAME?"}]
[null,null,null,null,null,null,null,null,null,null,null,null,null,null,null,null,null,null,null,null,null,null,null,{"$error":"#NAME?"},{"$error":"#NAME?"}]
[null,null,null,null,null,null,null,null,null,null,null,null,null,null,null,null,null,null,null,null,null,null,null,{"$error":"#NAME?"},{"$error":"#NAME?"}]
[null,null,null,null,null,null,null,null,null,null,null,null,null,null,null,null,null,null,null,null,null,null,null,{"$error":"#NAME?"},{"$error":"#NAME?"}]
[null,null,null,null,null,null,null,null,null,null,null,null,null,null,null,null,null,null,null,null,null,null,null,{"$error":"#NAME?"},{"$error":"#NAME?"}]
[null,null,null,null,null,null,null,null,null,null,null,null,null,null,null,null,null,null,null,null,null,null,null,{"$error":"#NAME?"},{"$error":"#NAME?"}]
[null,null,null,null,null,null,null,null,null,null,null,null,null,null,null,null,null,null,null,null,null,null,null,{"$error":"#NAME?"},{"$error":"#NAME?"}]
[null,null,null,null,null,null,null,null,null,null,null,null,null,null,null,null,null,null,null,null,null,null,null,{"$error":"#NAME?"},{"$error":"#NAME?"}]
[null,null,null,null,null,null,null,null,null,null,null,null,null,null,null,null,null,null,null,null,null,null,null,{"$error":"#NAME?"},{"$error":"#NAME?"}]
[null,null,null,null,null,null,null,null,null,null,null,null,null,null,null,null,null,null,null,null,null,null,null,{"$error":"#NAME?"},{"$error":"#NAME?"}]
[null,null,null,null,null,null,null,null,null,null,null,null,null,null,null,null,null,null,null,null,null,null,null,{"$error":"#NAME?"},{"$error":"#NAME?"}]
[null,null,null,null,null,null,null,null,null,null,null,null,null,null,null,null,null,null,null,null,null,null,null,{"$error":"#NAME?"},{"$error":"#NAME?"}]
[null,null,null,null,null,null,null,null,null,null,null,null,null,null,null,null,null,null,null,null,null,null,null,{"$error":"#NAME?"},{"$error":"#NAME?"}]
[null,null,null,null,null,null,null,null,null,null,null,null,null,null,null,null,null,null,null,null,null,null,null,{"$error":"#NAME?"},{"$error":"#NAME?"}]
[null,null,null,null,null,null,null,null,null,null,null,null,null,null,null,null,null,null,null,null,null,null,null,{"$error":"#NAME?"},{"$error":"#NAME?"}]
[null,null,null,null,null,null,null,null,null,null,null,null,null,null,null,null,null,null,null,null,null,null,null,{"$error":"#NAME?"},{"$error":"#NAME?"}]
[null,null,null,null,null,null,null,null,null,null,null,null,null,null,null,null,null,null,null,null,null,null,null,{"$error":"#NAME?"},{"$error":"#NAME?"}]
[null,null,null,null,null,null,null,null,null,null,null,null,null,null,null,null,null,null,null,null,null,null,null,{"$error":"#NAME?"},{"$error":"#NAME?"}]
[null,null,null,null,null,null,null,null,null,null,null,null,null,null,null,null,null,null,null,null,null,null,null,{"$error":"#NAME?"},{"$error":"#NAME?"}]
[null,null,null,null,null,null,null,null,null,null,null,null,null,null,null,null,null,null,null,null,null,null,null,{"$error":"#NAME?"},{"$error":"#NAME?"}]
[null,null,null,null,null,null,null,null,null,null,null,null,null,null,null,null,null,null,null,null,null,null,null,{"$error":"#NAME?"},{"$error":"#NAME?"}]
[null,null,null,null,null,null,null,null,null,null,null,null,null,null,null,null,null,null,null,null,null,null,null,{"$error":"#NAME?"},{"$error":"#NAME?"}]
[null,null,null,null,null,null,null,null,null,null,null,null,null,null,null,null,null,null,null,null,null,null,null,{"$error":"#NAME?"},{"$error":"#NAME?"}]
[null,null,null,null,null,null,null,null,null,null,null,null,null,null,null,null,null,null,null,null,null,null,null,{"$error":"#NAME?"},{"$error":"#NAME?"}]
[null,null,null,null,null,null,null,null,null,null,null,null,null,null,null,null,null,null,null,null,null,null,null,{"$error":"#NAME?"},{"$error":"#NAME?"}]
[null,null,null,null,null,null,null,null,null,null,null,null,null,null,null,null,null,null,null,null,null,null,null,{"$error":"#NAME?"},{"$error":"#NAME?"}]
[null,null,null,null,null,null,null,null,null,null,null,null,null,null,null,null,null,null,null,null,null,null,null,{"$error":"#NAME?"},{"$error":"#NAME?"}]
[null,null,null,null,null,null,null,null,null,null,null,null,null,null,null,null,null,null,null,null,null,null,null,{"$error":"#NAME?"},{"$error":"#NAME?"}]
[null,null,null,null,null,null,null,null,null,null,null,null,null,null,null,null,null,null,null,null,null,null,null,{"$error":"#NAME?"},{"$error":"#NAME?"}]
[null,null,null,null,null,null,null,null,null,null,null,null,null,null,null,null,null,null,null,null,null,null,null,{"$error":"#NAME?"},{"$error":"#NAME?"}]
[null,null,null,null,null,null,null,null,null,null,null,null,null,null,null,null,null,null,null,null,null,null,null,{"$error":"#NAME?"},{"$error":"#NAME?"}]
[null,null,null,null,null,null,null,null,null,null,null,null,null,null,null,null,null,null,null,null,null,null,null,{"$error":"#NAME?"},{"$error":"#NAME?"}]
[null,null,null,null,null,null,null,null,null,null,null,null,null,null,null,null,null,null,null,null,null,null,null,{"$error":"#NAME?"},{"$error":"#NAME?"}]
[null,null,null,null,null,null,null,null,null,null,null,null,null,null,null,null,null,null,null,null,null,null,null,{"$error":"#NAME?"},{"$error":"#NAME?"}]
[null,null,null,null,null,null,null,null,null,null,null,null,null,null,null,null,null,null,null,null,null,null,null,{"$error":"#NAME?"},{"$error":"#NAME?"}]
[null,null,null,null,null,null,null,null,null,null,null,null,null,null,null,null,null,null,null,null,null,null,null,{"$error":"#NAME?"},{"$error":"#NAME?"}]
[null,null,null,null,null,null,null,null,null,null,null,null,null,null,null,null,null,null,null,null,null,null,null,{"$error":"#NAME?"},{"$error":"#NAME?"}]
[null,null,null,null,null,null,null,null,null,null,null,null,null,null,null,null,null,null,null,null,null,null,null,{"$error":"#NAME?"},{"$error":"#NAME?"}]
[null,null,null,null,null,null,null,null,null,null,null,null,null,null,null,null,null,null,null,null,null,null,null,{"$error":"#NAME?"},{"$error":"#NAME?"}]
[null,null,null,null,null,null,null,null,null,null,null,null,null,null,null,null,null,null,null,null,null,null,null,{"$error":"#NAME?"},{"$error":"#NAME?"}]
[null,null,null,null,null,null,null,null,null,null,null,null,null,null,null,null,null,null,null,null,null,null,null,{"$error":"#NAME?"},{"$error":"#NAME?"}]
[null,null,null,null,null,null,null,null,null,null,null,null,null,null,null,null,null,null,null,null,null,null,null,{"$error":"#NAME?"},{"$error":"#NAME?"}]
[null,null,null,null,null,null,null,null,null,null,null,null,null,null,null,null,null,null,null,null,null,null,null,{"$error":"#NAME?"},{"$error":"#NAME?"}]
[null,null,null,null,null,null,null,null,null,null,null,null,null,null,null,null,null,null,null,null,null,null,null,{"$error":"#NAME?"},{"$error":"#NAME?"}]
[null,null,null,null,null,null,null,null,null,null,null,null,null,null,null,null,null,null,null,null,null,null,null,{"$error":"#NAME?"},{"$error":"#NAME?"}]
[null,null,null,null,null,null,null,null,null,null,null,null,null,null,null,null,null,null,null,null,null,null,null,{"$error":"#NAME?"},{"$error":"#NAME?"}]
[null,null,null,null,null,null,null,null,null,null,null,null,null,null,null,null,null,null,null,null,null,null,null,{"$error":"#NAME?"},{"$error":"#NAME?"}]
[null,null,null,null,null,null,null,null,null,null,null,null,null,null,null,null,null,null,null,null,null,null,null,{"$error":"#NAME?"},{"$error":"#NAME?"}]
[null,null,null,null,null,null,null,null,null,null,null,null,null,null,null,null,null,null,null,null,null,null,null,{"$error":"#NAME?"},{"$error":"#NAME?"}]
[null,null,null,null,null,null,null,null,null,null,null,null,null,null,null,null,null,null,null,null,null,null,null,{"$error":"#NAME?"},{"$error":"#NAME?"}]
[null,null,null,null,null,null,null,null,null,null,null,null,null,null,null,null,null,null,null,null,null,null,null,{"$error":"#NAME?"},{"$error":"#NAME?"}]
[null,null,null,null,null,null,null,null,null,null,null,null,null,null,null,null,null,null,null,null,null,null,null,{"$error":"#NAME?"},{"$error":"#NAME?"}]
[null,null,null,null,null,null,null,null,null,null,null,null,null,null,null,null,null,null,null,null,null,null,null,{"$error":"#NAME?"},{"$error":"#NAME?"}]
[null,null,null,null,null,null,null,null,null,null,null,null,null,null,null,null,null,null,null,null,null,null,null,{"$error":"#NAME?"},{"$error":"#NAME?"}]
[null,null,null,null,null,null,null,null,null,null,null,null,null,null,null,null,null,null,null,null,null,null,null,{"$error":"#NAME?"},{"$error":"#NAME?"}]
[null,null,null,null,null,null,null,null,null,null,null,null,null,null,null,null,null,null,null,null,null,null,null,{"$error":"#NAME?"},{"$error":"#NAME?"}]
[null,null,null,null,null,null,null,null,null,null,null,null,null,null,null,null,null,null,null,null,null,null,null,{"$error":"#NAME?"},{"$error":"#NAME?"}]
[null,null,null,null,null,null,null,null,null,null,null,null,null,null,null,null,null,null,null,null,null,null,null,{"$error":"#NAME?"},{"$error":"#NAME?"}]
[null,null,null,null,null,null,null,null,null,null,null,null,null,null,null,null,null,null,null,null,null,null,null,{"$error":"#NAME?"},{"$error":"#NAME?"}]
[null,null,null,null,null,null,null,null,null,null,null,null,null,null,null,null,null,null,null,null,null,null,null,{"$error":"#NAME?"},{"$error":"#NAME?"}]
[null,null,null,null,null,null,null,null,null,null,null,null,null,null,null,null,null,null,null,null,null,null,null,{"$error":"#NAME?"},{"$error":"#NAME?"}]
[null,null,null,null,null,null,null,null,null,null,null,null,null,null,null,null,null,null,null,null,null,null,null,{"$error":"#NAME?"},{"$error":"#NAME?"}]
[null,null,null,null,null,null,null,null,null,null,null,null,null,null,null,null,null,null,null,null,null,null,null,{"$error":"#NAME?"},{"$error":"#NAME?"}]
[null,null,null,null,null,null,null,null,null,null,null,null,null,null,null,null,null,null,null,null,null,null,null,{"$error":"#NAME?"},{"$error":"#NAME?"}]
[null,null,null,null,null,null,null,null,null,null,null,null,null,null,null,null,null,null,null,null,null,null,null,{"$error":"#NAME?"},{"$error":"#NAME?"}]
[null,null,null,null,null,null,null,null,null,null,null,null,null,null,null,null,null,null,null,null,null,null,null,{"$error":"#NAME?"},{"$error":"#NAME?"}]
[null,null,null,null,null,null,null,null,null,null,null,null,null,null,null,null,null,null,null,null,null,null,null,{"$error":"#NAME?"},{"$error":"#NAME?"}]
[null,null,null,null,null,null,null,null,null,null,null,null,null,null,null,null,null,null,null,null,null,null,null,{"$error":"#NAME?"},{"$error":"#NAME?"}]
[null,null,null,null,null,null,null,null,null,null,null,null,null,null,null,null,null,null,null,null,null,null,null,{"$error":"#NAME?"},{"$error":"#NAME?"}]
[null,null,null,null,null,null,null,null,null,null,null,null,null,null,null,null,null,null,null,null,null,null,null,{"$error":"#NAME?"},{"$error":"#NAME?"}]
[null,null,null,null,null,null,null,null,null,null,null,null,null,null,null,null,null,null,null,null,null,null,null,{"$error":"#NAME?"},{"$error":"#NAME?"}]
[null,null,null,null,null,null,null,null,null,null,null,null,null,null,null,null,null,null,null,null,null,null,null,{"$error":"#NAME?"},{"$error":"#NAME?"}]
[null,null,null,null,null,null,null,null,null,null,null,null,null,null,null,null,null,null,null,null,null,null,null,{"$error":"#NAME?"},{"$error":"#NAME?"}]
[null,null,null,null,null,null,null,null,null,null,null,null,null,null,null,null,null,null,null,null,null,null,null,{"$error":"#NAME?"},{"$error":"#NAME?"}]
[null,null,null,null,null,null,null,null,null,null,null,null,null,null,null,null,null,null,null,null,null,null,null,{"$error":"#NAME?"},{"$error":"#NAME?"}]
[null,null,null,null,null,null,null,null,null,null,null,null,null,null,null,null,null,null,null,null,null,null,null,{"$error":"#NAME?"},{"$error":"#NAME?"}]
[null,null,null,null,null,null,null,null,null,null,null,null,null,null,null,null,null,null,null,null,null,null,null,{"$error":"#NAME?"},{"$error":"#NAME?"}]
[null,null,null,null,null,null,null,null,null,null,null,null,null,null,null,null,null,null,null,null,null,null,null,{"$error":"#NAME?"},{"$error":"#NAME?"}]
[null,null,null,null,null,null,null,null,null,null,null,null,null,null,null,null,null,null,null,null,null,null,null,{"$error":"#NAME?"},{"$error":"#NAME?"}]
[null,null,null,null,null,null,null,null,null,null,null,null,null,null,null,null,null,null,null,null,null,null,null,{"$error":"#NAME?"},{"$error":"#NAME?"}]
[null,null,null,null,null,null,null,null,null,null,null,null,null,null,null,null,null,null,null,null,null,null,null,{"$error":"#NAME?"},{"$error":"#NAME?"}]
[null,null,null,null,null,null,null,null,null,null,null,null,null,null,null,null,null,null,null,null,null,null,null,{"$error":"#NAME?"},{"$error":"#NAME?"}]
[null,null,null,null,null,null,null,null,null,null,null,null,null,null,null,null,null,null,null,null,null,null,null,{"$error":"#NAME?"},{"$error":"#NAME?"}]
[null,null,null,null,null,null,null,null,null,null,null,null,null,null,null,null,null,null,null,null,null,null,null,{"$error":"#NAME?"},{"$error":"#NAME?"}]
[null,null,null,null,null,null,null,null,null,null,null,null,null,null,null,null,null,null,null,null,null,null,null,{"$error":"#NAME?"},{"$error":"#NAME?"}]
[null,null,null,null,null,null,null,null,null,null,null,null,null,null,null,null,null,null,null,null,null,null,null,{"$error":"#NAME?"},{"$error":"#NAME?"}]
[null,null,null,null,null,null,null,null,null,null,null,null,null,null,null,null,null,null,null,null,null,null,null,{"$error":"#NAME?"},{"$error":"#NAME?"}]
[null,null,null,null,null,null,null,null,null,null,null,null,null,null,null,null,null,null,null,null,null,null,null,{"$error":"#NAME?"},{"$error":"#NAME?"}]
[null,null,null,null,null,null,null,null,null,null,null,null,null,null,null,null,null,null,null,null,null,null,null,{"$error":"#NAME?"},{"$error":"#NAME?"}]
[null,null,null,null,null,null,null,null,null,null,null,null,null,null,null,null,null,null,null,null,null,null,null,{"$error":"#NAME?"},{"$error":"#NAME?"}]
[null,null,null,null,null,null,null,null,null,null,null,null,null,null,null,null,null,null,null,null,null,null,null,{"$error":"#NAME?"},{"$error":"#NAME?"}]
[null,null,null,null,null,null,null,null,null,null,null,null,null,null,null,null,null,null,null,null,null,null,null,{"$error":"#NAME?"},{"$error":"#NAME?"}]
[null,null,null,null,null,null,null,null,null,null,null,null,null,null,null,null,null,null,null,null,null,null,null,{"$error":"#NAME?"},{"$error":"#NAME?"}]
[null,null,null,null,null,null,null,null,null,null,null,null,null,null,null,null,null,null,null,null,null,null,null,{"$error":"#NAME?"},{"$error":"#NAME?"}]
[null,null,null,null,null,null,null,null,null,null,null,null,null,null,null,null,null,null,null,null,null,null,null,{"$error":"#NAME?"},{"$error":"#NAME?"}]
[null,null,null,null,null,null,null,null,null,null,null,null,null,null,null,null,null,null,null,null,null,null,null,{"$error":"#NAME?"},{"$error":"#NAME?"}]
[null,null,null,null,null,null,null,null,null,null,null,null,null,null,null,null,null,null,null,null,null,null,null,{"$error":"#NAME?"},{"$error":"#NAME?"}]
[null,null,null,null,null,null,null,null,null,null,null,null,null,null,null,null,null,null,null,null,null,null,null,{"$error":"#NAME?"},{"$error":"#NAME?"}]
[null,null,null,null,null,null,null,null,null,null,null,null,null,null,null,null,null,null,null,null,null,null,null,{"$error":"#NAME?"},{"$error":"#NAME?"}]
[null,null,null,null,null,null,null,null,null,null,null,null,null,null,null,null,null,null,null,null,null,null,null,{"$error":"#NAME?"},{"$error":"#NAME?"}]
[null,null,null,null,null,null,null,null,null,null,null,null,null,null,null,null,null,null,null,null,null,null,null,{"$error":"#NAME?"},{"$error":"#NAME?"}]
[null,null,null,null,null,null,null,null,null,null,null,null,null,null,null,null,null,null,null,null,null,null,null,{"$error":"#NAME?"},{"$error":"#NAME?"}]
[null,null,null,null,null,null,null,null,null,null,null,null,null,null,null,null,null,null,null,null,null,null,null,{"$error":"#NAME?"},{"$error":"#NAME?"}]
[null,null,null,null,null,null,null,null,null,null,null,null,null,null,null,null,null,null,null,null,null,null,null,{"$error":"#NAME?"},{"$error":"#NAME?"}]
[null,null,null,null,null,null,null,null,null,null,null,null,null,null,null,null,null,null,null,null,null,null,null,{"$error":"#NAME?"},{"$error":"#NAME?"}]
[null,null,null,null,null,null,null,null,null,null,null,null,null,null,null,null,null,null,null,null,null,null,null,{"$error":"#NAME?"},{"$error":"#NAME?"}]
[null,null,null,null,null,null,null,null,null,null,null,null,null,null,null,null,null,null,null,null,null,null,null,{"$error":"#NAME?"},{"$error":"#NAME?"}]
[null,null,null,null,null,null,null,null,null,null,null,null,null,null,null,null,null,null,null,null,null,null,null,{"$error":"#NAME?"},{"$error":"#NAME?"}]
[null,null,null,null,null,null,null,null,null,null,null,null,null,null,null,null,null,null,null,null,null,null,null,{"$error":"#NAME?"},{"$error":"#NAME?"}]
[null,null,null,null,null,null,null,null,null,null,null,null,null,null,null,null,null,null,null,null,null,null,null,{"$error":"#NAME?"},{"$error":"#NAME?"}]
[null,null,null,null,null,null,null,null,null,null,null,null,null,null,null,null,null,null,null,null,null,null,null,{"$error":"#NAME?"},{"$error":"#NAME?"}]
[null,null,null,null,null,null,null,null,null,null,null,null,null,null,null,null,null,null,null,null,null,null,null,{"$error":"#NAME?"},{"$error":"#NAME?"}]
[null,null,null,null,null,null,null,null,null,null,null,null,null,null,null,null,null,null,null,null,null,null,null,{"$error":"#NAME?"},{"$error":"#NAME?"}]
[null,null,null,null,null,null,null,null,null,null,null,null,null,null,null,null,null,null,null,null,null,null,null,{"$error":"#NAME?"},{"$error":"#NAME?"}]
[null,null,null,null,null,null,null,null,null,null,null,null,null,null,null,null,null,null,null,null,null,null,null,{"$error":"#NAME?"},{"$error":"#NAME?"}]
[null,null,null,null,null,null,null,null,null,null,null,null,null,null,null,null,null,null,null,null,null,null,null,{"$error":"#NAME?"},{"$error":"#NAME?"}]
[null,null,null,null,null,null,null,null,null,null,null,null,null,null,null,null,null,null,null,null,null,null,null,{"$error":"#NAME?"},{"$error":"#NAME?"}]
[null,null,null,null,null,null,null,null,null,null,null,null,null,null,null,null,null,null,null,null,null,null,null,{"$error":"#NAME?"},{"$error":"#NAME?"}]
[null,null,null,null,null,null,null,null,null,null,null,null,null,null,null,null,null,null,null,null,null,null,null,{"$error":"#NAME?"},{"$error":"#NAME?"}]
[null,null,null,null,null,null,null,null,null,null,null,null,null,null,null,null,null,null,null,null,null,null,null,{"$error":"#NAME?"},{"$error":"#NAME?"}]
[null,null,null,null,null,null,null,null,null,null,null,null,null,null,null,null,null,null,null,null,null,null,null,{"$error":"#NAME?"},{"$error":"#NAME?"}]
[null,null,null,null,null,null,null,null,null,null,null,null,null,null,null,null,null,null,null,null,null,null,null,{"$error":"#NAME?"},{"$error":"#NAME?"}]
[null,null,null,null,null,null,null,null,null,null,null,null,null,null,null,null,null,null,null,null,null,null,null,{"$error":"#NAME?"},{"$error":"#NAME?"}]
[null,null,null,null,null,null,null,null,null,null,null,null,null,null,null,null,null,null,null,null,null,null,null,{"$error":"#NAME?"},{"$error":"#NAME?"}]
[null,null,null,null,null,null,null,null,null,null,null,null,null,null,null,null,null,null,null,null,null,null,null,{"$error":"#NAME?"},{"$error":"#NAME?"}]
[null,null,null,null,null,null,null,null,null,null,null,null,null,null,null,null,null,null,null,null,null,null,null,{"$error":"#NAME?"},{"$error":"#NAME?"}]
[null,null,null,null,null,null,null,null,null,null,null,null,null,null,null,null,null,null,null,null,null,null,null,{"$error":"#NAME?"},{"$error":"#NAME?"}]
[null,null,null,null,null,null,null,null,null,null,null,null,null,null,null,null,null,null,null,null,null,null,null,{"$error":"#NAME?"},{"$error":"#NAME?"}]
[null,null,null,null,null,null,null,null,null,null,null,null,null,null,null,null,null,null,null,null,null,null,null,{"$error":"#NAME?"},{"$error":"#NAME?"}]
[null,null,null,null,null,null,null,null,null,null,null,null,null,null,null,null,null,null,null,null,null,null,null,{"$error":"#NAME?"},{"$error":"#NAME?"}]
[null,null,null,null,null,null,null,null,null,null,null,null,null,null,null,null,null,null,null,null,null,null,null,{"$error":"#NAME?"},{"$error":"#NAME?"}]
[null,null,null,null,null,null,null,null,null,null,null,null,null,null,null,null,null,null,null,null,null,null,null,{"$error":"#NAME?"},{"$error":"#NAME?"}]
[null,null,null,null,null,null,null,null,null,null,null,null,null,null,null,null,null,null,null,null,null,null,null,{"$error":"#NAME?"},{"$error":"#NAME?"}]
[null,null,null,null,null,null,null,null,null,null,null,null,null,null,null,null,null,null,null,null,null,null,null,{"$error":"#NAME?"},{"$error":"#NAME?"}]
[null,null,null,null,null,null,null,null,null,null,null,null,null,null,null,null,null,null,null,null,null,null,null,{"$error":"#NAME?"},{"$error":"#NAME?"}]
[null,null,null,null,null,null,null,null,null,null,null,null,null,null,null,null,null,null,null,null,null,null,null,{"$error":"#NAME?"},{"$error":"#NAME?"}]
[null,null,null,null,null,null,null,null,null,null,null,null,null,null,null,null,null,null,null,null,null,null,null,{"$error":"#NAME?"},{"$error":"#NAME?"}]
[null,null,null,null,null,null,null,null,null,null,null,null,null,null,null,null,null,null,null,null,null,null,null,{"$error":"#NAME?"},{"$error":"#NAME?"}]
[null,null,null,null,null,null,null,null,null,null,null,null,null,null,null,null,null,null,null,null,null,null,null,{"$error":"#NAME?"},{"$error":"#NAME?"}]
[null,null,null,null,null,null,null,null,null,null,null,null,null,null,null,null,null,null,null,null,null,null,null,{"$error":"#NAME?"},{"$error":"#NAME?"}]
[null,null,null,null,null,null,null,null,null,null,null,null,null,null,null,null,null,null,null,null,null,null,null,{"$error":"#NAME?"},{"$error":"#NAME?"}]
[null,null,null,null,null,null,null,null,null,null,null,null,null,null,null,null,null,null,null,null,null,null,null,{"$error":"#NAME?"},{"$error":"#NAME?"}]
[null,null,null,null,null,null,null,null,null,null,null,null,null,null,null,null,null,null,null,null,null,null,null,{"$error":"#NAME?"},{"$error":"#NAME?"}]
[null,null,null,null,null,null,null,null,null,null,null,null,null,null,null,null,null,null,null,null,null,null,null,{"$error":"#NAME?"},{"$error":"#NAME?"}]
[null,null,null,null,null,null,null,null,null,null,null,null,null,null,null,null,null,null,null,null,null,null,null,{"$error":"#NAME?"},{"$error":"#NAME?"}]
[null,null,null,null,null,null,null,null,null,null,null,null,null,null,null,null,null,null,null,null,null,null,null,{"$error":"#NAME?"},{"$error":"#NAME?"}]
[null,null,null,null,null,null,null,null,null,null,null,null,null,null,null,null,null,null,null,null,null,null,null,{"$error":"#NAME?"},{"$error":"#NAME?"}]
[null,null,null,null,null,null,null,null,null,null,null,null,null,null,null,null,null,null,null,null,null,null,null,{"$error":"#NAME?"},{"$error":"#NAME?"}]
[null,null,null,null,null,null,null,null,null,null,null,null,null,null,null,null,null,null,null,null,null,null,null,{"$error":"#NAME?"},{"$error":"#NAME?"}]
[null,null,null,null,null,null,null,null,null,null,null,null,null,null,null,null,null,null,null,null,null,null,null,{"$error":"#NAME?"},{"$error":"#NAME?"}]
[null,null,null,null,null,null,null,null,null,null,null,null,null,null,null,null,null,null,null,null,null,null,null,{"$error":"#NAME?"},{"$error":"#NAME?"}]
[null,null,null,null,null,null,null,null,null,null,null,null,null,null,null,null,null,null,null,null,null,null,null,{"$error":"#NAME?"},{"$error":"#NAME?"}]
[null,null,null,null,null,null,null,null,null,null,null,null,null,null,null,null,null,null,null,null,null,null,null,{"$error":"#NAME?"},{"$error":"#NAME?"}]
[null,null,null,null,null,null,null,null,null,null,null,null,null,null,null,null,null,null,null,null,null,null,null,{"$error":"#NAME?"},{"$error":"#NAME?"}]
[null,null,null,null,null,null,null,null,null,null,null,null,null,null,null,null,null,null,null,null,null,null,null,{"$error":"#NAME?"},{"$error":"#NAME?"}]
[null,null,null,null,null,null,null,null,null,null,null,null,null,null,null,null,null,null,null,null,null,null,null,{"$error":"#NAME?"},{"$error":"#NAME?"}]
[null,null,null,null,null,null,null,null,null,null,null,null,null,null,null,null,null,null,null,null,null,null,null,{"$error":"#NAME?"},{"$error":"#NAME?"}]
[null,null,null,null,null,null,null,null,null,null,null,null,null,null,null,null,null,null,null,null,null,null,null,{"$error":"#NAME?"},{"$error":"#NAME?"}]
[null,null,null,null,null,null,null,null,null,null,null,null,null,null,null,null,null,null,null,null,null,null,null,{"$error":"#NAME?"},{"$error":"#NAME?"}]
[null,null,null,null,null,null,null,null,null,null,null,null,null,null,null,null,null,null,null,null,null,null,null,{"$error":"#NAME?"},{"$error":"#NAME?"}]
[null,null,null,null,null,null,null,null,null,null,null,null,null,null,null,null,null,null,null,null,null,null,null,{"$error":"#NAME?"},{"$error":"#NAME?"}]
[null,null,null,null,null,null,null,null,null,null,null,null,null,null,null,null,null,null,null,null,null,null,null,{"$error":"#NAME?"},{"$error":"#NAME?"}]
[null,null,null,null,null,null,null,null,null,null,null,null,null,null,null,null,null,null,null,null,null,null,null,{"$error":"#NAME?"},{"$error":"#NAME?"}]
[null,null,null,null,null,null,null,null,null,null,null,null,null,null,null,null,null,null,null,null,null,null,null,{"$error":"#NAME?"},{"$error":"#NAME?"}]
[null,null,null,null,null,null,null,null,null,null,null,null,null,null,null,null,null,null,null,null,null,null,null,{"$error":"#NAME?"},{"$error":"#NAME?"}]
[null,null,null,null,null,null,null,null,null,null,null,null,null,null,null,null,null,null,null,null,null,null,null,{"$error":"#NAME?"},{"$error":"#NAME?"}]
[null,null,null,null,null,null,null,null,null,null,null,null,null,null,null,null,null,null,null,null,null,null,null,{"$error":"#NAME?"},{"$error":"#NAME?"}]
[null,null,null,null,null,null,null,null,null,null,null,null,null,null,null,null,null,null,null,null,null,null,null,{"$error":"#NAME?"},{"$error":"#NAME?"}]
[null,null,null,null,null,null,null,null,null,null,null,null,null,null,null,null,null,null,null,null,null,null,null,{"$error":"#NAME?"},{"$error":"#NAME?"}]
[null,null,null,null,null,null,null,null,null,null,null,null,null,null,null,null,null,null,null,null,null,null,null,{"$error":"#NAME?"},{"$error":"#NAME?"}]
[null,null,null,null,null,null,null,null,null,null,null,null,null,null,null,null,null,null,null,null,null,null,null,{"$error":"#NAME?"},{"$error":"#NAME?"}]
[null,null,null,null,null,null,null,null,null,null,null,null,null,null,null,null,null,null,null,null,null,null,null,{"$error":"#NAME?"},{"$error":"#NAME?"}]
[null,null,null,null,null,null,null,null,null,null,null,null,null,null,null,null,null,null,null,null,null,null,null,{"$error":"#NAME?"},{"$error":"#NAME?"}]
[null,null,null,null,null,null,null,null,null,null,null,null,null,null,null,null,null,null,null,null,null,null,null,{"$error":"#NAME?"},{"$error":"#NAME?"}]
[null,null,null,null,null,null,null,null,null,null,null,null,null,null,null,null,null,null,null,null,null,null,null,{"$error":"#NAME?"},{"$error":"#NAME?"}]
[null,null,null,null,null,null,null,null,null,null,null,null,null,null,null,null,null,null,null,null,null,null,null,{"$error":"#NAME?"},{"$error":"#NAME?"}]
[null,null,null,null,null,null,null,null,null,null,null,null,null,null,null,null,null,null,null,null,null,null,null,{"$error":"#NAME?"},{"$error":"#NAME?"}]
[null,null,null,null,null,null,null,null,null,null,null,null,null,null,null,null,null,null,null,null,null,null,null,{"$error":"#NAME?"},{"$error":"#NAME?"}]
[null,null,null,null,null,null,null,null,null,null,null,null,null,null,null,null,null,null,null,null,null,null,null,{"$error":"#NAME?"},{"$error":"#NAME?"}]
[null,null,null,null,null,null,null,null,null,null,null,null,null,null,null,null,null,null,null,null,null,null,null,{"$error":"#NAME?"},{"$error":"#NAME?"}]
[null,null,null,null,null,null,null,null,null,null,null,null,null,null,null,null,null,null,null,null,null,null,null,{"$error":"#NAME?"},{"$error":"#NAME?"}]
[null,null,null,null,null,null,null,null,null,null,null,null,null,null,null,null,null,null,null,null,null,null,null,{"$error":"#NAME?"},{"$error":"#NAME?"}]
[null,null,null,null,null,null,null,null,null,null,null,null,null,null,null,null,null,null,null,null,null,null,null,{"$error":"#NAME?"},{"$error":"#NAME?"}]
[null,null,null,null,null,null,null,null,null,null,null,null,null,null,null,null,null,null,null,null,null,null,null,{"$error":"#NAME?"},{"$error":"#NAME?"}]
[null,null,null,null,null,null,null,null,null,null,null,null,null,null,null,null,null,null,null,null,null,null,null,{"$error":"#NAME?"},{"$error":"#NAME?"}]
[null,null,null,null,null,null,null,null,null,null,null,null,null,null,null,null,null,null,null,null,null,null,null,{"$error":"#NAME?"},{"$error":"#NAME?"}]
[null,null,null,null,null,null,null,null,null,null,null,null,null,null,null,null,null,null,null,null,null,null,null,{"$error":"#NAME?"},{"$error":"#NAME?"}]
[null,null,null,null,null,null,null,null,null,null,null,null,null,null,null,null,null,null,null,null,null,null,null,{"$error":"#NAME?"},{"$error":"#NAME?"}]
[null,null,null,null,null,null,null,null,null,null,null,null,null,null,null,null,null,null,null,null,null,null,null,{"$error":"#NAME?"},{"$error":"#NAME?"}]
[null,null,null,null,null,null,null,null,null,null,null,null,null,null,null,null,null,null,null,null,null,null,null,{"$error":"#NAME?"},{"$error":"#NAME?"}]
[null,null,null,null,null,null,null,null,null,null,null,null,null,null,null,null,null,null,null,null,null,null,null,{"$error":"#NAME?"},{"$error":"#NAME?"}]
[null,null,null,null,null,null,null,null,null,null,null,null,null,null,null,null,null,null,null,null,null,null,null,{"$error":"#NAME?"},{"$error":"#NAME?"}]
[null,null,null,null,null,null,null,null,null,null,null,null,null,null,null,null,null,null,null,null,null,null,null,{"$error":"#NAME?"},{"$error":"#NAME?"}]
[null,null,null,null,null,null,null,null,null,null,null,null,null,null,null,null,null,null,null,null,null,null,null,{"$error":"#NAME?"},{"$error":"#NAME?"}]
[null,null,null,null,null,null,null,null,null,null,null,null,null,null,null,null,null,null,null,null,null,null,null,{"$error":"#NAME?"},{"$error":"#NAME?"}]
[null,null,null,null,null,null,null,null,null,null,null,null,null,null,null,null,null,null,null,null,null,null,null,{"$error":"#NAME?"},{"$error":"#NAME?"}]
[null,null,null,null,null,null,null,null,null,null,null,null,null,null,null,null,null,null,null,null,null,null,null,{"$error":"#NAME?"},{"$error":"#NAME?"}]
[null,null,null,null,null,null,null,null,null,null,null,null,null,null,null,null,null,null,null,null,null,null,null,{"$error":"#NAME?"},{"$error":"#NAME?"}]
[null,null,null,null,null,null,null,null,null,null,null,null,null,null,null,null,null,null,null,null,null,null,null,{"$error":"#NAME?"},{"$error":"#NAME?"}]
[null,null,null,null,null,null,null,null,null,null,null,null,null,null,null,null,null,null,null,null,null,null,null,{"$error":"#NAME?"},{"$error":"#NAME?"}]
[null,null,null,null,null,null,null,null,null,null,null,null,null,null,null,null,null,null,null,null,null,null,null,{"$error":"#NAME?"},{"$error":"#NAME?"}]
[null,null,null,null,null,null,null,null,null,null,null,null,null,null,null,null,null,null,null,null,null,null,null,{"$error":"#NAME?"},{"$error":"#NAME?"}]
[null,null,null,null,null,null,null,null,null,null,null,null,null,null,null,null,null,null,null,null,null,null,null,{"$error":"#NAME?"},{"$error":"#NAME?"}]
[null,null,null,null,null,null,null,null,null,null,null,null,null,null,null,null,null,null,null,null,null,null,null,{"$error":"#NAME?"},{"$error":"#NAME?"}]
[null,null,null,null,null,null,null,null,null,null,null,null,null,null,null,null,null,null,null,null,null,null,null,{"$error":"#NAME?"},{"$error":"#NAME?"}]
[null,null,null,null,null,null,null,null,null,null,null,null,null,null,null,null,null,null,null,null,null,null,null,{"$error":"#NAME?"},{"$error":"#NAME?"}]
[null,null,null,null,null,null,null,null,null,null,null,null,null,null,null,null,null,null,null,null,null,null,null,{"$error":"#NAME?"},{"$error":"#NAME?"}]
[null,null,null,null,null,null,null,null,null,null,null,null,null,null,null,null,null,null,null,null,null,null,null,{"$error":"#NAME?"},{"$error":"#NAME?"}]
[null,null,null,null,null,null,null,null,null,null,null,null,null,null,null,null,null,null,null,null,null,null,null,{"$error":"#NAME?"},{"$error":"#NAME?"}]
[null,null,null,null,null,null,null,null,null,null,null,null,null,null,null,null,null,null,null,null,null,null,null,{"$error":"#NAME?"},{"$error":"#NAME?"}]
[null,null,null,null,null,null,null,null,null,null,null,null,null,null,null,null,null,null,null,null,null,null,null,{"$error":"#NAME?"},{"$error":"#NAME?"}]
[null,null,null,null,null,null,null,null,null,null,null,null,null,null,null,null,null,null,null,null,null,null,null,{"$error":"#NAME?"},{"$error":"#NAME?"}]
[null,null,null,null,null,null,null,null,null,null,null,null,null,null,null,null,null,null,null,null,null,null,null,{"$error":"#NAME?"},{"$error":"#NAME?"}]
[null,null,null,null,null,null,null,null,null,null,null,null,null,null,null,null,null,null,null,null,null,null,null,{"$error":"#NAME?"},{"$error":"#NAME?"}]
[null,null,null,null,null,null,null,null,null,null,null,null,null,null,null,null,null,null,null,null,null,null,null,{"$error":"#NAME?"},{"$error":"#NAME?"}]
[null,null,null,null,null,null,null,null,null,null,null,null,null,null,null,null,null,null,null,null,null,null,null,{"$error":"#NAME?"},{"$error":"#NAME?"}]
[null,null,null,null,null,null,null,null,null,null,null,null,null,null,null,null,null,null,null,null,null,null,null,{"$error":"#NAME?"},{"$error":"#NAME?"}]
[null,null,null,null,null,null,null,null,null,null,null,null,null,null,null,null,null,null,null,null,null,null,null,{"$error":"#NAME?"},{"$error":"#NAME?"}]
[null,null,null,null,null,null,null,null,null,null,null,null,null,null,null,null,null,null,null,null,null,null,null,{"$error":"#NAME?"},{"$error":"#NAME?"}]
[null,null,null,null,null,null,null,null,null,null,null,null,null,null,null,null,null,null,null,null,null,null,null,{"$error":"#NAME?"},{"$error":"#NAME?"}]
[null,null,null,null,null,null,null,null,null,null,null,null,null,null,null,null,null,null,null,null,null,null,null,{"$error":"#NAME?"},{"$error":"#NAME?"}]
[null,null,null,null,null,null,null,null,null,null,null,null,null,null,null,null,null,null,null,null,null,null,null,{"$error":"#NAME?"},{"$error":"#NAME?"}]
[null,null,null,null,null,null,null,null,null,null,null,null,null,null,null,null,null,null,null,null,null,null,null,{"$error":"#NAME?"},{"$error":"#NAME?"}]
[null,null,null,null,null,null,null,null,null,null,null,null,null,null,null,null,null,null,null,null,null,null,null,{"$error":"#NAME?"},{"$error":"#NAME?"}]
[null,null,null,null,null,null,null,null,null,null,null,null,null,null,null,null,null,null,null,null,null,null,null,{"$error":"#NAME?"},{"$error":"#NAME?"}]
[null,null,null,null,null,null,null,null,null,null,null,null,null,null,null,null,null,null,null,null,null,null,null,{"$error":"#NAME?"},{"$error":"#NAME?"}]
[null,null,null,null,null,null,null,null,null,null,null,null,null,null,null,null,null,null,null,null,null,null,null,{"$error":"#NAME?"},{"$error":"#NAME?"}]
[null,null,null,null,null,null,null,null,null,null,null,null,null,null,null,null,null,null,null,null,null,null,null,{"$error":"#NAME?"},{"$error":"#NAME?"}]
[null,null,null,null,null,null,null,null,null,null,null,null,null,null,null,null,null,null,null,null,null,null,null,{"$error":"#NAME?"},{"$error":"#NAME?"}]
[null,null,null,null,null,null,null,null,null,null,null,null,null,null,null,null,null,null,null,null,null,null,null,{"$error":"#NAME?"},{"$error":"#NAME?"}]
[null,null,null,null,null,null,null,null,null,null,null,null,null,null,null,null,null,null,null,null,null,null,null,{"$error":"#NAME?"},{"$error":"#NAME?"}]
[null,null,null,null,null,null,null,null,null,null,null,null,null,null,null,null,null,null,null,null,null,null,null,{"$error":"#NAME?"},{"$error":"#NAME?"}]
[null,null,null,null,null,null,null,null,null,null,null,null,null,null,null,null,null,null,null,null,null,null,null,{"$error":"#NAME?"},{"$error":"#NAME?"}]
[null,null,null,null,null,null,null,null,null,null,null,null,null,null,null,null,null,null,null,null,null,null,null,{"$error":"#NAME?"},{"$error":"#NAME?"}]
[null,null,null,null,null,null,null,null,null,null,null,null,null,null,null,null,null,null,null,null,null,null,null,{"$error":"#NAME?"},{"$error":"#NAME?"}]
[null,null,null,null,null,null,null,null,null,null,null,null,null,null,null,null,null,null,null,null,null,null,null,{"$error":"#NAME?"},{"$error":"#NAME?"}]
[null,null,null,null,null,null,null,null,null,null,null,null,null,null,null,null,null,null,null,null,null,null,null,{"$error":"#NAME?"},{"$error":"#NAME?"}]
[null,null,null,null,null,null,null,null,null,null,null,null,null,null,null,null,null,null,null,null,null,null,null,{"$error":"#NAME?"},{"$error":"#NAME?"}]
[null,null,null,null,null,null,null,null,null,null,null,null,null,null,null,null,null,null,null,null,null,null,null,{"$error":"#NAME?"},{"$error":"#NAME?"}]
[null,null,null,null,null,null,null,null,null,null,null,null,null,null,null,null,null,null,null,null,null,null,null,{"$error":"#NAME?"},{"$error":"#NAME?"}]
[null,null,null,null,null,null,null,null,null,null,null,null,null,null,null,null,null,null,null,null,null,null,null,{"$error":"#NAME?"},{"$error":"#NAME?"}]
[null,null,null,null,null,null,null,null,null,null,null,null,null,null,null,null,null,null,null,null,null,null,null,{"$error":"#NAME?"},{"$error":"#NAME?"}]
[null,null,null,null,null,null,null,null,null,null,null,null,null,null,null,null,null,null,null,null,null,null,null,{"$error":"#NAME?"},{"$error":"#NAME?"}]
[null,null,null,null,null,null,null,null,null,null,null,null,null,null,null,null,null,null,null,null,null,null,null,{"$error":"#NAME?"},{"$error":"#NAME?"}]
[null,null,null,null,null,null,null,null,null,null,null,null,null,null,null,null,null,null,null,null,null,null,null,{"$error":"#NAME?"},{"$error":"#NAME?"}]
[null,null,null,null,null,null,null,null,null,null,null,null,null,null,null,null,null,null,null,null,null,null,null,{"$error":"#NAME?"},{"$error":"#NAME?"}]
[null,null,null,null,null,null,null,null,null,null,null,null,null,null,null,null,null,null,null,null,null,null,null,{"$error":"#NAME?"},{"$error":"#NAME?"}]
[null,null,null,null,null,null,null,null,null,null,null,null,null,null,null,null,null,null,null,null,null,null,null,{"$error":"#NAME?"},{"$error":"#NAME?"}]
[null,null,null,null,null,null,null,null,null,null,null,null,null,null,null,null,null,null,null,null,null,null,null,{"$error":"#NAME?"},{"$error":"#NAME?"}]
[null,null,null,null,null,null,null,null,null,null,null,null,null,null,null,null,null,null,null,null,null,null,null,{"$error":"#NAME?"},{"$error":"#NAME?"}]
[null,null,null,null,null,null,null,null,null,null,null,null,null,null,null,null,null,null,null,null,null,null,null,{"$error":"#NAME?"},{"$error":"#NAME?"}]
[null,null,null,null,null,null,null,null,null,null,null,null,null,null,null,null,null,null,null,null,null,null,null,{"$error":"#NAME?"},{"$error":"#NAME?"}]
[null,null,null,null,null,null,null,null,null,null,null,null,null,null,null,null,null,null,null,null,null,null,null,{"$error":"#NAME?"},{"$error":"#NAME?"}]
[null,null,null,null,null,null,null,null,null,null,null,null,null,null,null,null,null,null,null,null,null,null,null,{"$error":"#NAME?"},{"$error":"#NAME?"}]
[null,null,null,null,null,null,null,null,null,null,null,null,null,null,null,null,null,null,null,null,null,null,null,{"$error":"#NAME?"},{"$error":"#NAME?"}]
[null,null,null,null,null,null,null,null,null,null,null,null,null,null,null,null,null,null,null,null,null,null,null,{"$error":"#NAME?"},{"$error":"#NAME?"}]
[null,null,null,null,null,null,null,null,null,null,null,null,null,null,null,null,null,null,null,null,null,null,null,{"$error":"#NAME?"},{"$error":"#NAME?"}]
[null,null,null,null,null,null,null,null,null,null,null,null,null,null,null,null,null,null,null,null,null,null,null,{"$error":"#NAME?"},{"$error":"#NAME?"}]
[null,null,null,null,null,null,null,null,null,null,null,null,null,null,null,null,null,null,null,null,null,null,null,{"$error":"#NAME?"},{"$error":"#NAME?"}]
[null,null,null,null,null,null,null,null,null,null,null,null,null,null,null,null,null,null,null,null,null,null,null,{"$error":"#NAME?"},{"$error":"#NAME?"}]
[null,null,null,null,null,null,null,null,null,null,null,null,null,null,null,null,null,null,null,null,null,null,null,{"$error":"#NAME?"},{"$error":"#NAME?"}]
[null,null,null,null,null,null,null,null,null,null,null,null,null,null,null,null,null,null,null,null,null,null,null,{"$error":"#NAME?"},{"$error":"#NAME?"}]
[null,null,null,null,null,null,null,null,null,null,null,null,null,null,null,null,null,null,null,null,null,null,null,{"$error":"#NAME?"},{"$error":"#NAME?"}]
[null,null,null,null,null,null,null,null,null,null,null,null,null,null,null,null,null,null,null,null,null,null,null,{"$error":"#NAME?"},{"$error":"#NAME?"}]
[null,null,null,null,null,null,null,null,null,null,null,null,null,null,null,null,null,null,null,null,null,null,null,{"$error":"#NAME?"},{"$error":"#NAME?"}]
[null,null,null,null,null,null,null,null,null,null,null,null,null,null,null,null,null,null,null,null,null,null,null,{"$error":"#NAME?"},{"$error":"#NAME?"}]
[null,null,null,null,null,null,null,null,null,null,null,null,null,null,null,null,null,null,null,null,null,null,null,{"$error":"#NAME?"},{"$error":"#NAME?"}]
[null,null,null,null,null,null,null,null,null,null,null,null,null,null,null,null,null,null,null,null,null,null,null,{"$error":"#NAME?"},{"$error":"#NAME?"}]
[null,null,null,null,null,null,null,null,null,null,null,null,null,null,null,null,null,null,null,null,null,null,null,{"$error":"#NAME?"},{"$error":"#NAME?"}]
[null,null,null,null,null,null,null,null,null,null,null,null,null,null,null,null,null,null,null,null,null,null,null,{"$error":"#NAME?"},{"$error":"#NAME?"}]
[null,null,null,null,null,null,null,null,null,null,null,null,null,null,null,null,null,null,null,null,null,null,null,{"$error":"#NAME?"},{"$error":"#NAME?"}]
[null,null,null,null,null,null,null,null,null,null,null,null,null,null,null,null,null,null,null,null,null,null,null,{"$error":"#NAME?"},{"$error":"#NAME?"}]
[null,null,null,null,null,null,null,null,null,null,null,null,null,null,null,null,null,null,null,null,null,null,null,{"$error":"#NAME?"},{"$error":"#NAME?"}]
[null,null,null,null,null,null,null,null,null,null,null,null,null,null,null,null,null,null,null,null,null,null,null,{"$error":"#NAME?"},{"$error":"#NAME?"}]
[null,null,null,null,null,null,null,null,null,null,null,null,null,null,null,null,null,null,null,null,null,null,null,{"$error":"#NAME?"},{"$error":"#NAME?"}]
[null,null,null,null,null,null,null,null,null,null,null,null,null,null,null,null,null,null,null,null,null,null,null,{"$error":"#NAME?"},{"$error":"#NAME?"}]
[null,null,null,null,null,null,null,null,null,null,null,null,null,null,null,null,null,null,null,null,null,null,null,{"$error":"#NAME?"},{"$error":"#NAME?"}]
[null,null,null,null,null,null,null,null,null,null,null,null,null,null,null,null,null,null,null,null,null,null,null,{"$error":"#NAME?"},{"$error":"#NAME?"}]
[null,null,null,null,null,null,null,null,null,null,null,null,null,null,null,null,null,null,null,null,null,null,null,{"$error":"#NAME?"},{"$error":"#NAME?"}]
[null,null,null,null,null,null,null,null,null,null,null,null,null,null,null,null,null,null,null,null,null,null,null,{"$error":"#NAME?"},{"$error":"#NAME?"}]
[null,null,null,null,null,null,null,null,null,null,null,null,null,null,null,null,null,null,null,null,null,null,null,{"$error":"#NAME?"},{"$error":"#NAME?"}]
[null,null,null,null,null,null,null,null,null,null,null,null,null,null,null,null,null,null,null,null,null,null,null,{"$error":"#NAME?"},{"$error":"#NAME?"}]
[null,null,null,null,null,null,null,null,null,null,null,null,null,null,null,null,null,null,null,null,null,null,null,{"$error":"#NAME?"},{"$error":"#NAME?"}]
[null,null,null,null,null,null,null,null,null,null,null,null,null,null,null,null,null,null,null,null,null,null,null,{"$error":"#NAME?"},{"$error":"#NAME?"}]
[null,null,null,null,null,null,null,null,null,null,null,null,null,null,null,null,null,null,null,null,null,null,null,{"$error":"#NAME?"},{"$error":"#NAME?"}]
[null,null,null,null,null,null,null,null,null,null,null,null,null,null,null,null,null,null,null,null,null,null,null,{"$error":"#NAME?"},{"$error":"#NAME?"}]
[null,null,null,null,null,null,null,null,null,null,null,null,null,null,null,null,null,null,null,null,null,null,null,{"$error":"#NAME?"},{"$error":"#NAME?"}]
[null,null,null,null,null,null,null,null,null,null,null,null,null,null,null,null,null,null,null,null,null,null,null,{"$error":"#NAME?"},{"$error":"#NAME?"}]
[null,null,null,null,null,null,null,null,null,null,null,null,null,null,null,null,null,null,null,null,null,null,null,{"$error":"#NAME?"},{"$error":"#NAME?"}]
[null,null,null,null,null,null,null,null,null,null,null,null,null,null,null,null,null,null,null,null,null,null,null,{"$error":"#NAME?"},{"$error":"#NAME?"}]
[null,null,null,null,null,null,null,null,null,null,null,null,null,null,null,null,null,null,null,null,null,null,null,{"$error":"#NAME?"},{"$error":"#NAME?"}]
[null,null,null,null,null,null,null,null,null,null,null,null,null,null,null,null,null,null,null,null,null,null,null,{"$error":"#NAME?"},{"$error":"#NAME?"}]
[null,null,null,null,null,null,null,null,null,null,null,null,null,null,null,null,null,null,null,null,null,null,null,{"$error":"#NAME?"},{"$error":"#NAME?"}]
[null,null,null,null,null,null,null,null,null,null,null,null,null,null,null,null,null,null,null,null,null,null,null,{"$error":"#NAME?"},{"$error":"#NAME?"}]
[null,null,null,null,null,null,null,null,null,null,null,null,null,null,null,null,null,null,null,null,null,null,null,{"$error":"#NAME?"},{"$error":"#NAME?"}]
[null,null,null,null,null,null,null,null,null,null,null,null,null,null,null,null,null,null,null,null,null,null,null,{"$error":"#NAME?"},{"$error":"#NAME?"}]
[null,null,null,null,null,null,null,null,null,null,null,null,null,null,null,null,null,null,null,null,null,null,null,{"$error":"#NAME?"},{"$error":"#NAME?"}]
[null,null,null,null,null,null,null,null,null,null,null,null,null,null,null,null,null,null,null,null,null,null,null,{"$error":"#NAME?"},{"$error":"#NAME?"}]
[null,null,null,null,null,null,null,null,null,null,null,null,null,null,null,null,null,null,null,null,null,null,null,{"$error":"#NAME?"},{"$error":"#NAME?"}]
[null,null,null,null,null,null,null,null,null,null,null,null,null,null,null,null,null,null,null,null,null,null,null,{"$error":"#NAME?"},{"$error":"#NAME?"}]
[null,null,null,null,null,null,null,null,null,null,null,null,null,null,null,null,null,null,null,null,null,null,null,{"$error":"#NAME?"},{"$error":"#NAME?"}]
[null,null,null,null,null,null,null,null,null,null,null,null,null,null,null,null,null,null,null,null,null,null,null,{"$error":"#NAME?"},{"$error":"#NAME?"}]
[null,null,null,null,null,null,null,null,null,null,null,null,null,null,null,null,null,null,null,null,null,null,null,{"$error":"#NAME?"},{"$error":"#NAME?"}]
[null,null,null,null,null,null,null,null,null,null,null,null,null,null,null,null,null,null,null,null,null,null,null,{"$error":"#NAME?"},{"$error":"#NAME?"}]
[null,null,null,null,null,null,null,null,null,null,null,null,null,null,null,null,null,null,null,null,null,null,null,{"$error":"#NAME?"},{"$error":"#NAME?"}]
[null,null,null,null,null,null,null,null,null,null,null,null,null,null,null,null,null,null,null,null,null,null,null,{"$error":"#NAME?"},{"$error":"#NAME?"}]
[null,null,null,null,null,null,null,null,null,null,null,null,null,null,null,null,null,null,null,null,null,null,null,{"$error":"#NAME?"},{"$error":"#NAME?"}]
[null,null,null,null,null,null,null,null,null,null,null,null,null,null,null,null,null,null,null,null,null,null,null,{"$error":"#NAME?"},{"$error":"#NAME?"}]
[null,null,null,null,null,null,null,null,null,null,null,null,null,null,null,null,null,null,null,null,null,null,null,{"$error":"#NAME?"},{"$error":"#NAME?"}]
[null,null,null,null,null,null,null,null,null,null,null,null,null,null,null,null,null,null,null,null,null,null,null,{"$error":"#NAME?"},{"$error":"#NAME?"}]
[null,null,null,null,null,null,null,null,null,null,null,null,null,null,null,null,null,null,null,null,null,null,null,{"$error":"#NAME?"},{"$error":"#NAME?"}]
[null,null,null,null,null,null,null,null,null,null,null,null,null,null,null,null,null,null,null,null,null,null,null,{"$error":"#NAME?"},{"$error":"#NAME?"}]
[null,null,null,null,null,null,null,null,null,null,null,null,null,null,null,null,null,null,null,null,null,null,null,{"$error":"#NAME?"},{"$error":"#NAME?"}]
[null,null,null,null,null,null,null,null,null,null,null,null,null,null,null,null,null,null,null,null,null,null,null,{"$error":"#NAME?"},{"$error":"#NAME?"}]
[null,null,null,null,null,null,null,null,null,null,null,null,null,null,null,null,null,null,null,null,null,null,null,{"$error":"#NAME?"},{"$error":"#NAME?"}]
[null,null,null,null,null,null,null,null,null,null,null,null,null,null,null,null,null,null,null,null,null,null,null,{"$error":"#NAME?"},{"$error":"#NAME?"}]
[null,null,null,null,null,null,null,null,null,null,null,null,null,null,null,null,null,null,null,null,null,null,null,{"$error":"#NAME?"},{"$error":"#NAME?"}]
[null,null,null,null,null,null,null,null,null,null,null,null,null,null,null,null,null,null,null,null,null,null,null,{"$error":"#NAME?"},{"$error":"#NAME?"}]
[null,null,null,null,null,null,null,null,null,null,null,null,null,null,null,null,null,null,null,null,null,null,null,{"$error":"#NAME?"},{"$error":"#NAME?"}]
[null,null,null,null,null,null,null,null,null,null,null,null,null,null,null,null,null,null,null,null,null,null,null,{"$error":"#NAME?"},{"$error":"#NAME?"}]
[null,null,null,null,null,null,null,null,null,null,null,null,null,null,null,null,null,null,null,null,null,null,null,{"$error":"#NAME?"},{"$error":"#NAME?"}]
[null,null,null,null,null,null,null,null,null,null,null,null,null,null,null,null,null,null,null,null,null,null,null,{"$error":"#NAME?"},{"$error":"#NAME?"}]
[null,null,null,null,null,null,null,null,null,null,null,null,null,null,null,null,null,null,null,null,null,null,null,{"$error":"#NAME?"},{"$error":"#NAME?"}]
[null,null,null,null,null,null,null,null,null,null,null,null,null,null,null,null,null,null,null,null,null,null,null,{"$error":"#NAME?"},{"$error":"#NAME?"}]
[null,null,null,null,null,null,null,null,null,null,null,null,null,null,null,null,null,null,null,null,null,null,null,{"$error":"#NAME?"},{"$error":"#NAME?"}]
[null,null,null,null,null,null,null,null,null,null,null,null,null,null,null,null,null,null,null,null,null,null,null,{"$error":"#NAME?"},{"$error":"#NAME?"}]
[null,null,null,null,null,null,null,null,null,null,null,null,null,null,null,null,null,null,null,null,null,null,null,{"$error":"#NAME?"},{"$error":"#NAME?"}]
[null,null,null,null,null,null,null,null,null,null,null,null,null,null,null,null,null,null,null,null,null,null,null,{"$error":"#NAME?"},{"$error":"#NAME?"}]
[null,null,null,null,null,null,null,null,null,null,null,null,null,null,null,null,null,null,null,null,null,null,null,{"$error":"#NAME?"},{"$error":"#NAME?"}]
[null,null,null,null,null,null,null,null,null,null,null,null,null,null,null,null,null,null,null,null,null,null,null,{"$error":"#NAME?"},{"$error":"#NAME?"}]
[null,null,null,null,null,null,null,null,null,null,null,null,null,null,null,null,null,null,null,null,null,null,null,{"$error":"#NAME?"},{"$error":"#NAME?"}]
[null,null,null,null,null,null,null,null,null,null,null,null,null,null,null,null,null,null,null,null,null,null,null,{"$error":"#NAME?"},{"$error":"#NAME?"}]
[null,null,null,null,null,null,null,null,null,null,null,null,null,null,null,null,null,null,null,null,null,null,null,{"$error":"#NAME?"},{"$error":"#NAME?"}]
[null,null,null,null,null,null,null,null,null,null,null,null,null,null,null,null,null,null,null,null,null,null,null,{"$error":"#NAME?"},{"$error":"#NAME?"}]
[null,null,null,null,null,null,null,null,null,null,null,null,null,null,null,null,null,null,null,null,null,null,null,{"$error":"#NAME?"},{"$error":"#NAME?"}]
[null,null,null,null,null,null,null,null,null,null,null,null,null,null,null,null,null,null,null,null,null,null,null,{"$error":"#NAME?"},{"$error":"#NAME?"}]
[null,null,null,null,null,null,null,null,null,null,null,null,null,null,null,null,null,null,null,null,null,null,null,{"$error":"#NAME?"},{"$error":"#NAME?"}]
[null,null,null,null,null,null,null,null,null,null,null,null,null,null,null,null,null,null,null,null,null,null,null,{"$error":"#NAME?"},{"$error":"#NAME?"}]
[null,null,null,null,null,null,null,null,null,null,null,null,null,null,null,null,null,null,null,null,null,null,null,{"$error":"#NAME?"},{"$error":"#NAME?"}]
[null,null,null,null,null,null,null,null,null,null,null,null,null,null,null,null,null,null,null,null,null,null,null,{"$error":"#NAME?"},{"$error":"#NAME?"}]
[null,null,null,null,null,null,null,null,null,null,null,null,null,null,null,null,null,null,null,null,null,null,null,{"$error":"#NAME?"},{"$error":"#NAME?"}]

{"sheet":"KYCT Data Sublot # 3","index":20,"n_rows":1031,"n_cols":25,"rows_kept":1031,"cut":false,"hidden":false,"merged":[[27,14,27,15],[0,3,0,13],[3,1,3,15],[26,0,26,15],[27,0,27,1],[27,2,27,3],[27,4,27,5],[27,6,27,7],[27,8,27,9],[27,10,27,11],[27,12,27,13]]}
["V1.03","  850 - IDEAL-CT",null,"SUBLOT # 3",null,null,null,null,null,null,null,null,null,null,null,"September 2019"]
[]
[null,null,null,null,null,null,null,null,null,null,null,null,null,null,null,"Show/Hide Formula Rows",null,null,null,null,null,null,null,"Test Number",1]
["Project ID",null,null,null,null,null,null,null,null,null,null,null,null,null,null,null,null,null,null,null,null,null,null,{"$f":"B4","v":0}]
["Num Points",{"$f":"COUNTA(INDIRECT(\"A\"&FirstRow&\":A\"&FirstRow+1000))","v":0},"Num Points",{"$f":"COUNTA(INDIRECT(\"C\"&FirstRow&\":C\"&FirstRow+1000))","v":0},"Num Points",{"$f":"COUNTA(INDIRECT(\"E\"&FirstRow&\":E\"&FirstRow+1000))","v":0},"Num Points",{"$f":"COUNTA(INDIRECT(\"G\"&FirstRow&\":G\"&FirstRow+1000))","v":0},"Num Points",{"$f":"COUNTA(INDIRECT(\"I\"&FirstRow&\":I\"&FirstRow+1000))","v":0},"Num Points",{"$f":"COUNTA(INDIRECT(\"K\"&FirstRow&\":K\"&FirstRow+1000))","v":0},"Num Points",{"$f":"COUNTA(INDIRECT(\"M\"&FirstRow&\":M\"&FirstRow+1000))","v":0},"Num Points",{"$f":"COUNTA(INDIRECT(\"O\"&FirstRow&\":O\"&FirstRow+1000))","v":0},null,null,null,null,null,null,null,{"$f":"IF(OFFSET(A5:P1031,0,(TestNum-1)*2)=\"\",NA(),OFFSET(A5:P1031,0,(TestNum-1)*2))","v":{"$error":"#NAME?"}},{"$error":"#NAME?"}]
["Peak Load",{"$f":"MAX(INDIRECT(\"B\"&FirstRow&\":B\"&FirstRow+B5))","v":0},"Peak Load",{"$f":"MAX(INDIRECT(\"D\"&FirstRow&\":D\"&FirstRow+D5))","v":0},"Peak Load",{"$f":"MAX(INDIRECT(\"F\"&FirstRow&\":F\"&FirstRow+F5))","v":0},"Peak Load",{"$f":"MAX(INDIRECT(\"H\"&FirstRow&\":H\"&FirstRow+H5))","v":0},"Peak Load",{"$f":"MAX(INDIRECT(\"J\"&FirstRow&\":J\"&FirstRow+J5))","v":0},"Peak Load",{"$f":"MAX(INDIRECT(\"L\"&FirstRow&\":L\"&FirstRow+L5))","v":0},"Peak Load",{"$f":"MAX(INDIRECT(\"N\"&FirstRow&\":N\"&FirstRow+N5))","v":0},"Peak Load",{"$f":"MAX(INDIRECT(\"P\"&FirstRow&\":P\"&FirstRow+P5))","v":0},null,"First Row of Data",31,null,null,null,null,{"$error":"#NAME?"},{"$error":"#NAME?"}]
["85% Peak",{"$f":"0.85*B6","v":0},"85% Peak",{"$f":"0.85*D6","v":0},"85% Peak",{"$f":"0.85*F6","v":0},"85% Peak",{"$f":"0.85*H6","v":0},"85% Peak",{"$f":"0.85*J6","v":0},"85% Peak",{"$f":"0.85*L6","v":0},"85% Peak",{"$f":"0.85*N6","v":0},"85% Peak",{"$f":"0.85*P6","v":0},null,null,null,null,null,null,null,{"$error":"#NAME?"},{"$error":"#NAME?"}]
["75% Peak",{"$f":"0.75*B6","v":0},"75% Peak",{"$f":"0.75*D6","v":0},"75% Peak",{"$f":"0.75*F6","v":0},"75% Peak",{"$f":"0.75*H6","v":0},"75% Peak",{"$f":"0.75*J6","v":0},"75% Peak",{"$f":"0.75*L6","v":0},"75% Peak",{"$f":"0.75*N6","v":0},"75% Peak",{"$f":"0.75*P6","v":0},null,null,null,null,null,null,null,{"$error":"#NAME?"},{"$error":"#NAME?"}]
["65% Peak",{"$f":"0.65*B6","v":0},"65% Peak",{"$f":"0.65*D6","v":0},"65% Peak",{"$f":"0.65*F6","v":0},"65% Peak",{"$f":"0.65*H6","v":0},"65% Peak",{"$f":"0.65*J6","v":0},"65% Peak",{"$f":"0.65*L6","v":0},"65% Peak",{"$f":"0.65*N6","v":0},"65% Peak",{"$f":"0.65*P6","v":0},null,null,null,null,null,null,null,{"$error":"#NAME?"},{"$error":"#NAME?"}]
["Rowpeak",{"$f":"MATCH(B6,INDIRECT(\"B\"&FirstRow&\":B\"&FirstRow+B5),0)+FirstRow-1","v":{"$error":"#N/A"}},"Rowpeak",{"$f":"MATCH(D6,INDIRECT(\"D\"&FirstRow&\":D\"&FirstRow+D5),0)+FirstRow-1","v":{"$error":"#N/A"}},"Rowpeak",{"$f":"MATCH(F6,INDIRECT(\"F\"&FirstRow&\":F\"&FirstRow+F5),0)+FirstRow-1","v":{"$error":"#N/A"}},"Rowpeak",{"$f":"MATCH(H6,INDIRECT(\"H\"&FirstRow&\":H\"&FirstRow+H5),0)+FirstRow-1","v":{"$error":"#N/A"}},"Rowpeak",{"$f":"MATCH(J6,INDIRECT(\"J\"&FirstRow&\":J\"&FirstRow+J5),0)+FirstRow-1","v":{"$error":"#N/A"}},"Rowpeak",{"$f":"MATCH(L6,INDIRECT(\"L\"&FirstRow&\":L\"&FirstRow+L5),0)+FirstRow-1","v":{"$error":"#N/A"}},"Rowpeak",{"$f":"MATCH(N6,INDIRECT(\"N\"&FirstRow&\":N\"&FirstRow+N5),0)+FirstRow-1","v":{"$error":"#N/A"}},"Rowpeak",{"$f":"MATCH(P6,INDIRECT(\"P\"&FirstRow&\":P\"&FirstRow+P5),0)+FirstRow-1","v":{"$error":"#N/A"}},null,null,null,null,null,null,null,{"$error":"#NAME?"},{"$error":"#NAME?"}]
["Row(85)",{"$f":"MATCH(B7,INDIRECT(\"B\"&B10&\":B\"&FirstRow+B5),-1)+B10","v":{"$error":"#N/A"}},"Row(85)",{"$f":"MATCH(D7,INDIRECT(\"D\"&D10&\":D\"&FirstRow+D5),-1)+D10","v":{"$error":"#N/A"}},"Row(85)",{"$f":"MATCH(F7,INDIRECT(\"F\"&F10&\":F\"&FirstRow+F5),-1)+F10","v":{"$error":"#N/A"}},"Row(85)",{"$f":"MATCH(H7,INDIRECT(\"H\"&H10&\":H\"&FirstRow+H5),-1)+H10","v":{"$error":"#N/A"}},"Row(85)",{"$f":"MATCH(J7,INDIRECT(\"J\"&J10&\":J\"&FirstRow+J5),-1)+J10","v":{"$error":"#N/A"}},"Row(85)",{"$f":"MATCH(L7,INDIRECT(\"L\"&L10&\":L\"&FirstRow+L5),-1)+L10","v":{"$error":"#N/A"}},"Row(85)",{"$f":"MATCH(N7,INDIRECT(\"N\"&N10&\":N\"&FirstRow+N5),-1)+N10","v":{"$error":"#N/A"}},"Row(85)",{"$f":"MATCH(P7,INDIRECT(\"P\"&P10&\":P\"&FirstRow+P5),-1)+P10","v":{"$error":"#N/A"}},null,null,null,null,null,null,null,{"$error":"#NAME?"},{"$error":"#NAME?"}]
["Row(75)",{"$f":"MATCH(B8,INDIRECT(\"B\"&B10&\":B\"&FirstRow+B5),-1)+B10","v":{"$error":"#N/A"}},"Row(75)",{"$f":"MATCH(D8,INDIRECT(\"D\"&D10&\":D\"&FirstRow+D5),-1)+D10","v":{"$error":"#N/A"}},"Row(75)",{"$f":"MATCH(F8,INDIRECT(\"F\"&F10&\":F\"&FirstRow+F5),-1)+F10","v":{"$error":"#N/A"}},"Row(75)",{"$f":"MATCH(H8,INDIRECT(\"H\"&H10&\":H\"&FirstRow+H5),-1)+H10","v":{"$error":"#N/A"}},"Row(75)",{"$f":"MATCH(J8,INDIRECT(\"J\"&J10&\":J\"&FirstRow+J5),-1)+J10","v":{"$error":"#N/A"}},"Row(75)",{"$f":"MATCH(L8,INDIRECT(\"L\"&L10&\":L\"&FirstRow+L5),-1)+L10","v":{"$error":"#N/A"}},"Row(75)",{"$f":"MATCH(N8,INDIRECT(\"N\"&N10&\":N\"&FirstRow+N5),-1)+N10","v":{"$error":"#N/A"}},"Row(75)",{"$f":"MATCH(P8,INDIRECT(\"P\"&P10&\":P\"&FirstRow+P5),-1)+P10","v":{"$error":"#N/A"}},null,null,null,null,null,null,null,{"$error":"#NAME?"},{"$error":"#NAME?"}]
["Row(65)",{"$f":"MATCH(B9,INDIRECT(\"B\"&B10&\":B\"&FirstRow+B5),-1)+B10","v":{"$error":"#N/A"}},"Row(65)",{"$f":"MATCH(D9,INDIRECT(\"D\"&D10&\":D\"&FirstRow+D5),-1)+D10","v":{"$error":"#N/A"}},"Row(65)",{"$f":"MATCH(F9,INDIRECT(\"F\"&F10&\":F\"&FirstRow+F5),-1)+F10","v":{"$error":"#N/A"}},"Row(65)",{"$f":"MATCH(H9,INDIRECT(\"H\"&H10&\":H\"&FirstRow+H5),-1)+H10","v":{"$error":"#N/A"}},"Row(65)",{"$f":"MATCH(J9,INDIRECT(\"J\"&J10&\":J\"&FirstRow+J5),-1)+J10","v":{"$error":"#N/A"}},"Row(65)",{"$f":"MATCH(L9,INDIRECT(\"L\"&L10&\":L\"&FirstRow+L5),-1)+L10","v":{"$error":"#N/A"}},"Row(65)",{"$f":"MATCH(N9,INDIRECT(\"N\"&N10&\":N\"&FirstRow+N5),-1)+N10","v":{"$error":"#N/A"}},"Row(65)",{"$f":"MATCH(P9,INDIRECT(\"P\"&P10&\":P\"&FirstRow+P5),-1)+P10","v":{"$error":"#N/A"}},null,null,null,null,null,null,null,{"$error":"#NAME?"},{"$error":"#NAME?"}]
["l75",{"$f":"IF(ISNA(B12),\"\",INDIRECT(\"A\"&B12))","v":""},"l75",{"$f":"IF(ISNA(D12),\"\",INDIRECT(\"C\"&D12))","v":""},"l75",{"$f":"IF(ISNA(F12),\"\",INDIRECT(\"E\"&F12))","v":""},"l75",{"$f":"IF(ISNA(H12),\"\",INDIRECT(\"G\"&H12))","v":""},"l75",{"$f":"IF(ISNA(J12),\"\",INDIRECT(\"I\"&J12))","v":""},"l75",{"$f":"IF(ISNA(L12),\"\",INDIRECT(\"K\"&L12))","v":""},"l75",{"$f":"IF(ISNA(N12),\"\",INDIRECT(\"M\"&N12))","v":""},"l75",{"$f":"IF(ISNA(P12),\"\",INDIRECT(\"O\"&P12))","v":""},null,null,null,null,null,null,null,{"$error":"#NAME?"},{"$error":"#NAME?"}]
["m",{"$f":"ABS(SLOPE((INDEX(B:B,B11):INDEX(B:B,B13)),(INDEX(A:A,B11):INDEX(A:A,B13))))","v":{"$error":"#N/A"}},"m",{"$f":"ABS(SLOPE((INDEX(D:D,D11):INDEX(D:D,D13)),(INDEX(C:C,D11):INDEX(C:C,D13))))","v":{"$error":"#N/A"}},"m",{"$f":"ABS(SLOPE((INDEX(F:F,F11):INDEX(F:F,F13)),(INDEX(E:E,F11):INDEX(E:E,F13))))","v":{"$error":"#N/A"}},"m",{"$f":"ABS(SLOPE((INDEX(H:H,H11):INDEX(H:H,H13)),(INDEX(G:G,H11):INDEX(G:G,H13))))","v":{"$error":"#N/A"}},"m",{"$f":"ABS(SLOPE((INDEX(J:J,J11):INDEX(J:J,J13)),(INDEX(I:I,J11):INDEX(I:I,J13))))","v":{"$error":"#N/A"}},"m",{"$f":"ABS(SLOPE((INDEX(L:L,L11):INDEX(L:L,L13)),(INDEX(K:K,L11):INDEX(K:K,L13))))","v":{"$error":"#N/A"}},"m",{"$f":"ABS(SLOPE((INDEX(N:N,N11):INDEX(N:N,N13)),(INDEX(M:M,N11):INDEX(M:M,N13))))","v":{"$error":"#N/A"}},"m",{"$f":"ABS(SLOPE((INDEX(P:P,P11):INDEX(P:P,P13)),(INDEX(O:O,P11):INDEX(O:O,P13))))","v":{"$error":"#N/A"}},null,null,null,null,null,null,null,{"$error":"#NAME?"},{"$error":"#NAME?"}]
["Series Name",{"$f":"IF(ISBLANK(B22),IF(ISBLANK(A28),\"\",A28),B22)","v":""},"Series Name",{"$f":"IF(ISBLANK(D22),IF(ISBLANK(C28),\"\",C28),D22)","v":""},"Series Name",{"$f":"IF(ISBLANK(F22),IF(ISBLANK(E28),\"\",E28),F22)","v":""},"Series Name",{"$f":"IF(ISBLANK(H22),IF(ISBLANK(G28),\"\",G28),H22)","v":""},"Series Name",{"$f":"IF(ISBLANK(J22),IF(ISBLANK(I28),\"\",I28),J22)","v":""},"Series Name",{"$f":"IF(ISBLANK(L22),IF(ISBLANK(K28),\"\",K28),L22)","v":""},"Series Name",{"$f":"IF(ISBLANK(N22),IF(ISBLANK(M28),\"\",M28),N22)","v":""},"Series Name",{"$f":"IF(ISBLANK(P22),IF(ISBLANK(O28),\"\",O28),P22)","v":""},null,null,null,null,null,null,null,{"$error":"#NAME?"},{"$error":"#NAME?"}]
["Row < 0.1",{"$f":"MATCH(0.1,INDIRECT(\"B\"&B10&\":B\"&FirstRow+B5),-1)+B10","v":{"$error":"#N/A"}},"Row < 0.1",{"$f":"MATCH(0.1,INDIRECT(\"D\"&D10&\":D\"&FirstRow+D5),-1)+D10","v":{"$error":"#N/A"}},"Row < 0.1",{"$f":"MATCH(0.1,INDIRECT(\"F\"&F10&\":F\"&FirstRow+F5),-1)+F10","v":{"$error":"#N/A"}},"Row < 0.1",{"$f":"MATCH(0.1,INDIRECT(\"H\"&H10&\":H\"&FirstRow+H5),-1)+H10","v":{"$error":"#N/A"}},"Row < 0.1",{"$f":"MATCH(0.1,INDIRECT(\"J\"&J10&\":J\"&FirstRow+J5),-1)+J10","v":{"$error":"#N/A"}},"Row < 0.1",{"$f":"MATCH(0.1,INDIRECT(\"L\"&L10&\":L\"&FirstRow+L5),-1)+L10","v":{"$error":"#N/A"}},"Row < 0.1",{"$f":"MATCH(0.1,INDIRECT(\"N\"&N10&\":N\"&FirstRow+N5),-1)+N10","v":{"$error":"#N/A"}},"Row < 0.1",{"$f":"MATCH(0.1,INDIRECT(\"P\"&P10&\":P\"&FirstRow+P5),-1)+P10","v":{"$error":"#N/A"}},null,null,null,null,null,null,null,{"$error":"#NAME?"},{"$error":"#NAME?"}]
["m75",{"$f":"IF(ISERROR(B15),\"\",ABS(B15))","v":""},"m75",{"$f":"IF(ISERROR(D15),\"\",ABS(D15))","v":""},"m75",{"$f":"IF(ISERROR(F15),\"\",ABS(F15))","v":""},"m75",{"$f":"IF(ISERROR(H15),\"\",ABS(H15))","v":""},"m75",{"$f":"IF(ISERROR(J15),\"\",ABS(J15))","v":""},"m75",{"$f":"IF(ISERROR(L15),\"\",ABS(L15))","v":""},"m75",{"$f":"IF(ISERROR(N15),\"\",ABS(N15))","v":""},"m75",{"$f":"IF(ISERROR(P15),\"\",ABS(P15))","v":""},null,null,null,null,null,null,null,{"$error":"#NAME?"},{"$error":"#NAME?"}]
["Wf",{"$f":"IF(ISNA(B17),\"\",SUMPRODUCT((INDIRECT(\"A\"&FirstRow+1&\":A\"&B17))-(INDIRECT(\"A\"&FirstRow&\":A\"&B17-1)),(((INDIRECT(\"B\"&FirstRow+1&\":B\"&B17))+(INDIRECT(\"B\"&FirstRow&\":B\"&B17-1)))/2)))","v":""},"Wf",{"$f":"IF(ISNA(D17),\"\",SUMPRODUCT((INDIRECT(\"C\"&FirstRow+1&\":C\"&D17))-(INDIRECT(\"C\"&FirstRow&\":C\"&D17-1)),(((INDIRECT(\"D\"&FirstRow+1&\":D\"&D17))+(INDIRECT(\"D\"&FirstRow&\":D\"&D17-1)))/2)))","v":""},"Wf",{"$f":"IF(ISNA(F17),\"\",SUMPRODUCT((INDIRECT(\"E\"&FirstRow+1&\":E\"&F17))-(INDIRECT(\"E\"&FirstRow&\":E\"&F17-1)),(((INDIRECT(\"F\"&FirstRow+1&\":F\"&F17))+(INDIRECT(\"F\"&FirstRow&\":F\"&F17-1)))/2)))","v":""},"Wf",{"$f":"IF(ISNA(H17),\"\",SUMPRODUCT((INDIRECT(\"G\"&FirstRow+1&\":G\"&H17))-(INDIRECT(\"G\"&FirstRow&\":G\"&H17-1)),(((INDIRECT(\"H\"&FirstRow+1&\":H\"&H17))+(INDIRECT(\"H\"&FirstRow&\":H\"&H17-1)))/2)))","v":""},"Wf",{"$f":"IF(ISNA(J17),\"\",SUMPRODUCT((INDIRECT(\"I\"&FirstRow+1&\":I\"&J17))-(INDIRECT(\"I\"&FirstRow&\":I\"&J17-1)),(((INDIRECT(\"J\"&FirstRow+1&\":J\"&J17))+(INDIRECT(\"J\"&FirstRow&\":J\"&J17-1)))/2)))","v":""},"Wf",{"$f":"IF(ISNA(L17),\"\",SUMPRODUCT((INDIRECT(\"K\"&FirstRow+1&\":K\"&L17))-(INDIRECT(\"K\"&FirstRow&\":K\"&L17-1)),(((INDIRECT(\"L\"&FirstRow+1&\":L\"&L17))+(INDIRECT(\"L\"&FirstRow&\":L\"&L17-1)))/2)))","v":""},"Wf",{"$f":"IF(ISNA(N17),\"\",SUMPRODUCT((INDIRECT(\"M\"&FirstRow+1&\":M\"&N17))-(INDIRECT(\"M\"&FirstRow&\":M\"&N17-1)),(((INDIRECT(\"N\"&FirstRow+1&\":N\"&N17))+(INDIRECT(\"N\"&FirstRow&\":N\"&N17-1)))/2)))","v":""},"Wf",{"$f":"IF(ISNA(P17),\"\",SUMPRODUCT((INDIRECT(\"O\"&FirstRow+1&\":O\"&P17))-(INDIRECT(\"O\"&FirstRow&\":O\"&P17-1)),(((INDIRECT(\"P\"&FirstRow+1&\":P\"&P17))+(INDIRECT(\"P\"&FirstRow&\":P\"&P17-1)))/2)))","v":""},null,null,null,null,null,null,null,{"$error":"#NAME?"},{"$error":"#NAME?"}]
["Gf",{"$f":"IF(B19=\"\",\"\",(B19/(B25*B26))*1000000)","v":""},"Gf",{"$f":"IF(D19=\"\",\"\",(D19/(D25*D26))*1000000)","v":""},"Gf",{"$f":"IF(F19=\"\",\"\",(F19/(F25*F26))*1000000)","v":""},"Gf",{"$f":"IF(H19=\"\",\"\",(H19/(H25*H26))*1000000)","v":""},"Gf",{"$f":"IF(J19=\"\",\"\",(J19/(J25*J26))*1000000)","v":""},"Gf",{"$f":"IF(L19=\"\",\"\",(L19/(L25*L26))*1000000)","v":""},"Gf",{"$f":"IF(N19=\"\",\"\",(N19/(N25*N26))*1000000)","v":""},"Gf",{"$f":"IF(P19=\"\",\"\",(P19/(P25*P26))*1000000)","v":""},null,null,null,null,null,null,null,{"$error":"#NAME?"},{"$error":"#NAME?"}]
["CTIndex",{"$f":"IF(B20=\"\",\"\",(B26/62)*(B14/B25)*(B20/B18))","v":""},"CTIndex",{"$f":"IF(D20=\"\",\"\",(D26/62)*(D14/D25)*(D20/D18))","v":""},"CTIndex",{"$f":"IF(F20=\"\",\"\",(F26/62)*(F14/F25)*(F20/F18))","v":""},"CTIndex",{"$f":"IF(H20=\"\",\"\",(H26/62)*(H14/H25)*(H20/H18))","v":""},"CTIndex",{"$f":"IF(J20=\"\",\"\",(J26/62)*(J14/J25)*(J20/J18))","v":""},"CTIndex",{"$f":"IF(L20=\"\",\"\",(L26/62)*(L14/L25)*(L20/L18))","v":""},"CTIndex",{"$f":"IF(N20=\"\",\"\",(N26/62)*(N14/N25)*(N20/N18))","v":""},"CTIndex",{"$f":"IF(P20=\"\",\"\",(P26/62)*(P14/P25)*(P20/P18))","v":""},null,null,null,null,null,null,null,{"$error":"#NAME?"},{"$error":"#NAME?"}]
["Sample 1 ID",null,"Sample 2 ID",null,"Sample 3 ID",null,"Sample 4 ID",null,"Sample 5 ID",null,"Sample 6 ID",null,"Sample 7 ID",null,"Sample 8 ID",null,null,null,null,null,null,null,null,{"$error":"#NAME?"},{"$error":"#NAME?"}]
["Temp [C]",null,"Temp [C]",null,"Temp [C]",null,"Temp [C]",null,"Temp [C]",null,"Temp [C]",null,"Temp [C]",null,"Temp [C]",null,null,null,null,null,null,null,null,{"$error":"#NAME?"},{"$error":"#NAME?"}]
["Air Voids",null,"Air Voids",null,"Air Voids",null,"Air Voids",null,"Air Voids",null,"Air Voids",null,"Air Voids",null,"Air Voids",null,null,null,null,null,null,null,null,{"$error":"#NAME?"},{"$error":"#NAME?"}]
["Diameter",null,"Diameter",null,"Diameter",null,"Diameter",null,"Diameter",null,"Diameter",null,"Diameter",null,"Diameter",null,null,null,null,null,null,null,null,{"$error":"#NAME?"},{"$error":"#NAME?"}]
["Thickness",null,"Thickness",null,"Thickness",null,"Thickness",null,"Thickness",null,"Thickness",null,"Thickness",null,"Thickness",null,null,null,null,null,null,null,null,{"$error":"#NAME?"},{"$error":"#NAME?"}]
["Flow/Stability Data",null,null,null,null,null,null,null,null,null,null,null,null,null,null,null,null,null,null,null,null,null,null,{"$error":"#NAME?"},{"$error":"#NAME?"}]
[null,null,null,null,null,null,null,null,null,null,null,null,null,null,null,null,null,null,null,null,null,null,null,{"$error":"#NAME?"},{"$error":"#NAME?"}]
[{"$f":"IF(ISBLANK(A31),\"\",INDIRECT(\"A$\"&MATCH(MAX(B31:B1031),B31:B1031,0)+FirstRow-1))","v":""},{"$f":"IF(ISBLANK(B31),\"\",MAX(B31:B1031))","v":""},{"$f":"IF(ISBLANK(C31),\"\",INDIRECT(\"C$\"&MATCH(MAX(D31:D1031),D31:D1031,0)+FirstRow-1))","v":""},{"$f":"IF(ISBLANK(D31),\"\",MAX(D31:D1031))","v":""},{"$f":"IF(ISBLANK(E31),\"\",INDIRECT(\"E$\"&MATCH(MAX(F31:F1031),F31:F1031,0)+FirstRow-1))","v":""},{"$f":"IF(ISBLANK(F31),\"\",MAX(F31:F1031))","v":""},{"$f":"IF(ISBLANK(G31),\"\",INDIRECT(\"g$\"&MATCH(MAX(H31:H1031),H31:H1031,0)+FirstRow-1))","v":""},{"$f":"IF(ISBLANK(H31),\"\",MAX(H31:H1031))","v":""},{"$f":"IF(ISBLANK(I31),\"\",INDIRECT(\"I$\"&MATCH(MAX(J31:J1031),J31:J1031,0)+FirstRow-1))","v":""},{"$f":"IF(ISBLANK(J31),\"\",MAX(J31:J1031))","v":""},{"$f":"IF(ISBLANK(K31),\"\",INDIRECT(\"K$\"&MATCH(MAX(L31:L1031),L31:L1031,0)+FirstRow-1))","v":""},{"$f":"IF(ISBLANK(L31),\"\",MAX(L31:L1031))","v":""},{"$f":"IF(ISBLANK(M31),\"\",INDIRECT(\"M$\"&MATCH(MAX(N31:N1031),N31:N1031,0)+FirstRow-1))","v":""},{"$f":"IF(ISBLANK(N31),\"\",MAX(N31:N1031))","v":""},{"$f":"IF(ISBLANK(O31),\"\",INDIRECT(\"O$\"&MATCH(MAX(P31:P1031),P31:P1031,0)+FirstRow-1))","v":""},{"$f":"IF(ISBLANK(P31),\"\",MAX(P31:P1031))","v":""},null,null,null,null,null,null,null,{"$error":"#NAME?"},{"$error":"#NAME?"}]
["Flow (mm)","Stability (kN)","Flow","Stability","Flow","Stability","Flow","Stability","Flow","Stability","Flow","Stability","Flow","Stability","Flow","Stability",null,null,null,null,null,null,null,{"$error":"#NAME?"},{"$error":"#NAME?"}]
[null,null,null,null,null,null,null,null,null,null,null,null,null,null,null,null,null,"Max Scale",{"$f":"MAX(B31:B706,D31:D706,F31:F706,H31:H706,J31:J706,L31:L706,N31:N706,P31:P706)","v":0},null,null,null,null,{"$error":"#NAME?"},{"$error":"#NAME?"}]
[null,null,null,null,null,null,null,null,null,null,null,null,null,null,null,null,null,"Port","COM1",null,null,null,null,{"$error":"#NAME?"},{"$error":"#NAME?"}]
[null,null,null,null,null,null,null,null,null,null,null,null,null,null,null,null,null,"Settings","baud=38400 parity=N data=8 stop=1",null,null,null,null,{"$error":"#NAME?"},{"$error":"#NAME?"}]
[null,null,null,null,null,null,null,null,null,null,null,null,null,null,null,null,null,null,null,null,null,null,null,{"$error":"#NAME?"},{"$error":"#NAME?"}]
[null,null,null,null,null,null,null,null,null,null,null,null,null,null,null,null,null,null,null,null,null,null,null,{"$error":"#NAME?"},{"$error":"#NAME?"}]
[null,null,null,null,null,null,null,null,null,null,null,null,null,null,null,null,null,null,null,null,null,null,null,{"$error":"#NAME?"},{"$error":"#NAME?"}]
[null,null,null,null,null,null,null,null,null,null,null,null,null,null,null,null,null,null,null,null,null,null,null,{"$error":"#NAME?"},{"$error":"#NAME?"}]
[null,null,null,null,null,null,null,null,null,null,null,null,null,null,null,null,null,null,null,null,null,null,null,{"$error":"#NAME?"},{"$error":"#NAME?"}]
[null,null,null,null,null,null,null,null,null,null,null,null,null,null,null,null,null,null,null,null,null,null,null,{"$error":"#NAME?"},{"$error":"#NAME?"}]
[null,null,null,null,null,null,null,null,null,null,null,null,null,null,null,null,null,null,null,null,null,null,null,{"$error":"#NAME?"},{"$error":"#NAME?"}]
[null,null,null,null,null,null,null,null,null,null,null,null,null,null,null,null,null,null,null,null,null,null,null,{"$error":"#NAME?"},{"$error":"#NAME?"}]
[null,null,null,null,null,null,null,null,null,null,null,null,null,null,null,null,null,null,null,null,null,null,null,{"$error":"#NAME?"},{"$error":"#NAME?"}]
[null,null,null,null,null,null,null,null,null,null,null,null,null,null,null,null,null,null,null,null,null,null,null,{"$error":"#NAME?"},{"$error":"#NAME?"}]
[null,null,null,null,null,null,null,null,null,null,null,null,null,null,null,null,null,null,null,null,null,null,null,{"$error":"#NAME?"},{"$error":"#NAME?"}]
[null,null,null,null,null,null,null,null,null,null,null,null,null,null,null,null,null,null,null,null,null,null,null,{"$error":"#NAME?"},{"$error":"#NAME?"}]
[null,null,null,null,null,null,null,null,null,null,null,null,null,null,null,null,null,null,null,null,null,null,null,{"$error":"#NAME?"},{"$error":"#NAME?"}]
[null,null,null,null,null,null,null,null,null,null,null,null,null,null,null,null,null,null,null,null,null,null,null,{"$error":"#NAME?"},{"$error":"#NAME?"}]
[null,null,null,null,null,null,null,null,null,null,null,null,null,null,null,null,null,null,null,null,null,null,null,{"$error":"#NAME?"},{"$error":"#NAME?"}]
[null,null,null,null,null,null,null,null,null,null,null,null,null,null,null,null,null,null,null,null,null,null,null,{"$error":"#NAME?"},{"$error":"#NAME?"}]
[null,null,null,null,null,null,null,null,null,null,null,null,null,null,null,null,null,null,null,null,null,null,null,{"$error":"#NAME?"},{"$error":"#NAME?"}]
[null,null,null,null,null,null,null,null,null,null,null,null,null,null,null,null,null,null,null,null,null,null,null,{"$error":"#NAME?"},{"$error":"#NAME?"}]
[null,null,null,null,null,null,null,null,null,null,null,null,null,null,null,null,null,null,null,null,null,null,null,{"$error":"#NAME?"},{"$error":"#NAME?"}]
[null,null,null,null,null,null,null,null,null,null,null,null,null,null,null,null,null,null,null,null,null,null,null,{"$error":"#NAME?"},{"$error":"#NAME?"}]
[null,null,null,null,null,null,null,null,null,null,null,null,null,null,null,null,null,null,null,null,null,null,null,{"$error":"#NAME?"},{"$error":"#NAME?"}]
[null,null,null,null,null,null,null,null,null,null,null,null,null,null,null,null,null,null,null,null,null,null,null,{"$error":"#NAME?"},{"$error":"#NAME?"}]
[null,null,null,null,null,null,null,null,null,null,null,null,null,null,null,null,null,null,null,null,null,null,null,{"$error":"#NAME?"},{"$error":"#NAME?"}]
[null,null,null,null,null,null,null,null,null,null,null,null,null,null,null,null,null,null,null,null,null,null,null,{"$error":"#NAME?"},{"$error":"#NAME?"}]
[null,null,null,null,null,null,null,null,null,null,null,null,null,null,null,null,null,null,null,null,null,null,null,{"$error":"#NAME?"},{"$error":"#NAME?"}]
[null,null,null,null,null,null,null,null,null,null,null,null,null,null,null,null,null,null,null,null,null,null,null,{"$error":"#NAME?"},{"$error":"#NAME?"}]
[null,null,null,null,null,null,null,null,null,null,null,null,null,null,null,null,null,null,null,null,null,null,null,{"$error":"#NAME?"},{"$error":"#NAME?"}]
[null,null,null,null,null,null,null,null,null,null,null,null,null,null,null,null,null,null,null,null,null,null,null,{"$error":"#NAME?"},{"$error":"#NAME?"}]
[null,null,null,null,null,null,null,null,null,null,null,null,null,null,null,null,null,null,null,null,null,null,null,{"$error":"#NAME?"},{"$error":"#NAME?"}]
[null,null,null,null,null,null,null,null,null,null,null,null,null,null,null,null,null,null,null,null,null,null,null,{"$error":"#NAME?"},{"$error":"#NAME?"}]
[null,null,null,null,null,null,null,null,null,null,null,null,null,null,null,null,null,null,null,null,null,null,null,{"$error":"#NAME?"},{"$error":"#NAME?"}]
[null,null,null,null,null,null,null,null,null,null,null,null,null,null,null,null,null,null,null,null,null,null,null,{"$error":"#NAME?"},{"$error":"#NAME?"}]
[null,null,null,null,null,null,null,null,null,null,null,null,null,null,null,null,null,null,null,null,null,null,null,{"$error":"#NAME?"},{"$error":"#NAME?"}]
[null,null,null,null,null,null,null,null,null,null,null,null,null,null,null,null,null,null,null,null,null,null,null,{"$error":"#NAME?"},{"$error":"#NAME?"}]
[null,null,null,null,null,null,null,null,null,null,null,null,null,null,null,null,null,null,null,null,null,null,null,{"$error":"#NAME?"},{"$error":"#NAME?"}]
[null,null,null,null,null,null,null,null,null,null,null,null,null,null,null,null,null,null,null,null,null,null,null,{"$error":"#NAME?"},{"$error":"#NAME?"}]
[null,null,null,null,null,null,null,null,null,null,null,null,null,null,null,null,null,null,null,null,null,null,null,{"$error":"#NAME?"},{"$error":"#NAME?"}]
[null,null,null,null,null,null,null,null,null,null,null,null,null,null,null,null,null,null,null,null,null,null,null,{"$error":"#NAME?"},{"$error":"#NAME?"}]
[null,null,null,null,null,null,null,null,null,null,null,null,null,null,null,null,null,null,null,null,null,null,null,{"$error":"#NAME?"},{"$error":"#NAME?"}]
[null,null,null,null,null,null,null,null,null,null,null,null,null,null,null,null,null,null,null,null,null,null,null,{"$error":"#NAME?"},{"$error":"#NAME?"}]
[null,null,null,null,null,null,null,null,null,null,null,null,null,null,null,null,null,null,null,null,null,null,null,{"$error":"#NAME?"},{"$error":"#NAME?"}]
[null,null,null,null,null,null,null,null,null,null,null,null,null,null,null,null,null,null,null,null,null,null,null,{"$error":"#NAME?"},{"$error":"#NAME?"}]
[null,null,null,null,null,null,null,null,null,null,null,null,null,null,null,null,null,null,null,null,null,null,null,{"$error":"#NAME?"},{"$error":"#NAME?"}]
[null,null,null,null,null,null,null,null,null,null,null,null,null,null,null,null,null,null,null,null,null,null,null,{"$error":"#NAME?"},{"$error":"#NAME?"}]
[null,null,null,null,null,null,null,null,null,null,null,null,null,null,null,null,null,null,null,null,null,null,null,{"$error":"#NAME?"},{"$error":"#NAME?"}]
[null,null,null,null,null,null,null,null,null,null,null,null,null,null,null,null,null,null,null,null,null,null,null,{"$error":"#NAME?"},{"$error":"#NAME?"}]
[null,null,null,null,null,null,null,null,null,null,null,null,null,null,null,null,null,null,null,null,null,null,null,{"$error":"#NAME?"},{"$error":"#NAME?"}]
[null,null,null,null,null,null,null,null,null,null,null,null,null,null,null,null,null,null,null,null,null,null,null,{"$error":"#NAME?"},{"$error":"#NAME?"}]
[null,null,null,null,null,null,null,null,null,null,null,null,null,null,null,null,null,null,null,null,null,null,null,{"$error":"#NAME?"},{"$error":"#NAME?"}]
[null,null,null,null,null,null,null,null,null,null,null,null,null,null,null,null,null,null,null,null,null,null,null,{"$error":"#NAME?"},{"$error":"#NAME?"}]
[null,null,null,null,null,null,null,null,null,null,null,null,null,null,null,null,null,null,null,null,null,null,null,{"$error":"#NAME?"},{"$error":"#NAME?"}]
[null,null,null,null,null,null,null,null,null,null,null,null,null,null,null,null,null,null,null,null,null,null,null,{"$error":"#NAME?"},{"$error":"#NAME?"}]
[null,null,null,null,null,null,null,null,null,null,null,null,null,null,null,null,null,null,null,null,null,null,null,{"$error":"#NAME?"},{"$error":"#NAME?"}]
[null,null,null,null,null,null,null,null,null,null,null,null,null,null,null,null,null,null,null,null,null,null,null,{"$error":"#NAME?"},{"$error":"#NAME?"}]
[null,null,null,null,null,null,null,null,null,null,null,null,null,null,null,null,null,null,null,null,null,null,null,{"$error":"#NAME?"},{"$error":"#NAME?"}]
[null,null,null,null,null,null,null,null,null,null,null,null,null,null,null,null,null,null,null,null,null,null,null,{"$error":"#NAME?"},{"$error":"#NAME?"}]
[null,null,null,null,null,null,null,null,null,null,null,null,null,null,null,null,null,null,null,null,null,null,null,{"$error":"#NAME?"},{"$error":"#NAME?"}]
[null,null,null,null,null,null,null,null,null,null,null,null,null,null,null,null,null,null,null,null,null,null,null,{"$error":"#NAME?"},{"$error":"#NAME?"}]
[null,null,null,null,null,null,null,null,null,null,null,null,null,null,null,null,null,null,null,null,null,null,null,{"$error":"#NAME?"},{"$error":"#NAME?"}]
[null,null,null,null,null,null,null,null,null,null,null,null,null,null,null,null,null,null,null,null,null,null,null,{"$error":"#NAME?"},{"$error":"#NAME?"}]
[null,null,null,null,null,null,null,null,null,null,null,null,null,null,null,null,null,null,null,null,null,null,null,{"$error":"#NAME?"},{"$error":"#NAME?"}]
[null,null,null,null,null,null,null,null,null,null,null,null,null,null,null,null,null,null,null,null,null,null,null,{"$error":"#NAME?"},{"$error":"#NAME?"}]
[null,null,null,null,null,null,null,null,null,null,null,null,null,null,null,null,null,null,null,null,null,null,null,{"$error":"#NAME?"},{"$error":"#NAME?"}]
[null,null,null,null,null,null,null,null,null,null,null,null,null,null,null,null,null,null,null,null,null,null,null,{"$error":"#NAME?"},{"$error":"#NAME?"}]
[null,null,null,null,null,null,null,null,null,null,null,null,null,null,null,null,null,null,null,null,null,null,null,{"$error":"#NAME?"},{"$error":"#NAME?"}]
[null,null,null,null,null,null,null,null,null,null,null,null,null,null,null,null,null,null,null,null,null,null,null,{"$error":"#NAME?"},{"$error":"#NAME?"}]
[null,null,null,null,null,null,null,null,null,null,null,null,null,null,null,null,null,null,null,null,null,null,null,{"$error":"#NAME?"},{"$error":"#NAME?"}]
[null,null,null,null,null,null,null,null,null,null,null,null,null,null,null,null,null,null,null,null,null,null,null,{"$error":"#NAME?"},{"$error":"#NAME?"}]
[null,null,null,null,null,null,null,null,null,null,null,null,null,null,null,null,null,null,null,null,null,null,null,{"$error":"#NAME?"},{"$error":"#NAME?"}]
[null,null,null,null,null,null,null,null,null,null,null,null,null,null,null,null,null,null,null,null,null,null,null,{"$error":"#NAME?"},{"$error":"#NAME?"}]
[null,null,null,null,null,null,null,null,null,null,null,null,null,null,null,null,null,null,null,null,null,null,null,{"$error":"#NAME?"},{"$error":"#NAME?"}]
[null,null,null,null,null,null,null,null,null,null,null,null,null,null,null,null,null,null,null,null,null,null,null,{"$error":"#NAME?"},{"$error":"#NAME?"}]
[null,null,null,null,null,null,null,null,null,null,null,null,null,null,null,null,null,null,null,null,null,null,null,{"$error":"#NAME?"},{"$error":"#NAME?"}]
[null,null,null,null,null,null,null,null,null,null,null,null,null,null,null,null,null,null,null,null,null,null,null,{"$error":"#NAME?"},{"$error":"#NAME?"}]
[null,null,null,null,null,null,null,null,null,null,null,null,null,null,null,null,null,null,null,null,null,null,null,{"$error":"#NAME?"},{"$error":"#NAME?"}]
[null,null,null,null,null,null,null,null,null,null,null,null,null,null,null,null,null,null,null,null,null,null,null,{"$error":"#NAME?"},{"$error":"#NAME?"}]
[null,null,null,null,null,null,null,null,null,null,null,null,null,null,null,null,null,null,null,null,null,null,null,{"$error":"#NAME?"},{"$error":"#NAME?"}]
[null,null,null,null,null,null,null,null,null,null,null,null,null,null,null,null,null,null,null,null,null,null,null,{"$error":"#NAME?"},{"$error":"#NAME?"}]
[null,null,null,null,null,null,null,null,null,null,null,null,null,null,null,null,null,null,null,null,null,null,null,{"$error":"#NAME?"},{"$error":"#NAME?"}]
[null,null,null,null,null,null,null,null,null,null,null,null,null,null,null,null,null,null,null,null,null,null,null,{"$error":"#NAME?"},{"$error":"#NAME?"}]
[null,null,null,null,null,null,null,null,null,null,null,null,null,null,null,null,null,null,null,null,null,null,null,{"$error":"#NAME?"},{"$error":"#NAME?"}]
[null,null,null,null,null,null,null,null,null,null,null,null,null,null,null,null,null,null,null,null,null,null,null,{"$error":"#NAME?"},{"$error":"#NAME?"}]
[null,null,null,null,null,null,null,null,null,null,null,null,null,null,null,null,null,null,null,null,null,null,null,{"$error":"#NAME?"},{"$error":"#NAME?"}]
[null,null,null,null,null,null,null,null,null,null,null,null,null,null,null,null,null,null,null,null,null,null,null,{"$error":"#NAME?"},{"$error":"#NAME?"}]
[null,null,null,null,null,null,null,null,null,null,null,null,null,null,null,null,null,null,null,null,null,null,null,{"$error":"#NAME?"},{"$error":"#NAME?"}]
[null,null,null,null,null,null,null,null,null,null,null,null,null,null,null,null,null,null,null,null,null,null,null,{"$error":"#NAME?"},{"$error":"#NAME?"}]
[null,null,null,null,null,null,null,null,null,null,null,null,null,null,null,null,null,null,null,null,null,null,null,{"$error":"#NAME?"},{"$error":"#NAME?"}]
[null,null,null,null,null,null,null,null,null,null,null,null,null,null,null,null,null,null,null,null,null,null,null,{"$error":"#NAME?"},{"$error":"#NAME?"}]
[null,null,null,null,null,null,null,null,null,null,null,null,null,null,null,null,null,null,null,null,null,null,null,{"$error":"#NAME?"},{"$error":"#NAME?"}]
[null,null,null,null,null,null,null,null,null,null,null,null,null,null,null,null,null,null,null,null,null,null,null,{"$error":"#NAME?"},{"$error":"#NAME?"}]
[null,null,null,null,null,null,null,null,null,null,null,null,null,null,null,null,null,null,null,null,null,null,null,{"$error":"#NAME?"},{"$error":"#NAME?"}]
[null,null,null,null,null,null,null,null,null,null,null,null,null,null,null,null,null,null,null,null,null,null,null,{"$error":"#NAME?"},{"$error":"#NAME?"}]
[null,null,null,null,null,null,null,null,null,null,null,null,null,null,null,null,null,null,null,null,null,null,null,{"$error":"#NAME?"},{"$error":"#NAME?"}]
[null,null,null,null,null,null,null,null,null,null,null,null,null,null,null,null,null,null,null,null,null,null,null,{"$error":"#NAME?"},{"$error":"#NAME?"}]
[null,null,null,null,null,null,null,null,null,null,null,null,null,null,null,null,null,null,null,null,null,null,null,{"$error":"#NAME?"},{"$error":"#NAME?"}]
[null,null,null,null,null,null,null,null,null,null,null,null,null,null,null,null,null,null,null,null,null,null,null,{"$error":"#NAME?"},{"$error":"#NAME?"}]
[null,null,null,null,null,null,null,null,null,null,null,null,null,null,null,null,null,null,null,null,null,null,null,{"$error":"#NAME?"},{"$error":"#NAME?"}]
[null,null,null,null,null,null,null,null,null,null,null,null,null,null,null,null,null,null,null,null,null,null,null,{"$error":"#NAME?"},{"$error":"#NAME?"}]
[null,null,null,null,null,null,null,null,null,null,null,null,null,null,null,null,null,null,null,null,null,null,null,{"$error":"#NAME?"},{"$error":"#NAME?"}]
[null,null,null,null,null,null,null,null,null,null,null,null,null,null,null,null,null,null,null,null,null,null,null,{"$error":"#NAME?"},{"$error":"#NAME?"}]
[null,null,null,null,null,null,null,null,null,null,null,null,null,null,null,null,null,null,null,null,null,null,null,{"$error":"#NAME?"},{"$error":"#NAME?"}]
[null,null,null,null,null,null,null,null,null,null,null,null,null,null,null,null,null,null,null,null,null,null,null,{"$error":"#NAME?"},{"$error":"#NAME?"}]
[null,null,null,null,null,null,null,null,null,null,null,null,null,null,null,null,null,null,null,null,null,null,null,{"$error":"#NAME?"},{"$error":"#NAME?"}]
[null,null,null,null,null,null,null,null,null,null,null,null,null,null,null,null,null,null,null,null,null,null,null,{"$error":"#NAME?"},{"$error":"#NAME?"}]
[null,null,null,null,null,null,null,null,null,null,null,null,null,null,null,null,null,null,null,null,null,null,null,{"$error":"#NAME?"},{"$error":"#NAME?"}]
[null,null,null,null,null,null,null,null,null,null,null,null,null,null,null,null,null,null,null,null,null,null,null,{"$error":"#NAME?"},{"$error":"#NAME?"}]
[null,null,null,null,null,null,null,null,null,null,null,null,null,null,null,null,null,null,null,null,null,null,null,{"$error":"#NAME?"},{"$error":"#NAME?"}]
[null,null,null,null,null,null,null,null,null,null,null,null,null,null,null,null,null,null,null,null,null,null,null,{"$error":"#NAME?"},{"$error":"#NAME?"}]
[null,null,null,null,null,null,null,null,null,null,null,null,null,null,null,null,null,null,null,null,null,null,null,{"$error":"#NAME?"},{"$error":"#NAME?"}]
[null,null,null,null,null,null,null,null,null,null,null,null,null,null,null,null,null,null,null,null,null,null,null,{"$error":"#NAME?"},{"$error":"#NAME?"}]
[null,null,null,null,null,null,null,null,null,null,null,null,null,null,null,null,null,null,null,null,null,null,null,{"$error":"#NAME?"},{"$error":"#NAME?"}]
[null,null,null,null,null,null,null,null,null,null,null,null,null,null,null,null,null,null,null,null,null,null,null,{"$error":"#NAME?"},{"$error":"#NAME?"}]
[null,null,null,null,null,null,null,null,null,null,null,null,null,null,null,null,null,null,null,null,null,null,null,{"$error":"#NAME?"},{"$error":"#NAME?"}]
[null,null,null,null,null,null,null,null,null,null,null,null,null,null,null,null,null,null,null,null,null,null,null,{"$error":"#NAME?"},{"$error":"#NAME?"}]
[null,null,null,null,null,null,null,null,null,null,null,null,null,null,null,null,null,null,null,null,null,null,null,{"$error":"#NAME?"},{"$error":"#NAME?"}]
[null,null,null,null,null,null,null,null,null,null,null,null,null,null,null,null,null,null,null,null,null,null,null,{"$error":"#NAME?"},{"$error":"#NAME?"}]
[null,null,null,null,null,null,null,null,null,null,null,null,null,null,null,null,null,null,null,null,null,null,null,{"$error":"#NAME?"},{"$error":"#NAME?"}]
[null,null,null,null,null,null,null,null,null,null,null,null,null,null,null,null,null,null,null,null,null,null,null,{"$error":"#NAME?"},{"$error":"#NAME?"}]
[null,null,null,null,null,null,null,null,null,null,null,null,null,null,null,null,null,null,null,null,null,null,null,{"$error":"#NAME?"},{"$error":"#NAME?"}]
[null,null,null,null,null,null,null,null,null,null,null,null,null,null,null,null,null,null,null,null,null,null,null,{"$error":"#NAME?"},{"$error":"#NAME?"}]
[null,null,null,null,null,null,null,null,null,null,null,null,null,null,null,null,null,null,null,null,null,null,null,{"$error":"#NAME?"},{"$error":"#NAME?"}]
[null,null,null,null,null,null,null,null,null,null,null,null,null,null,null,null,null,null,null,null,null,null,null,{"$error":"#NAME?"},{"$error":"#NAME?"}]
[null,null,null,null,null,null,null,null,null,null,null,null,null,null,null,null,null,null,null,null,null,null,null,{"$error":"#NAME?"},{"$error":"#NAME?"}]
[null,null,null,null,null,null,null,null,null,null,null,null,null,null,null,null,null,null,null,null,null,null,null,{"$error":"#NAME?"},{"$error":"#NAME?"}]
[null,null,null,null,null,null,null,null,null,null,null,null,null,null,null,null,null,null,null,null,null,null,null,{"$error":"#NAME?"},{"$error":"#NAME?"}]
[null,null,null,null,null,null,null,null,null,null,null,null,null,null,null,null,null,null,null,null,null,null,null,{"$error":"#NAME?"},{"$error":"#NAME?"}]
[null,null,null,null,null,null,null,null,null,null,null,null,null,null,null,null,null,null,null,null,null,null,null,{"$error":"#NAME?"},{"$error":"#NAME?"}]
[null,null,null,null,null,null,null,null,null,null,null,null,null,null,null,null,null,null,null,null,null,null,null,{"$error":"#NAME?"},{"$error":"#NAME?"}]
[null,null,null,null,null,null,null,null,null,null,null,null,null,null,null,null,null,null,null,null,null,null,null,{"$error":"#NAME?"},{"$error":"#NAME?"}]
[null,null,null,null,null,null,null,null,null,null,null,null,null,null,null,null,null,null,null,null,null,null,null,{"$error":"#NAME?"},{"$error":"#NAME?"}]
[null,null,null,null,null,null,null,null,null,null,null,null,null,null,null,null,null,null,null,null,null,null,null,{"$error":"#NAME?"},{"$error":"#NAME?"}]
[null,null,null,null,null,null,null,null,null,null,null,null,null,null,null,null,null,null,null,null,null,null,null,{"$error":"#NAME?"},{"$error":"#NAME?"}]
[null,null,null,null,null,null,null,null,null,null,null,null,null,null,null,null,null,null,null,null,null,null,null,{"$error":"#NAME?"},{"$error":"#NAME?"}]
[null,null,null,null,null,null,null,null,null,null,null,null,null,null,null,null,null,null,null,null,null,null,null,{"$error":"#NAME?"},{"$error":"#NAME?"}]
[null,null,null,null,null,null,null,null,null,null,null,null,null,null,null,null,null,null,null,null,null,null,null,{"$error":"#NAME?"},{"$error":"#NAME?"}]
[null,null,null,null,null,null,null,null,null,null,null,null,null,null,null,null,null,null,null,null,null,null,null,{"$error":"#NAME?"},{"$error":"#NAME?"}]
[null,null,null,null,null,null,null,null,null,null,null,null,null,null,null,null,null,null,null,null,null,null,null,{"$error":"#NAME?"},{"$error":"#NAME?"}]
[null,null,null,null,null,null,null,null,null,null,null,null,null,null,null,null,null,null,null,null,null,null,null,{"$error":"#NAME?"},{"$error":"#NAME?"}]
[null,null,null,null,null,null,null,null,null,null,null,null,null,null,null,null,null,null,null,null,null,null,null,{"$error":"#NAME?"},{"$error":"#NAME?"}]
[null,null,null,null,null,null,null,null,null,null,null,null,null,null,null,null,null,null,null,null,null,null,null,{"$error":"#NAME?"},{"$error":"#NAME?"}]
[null,null,null,null,null,null,null,null,null,null,null,null,null,null,null,null,null,null,null,null,null,null,null,{"$error":"#NAME?"},{"$error":"#NAME?"}]
[null,null,null,null,null,null,null,null,null,null,null,null,null,null,null,null,null,null,null,null,null,null,null,{"$error":"#NAME?"},{"$error":"#NAME?"}]
[null,null,null,null,null,null,null,null,null,null,null,null,null,null,null,null,null,null,null,null,null,null,null,{"$error":"#NAME?"},{"$error":"#NAME?"}]
[null,null,null,null,null,null,null,null,null,null,null,null,null,null,null,null,null,null,null,null,null,null,null,{"$error":"#NAME?"},{"$error":"#NAME?"}]
[null,null,null,null,null,null,null,null,null,null,null,null,null,null,null,null,null,null,null,null,null,null,null,{"$error":"#NAME?"},{"$error":"#NAME?"}]
[null,null,null,null,null,null,null,null,null,null,null,null,null,null,null,null,null,null,null,null,null,null,null,{"$error":"#NAME?"},{"$error":"#NAME?"}]
[null,null,null,null,null,null,null,null,null,null,null,null,null,null,null,null,null,null,null,null,null,null,null,{"$error":"#NAME?"},{"$error":"#NAME?"}]
[null,null,null,null,null,null,null,null,null,null,null,null,null,null,null,null,null,null,null,null,null,null,null,{"$error":"#NAME?"},{"$error":"#NAME?"}]
[null,null,null,null,null,null,null,null,null,null,null,null,null,null,null,null,null,null,null,null,null,null,null,{"$error":"#NAME?"},{"$error":"#NAME?"}]
[null,null,null,null,null,null,null,null,null,null,null,null,null,null,null,null,null,null,null,null,null,null,null,{"$error":"#NAME?"},{"$error":"#NAME?"}]
[null,null,null,null,null,null,null,null,null,null,null,null,null,null,null,null,null,null,null,null,null,null,null,{"$error":"#NAME?"},{"$error":"#NAME?"}]
[null,null,null,null,null,null,null,null,null,null,null,null,null,null,null,null,null,null,null,null,null,null,null,{"$error":"#NAME?"},{"$error":"#NAME?"}]
[null,null,null,null,null,null,null,null,null,null,null,null,null,null,null,null,null,null,null,null,null,null,null,{"$error":"#NAME?"},{"$error":"#NAME?"}]
[null,null,null,null,null,null,null,null,null,null,null,null,null,null,null,null,null,null,null,null,null,null,null,{"$error":"#NAME?"},{"$error":"#NAME?"}]
[null,null,null,null,null,null,null,null,null,null,null,null,null,null,null,null,null,null,null,null,null,null,null,{"$error":"#NAME?"},{"$error":"#NAME?"}]
[null,null,null,null,null,null,null,null,null,null,null,null,null,null,null,null,null,null,null,null,null,null,null,{"$error":"#NAME?"},{"$error":"#NAME?"}]
[null,null,null,null,null,null,null,null,null,null,null,null,null,null,null,null,null,null,null,null,null,null,null,{"$error":"#NAME?"},{"$error":"#NAME?"}]
[null,null,null,null,null,null,null,null,null,null,null,null,null,null,null,null,null,null,null,null,null,null,null,{"$error":"#NAME?"},{"$error":"#NAME?"}]
[null,null,null,null,null,null,null,null,null,null,null,null,null,null,null,null,null,null,null,null,null,null,null,{"$error":"#NAME?"},{"$error":"#NAME?"}]
[null,null,null,null,null,null,null,null,null,null,null,null,null,null,null,null,null,null,null,null,null,null,null,{"$error":"#NAME?"},{"$error":"#NAME?"}]
[null,null,null,null,null,null,null,null,null,null,null,null,null,null,null,null,null,null,null,null,null,null,null,{"$error":"#NAME?"},{"$error":"#NAME?"}]
[null,null,null,null,null,null,null,null,null,null,null,null,null,null,null,null,null,null,null,null,null,null,null,{"$error":"#NAME?"},{"$error":"#NAME?"}]
[null,null,null,null,null,null,null,null,null,null,null,null,null,null,null,null,null,null,null,null,null,null,null,{"$error":"#NAME?"},{"$error":"#NAME?"}]
[null,null,null,null,null,null,null,null,null,null,null,null,null,null,null,null,null,null,null,null,null,null,null,{"$error":"#NAME?"},{"$error":"#NAME?"}]
[null,null,null,null,null,null,null,null,null,null,null,null,null,null,null,null,null,null,null,null,null,null,null,{"$error":"#NAME?"},{"$error":"#NAME?"}]
[null,null,null,null,null,null,null,null,null,null,null,null,null,null,null,null,null,null,null,null,null,null,null,{"$error":"#NAME?"},{"$error":"#NAME?"}]
[null,null,null,null,null,null,null,null,null,null,null,null,null,null,null,null,null,null,null,null,null,null,null,{"$error":"#NAME?"},{"$error":"#NAME?"}]
[null,null,null,null,null,null,null,null,null,null,null,null,null,null,null,null,null,null,null,null,null,null,null,{"$error":"#NAME?"},{"$error":"#NAME?"}]
[null,null,null,null,null,null,null,null,null,null,null,null,null,null,null,null,null,null,null,null,null,null,null,{"$error":"#NAME?"},{"$error":"#NAME?"}]
[null,null,null,null,null,null,null,null,null,null,null,null,null,null,null,null,null,null,null,null,null,null,null,{"$error":"#NAME?"},{"$error":"#NAME?"}]
[null,null,null,null,null,null,null,null,null,null,null,null,null,null,null,null,null,null,null,null,null,null,null,{"$error":"#NAME?"},{"$error":"#NAME?"}]
[null,null,null,null,null,null,null,null,null,null,null,null,null,null,null,null,null,null,null,null,null,null,null,{"$error":"#NAME?"},{"$error":"#NAME?"}]
[null,null,null,null,null,null,null,null,null,null,null,null,null,null,null,null,null,null,null,null,null,null,null,{"$error":"#NAME?"},{"$error":"#NAME?"}]
[null,null,null,null,null,null,null,null,null,null,null,null,null,null,null,null,null,null,null,null,null,null,null,{"$error":"#NAME?"},{"$error":"#NAME?"}]
[null,null,null,null,null,null,null,null,null,null,null,null,null,null,null,null,null,null,null,null,null,null,null,{"$error":"#NAME?"},{"$error":"#NAME?"}]
[null,null,null,null,null,null,null,null,null,null,null,null,null,null,null,null,null,null,null,null,null,null,null,{"$error":"#NAME?"},{"$error":"#NAME?"}]
[null,null,null,null,null,null,null,null,null,null,null,null,null,null,null,null,null,null,null,null,null,null,null,{"$error":"#NAME?"},{"$error":"#NAME?"}]
[null,null,null,null,null,null,null,null,null,null,null,null,null,null,null,null,null,null,null,null,null,null,null,{"$error":"#NAME?"},{"$error":"#NAME?"}]
[null,null,null,null,null,null,null,null,null,null,null,null,null,null,null,null,null,null,null,null,null,null,null,{"$error":"#NAME?"},{"$error":"#NAME?"}]
[null,null,null,null,null,null,null,null,null,null,null,null,null,null,null,null,null,null,null,null,null,null,null,{"$error":"#NAME?"},{"$error":"#NAME?"}]
[null,null,null,null,null,null,null,null,null,null,null,null,null,null,null,null,null,null,null,null,null,null,null,{"$error":"#NAME?"},{"$error":"#NAME?"}]
[null,null,null,null,null,null,null,null,null,null,null,null,null,null,null,null,null,null,null,null,null,null,null,{"$error":"#NAME?"},{"$error":"#NAME?"}]
[null,null,null,null,null,null,null,null,null,null,null,null,null,null,null,null,null,null,null,null,null,null,null,{"$error":"#NAME?"},{"$error":"#NAME?"}]
[null,null,null,null,null,null,null,null,null,null,null,null,null,null,null,null,null,null,null,null,null,null,null,{"$error":"#NAME?"},{"$error":"#NAME?"}]
[null,null,null,null,null,null,null,null,null,null,null,null,null,null,null,null,null,null,null,null,null,null,null,{"$error":"#NAME?"},{"$error":"#NAME?"}]
[null,null,null,null,null,null,null,null,null,null,null,null,null,null,null,null,null,null,null,null,null,null,null,{"$error":"#NAME?"},{"$error":"#NAME?"}]
[null,null,null,null,null,null,null,null,null,null,null,null,null,null,null,null,null,null,null,null,null,null,null,{"$error":"#NAME?"},{"$error":"#NAME?"}]
[null,null,null,null,null,null,null,null,null,null,null,null,null,null,null,null,null,null,null,null,null,null,null,{"$error":"#NAME?"},{"$error":"#NAME?"}]
[null,null,null,null,null,null,null,null,null,null,null,null,null,null,null,null,null,null,null,null,null,null,null,{"$error":"#NAME?"},{"$error":"#NAME?"}]
[null,null,null,null,null,null,null,null,null,null,null,null,null,null,null,null,null,null,null,null,null,null,null,{"$error":"#NAME?"},{"$error":"#NAME?"}]
[null,null,null,null,null,null,null,null,null,null,null,null,null,null,null,null,null,null,null,null,null,null,null,{"$error":"#NAME?"},{"$error":"#NAME?"}]
[null,null,null,null,null,null,null,null,null,null,null,null,null,null,null,null,null,null,null,null,null,null,null,{"$error":"#NAME?"},{"$error":"#NAME?"}]
[null,null,null,null,null,null,null,null,null,null,null,null,null,null,null,null,null,null,null,null,null,null,null,{"$error":"#NAME?"},{"$error":"#NAME?"}]
[null,null,null,null,null,null,null,null,null,null,null,null,null,null,null,null,null,null,null,null,null,null,null,{"$error":"#NAME?"},{"$error":"#NAME?"}]
[null,null,null,null,null,null,null,null,null,null,null,null,null,null,null,null,null,null,null,null,null,null,null,{"$error":"#NAME?"},{"$error":"#NAME?"}]
[null,null,null,null,null,null,null,null,null,null,null,null,null,null,null,null,null,null,null,null,null,null,null,{"$error":"#NAME?"},{"$error":"#NAME?"}]
[null,null,null,null,null,null,null,null,null,null,null,null,null,null,null,null,null,null,null,null,null,null,null,{"$error":"#NAME?"},{"$error":"#NAME?"}]
[null,null,null,null,null,null,null,null,null,null,null,null,null,null,null,null,null,null,null,null,null,null,null,{"$error":"#NAME?"},{"$error":"#NAME?"}]
[null,null,null,null,null,null,null,null,null,null,null,null,null,null,null,null,null,null,null,null,null,null,null,{"$error":"#NAME?"},{"$error":"#NAME?"}]
[null,null,null,null,null,null,null,null,null,null,null,null,null,null,null,null,null,null,null,null,null,null,null,{"$error":"#NAME?"},{"$error":"#NAME?"}]
[null,null,null,null,null,null,null,null,null,null,null,null,null,null,null,null,null,null,null,null,null,null,null,{"$error":"#NAME?"},{"$error":"#NAME?"}]
[null,null,null,null,null,null,null,null,null,null,null,null,null,null,null,null,null,null,null,null,null,null,null,{"$error":"#NAME?"},{"$error":"#NAME?"}]
[null,null,null,null,null,null,null,null,null,null,null,null,null,null,null,null,null,null,null,null,null,null,null,{"$error":"#NAME?"},{"$error":"#NAME?"}]
[null,null,null,null,null,null,null,null,null,null,null,null,null,null,null,null,null,null,null,null,null,null,null,{"$error":"#NAME?"},{"$error":"#NAME?"}]
[null,null,null,null,null,null,null,null,null,null,null,null,null,null,null,null,null,null,null,null,null,null,null,{"$error":"#NAME?"},{"$error":"#NAME?"}]
[null,null,null,null,null,null,null,null,null,null,null,null,null,null,null,null,null,null,null,null,null,null,null,{"$error":"#NAME?"},{"$error":"#NAME?"}]
[null,null,null,null,null,null,null,null,null,null,null,null,null,null,null,null,null,null,null,null,null,null,null,{"$error":"#NAME?"},{"$error":"#NAME?"}]
[null,null,null,null,null,null,null,null,null,null,null,null,null,null,null,null,null,null,null,null,null,null,null,{"$error":"#NAME?"},{"$error":"#NAME?"}]
[null,null,null,null,null,null,null,null,null,null,null,null,null,null,null,null,null,null,null,null,null,null,null,{"$error":"#NAME?"},{"$error":"#NAME?"}]
[null,null,null,null,null,null,null,null,null,null,null,null,null,null,null,null,null,null,null,null,null,null,null,{"$error":"#NAME?"},{"$error":"#NAME?"}]
[null,null,null,null,null,null,null,null,null,null,null,null,null,null,null,null,null,null,null,null,null,null,null,{"$error":"#NAME?"},{"$error":"#NAME?"}]
[null,null,null,null,null,null,null,null,null,null,null,null,null,null,null,null,null,null,null,null,null,null,null,{"$error":"#NAME?"},{"$error":"#NAME?"}]
[null,null,null,null,null,null,null,null,null,null,null,null,null,null,null,null,null,null,null,null,null,null,null,{"$error":"#NAME?"},{"$error":"#NAME?"}]
[null,null,null,null,null,null,null,null,null,null,null,null,null,null,null,null,null,null,null,null,null,null,null,{"$error":"#NAME?"},{"$error":"#NAME?"}]
[null,null,null,null,null,null,null,null,null,null,null,null,null,null,null,null,null,null,null,null,null,null,null,{"$error":"#NAME?"},{"$error":"#NAME?"}]
[null,null,null,null,null,null,null,null,null,null,null,null,null,null,null,null,null,null,null,null,null,null,null,{"$error":"#NAME?"},{"$error":"#NAME?"}]
[null,null,null,null,null,null,null,null,null,null,null,null,null,null,null,null,null,null,null,null,null,null,null,{"$error":"#NAME?"},{"$error":"#NAME?"}]
[null,null,null,null,null,null,null,null,null,null,null,null,null,null,null,null,null,null,null,null,null,null,null,{"$error":"#NAME?"},{"$error":"#NAME?"}]
[null,null,null,null,null,null,null,null,null,null,null,null,null,null,null,null,null,null,null,null,null,null,null,{"$error":"#NAME?"},{"$error":"#NAME?"}]
[null,null,null,null,null,null,null,null,null,null,null,null,null,null,null,null,null,null,null,null,null,null,null,{"$error":"#NAME?"},{"$error":"#NAME?"}]
[null,null,null,null,null,null,null,null,null,null,null,null,null,null,null,null,null,null,null,null,null,null,null,{"$error":"#NAME?"},{"$error":"#NAME?"}]
[null,null,null,null,null,null,null,null,null,null,null,null,null,null,null,null,null,null,null,null,null,null,null,{"$error":"#NAME?"},{"$error":"#NAME?"}]
[null,null,null,null,null,null,null,null,null,null,null,null,null,null,null,null,null,null,null,null,null,null,null,{"$error":"#NAME?"},{"$error":"#NAME?"}]
[null,null,null,null,null,null,null,null,null,null,null,null,null,null,null,null,null,null,null,null,null,null,null,{"$error":"#NAME?"},{"$error":"#NAME?"}]
[null,null,null,null,null,null,null,null,null,null,null,null,null,null,null,null,null,null,null,null,null,null,null,{"$error":"#NAME?"},{"$error":"#NAME?"}]
[null,null,null,null,null,null,null,null,null,null,null,null,null,null,null,null,null,null,null,null,null,null,null,{"$error":"#NAME?"},{"$error":"#NAME?"}]
[null,null,null,null,null,null,null,null,null,null,null,null,null,null,null,null,null,null,null,null,null,null,null,{"$error":"#NAME?"},{"$error":"#NAME?"}]
[null,null,null,null,null,null,null,null,null,null,null,null,null,null,null,null,null,null,null,null,null,null,null,{"$error":"#NAME?"},{"$error":"#NAME?"}]
[null,null,null,null,null,null,null,null,null,null,null,null,null,null,null,null,null,null,null,null,null,null,null,{"$error":"#NAME?"},{"$error":"#NAME?"}]
[null,null,null,null,null,null,null,null,null,null,null,null,null,null,null,null,null,null,null,null,null,null,null,{"$error":"#NAME?"},{"$error":"#NAME?"}]
[null,null,null,null,null,null,null,null,null,null,null,null,null,null,null,null,null,null,null,null,null,null,null,{"$error":"#NAME?"},{"$error":"#NAME?"}]
[null,null,null,null,null,null,null,null,null,null,null,null,null,null,null,null,null,null,null,null,null,null,null,{"$error":"#NAME?"},{"$error":"#NAME?"}]
[null,null,null,null,null,null,null,null,null,null,null,null,null,null,null,null,null,null,null,null,null,null,null,{"$error":"#NAME?"},{"$error":"#NAME?"}]
[null,null,null,null,null,null,null,null,null,null,null,null,null,null,null,null,null,null,null,null,null,null,null,{"$error":"#NAME?"},{"$error":"#NAME?"}]
[null,null,null,null,null,null,null,null,null,null,null,null,null,null,null,null,null,null,null,null,null,null,null,{"$error":"#NAME?"},{"$error":"#NAME?"}]
[null,null,null,null,null,null,null,null,null,null,null,null,null,null,null,null,null,null,null,null,null,null,null,{"$error":"#NAME?"},{"$error":"#NAME?"}]
[null,null,null,null,null,null,null,null,null,null,null,null,null,null,null,null,null,null,null,null,null,null,null,{"$error":"#NAME?"},{"$error":"#NAME?"}]
[null,null,null,null,null,null,null,null,null,null,null,null,null,null,null,null,null,null,null,null,null,null,null,{"$error":"#NAME?"},{"$error":"#NAME?"}]
[null,null,null,null,null,null,null,null,null,null,null,null,null,null,null,null,null,null,null,null,null,null,null,{"$error":"#NAME?"},{"$error":"#NAME?"}]
[null,null,null,null,null,null,null,null,null,null,null,null,null,null,null,null,null,null,null,null,null,null,null,{"$error":"#NAME?"},{"$error":"#NAME?"}]
[null,null,null,null,null,null,null,null,null,null,null,null,null,null,null,null,null,null,null,null,null,null,null,{"$error":"#NAME?"},{"$error":"#NAME?"}]
[null,null,null,null,null,null,null,null,null,null,null,null,null,null,null,null,null,null,null,null,null,null,null,{"$error":"#NAME?"},{"$error":"#NAME?"}]
[null,null,null,null,null,null,null,null,null,null,null,null,null,null,null,null,null,null,null,null,null,null,null,{"$error":"#NAME?"},{"$error":"#NAME?"}]
[null,null,null,null,null,null,null,null,null,null,null,null,null,null,null,null,null,null,null,null,null,null,null,{"$error":"#NAME?"},{"$error":"#NAME?"}]
[null,null,null,null,null,null,null,null,null,null,null,null,null,null,null,null,null,null,null,null,null,null,null,{"$error":"#NAME?"},{"$error":"#NAME?"}]
[null,null,null,null,null,null,null,null,null,null,null,null,null,null,null,null,null,null,null,null,null,null,null,{"$error":"#NAME?"},{"$error":"#NAME?"}]
[null,null,null,null,null,null,null,null,null,null,null,null,null,null,null,null,null,null,null,null,null,null,null,{"$error":"#NAME?"},{"$error":"#NAME?"}]
[null,null,null,null,null,null,null,null,null,null,null,null,null,null,null,null,null,null,null,null,null,null,null,{"$error":"#NAME?"},{"$error":"#NAME?"}]
[null,null,null,null,null,null,null,null,null,null,null,null,null,null,null,null,null,null,null,null,null,null,null,{"$error":"#NAME?"},{"$error":"#NAME?"}]
[null,null,null,null,null,null,null,null,null,null,null,null,null,null,null,null,null,null,null,null,null,null,null,{"$error":"#NAME?"},{"$error":"#NAME?"}]
[null,null,null,null,null,null,null,null,null,null,null,null,null,null,null,null,null,null,null,null,null,null,null,{"$error":"#NAME?"},{"$error":"#NAME?"}]
[null,null,null,null,null,null,null,null,null,null,null,null,null,null,null,null,null,null,null,null,null,null,null,{"$error":"#NAME?"},{"$error":"#NAME?"}]
[null,null,null,null,null,null,null,null,null,null,null,null,null,null,null,null,null,null,null,null,null,null,null,{"$error":"#NAME?"},{"$error":"#NAME?"}]
[null,null,null,null,null,null,null,null,null,null,null,null,null,null,null,null,null,null,null,null,null,null,null,{"$error":"#NAME?"},{"$error":"#NAME?"}]
[null,null,null,null,null,null,null,null,null,null,null,null,null,null,null,null,null,null,null,null,null,null,null,{"$error":"#NAME?"},{"$error":"#NAME?"}]
[null,null,null,null,null,null,null,null,null,null,null,null,null,null,null,null,null,null,null,null,null,null,null,{"$error":"#NAME?"},{"$error":"#NAME?"}]
[null,null,null,null,null,null,null,null,null,null,null,null,null,null,null,null,null,null,null,null,null,null,null,{"$error":"#NAME?"},{"$error":"#NAME?"}]
[null,null,null,null,null,null,null,null,null,null,null,null,null,null,null,null,null,null,null,null,null,null,null,{"$error":"#NAME?"},{"$error":"#NAME?"}]
[null,null,null,null,null,null,null,null,null,null,null,null,null,null,null,null,null,null,null,null,null,null,null,{"$error":"#NAME?"},{"$error":"#NAME?"}]
[null,null,null,null,null,null,null,null,null,null,null,null,null,null,null,null,null,null,null,null,null,null,null,{"$error":"#NAME?"},{"$error":"#NAME?"}]
[null,null,null,null,null,null,null,null,null,null,null,null,null,null,null,null,null,null,null,null,null,null,null,{"$error":"#NAME?"},{"$error":"#NAME?"}]
[null,null,null,null,null,null,null,null,null,null,null,null,null,null,null,null,null,null,null,null,null,null,null,{"$error":"#NAME?"},{"$error":"#NAME?"}]
[null,null,null,null,null,null,null,null,null,null,null,null,null,null,null,null,null,null,null,null,null,null,null,{"$error":"#NAME?"},{"$error":"#NAME?"}]
[null,null,null,null,null,null,null,null,null,null,null,null,null,null,null,null,null,null,null,null,null,null,null,{"$error":"#NAME?"},{"$error":"#NAME?"}]
[null,null,null,null,null,null,null,null,null,null,null,null,null,null,null,null,null,null,null,null,null,null,null,{"$error":"#NAME?"},{"$error":"#NAME?"}]
[null,null,null,null,null,null,null,null,null,null,null,null,null,null,null,null,null,null,null,null,null,null,null,{"$error":"#NAME?"},{"$error":"#NAME?"}]
[null,null,null,null,null,null,null,null,null,null,null,null,null,null,null,null,null,null,null,null,null,null,null,{"$error":"#NAME?"},{"$error":"#NAME?"}]
[null,null,null,null,null,null,null,null,null,null,null,null,null,null,null,null,null,null,null,null,null,null,null,{"$error":"#NAME?"},{"$error":"#NAME?"}]
[null,null,null,null,null,null,null,null,null,null,null,null,null,null,null,null,null,null,null,null,null,null,null,{"$error":"#NAME?"},{"$error":"#NAME?"}]
[null,null,null,null,null,null,null,null,null,null,null,null,null,null,null,null,null,null,null,null,null,null,null,{"$error":"#NAME?"},{"$error":"#NAME?"}]
[null,null,null,null,null,null,null,null,null,null,null,null,null,null,null,null,null,null,null,null,null,null,null,{"$error":"#NAME?"},{"$error":"#NAME?"}]
[null,null,null,null,null,null,null,null,null,null,null,null,null,null,null,null,null,null,null,null,null,null,null,{"$error":"#NAME?"},{"$error":"#NAME?"}]
[null,null,null,null,null,null,null,null,null,null,null,null,null,null,null,null,null,null,null,null,null,null,null,{"$error":"#NAME?"},{"$error":"#NAME?"}]
[null,null,null,null,null,null,null,null,null,null,null,null,null,null,null,null,null,null,null,null,null,null,null,{"$error":"#NAME?"},{"$error":"#NAME?"}]
[null,null,null,null,null,null,null,null,null,null,null,null,null,null,null,null,null,null,null,null,null,null,null,{"$error":"#NAME?"},{"$error":"#NAME?"}]
[null,null,null,null,null,null,null,null,null,null,null,null,null,null,null,null,null,null,null,null,null,null,null,{"$error":"#NAME?"},{"$error":"#NAME?"}]
[null,null,null,null,null,null,null,null,null,null,null,null,null,null,null,null,null,null,null,null,null,null,null,{"$error":"#NAME?"},{"$error":"#NAME?"}]
[null,null,null,null,null,null,null,null,null,null,null,null,null,null,null,null,null,null,null,null,null,null,null,{"$error":"#NAME?"},{"$error":"#NAME?"}]
[null,null,null,null,null,null,null,null,null,null,null,null,null,null,null,null,null,null,null,null,null,null,null,{"$error":"#NAME?"},{"$error":"#NAME?"}]
[null,null,null,null,null,null,null,null,null,null,null,null,null,null,null,null,null,null,null,null,null,null,null,{"$error":"#NAME?"},{"$error":"#NAME?"}]
[null,null,null,null,null,null,null,null,null,null,null,null,null,null,null,null,null,null,null,null,null,null,null,{"$error":"#NAME?"},{"$error":"#NAME?"}]
[null,null,null,null,null,null,null,null,null,null,null,null,null,null,null,null,null,null,null,null,null,null,null,{"$error":"#NAME?"},{"$error":"#NAME?"}]
[null,null,null,null,null,null,null,null,null,null,null,null,null,null,null,null,null,null,null,null,null,null,null,{"$error":"#NAME?"},{"$error":"#NAME?"}]
[null,null,null,null,null,null,null,null,null,null,null,null,null,null,null,null,null,null,null,null,null,null,null,{"$error":"#NAME?"},{"$error":"#NAME?"}]
[null,null,null,null,null,null,null,null,null,null,null,null,null,null,null,null,null,null,null,null,null,null,null,{"$error":"#NAME?"},{"$error":"#NAME?"}]
[null,null,null,null,null,null,null,null,null,null,null,null,null,null,null,null,null,null,null,null,null,null,null,{"$error":"#NAME?"},{"$error":"#NAME?"}]
[null,null,null,null,null,null,null,null,null,null,null,null,null,null,null,null,null,null,null,null,null,null,null,{"$error":"#NAME?"},{"$error":"#NAME?"}]
[null,null,null,null,null,null,null,null,null,null,null,null,null,null,null,null,null,null,null,null,null,null,null,{"$error":"#NAME?"},{"$error":"#NAME?"}]
[null,null,null,null,null,null,null,null,null,null,null,null,null,null,null,null,null,null,null,null,null,null,null,{"$error":"#NAME?"},{"$error":"#NAME?"}]
[null,null,null,null,null,null,null,null,null,null,null,null,null,null,null,null,null,null,null,null,null,null,null,{"$error":"#NAME?"},{"$error":"#NAME?"}]
[null,null,null,null,null,null,null,null,null,null,null,null,null,null,null,null,null,null,null,null,null,null,null,{"$error":"#NAME?"},{"$error":"#NAME?"}]
[null,null,null,null,null,null,null,null,null,null,null,null,null,null,null,null,null,null,null,null,null,null,null,{"$error":"#NAME?"},{"$error":"#NAME?"}]
[null,null,null,null,null,null,null,null,null,null,null,null,null,null,null,null,null,null,null,null,null,null,null,{"$error":"#NAME?"},{"$error":"#NAME?"}]
[null,null,null,null,null,null,null,null,null,null,null,null,null,null,null,null,null,null,null,null,null,null,null,{"$error":"#NAME?"},{"$error":"#NAME?"}]
[null,null,null,null,null,null,null,null,null,null,null,null,null,null,null,null,null,null,null,null,null,null,null,{"$error":"#NAME?"},{"$error":"#NAME?"}]
[null,null,null,null,null,null,null,null,null,null,null,null,null,null,null,null,null,null,null,null,null,null,null,{"$error":"#NAME?"},{"$error":"#NAME?"}]
[null,null,null,null,null,null,null,null,null,null,null,null,null,null,null,null,null,null,null,null,null,null,null,{"$error":"#NAME?"},{"$error":"#NAME?"}]
[null,null,null,null,null,null,null,null,null,null,null,null,null,null,null,null,null,null,null,null,null,null,null,{"$error":"#NAME?"},{"$error":"#NAME?"}]
[null,null,null,null,null,null,null,null,null,null,null,null,null,null,null,null,null,null,null,null,null,null,null,{"$error":"#NAME?"},{"$error":"#NAME?"}]
[null,null,null,null,null,null,null,null,null,null,null,null,null,null,null,null,null,null,null,null,null,null,null,{"$error":"#NAME?"},{"$error":"#NAME?"}]
[null,null,null,null,null,null,null,null,null,null,null,null,null,null,null,null,null,null,null,null,null,null,null,{"$error":"#NAME?"},{"$error":"#NAME?"}]
[null,null,null,null,null,null,null,null,null,null,null,null,null,null,null,null,null,null,null,null,null,null,null,{"$error":"#NAME?"},{"$error":"#NAME?"}]
[null,null,null,null,null,null,null,null,null,null,null,null,null,null,null,null,null,null,null,null,null,null,null,{"$error":"#NAME?"},{"$error":"#NAME?"}]
[null,null,null,null,null,null,null,null,null,null,null,null,null,null,null,null,null,null,null,null,null,null,null,{"$error":"#NAME?"},{"$error":"#NAME?"}]
[null,null,null,null,null,null,null,null,null,null,null,null,null,null,null,null,null,null,null,null,null,null,null,{"$error":"#NAME?"},{"$error":"#NAME?"}]
[null,null,null,null,null,null,null,null,null,null,null,null,null,null,null,null,null,null,null,null,null,null,null,{"$error":"#NAME?"},{"$error":"#NAME?"}]
[null,null,null,null,null,null,null,null,null,null,null,null,null,null,null,null,null,null,null,null,null,null,null,{"$error":"#NAME?"},{"$error":"#NAME?"}]
[null,null,null,null,null,null,null,null,null,null,null,null,null,null,null,null,null,null,null,null,null,null,null,{"$error":"#NAME?"},{"$error":"#NAME?"}]
[null,null,null,null,null,null,null,null,null,null,null,null,null,null,null,null,null,null,null,null,null,null,null,{"$error":"#NAME?"},{"$error":"#NAME?"}]
[null,null,null,null,null,null,null,null,null,null,null,null,null,null,null,null,null,null,null,null,null,null,null,{"$error":"#NAME?"},{"$error":"#NAME?"}]
[null,null,null,null,null,null,null,null,null,null,null,null,null,null,null,null,null,null,null,null,null,null,null,{"$error":"#NAME?"},{"$error":"#NAME?"}]
[null,null,null,null,null,null,null,null,null,null,null,null,null,null,null,null,null,null,null,null,null,null,null,{"$error":"#NAME?"},{"$error":"#NAME?"}]
[null,null,null,null,null,null,null,null,null,null,null,null,null,null,null,null,null,null,null,null,null,null,null,{"$error":"#NAME?"},{"$error":"#NAME?"}]
[null,null,null,null,null,null,null,null,null,null,null,null,null,null,null,null,null,null,null,null,null,null,null,{"$error":"#NAME?"},{"$error":"#NAME?"}]
[null,null,null,null,null,null,null,null,null,null,null,null,null,null,null,null,null,null,null,null,null,null,null,{"$error":"#NAME?"},{"$error":"#NAME?"}]
[null,null,null,null,null,null,null,null,null,null,null,null,null,null,null,null,null,null,null,null,null,null,null,{"$error":"#NAME?"},{"$error":"#NAME?"}]
[null,null,null,null,null,null,null,null,null,null,null,null,null,null,null,null,null,null,null,null,null,null,null,{"$error":"#NAME?"},{"$error":"#NAME?"}]
[null,null,null,null,null,null,null,null,null,null,null,null,null,null,null,null,null,null,null,null,null,null,null,{"$error":"#NAME?"},{"$error":"#NAME?"}]
[null,null,null,null,null,null,null,null,null,null,null,null,null,null,null,null,null,null,null,null,null,null,null,{"$error":"#NAME?"},{"$error":"#NAME?"}]
[null,null,null,null,null,null,null,null,null,null,null,null,null,null,null,null,null,null,null,null,null,null,null,{"$error":"#NAME?"},{"$error":"#NAME?"}]
[null,null,null,null,null,null,null,null,null,null,null,null,null,null,null,null,null,null,null,null,null,null,null,{"$error":"#NAME?"},{"$error":"#NAME?"}]
[null,null,null,null,null,null,null,null,null,null,null,null,null,null,null,null,null,null,null,null,null,null,null,{"$error":"#NAME?"},{"$error":"#NAME?"}]
[null,null,null,null,null,null,null,null,null,null,null,null,null,null,null,null,null,null,null,null,null,null,null,{"$error":"#NAME?"},{"$error":"#NAME?"}]
[null,null,null,null,null,null,null,null,null,null,null,null,null,null,null,null,null,null,null,null,null,null,null,{"$error":"#NAME?"},{"$error":"#NAME?"}]
[null,null,null,null,null,null,null,null,null,null,null,null,null,null,null,null,null,null,null,null,null,null,null,{"$error":"#NAME?"},{"$error":"#NAME?"}]
[null,null,null,null,null,null,null,null,null,null,null,null,null,null,null,null,null,null,null,null,null,null,null,{"$error":"#NAME?"},{"$error":"#NAME?"}]
[null,null,null,null,null,null,null,null,null,null,null,null,null,null,null,null,null,null,null,null,null,null,null,{"$error":"#NAME?"},{"$error":"#NAME?"}]
[null,null,null,null,null,null,null,null,null,null,null,null,null,null,null,null,null,null,null,null,null,null,null,{"$error":"#NAME?"},{"$error":"#NAME?"}]
[null,null,null,null,null,null,null,null,null,null,null,null,null,null,null,null,null,null,null,null,null,null,null,{"$error":"#NAME?"},{"$error":"#NAME?"}]
[null,null,null,null,null,null,null,null,null,null,null,null,null,null,null,null,null,null,null,null,null,null,null,{"$error":"#NAME?"},{"$error":"#NAME?"}]
[null,null,null,null,null,null,null,null,null,null,null,null,null,null,null,null,null,null,null,null,null,null,null,{"$error":"#NAME?"},{"$error":"#NAME?"}]
[null,null,null,null,null,null,null,null,null,null,null,null,null,null,null,null,null,null,null,null,null,null,null,{"$error":"#NAME?"},{"$error":"#NAME?"}]
[null,null,null,null,null,null,null,null,null,null,null,null,null,null,null,null,null,null,null,null,null,null,null,{"$error":"#NAME?"},{"$error":"#NAME?"}]
[null,null,null,null,null,null,null,null,null,null,null,null,null,null,null,null,null,null,null,null,null,null,null,{"$error":"#NAME?"},{"$error":"#NAME?"}]
[null,null,null,null,null,null,null,null,null,null,null,null,null,null,null,null,null,null,null,null,null,null,null,{"$error":"#NAME?"},{"$error":"#NAME?"}]
[null,null,null,null,null,null,null,null,null,null,null,null,null,null,null,null,null,null,null,null,null,null,null,{"$error":"#NAME?"},{"$error":"#NAME?"}]
[null,null,null,null,null,null,null,null,null,null,null,null,null,null,null,null,null,null,null,null,null,null,null,{"$error":"#NAME?"},{"$error":"#NAME?"}]
[null,null,null,null,null,null,null,null,null,null,null,null,null,null,null,null,null,null,null,null,null,null,null,{"$error":"#NAME?"},{"$error":"#NAME?"}]
[null,null,null,null,null,null,null,null,null,null,null,null,null,null,null,null,null,null,null,null,null,null,null,{"$error":"#NAME?"},{"$error":"#NAME?"}]
[null,null,null,null,null,null,null,null,null,null,null,null,null,null,null,null,null,null,null,null,null,null,null,{"$error":"#NAME?"},{"$error":"#NAME?"}]
[null,null,null,null,null,null,null,null,null,null,null,null,null,null,null,null,null,null,null,null,null,null,null,{"$error":"#NAME?"},{"$error":"#NAME?"}]
[null,null,null,null,null,null,null,null,null,null,null,null,null,null,null,null,null,null,null,null,null,null,null,{"$error":"#NAME?"},{"$error":"#NAME?"}]
[null,null,null,null,null,null,null,null,null,null,null,null,null,null,null,null,null,null,null,null,null,null,null,{"$error":"#NAME?"},{"$error":"#NAME?"}]
[null,null,null,null,null,null,null,null,null,null,null,null,null,null,null,null,null,null,null,null,null,null,null,{"$error":"#NAME?"},{"$error":"#NAME?"}]
[null,null,null,null,null,null,null,null,null,null,null,null,null,null,null,null,null,null,null,null,null,null,null,{"$error":"#NAME?"},{"$error":"#NAME?"}]
[null,null,null,null,null,null,null,null,null,null,null,null,null,null,null,null,null,null,null,null,null,null,null,{"$error":"#NAME?"},{"$error":"#NAME?"}]
[null,null,null,null,null,null,null,null,null,null,null,null,null,null,null,null,null,null,null,null,null,null,null,{"$error":"#NAME?"},{"$error":"#NAME?"}]
[null,null,null,null,null,null,null,null,null,null,null,null,null,null,null,null,null,null,null,null,null,null,null,{"$error":"#NAME?"},{"$error":"#NAME?"}]
[null,null,null,null,null,null,null,null,null,null,null,null,null,null,null,null,null,null,null,null,null,null,null,{"$error":"#NAME?"},{"$error":"#NAME?"}]
[null,null,null,null,null,null,null,null,null,null,null,null,null,null,null,null,null,null,null,null,null,null,null,{"$error":"#NAME?"},{"$error":"#NAME?"}]
[null,null,null,null,null,null,null,null,null,null,null,null,null,null,null,null,null,null,null,null,null,null,null,{"$error":"#NAME?"},{"$error":"#NAME?"}]
[null,null,null,null,null,null,null,null,null,null,null,null,null,null,null,null,null,null,null,null,null,null,null,{"$error":"#NAME?"},{"$error":"#NAME?"}]
[null,null,null,null,null,null,null,null,null,null,null,null,null,null,null,null,null,null,null,null,null,null,null,{"$error":"#NAME?"},{"$error":"#NAME?"}]
[null,null,null,null,null,null,null,null,null,null,null,null,null,null,null,null,null,null,null,null,null,null,null,{"$error":"#NAME?"},{"$error":"#NAME?"}]
[null,null,null,null,null,null,null,null,null,null,null,null,null,null,null,null,null,null,null,null,null,null,null,{"$error":"#NAME?"},{"$error":"#NAME?"}]
[null,null,null,null,null,null,null,null,null,null,null,null,null,null,null,null,null,null,null,null,null,null,null,{"$error":"#NAME?"},{"$error":"#NAME?"}]
[null,null,null,null,null,null,null,null,null,null,null,null,null,null,null,null,null,null,null,null,null,null,null,{"$error":"#NAME?"},{"$error":"#NAME?"}]
[null,null,null,null,null,null,null,null,null,null,null,null,null,null,null,null,null,null,null,null,null,null,null,{"$error":"#NAME?"},{"$error":"#NAME?"}]
[null,null,null,null,null,null,null,null,null,null,null,null,null,null,null,null,null,null,null,null,null,null,null,{"$error":"#NAME?"},{"$error":"#NAME?"}]
[null,null,null,null,null,null,null,null,null,null,null,null,null,null,null,null,null,null,null,null,null,null,null,{"$error":"#NAME?"},{"$error":"#NAME?"}]
[null,null,null,null,null,null,null,null,null,null,null,null,null,null,null,null,null,null,null,null,null,null,null,{"$error":"#NAME?"},{"$error":"#NAME?"}]
[null,null,null,null,null,null,null,null,null,null,null,null,null,null,null,null,null,null,null,null,null,null,null,{"$error":"#NAME?"},{"$error":"#NAME?"}]
[null,null,null,null,null,null,null,null,null,null,null,null,null,null,null,null,null,null,null,null,null,null,null,{"$error":"#NAME?"},{"$error":"#NAME?"}]
[null,null,null,null,null,null,null,null,null,null,null,null,null,null,null,null,null,null,null,null,null,null,null,{"$error":"#NAME?"},{"$error":"#NAME?"}]
[null,null,null,null,null,null,null,null,null,null,null,null,null,null,null,null,null,null,null,null,null,null,null,{"$error":"#NAME?"},{"$error":"#NAME?"}]
[null,null,null,null,null,null,null,null,null,null,null,null,null,null,null,null,null,null,null,null,null,null,null,{"$error":"#NAME?"},{"$error":"#NAME?"}]
[null,null,null,null,null,null,null,null,null,null,null,null,null,null,null,null,null,null,null,null,null,null,null,{"$error":"#NAME?"},{"$error":"#NAME?"}]
[null,null,null,null,null,null,null,null,null,null,null,null,null,null,null,null,null,null,null,null,null,null,null,{"$error":"#NAME?"},{"$error":"#NAME?"}]
[null,null,null,null,null,null,null,null,null,null,null,null,null,null,null,null,null,null,null,null,null,null,null,{"$error":"#NAME?"},{"$error":"#NAME?"}]
[null,null,null,null,null,null,null,null,null,null,null,null,null,null,null,null,null,null,null,null,null,null,null,{"$error":"#NAME?"},{"$error":"#NAME?"}]
[null,null,null,null,null,null,null,null,null,null,null,null,null,null,null,null,null,null,null,null,null,null,null,{"$error":"#NAME?"},{"$error":"#NAME?"}]
[null,null,null,null,null,null,null,null,null,null,null,null,null,null,null,null,null,null,null,null,null,null,null,{"$error":"#NAME?"},{"$error":"#NAME?"}]
[null,null,null,null,null,null,null,null,null,null,null,null,null,null,null,null,null,null,null,null,null,null,null,{"$error":"#NAME?"},{"$error":"#NAME?"}]
[null,null,null,null,null,null,null,null,null,null,null,null,null,null,null,null,null,null,null,null,null,null,null,{"$error":"#NAME?"},{"$error":"#NAME?"}]
[null,null,null,null,null,null,null,null,null,null,null,null,null,null,null,null,null,null,null,null,null,null,null,{"$error":"#NAME?"},{"$error":"#NAME?"}]
[null,null,null,null,null,null,null,null,null,null,null,null,null,null,null,null,null,null,null,null,null,null,null,{"$error":"#NAME?"},{"$error":"#NAME?"}]
[null,null,null,null,null,null,null,null,null,null,null,null,null,null,null,null,null,null,null,null,null,null,null,{"$error":"#NAME?"},{"$error":"#NAME?"}]
[null,null,null,null,null,null,null,null,null,null,null,null,null,null,null,null,null,null,null,null,null,null,null,{"$error":"#NAME?"},{"$error":"#NAME?"}]
[null,null,null,null,null,null,null,null,null,null,null,null,null,null,null,null,null,null,null,null,null,null,null,{"$error":"#NAME?"},{"$error":"#NAME?"}]
[null,null,null,null,null,null,null,null,null,null,null,null,null,null,null,null,null,null,null,null,null,null,null,{"$error":"#NAME?"},{"$error":"#NAME?"}]
[null,null,null,null,null,null,null,null,null,null,null,null,null,null,null,null,null,null,null,null,null,null,null,{"$error":"#NAME?"},{"$error":"#NAME?"}]
[null,null,null,null,null,null,null,null,null,null,null,null,null,null,null,null,null,null,null,null,null,null,null,{"$error":"#NAME?"},{"$error":"#NAME?"}]
[null,null,null,null,null,null,null,null,null,null,null,null,null,null,null,null,null,null,null,null,null,null,null,{"$error":"#NAME?"},{"$error":"#NAME?"}]
[null,null,null,null,null,null,null,null,null,null,null,null,null,null,null,null,null,null,null,null,null,null,null,{"$error":"#NAME?"},{"$error":"#NAME?"}]
[null,null,null,null,null,null,null,null,null,null,null,null,null,null,null,null,null,null,null,null,null,null,null,{"$error":"#NAME?"},{"$error":"#NAME?"}]
[null,null,null,null,null,null,null,null,null,null,null,null,null,null,null,null,null,null,null,null,null,null,null,{"$error":"#NAME?"},{"$error":"#NAME?"}]
[null,null,null,null,null,null,null,null,null,null,null,null,null,null,null,null,null,null,null,null,null,null,null,{"$error":"#NAME?"},{"$error":"#NAME?"}]
[null,null,null,null,null,null,null,null,null,null,null,null,null,null,null,null,null,null,null,null,null,null,null,{"$error":"#NAME?"},{"$error":"#NAME?"}]
[null,null,null,null,null,null,null,null,null,null,null,null,null,null,null,null,null,null,null,null,null,null,null,{"$error":"#NAME?"},{"$error":"#NAME?"}]
[null,null,null,null,null,null,null,null,null,null,null,null,null,null,null,null,null,null,null,null,null,null,null,{"$error":"#NAME?"},{"$error":"#NAME?"}]
[null,null,null,null,null,null,null,null,null,null,null,null,null,null,null,null,null,null,null,null,null,null,null,{"$error":"#NAME?"},{"$error":"#NAME?"}]
[null,null,null,null,null,null,null,null,null,null,null,null,null,null,null,null,null,null,null,null,null,null,null,{"$error":"#NAME?"},{"$error":"#NAME?"}]
[null,null,null,null,null,null,null,null,null,null,null,null,null,null,null,null,null,null,null,null,null,null,null,{"$error":"#NAME?"},{"$error":"#NAME?"}]
[null,null,null,null,null,null,null,null,null,null,null,null,null,null,null,null,null,null,null,null,null,null,null,{"$error":"#NAME?"},{"$error":"#NAME?"}]
[null,null,null,null,null,null,null,null,null,null,null,null,null,null,null,null,null,null,null,null,null,null,null,{"$error":"#NAME?"},{"$error":"#NAME?"}]
[null,null,null,null,null,null,null,null,null,null,null,null,null,null,null,null,null,null,null,null,null,null,null,{"$error":"#NAME?"},{"$error":"#NAME?"}]
[null,null,null,null,null,null,null,null,null,null,null,null,null,null,null,null,null,null,null,null,null,null,null,{"$error":"#NAME?"},{"$error":"#NAME?"}]
[null,null,null,null,null,null,null,null,null,null,null,null,null,null,null,null,null,null,null,null,null,null,null,{"$error":"#NAME?"},{"$error":"#NAME?"}]
[null,null,null,null,null,null,null,null,null,null,null,null,null,null,null,null,null,null,null,null,null,null,null,{"$error":"#NAME?"},{"$error":"#NAME?"}]
[null,null,null,null,null,null,null,null,null,null,null,null,null,null,null,null,null,null,null,null,null,null,null,{"$error":"#NAME?"},{"$error":"#NAME?"}]
[null,null,null,null,null,null,null,null,null,null,null,null,null,null,null,null,null,null,null,null,null,null,null,{"$error":"#NAME?"},{"$error":"#NAME?"}]
[null,null,null,null,null,null,null,null,null,null,null,null,null,null,null,null,null,null,null,null,null,null,null,{"$error":"#NAME?"},{"$error":"#NAME?"}]
[null,null,null,null,null,null,null,null,null,null,null,null,null,null,null,null,null,null,null,null,null,null,null,{"$error":"#NAME?"},{"$error":"#NAME?"}]
[null,null,null,null,null,null,null,null,null,null,null,null,null,null,null,null,null,null,null,null,null,null,null,{"$error":"#NAME?"},{"$error":"#NAME?"}]
[null,null,null,null,null,null,null,null,null,null,null,null,null,null,null,null,null,null,null,null,null,null,null,{"$error":"#NAME?"},{"$error":"#NAME?"}]
[null,null,null,null,null,null,null,null,null,null,null,null,null,null,null,null,null,null,null,null,null,null,null,{"$error":"#NAME?"},{"$error":"#NAME?"}]
[null,null,null,null,null,null,null,null,null,null,null,null,null,null,null,null,null,null,null,null,null,null,null,{"$error":"#NAME?"},{"$error":"#NAME?"}]
[null,null,null,null,null,null,null,null,null,null,null,null,null,null,null,null,null,null,null,null,null,null,null,{"$error":"#NAME?"},{"$error":"#NAME?"}]
[null,null,null,null,null,null,null,null,null,null,null,null,null,null,null,null,null,null,null,null,null,null,null,{"$error":"#NAME?"},{"$error":"#NAME?"}]
[null,null,null,null,null,null,null,null,null,null,null,null,null,null,null,null,null,null,null,null,null,null,null,{"$error":"#NAME?"},{"$error":"#NAME?"}]
[null,null,null,null,null,null,null,null,null,null,null,null,null,null,null,null,null,null,null,null,null,null,null,{"$error":"#NAME?"},{"$error":"#NAME?"}]
[null,null,null,null,null,null,null,null,null,null,null,null,null,null,null,null,null,null,null,null,null,null,null,{"$error":"#NAME?"},{"$error":"#NAME?"}]
[null,null,null,null,null,null,null,null,null,null,null,null,null,null,null,null,null,null,null,null,null,null,null,{"$error":"#NAME?"},{"$error":"#NAME?"}]
[null,null,null,null,null,null,null,null,null,null,null,null,null,null,null,null,null,null,null,null,null,null,null,{"$error":"#NAME?"},{"$error":"#NAME?"}]
[null,null,null,null,null,null,null,null,null,null,null,null,null,null,null,null,null,null,null,null,null,null,null,{"$error":"#NAME?"},{"$error":"#NAME?"}]
[null,null,null,null,null,null,null,null,null,null,null,null,null,null,null,null,null,null,null,null,null,null,null,{"$error":"#NAME?"},{"$error":"#NAME?"}]
[null,null,null,null,null,null,null,null,null,null,null,null,null,null,null,null,null,null,null,null,null,null,null,{"$error":"#NAME?"},{"$error":"#NAME?"}]
[null,null,null,null,null,null,null,null,null,null,null,null,null,null,null,null,null,null,null,null,null,null,null,{"$error":"#NAME?"},{"$error":"#NAME?"}]
[null,null,null,null,null,null,null,null,null,null,null,null,null,null,null,null,null,null,null,null,null,null,null,{"$error":"#NAME?"},{"$error":"#NAME?"}]
[null,null,null,null,null,null,null,null,null,null,null,null,null,null,null,null,null,null,null,null,null,null,null,{"$error":"#NAME?"},{"$error":"#NAME?"}]
[null,null,null,null,null,null,null,null,null,null,null,null,null,null,null,null,null,null,null,null,null,null,null,{"$error":"#NAME?"},{"$error":"#NAME?"}]
[null,null,null,null,null,null,null,null,null,null,null,null,null,null,null,null,null,null,null,null,null,null,null,{"$error":"#NAME?"},{"$error":"#NAME?"}]
[null,null,null,null,null,null,null,null,null,null,null,null,null,null,null,null,null,null,null,null,null,null,null,{"$error":"#NAME?"},{"$error":"#NAME?"}]
[null,null,null,null,null,null,null,null,null,null,null,null,null,null,null,null,null,null,null,null,null,null,null,{"$error":"#NAME?"},{"$error":"#NAME?"}]
[null,null,null,null,null,null,null,null,null,null,null,null,null,null,null,null,null,null,null,null,null,null,null,{"$error":"#NAME?"},{"$error":"#NAME?"}]
[null,null,null,null,null,null,null,null,null,null,null,null,null,null,null,null,null,null,null,null,null,null,null,{"$error":"#NAME?"},{"$error":"#NAME?"}]
[null,null,null,null,null,null,null,null,null,null,null,null,null,null,null,null,null,null,null,null,null,null,null,{"$error":"#NAME?"},{"$error":"#NAME?"}]
[null,null,null,null,null,null,null,null,null,null,null,null,null,null,null,null,null,null,null,null,null,null,null,{"$error":"#NAME?"},{"$error":"#NAME?"}]
[null,null,null,null,null,null,null,null,null,null,null,null,null,null,null,null,null,null,null,null,null,null,null,{"$error":"#NAME?"},{"$error":"#NAME?"}]
[null,null,null,null,null,null,null,null,null,null,null,null,null,null,null,null,null,null,null,null,null,null,null,{"$error":"#NAME?"},{"$error":"#NAME?"}]
[null,null,null,null,null,null,null,null,null,null,null,null,null,null,null,null,null,null,null,null,null,null,null,{"$error":"#NAME?"},{"$error":"#NAME?"}]
[null,null,null,null,null,null,null,null,null,null,null,null,null,null,null,null,null,null,null,null,null,null,null,{"$error":"#NAME?"},{"$error":"#NAME?"}]
[null,null,null,null,null,null,null,null,null,null,null,null,null,null,null,null,null,null,null,null,null,null,null,{"$error":"#NAME?"},{"$error":"#NAME?"}]
[null,null,null,null,null,null,null,null,null,null,null,null,null,null,null,null,null,null,null,null,null,null,null,{"$error":"#NAME?"},{"$error":"#NAME?"}]
[null,null,null,null,null,null,null,null,null,null,null,null,null,null,null,null,null,null,null,null,null,null,null,{"$error":"#NAME?"},{"$error":"#NAME?"}]
[null,null,null,null,null,null,null,null,null,null,null,null,null,null,null,null,null,null,null,null,null,null,null,{"$error":"#NAME?"},{"$error":"#NAME?"}]
[null,null,null,null,null,null,null,null,null,null,null,null,null,null,null,null,null,null,null,null,null,null,null,{"$error":"#NAME?"},{"$error":"#NAME?"}]
[null,null,null,null,null,null,null,null,null,null,null,null,null,null,null,null,null,null,null,null,null,null,null,{"$error":"#NAME?"},{"$error":"#NAME?"}]
[null,null,null,null,null,null,null,null,null,null,null,null,null,null,null,null,null,null,null,null,null,null,null,{"$error":"#NAME?"},{"$error":"#NAME?"}]
[null,null,null,null,null,null,null,null,null,null,null,null,null,null,null,null,null,null,null,null,null,null,null,{"$error":"#NAME?"},{"$error":"#NAME?"}]
[null,null,null,null,null,null,null,null,null,null,null,null,null,null,null,null,null,null,null,null,null,null,null,{"$error":"#NAME?"},{"$error":"#NAME?"}]
[null,null,null,null,null,null,null,null,null,null,null,null,null,null,null,null,null,null,null,null,null,null,null,{"$error":"#NAME?"},{"$error":"#NAME?"}]
[null,null,null,null,null,null,null,null,null,null,null,null,null,null,null,null,null,null,null,null,null,null,null,{"$error":"#NAME?"},{"$error":"#NAME?"}]
[null,null,null,null,null,null,null,null,null,null,null,null,null,null,null,null,null,null,null,null,null,null,null,{"$error":"#NAME?"},{"$error":"#NAME?"}]
[null,null,null,null,null,null,null,null,null,null,null,null,null,null,null,null,null,null,null,null,null,null,null,{"$error":"#NAME?"},{"$error":"#NAME?"}]
[null,null,null,null,null,null,null,null,null,null,null,null,null,null,null,null,null,null,null,null,null,null,null,{"$error":"#NAME?"},{"$error":"#NAME?"}]
[null,null,null,null,null,null,null,null,null,null,null,null,null,null,null,null,null,null,null,null,null,null,null,{"$error":"#NAME?"},{"$error":"#NAME?"}]
[null,null,null,null,null,null,null,null,null,null,null,null,null,null,null,null,null,null,null,null,null,null,null,{"$error":"#NAME?"},{"$error":"#NAME?"}]
[null,null,null,null,null,null,null,null,null,null,null,null,null,null,null,null,null,null,null,null,null,null,null,{"$error":"#NAME?"},{"$error":"#NAME?"}]
[null,null,null,null,null,null,null,null,null,null,null,null,null,null,null,null,null,null,null,null,null,null,null,{"$error":"#NAME?"},{"$error":"#NAME?"}]
[null,null,null,null,null,null,null,null,null,null,null,null,null,null,null,null,null,null,null,null,null,null,null,{"$error":"#NAME?"},{"$error":"#NAME?"}]
[null,null,null,null,null,null,null,null,null,null,null,null,null,null,null,null,null,null,null,null,null,null,null,{"$error":"#NAME?"},{"$error":"#NAME?"}]
[null,null,null,null,null,null,null,null,null,null,null,null,null,null,null,null,null,null,null,null,null,null,null,{"$error":"#NAME?"},{"$error":"#NAME?"}]
[null,null,null,null,null,null,null,null,null,null,null,null,null,null,null,null,null,null,null,null,null,null,null,{"$error":"#NAME?"},{"$error":"#NAME?"}]
[null,null,null,null,null,null,null,null,null,null,null,null,null,null,null,null,null,null,null,null,null,null,null,{"$error":"#NAME?"},{"$error":"#NAME?"}]
[null,null,null,null,null,null,null,null,null,null,null,null,null,null,null,null,null,null,null,null,null,null,null,{"$error":"#NAME?"},{"$error":"#NAME?"}]
[null,null,null,null,null,null,null,null,null,null,null,null,null,null,null,null,null,null,null,null,null,null,null,{"$error":"#NAME?"},{"$error":"#NAME?"}]
[null,null,null,null,null,null,null,null,null,null,null,null,null,null,null,null,null,null,null,null,null,null,null,{"$error":"#NAME?"},{"$error":"#NAME?"}]
[null,null,null,null,null,null,null,null,null,null,null,null,null,null,null,null,null,null,null,null,null,null,null,{"$error":"#NAME?"},{"$error":"#NAME?"}]
[null,null,null,null,null,null,null,null,null,null,null,null,null,null,null,null,null,null,null,null,null,null,null,{"$error":"#NAME?"},{"$error":"#NAME?"}]
[null,null,null,null,null,null,null,null,null,null,null,null,null,null,null,null,null,null,null,null,null,null,null,{"$error":"#NAME?"},{"$error":"#NAME?"}]
[null,null,null,null,null,null,null,null,null,null,null,null,null,null,null,null,null,null,null,null,null,null,null,{"$error":"#NAME?"},{"$error":"#NAME?"}]
[null,null,null,null,null,null,null,null,null,null,null,null,null,null,null,null,null,null,null,null,null,null,null,{"$error":"#NAME?"},{"$error":"#NAME?"}]
[null,null,null,null,null,null,null,null,null,null,null,null,null,null,null,null,null,null,null,null,null,null,null,{"$error":"#NAME?"},{"$error":"#NAME?"}]
[null,null,null,null,null,null,null,null,null,null,null,null,null,null,null,null,null,null,null,null,null,null,null,{"$error":"#NAME?"},{"$error":"#NAME?"}]
[null,null,null,null,null,null,null,null,null,null,null,null,null,null,null,null,null,null,null,null,null,null,null,{"$error":"#NAME?"},{"$error":"#NAME?"}]
[null,null,null,null,null,null,null,null,null,null,null,null,null,null,null,null,null,null,null,null,null,null,null,{"$error":"#NAME?"},{"$error":"#NAME?"}]
[null,null,null,null,null,null,null,null,null,null,null,null,null,null,null,null,null,null,null,null,null,null,null,{"$error":"#NAME?"},{"$error":"#NAME?"}]
[null,null,null,null,null,null,null,null,null,null,null,null,null,null,null,null,null,null,null,null,null,null,null,{"$error":"#NAME?"},{"$error":"#NAME?"}]
[null,null,null,null,null,null,null,null,null,null,null,null,null,null,null,null,null,null,null,null,null,null,null,{"$error":"#NAME?"},{"$error":"#NAME?"}]
[null,null,null,null,null,null,null,null,null,null,null,null,null,null,null,null,null,null,null,null,null,null,null,{"$error":"#NAME?"},{"$error":"#NAME?"}]
[null,null,null,null,null,null,null,null,null,null,null,null,null,null,null,null,null,null,null,null,null,null,null,{"$error":"#NAME?"},{"$error":"#NAME?"}]
[null,null,null,null,null,null,null,null,null,null,null,null,null,null,null,null,null,null,null,null,null,null,null,{"$error":"#NAME?"},{"$error":"#NAME?"}]
[null,null,null,null,null,null,null,null,null,null,null,null,null,null,null,null,null,null,null,null,null,null,null,{"$error":"#NAME?"},{"$error":"#NAME?"}]
[null,null,null,null,null,null,null,null,null,null,null,null,null,null,null,null,null,null,null,null,null,null,null,{"$error":"#NAME?"},{"$error":"#NAME?"}]
[null,null,null,null,null,null,null,null,null,null,null,null,null,null,null,null,null,null,null,null,null,null,null,{"$error":"#NAME?"},{"$error":"#NAME?"}]
[null,null,null,null,null,null,null,null,null,null,null,null,null,null,null,null,null,null,null,null,null,null,null,{"$error":"#NAME?"},{"$error":"#NAME?"}]
[null,null,null,null,null,null,null,null,null,null,null,null,null,null,null,null,null,null,null,null,null,null,null,{"$error":"#NAME?"},{"$error":"#NAME?"}]
[null,null,null,null,null,null,null,null,null,null,null,null,null,null,null,null,null,null,null,null,null,null,null,{"$error":"#NAME?"},{"$error":"#NAME?"}]
[null,null,null,null,null,null,null,null,null,null,null,null,null,null,null,null,null,null,null,null,null,null,null,{"$error":"#NAME?"},{"$error":"#NAME?"}]
[null,null,null,null,null,null,null,null,null,null,null,null,null,null,null,null,null,null,null,null,null,null,null,{"$error":"#NAME?"},{"$error":"#NAME?"}]
[null,null,null,null,null,null,null,null,null,null,null,null,null,null,null,null,null,null,null,null,null,null,null,{"$error":"#NAME?"},{"$error":"#NAME?"}]
[null,null,null,null,null,null,null,null,null,null,null,null,null,null,null,null,null,null,null,null,null,null,null,{"$error":"#NAME?"},{"$error":"#NAME?"}]
[null,null,null,null,null,null,null,null,null,null,null,null,null,null,null,null,null,null,null,null,null,null,null,{"$error":"#NAME?"},{"$error":"#NAME?"}]
[null,null,null,null,null,null,null,null,null,null,null,null,null,null,null,null,null,null,null,null,null,null,null,{"$error":"#NAME?"},{"$error":"#NAME?"}]
[null,null,null,null,null,null,null,null,null,null,null,null,null,null,null,null,null,null,null,null,null,null,null,{"$error":"#NAME?"},{"$error":"#NAME?"}]
[null,null,null,null,null,null,null,null,null,null,null,null,null,null,null,null,null,null,null,null,null,null,null,{"$error":"#NAME?"},{"$error":"#NAME?"}]
[null,null,null,null,null,null,null,null,null,null,null,null,null,null,null,null,null,null,null,null,null,null,null,{"$error":"#NAME?"},{"$error":"#NAME?"}]
[null,null,null,null,null,null,null,null,null,null,null,null,null,null,null,null,null,null,null,null,null,null,null,{"$error":"#NAME?"},{"$error":"#NAME?"}]
[null,null,null,null,null,null,null,null,null,null,null,null,null,null,null,null,null,null,null,null,null,null,null,{"$error":"#NAME?"},{"$error":"#NAME?"}]
[null,null,null,null,null,null,null,null,null,null,null,null,null,null,null,null,null,null,null,null,null,null,null,{"$error":"#NAME?"},{"$error":"#NAME?"}]
[null,null,null,null,null,null,null,null,null,null,null,null,null,null,null,null,null,null,null,null,null,null,null,{"$error":"#NAME?"},{"$error":"#NAME?"}]
[null,null,null,null,null,null,null,null,null,null,null,null,null,null,null,null,null,null,null,null,null,null,null,{"$error":"#NAME?"},{"$error":"#NAME?"}]
[null,null,null,null,null,null,null,null,null,null,null,null,null,null,null,null,null,null,null,null,null,null,null,{"$error":"#NAME?"},{"$error":"#NAME?"}]
[null,null,null,null,null,null,null,null,null,null,null,null,null,null,null,null,null,null,null,null,null,null,null,{"$error":"#NAME?"},{"$error":"#NAME?"}]
[null,null,null,null,null,null,null,null,null,null,null,null,null,null,null,null,null,null,null,null,null,null,null,{"$error":"#NAME?"},{"$error":"#NAME?"}]
[null,null,null,null,null,null,null,null,null,null,null,null,null,null,null,null,null,null,null,null,null,null,null,{"$error":"#NAME?"},{"$error":"#NAME?"}]
[null,null,null,null,null,null,null,null,null,null,null,null,null,null,null,null,null,null,null,null,null,null,null,{"$error":"#NAME?"},{"$error":"#NAME?"}]
[null,null,null,null,null,null,null,null,null,null,null,null,null,null,null,null,null,null,null,null,null,null,null,{"$error":"#NAME?"},{"$error":"#NAME?"}]
[null,null,null,null,null,null,null,null,null,null,null,null,null,null,null,null,null,null,null,null,null,null,null,{"$error":"#NAME?"},{"$error":"#NAME?"}]
[null,null,null,null,null,null,null,null,null,null,null,null,null,null,null,null,null,null,null,null,null,null,null,{"$error":"#NAME?"},{"$error":"#NAME?"}]
[null,null,null,null,null,null,null,null,null,null,null,null,null,null,null,null,null,null,null,null,null,null,null,{"$error":"#NAME?"},{"$error":"#NAME?"}]
[null,null,null,null,null,null,null,null,null,null,null,null,null,null,null,null,null,null,null,null,null,null,null,{"$error":"#NAME?"},{"$error":"#NAME?"}]
[null,null,null,null,null,null,null,null,null,null,null,null,null,null,null,null,null,null,null,null,null,null,null,{"$error":"#NAME?"},{"$error":"#NAME?"}]
[null,null,null,null,null,null,null,null,null,null,null,null,null,null,null,null,null,null,null,null,null,null,null,{"$error":"#NAME?"},{"$error":"#NAME?"}]
[null,null,null,null,null,null,null,null,null,null,null,null,null,null,null,null,null,null,null,null,null,null,null,{"$error":"#NAME?"},{"$error":"#NAME?"}]
[null,null,null,null,null,null,null,null,null,null,null,null,null,null,null,null,null,null,null,null,null,null,null,{"$error":"#NAME?"},{"$error":"#NAME?"}]
[null,null,null,null,null,null,null,null,null,null,null,null,null,null,null,null,null,null,null,null,null,null,null,{"$error":"#NAME?"},{"$error":"#NAME?"}]
[null,null,null,null,null,null,null,null,null,null,null,null,null,null,null,null,null,null,null,null,null,null,null,{"$error":"#NAME?"},{"$error":"#NAME?"}]
[null,null,null,null,null,null,null,null,null,null,null,null,null,null,null,null,null,null,null,null,null,null,null,{"$error":"#NAME?"},{"$error":"#NAME?"}]
[null,null,null,null,null,null,null,null,null,null,null,null,null,null,null,null,null,null,null,null,null,null,null,{"$error":"#NAME?"},{"$error":"#NAME?"}]
[null,null,null,null,null,null,null,null,null,null,null,null,null,null,null,null,null,null,null,null,null,null,null,{"$error":"#NAME?"},{"$error":"#NAME?"}]
[null,null,null,null,null,null,null,null,null,null,null,null,null,null,null,null,null,null,null,null,null,null,null,{"$error":"#NAME?"},{"$error":"#NAME?"}]
[null,null,null,null,null,null,null,null,null,null,null,null,null,null,null,null,null,null,null,null,null,null,null,{"$error":"#NAME?"},{"$error":"#NAME?"}]
[null,null,null,null,null,null,null,null,null,null,null,null,null,null,null,null,null,null,null,null,null,null,null,{"$error":"#NAME?"},{"$error":"#NAME?"}]
[null,null,null,null,null,null,null,null,null,null,null,null,null,null,null,null,null,null,null,null,null,null,null,{"$error":"#NAME?"},{"$error":"#NAME?"}]
[null,null,null,null,null,null,null,null,null,null,null,null,null,null,null,null,null,null,null,null,null,null,null,{"$error":"#NAME?"},{"$error":"#NAME?"}]
[null,null,null,null,null,null,null,null,null,null,null,null,null,null,null,null,null,null,null,null,null,null,null,{"$error":"#NAME?"},{"$error":"#NAME?"}]
[null,null,null,null,null,null,null,null,null,null,null,null,null,null,null,null,null,null,null,null,null,null,null,{"$error":"#NAME?"},{"$error":"#NAME?"}]
[null,null,null,null,null,null,null,null,null,null,null,null,null,null,null,null,null,null,null,null,null,null,null,{"$error":"#NAME?"},{"$error":"#NAME?"}]
[null,null,null,null,null,null,null,null,null,null,null,null,null,null,null,null,null,null,null,null,null,null,null,{"$error":"#NAME?"},{"$error":"#NAME?"}]
[null,null,null,null,null,null,null,null,null,null,null,null,null,null,null,null,null,null,null,null,null,null,null,{"$error":"#NAME?"},{"$error":"#NAME?"}]
[null,null,null,null,null,null,null,null,null,null,null,null,null,null,null,null,null,null,null,null,null,null,null,{"$error":"#NAME?"},{"$error":"#NAME?"}]
[null,null,null,null,null,null,null,null,null,null,null,null,null,null,null,null,null,null,null,null,null,null,null,{"$error":"#NAME?"},{"$error":"#NAME?"}]
[null,null,null,null,null,null,null,null,null,null,null,null,null,null,null,null,null,null,null,null,null,null,null,{"$error":"#NAME?"},{"$error":"#NAME?"}]
[null,null,null,null,null,null,null,null,null,null,null,null,null,null,null,null,null,null,null,null,null,null,null,{"$error":"#NAME?"},{"$error":"#NAME?"}]
[null,null,null,null,null,null,null,null,null,null,null,null,null,null,null,null,null,null,null,null,null,null,null,{"$error":"#NAME?"},{"$error":"#NAME?"}]
[null,null,null,null,null,null,null,null,null,null,null,null,null,null,null,null,null,null,null,null,null,null,null,{"$error":"#NAME?"},{"$error":"#NAME?"}]
[null,null,null,null,null,null,null,null,null,null,null,null,null,null,null,null,null,null,null,null,null,null,null,{"$error":"#NAME?"},{"$error":"#NAME?"}]
[null,null,null,null,null,null,null,null,null,null,null,null,null,null,null,null,null,null,null,null,null,null,null,{"$error":"#NAME?"},{"$error":"#NAME?"}]
[null,null,null,null,null,null,null,null,null,null,null,null,null,null,null,null,null,null,null,null,null,null,null,{"$error":"#NAME?"},{"$error":"#NAME?"}]
[null,null,null,null,null,null,null,null,null,null,null,null,null,null,null,null,null,null,null,null,null,null,null,{"$error":"#NAME?"},{"$error":"#NAME?"}]
[null,null,null,null,null,null,null,null,null,null,null,null,null,null,null,null,null,null,null,null,null,null,null,{"$error":"#NAME?"},{"$error":"#NAME?"}]
[null,null,null,null,null,null,null,null,null,null,null,null,null,null,null,null,null,null,null,null,null,null,null,{"$error":"#NAME?"},{"$error":"#NAME?"}]
[null,null,null,null,null,null,null,null,null,null,null,null,null,null,null,null,null,null,null,null,null,null,null,{"$error":"#NAME?"},{"$error":"#NAME?"}]
[null,null,null,null,null,null,null,null,null,null,null,null,null,null,null,null,null,null,null,null,null,null,null,{"$error":"#NAME?"},{"$error":"#NAME?"}]
[null,null,null,null,null,null,null,null,null,null,null,null,null,null,null,null,null,null,null,null,null,null,null,{"$error":"#NAME?"},{"$error":"#NAME?"}]
[null,null,null,null,null,null,null,null,null,null,null,null,null,null,null,null,null,null,null,null,null,null,null,{"$error":"#NAME?"},{"$error":"#NAME?"}]
[null,null,null,null,null,null,null,null,null,null,null,null,null,null,null,null,null,null,null,null,null,null,null,{"$error":"#NAME?"},{"$error":"#NAME?"}]
[null,null,null,null,null,null,null,null,null,null,null,null,null,null,null,null,null,null,null,null,null,null,null,{"$error":"#NAME?"},{"$error":"#NAME?"}]
[null,null,null,null,null,null,null,null,null,null,null,null,null,null,null,null,null,null,null,null,null,null,null,{"$error":"#NAME?"},{"$error":"#NAME?"}]
[null,null,null,null,null,null,null,null,null,null,null,null,null,null,null,null,null,null,null,null,null,null,null,{"$error":"#NAME?"},{"$error":"#NAME?"}]
[null,null,null,null,null,null,null,null,null,null,null,null,null,null,null,null,null,null,null,null,null,null,null,{"$error":"#NAME?"},{"$error":"#NAME?"}]
[null,null,null,null,null,null,null,null,null,null,null,null,null,null,null,null,null,null,null,null,null,null,null,{"$error":"#NAME?"},{"$error":"#NAME?"}]
[null,null,null,null,null,null,null,null,null,null,null,null,null,null,null,null,null,null,null,null,null,null,null,{"$error":"#NAME?"},{"$error":"#NAME?"}]
[null,null,null,null,null,null,null,null,null,null,null,null,null,null,null,null,null,null,null,null,null,null,null,{"$error":"#NAME?"},{"$error":"#NAME?"}]
[null,null,null,null,null,null,null,null,null,null,null,null,null,null,null,null,null,null,null,null,null,null,null,{"$error":"#NAME?"},{"$error":"#NAME?"}]
[null,null,null,null,null,null,null,null,null,null,null,null,null,null,null,null,null,null,null,null,null,null,null,{"$error":"#NAME?"},{"$error":"#NAME?"}]
[null,null,null,null,null,null,null,null,null,null,null,null,null,null,null,null,null,null,null,null,null,null,null,{"$error":"#NAME?"},{"$error":"#NAME?"}]
[null,null,null,null,null,null,null,null,null,null,null,null,null,null,null,null,null,null,null,null,null,null,null,{"$error":"#NAME?"},{"$error":"#NAME?"}]
[null,null,null,null,null,null,null,null,null,null,null,null,null,null,null,null,null,null,null,null,null,null,null,{"$error":"#NAME?"},{"$error":"#NAME?"}]
[null,null,null,null,null,null,null,null,null,null,null,null,null,null,null,null,null,null,null,null,null,null,null,{"$error":"#NAME?"},{"$error":"#NAME?"}]
[null,null,null,null,null,null,null,null,null,null,null,null,null,null,null,null,null,null,null,null,null,null,null,{"$error":"#NAME?"},{"$error":"#NAME?"}]
[null,null,null,null,null,null,null,null,null,null,null,null,null,null,null,null,null,null,null,null,null,null,null,{"$error":"#NAME?"},{"$error":"#NAME?"}]
[null,null,null,null,null,null,null,null,null,null,null,null,null,null,null,null,null,null,null,null,null,null,null,{"$error":"#NAME?"},{"$error":"#NAME?"}]
[null,null,null,null,null,null,null,null,null,null,null,null,null,null,null,null,null,null,null,null,null,null,null,{"$error":"#NAME?"},{"$error":"#NAME?"}]
[null,null,null,null,null,null,null,null,null,null,null,null,null,null,null,null,null,null,null,null,null,null,null,{"$error":"#NAME?"},{"$error":"#NAME?"}]
[null,null,null,null,null,null,null,null,null,null,null,null,null,null,null,null,null,null,null,null,null,null,null,{"$error":"#NAME?"},{"$error":"#NAME?"}]
[null,null,null,null,null,null,null,null,null,null,null,null,null,null,null,null,null,null,null,null,null,null,null,{"$error":"#NAME?"},{"$error":"#NAME?"}]
[null,null,null,null,null,null,null,null,null,null,null,null,null,null,null,null,null,null,null,null,null,null,null,{"$error":"#NAME?"},{"$error":"#NAME?"}]
[null,null,null,null,null,null,null,null,null,null,null,null,null,null,null,null,null,null,null,null,null,null,null,{"$error":"#NAME?"},{"$error":"#NAME?"}]
[null,null,null,null,null,null,null,null,null,null,null,null,null,null,null,null,null,null,null,null,null,null,null,{"$error":"#NAME?"},{"$error":"#NAME?"}]
[null,null,null,null,null,null,null,null,null,null,null,null,null,null,null,null,null,null,null,null,null,null,null,{"$error":"#NAME?"},{"$error":"#NAME?"}]
[null,null,null,null,null,null,null,null,null,null,null,null,null,null,null,null,null,null,null,null,null,null,null,{"$error":"#NAME?"},{"$error":"#NAME?"}]
[null,null,null,null,null,null,null,null,null,null,null,null,null,null,null,null,null,null,null,null,null,null,null,{"$error":"#NAME?"},{"$error":"#NAME?"}]
[null,null,null,null,null,null,null,null,null,null,null,null,null,null,null,null,null,null,null,null,null,null,null,{"$error":"#NAME?"},{"$error":"#NAME?"}]
[null,null,null,null,null,null,null,null,null,null,null,null,null,null,null,null,null,null,null,null,null,null,null,{"$error":"#NAME?"},{"$error":"#NAME?"}]
[null,null,null,null,null,null,null,null,null,null,null,null,null,null,null,null,null,null,null,null,null,null,null,{"$error":"#NAME?"},{"$error":"#NAME?"}]
[null,null,null,null,null,null,null,null,null,null,null,null,null,null,null,null,null,null,null,null,null,null,null,{"$error":"#NAME?"},{"$error":"#NAME?"}]
[null,null,null,null,null,null,null,null,null,null,null,null,null,null,null,null,null,null,null,null,null,null,null,{"$error":"#NAME?"},{"$error":"#NAME?"}]
[null,null,null,null,null,null,null,null,null,null,null,null,null,null,null,null,null,null,null,null,null,null,null,{"$error":"#NAME?"},{"$error":"#NAME?"}]
[null,null,null,null,null,null,null,null,null,null,null,null,null,null,null,null,null,null,null,null,null,null,null,{"$error":"#NAME?"},{"$error":"#NAME?"}]
[null,null,null,null,null,null,null,null,null,null,null,null,null,null,null,null,null,null,null,null,null,null,null,{"$error":"#NAME?"},{"$error":"#NAME?"}]
[null,null,null,null,null,null,null,null,null,null,null,null,null,null,null,null,null,null,null,null,null,null,null,{"$error":"#NAME?"},{"$error":"#NAME?"}]
[null,null,null,null,null,null,null,null,null,null,null,null,null,null,null,null,null,null,null,null,null,null,null,{"$error":"#NAME?"},{"$error":"#NAME?"}]
[null,null,null,null,null,null,null,null,null,null,null,null,null,null,null,null,null,null,null,null,null,null,null,{"$error":"#NAME?"},{"$error":"#NAME?"}]
[null,null,null,null,null,null,null,null,null,null,null,null,null,null,null,null,null,null,null,null,null,null,null,{"$error":"#NAME?"},{"$error":"#NAME?"}]
[null,null,null,null,null,null,null,null,null,null,null,null,null,null,null,null,null,null,null,null,null,null,null,{"$error":"#NAME?"},{"$error":"#NAME?"}]
[null,null,null,null,null,null,null,null,null,null,null,null,null,null,null,null,null,null,null,null,null,null,null,{"$error":"#NAME?"},{"$error":"#NAME?"}]
[null,null,null,null,null,null,null,null,null,null,null,null,null,null,null,null,null,null,null,null,null,null,null,{"$error":"#NAME?"},{"$error":"#NAME?"}]
[null,null,null,null,null,null,null,null,null,null,null,null,null,null,null,null,null,null,null,null,null,null,null,{"$error":"#NAME?"},{"$error":"#NAME?"}]
[null,null,null,null,null,null,null,null,null,null,null,null,null,null,null,null,null,null,null,null,null,null,null,{"$error":"#NAME?"},{"$error":"#NAME?"}]
[null,null,null,null,null,null,null,null,null,null,null,null,null,null,null,null,null,null,null,null,null,null,null,{"$error":"#NAME?"},{"$error":"#NAME?"}]
[null,null,null,null,null,null,null,null,null,null,null,null,null,null,null,null,null,null,null,null,null,null,null,{"$error":"#NAME?"},{"$error":"#NAME?"}]
[null,null,null,null,null,null,null,null,null,null,null,null,null,null,null,null,null,null,null,null,null,null,null,{"$error":"#NAME?"},{"$error":"#NAME?"}]
[null,null,null,null,null,null,null,null,null,null,null,null,null,null,null,null,null,null,null,null,null,null,null,{"$error":"#NAME?"},{"$error":"#NAME?"}]
[null,null,null,null,null,null,null,null,null,null,null,null,null,null,null,null,null,null,null,null,null,null,null,{"$error":"#NAME?"},{"$error":"#NAME?"}]
[null,null,null,null,null,null,null,null,null,null,null,null,null,null,null,null,null,null,null,null,null,null,null,{"$error":"#NAME?"},{"$error":"#NAME?"}]
[null,null,null,null,null,null,null,null,null,null,null,null,null,null,null,null,null,null,null,null,null,null,null,{"$error":"#NAME?"},{"$error":"#NAME?"}]
[null,null,null,null,null,null,null,null,null,null,null,null,null,null,null,null,null,null,null,null,null,null,null,{"$error":"#NAME?"},{"$error":"#NAME?"}]
[null,null,null,null,null,null,null,null,null,null,null,null,null,null,null,null,null,null,null,null,null,null,null,{"$error":"#NAME?"},{"$error":"#NAME?"}]
[null,null,null,null,null,null,null,null,null,null,null,null,null,null,null,null,null,null,null,null,null,null,null,{"$error":"#NAME?"},{"$error":"#NAME?"}]
[null,null,null,null,null,null,null,null,null,null,null,null,null,null,null,null,null,null,null,null,null,null,null,{"$error":"#NAME?"},{"$error":"#NAME?"}]
[null,null,null,null,null,null,null,null,null,null,null,null,null,null,null,null,null,null,null,null,null,null,null,{"$error":"#NAME?"},{"$error":"#NAME?"}]
[null,null,null,null,null,null,null,null,null,null,null,null,null,null,null,null,null,null,null,null,null,null,null,{"$error":"#NAME?"},{"$error":"#NAME?"}]
[null,null,null,null,null,null,null,null,null,null,null,null,null,null,null,null,null,null,null,null,null,null,null,{"$error":"#NAME?"},{"$error":"#NAME?"}]
[null,null,null,null,null,null,null,null,null,null,null,null,null,null,null,null,null,null,null,null,null,null,null,{"$error":"#NAME?"},{"$error":"#NAME?"}]
[null,null,null,null,null,null,null,null,null,null,null,null,null,null,null,null,null,null,null,null,null,null,null,{"$error":"#NAME?"},{"$error":"#NAME?"}]
[null,null,null,null,null,null,null,null,null,null,null,null,null,null,null,null,null,null,null,null,null,null,null,{"$error":"#NAME?"},{"$error":"#NAME?"}]
[null,null,null,null,null,null,null,null,null,null,null,null,null,null,null,null,null,null,null,null,null,null,null,{"$error":"#NAME?"},{"$error":"#NAME?"}]
[null,null,null,null,null,null,null,null,null,null,null,null,null,null,null,null,null,null,null,null,null,null,null,{"$error":"#NAME?"},{"$error":"#NAME?"}]
[null,null,null,null,null,null,null,null,null,null,null,null,null,null,null,null,null,null,null,null,null,null,null,{"$error":"#NAME?"},{"$error":"#NAME?"}]
[null,null,null,null,null,null,null,null,null,null,null,null,null,null,null,null,null,null,null,null,null,null,null,{"$error":"#NAME?"},{"$error":"#NAME?"}]
[null,null,null,null,null,null,null,null,null,null,null,null,null,null,null,null,null,null,null,null,null,null,null,{"$error":"#NAME?"},{"$error":"#NAME?"}]
[null,null,null,null,null,null,null,null,null,null,null,null,null,null,null,null,null,null,null,null,null,null,null,{"$error":"#NAME?"},{"$error":"#NAME?"}]
[null,null,null,null,null,null,null,null,null,null,null,null,null,null,null,null,null,null,null,null,null,null,null,{"$error":"#NAME?"},{"$error":"#NAME?"}]
[null,null,null,null,null,null,null,null,null,null,null,null,null,null,null,null,null,null,null,null,null,null,null,{"$error":"#NAME?"},{"$error":"#NAME?"}]
[null,null,null,null,null,null,null,null,null,null,null,null,null,null,null,null,null,null,null,null,null,null,null,{"$error":"#NAME?"},{"$error":"#NAME?"}]
[null,null,null,null,null,null,null,null,null,null,null,null,null,null,null,null,null,null,null,null,null,null,null,{"$error":"#NAME?"},{"$error":"#NAME?"}]
[null,null,null,null,null,null,null,null,null,null,null,null,null,null,null,null,null,null,null,null,null,null,null,{"$error":"#NAME?"},{"$error":"#NAME?"}]
[null,null,null,null,null,null,null,null,null,null,null,null,null,null,null,null,null,null,null,null,null,null,null,{"$error":"#NAME?"},{"$error":"#NAME?"}]
[null,null,null,null,null,null,null,null,null,null,null,null,null,null,null,null,null,null,null,null,null,null,null,{"$error":"#NAME?"},{"$error":"#NAME?"}]
[null,null,null,null,null,null,null,null,null,null,null,null,null,null,null,null,null,null,null,null,null,null,null,{"$error":"#NAME?"},{"$error":"#NAME?"}]
[null,null,null,null,null,null,null,null,null,null,null,null,null,null,null,null,null,null,null,null,null,null,null,{"$error":"#NAME?"},{"$error":"#NAME?"}]
[null,null,null,null,null,null,null,null,null,null,null,null,null,null,null,null,null,null,null,null,null,null,null,{"$error":"#NAME?"},{"$error":"#NAME?"}]
[null,null,null,null,null,null,null,null,null,null,null,null,null,null,null,null,null,null,null,null,null,null,null,{"$error":"#NAME?"},{"$error":"#NAME?"}]
[null,null,null,null,null,null,null,null,null,null,null,null,null,null,null,null,null,null,null,null,null,null,null,{"$error":"#NAME?"},{"$error":"#NAME?"}]
[null,null,null,null,null,null,null,null,null,null,null,null,null,null,null,null,null,null,null,null,null,null,null,{"$error":"#NAME?"},{"$error":"#NAME?"}]
[null,null,null,null,null,null,null,null,null,null,null,null,null,null,null,null,null,null,null,null,null,null,null,{"$error":"#NAME?"},{"$error":"#NAME?"}]
[null,null,null,null,null,null,null,null,null,null,null,null,null,null,null,null,null,null,null,null,null,null,null,{"$error":"#NAME?"},{"$error":"#NAME?"}]
[null,null,null,null,null,null,null,null,null,null,null,null,null,null,null,null,null,null,null,null,null,null,null,{"$error":"#NAME?"},{"$error":"#NAME?"}]
[null,null,null,null,null,null,null,null,null,null,null,null,null,null,null,null,null,null,null,null,null,null,null,{"$error":"#NAME?"},{"$error":"#NAME?"}]
[null,null,null,null,null,null,null,null,null,null,null,null,null,null,null,null,null,null,null,null,null,null,null,{"$error":"#NAME?"},{"$error":"#NAME?"}]
[null,null,null,null,null,null,null,null,null,null,null,null,null,null,null,null,null,null,null,null,null,null,null,{"$error":"#NAME?"},{"$error":"#NAME?"}]
[null,null,null,null,null,null,null,null,null,null,null,null,null,null,null,null,null,null,null,null,null,null,null,{"$error":"#NAME?"},{"$error":"#NAME?"}]
[null,null,null,null,null,null,null,null,null,null,null,null,null,null,null,null,null,null,null,null,null,null,null,{"$error":"#NAME?"},{"$error":"#NAME?"}]
[null,null,null,null,null,null,null,null,null,null,null,null,null,null,null,null,null,null,null,null,null,null,null,{"$error":"#NAME?"},{"$error":"#NAME?"}]
[null,null,null,null,null,null,null,null,null,null,null,null,null,null,null,null,null,null,null,null,null,null,null,{"$error":"#NAME?"},{"$error":"#NAME?"}]
[null,null,null,null,null,null,null,null,null,null,null,null,null,null,null,null,null,null,null,null,null,null,null,{"$error":"#NAME?"},{"$error":"#NAME?"}]
[null,null,null,null,null,null,null,null,null,null,null,null,null,null,null,null,null,null,null,null,null,null,null,{"$error":"#NAME?"},{"$error":"#NAME?"}]
[null,null,null,null,null,null,null,null,null,null,null,null,null,null,null,null,null,null,null,null,null,null,null,{"$error":"#NAME?"},{"$error":"#NAME?"}]
[null,null,null,null,null,null,null,null,null,null,null,null,null,null,null,null,null,null,null,null,null,null,null,{"$error":"#NAME?"},{"$error":"#NAME?"}]
[null,null,null,null,null,null,null,null,null,null,null,null,null,null,null,null,null,null,null,null,null,null,null,{"$error":"#NAME?"},{"$error":"#NAME?"}]
[null,null,null,null,null,null,null,null,null,null,null,null,null,null,null,null,null,null,null,null,null,null,null,{"$error":"#NAME?"},{"$error":"#NAME?"}]
[null,null,null,null,null,null,null,null,null,null,null,null,null,null,null,null,null,null,null,null,null,null,null,{"$error":"#NAME?"},{"$error":"#NAME?"}]
[null,null,null,null,null,null,null,null,null,null,null,null,null,null,null,null,null,null,null,null,null,null,null,{"$error":"#NAME?"},{"$error":"#NAME?"}]
[null,null,null,null,null,null,null,null,null,null,null,null,null,null,null,null,null,null,null,null,null,null,null,{"$error":"#NAME?"},{"$error":"#NAME?"}]
[null,null,null,null,null,null,null,null,null,null,null,null,null,null,null,null,null,null,null,null,null,null,null,{"$error":"#NAME?"},{"$error":"#NAME?"}]
[null,null,null,null,null,null,null,null,null,null,null,null,null,null,null,null,null,null,null,null,null,null,null,{"$error":"#NAME?"},{"$error":"#NAME?"}]
[null,null,null,null,null,null,null,null,null,null,null,null,null,null,null,null,null,null,null,null,null,null,null,{"$error":"#NAME?"},{"$error":"#NAME?"}]
[null,null,null,null,null,null,null,null,null,null,null,null,null,null,null,null,null,null,null,null,null,null,null,{"$error":"#NAME?"},{"$error":"#NAME?"}]
[null,null,null,null,null,null,null,null,null,null,null,null,null,null,null,null,null,null,null,null,null,null,null,{"$error":"#NAME?"},{"$error":"#NAME?"}]
[null,null,null,null,null,null,null,null,null,null,null,null,null,null,null,null,null,null,null,null,null,null,null,{"$error":"#NAME?"},{"$error":"#NAME?"}]
[null,null,null,null,null,null,null,null,null,null,null,null,null,null,null,null,null,null,null,null,null,null,null,{"$error":"#NAME?"},{"$error":"#NAME?"}]
[null,null,null,null,null,null,null,null,null,null,null,null,null,null,null,null,null,null,null,null,null,null,null,{"$error":"#NAME?"},{"$error":"#NAME?"}]
[null,null,null,null,null,null,null,null,null,null,null,null,null,null,null,null,null,null,null,null,null,null,null,{"$error":"#NAME?"},{"$error":"#NAME?"}]
[null,null,null,null,null,null,null,null,null,null,null,null,null,null,null,null,null,null,null,null,null,null,null,{"$error":"#NAME?"},{"$error":"#NAME?"}]
[null,null,null,null,null,null,null,null,null,null,null,null,null,null,null,null,null,null,null,null,null,null,null,{"$error":"#NAME?"},{"$error":"#NAME?"}]
[null,null,null,null,null,null,null,null,null,null,null,null,null,null,null,null,null,null,null,null,null,null,null,{"$error":"#NAME?"},{"$error":"#NAME?"}]
[null,null,null,null,null,null,null,null,null,null,null,null,null,null,null,null,null,null,null,null,null,null,null,{"$error":"#NAME?"},{"$error":"#NAME?"}]
[null,null,null,null,null,null,null,null,null,null,null,null,null,null,null,null,null,null,null,null,null,null,null,{"$error":"#NAME?"},{"$error":"#NAME?"}]
[null,null,null,null,null,null,null,null,null,null,null,null,null,null,null,null,null,null,null,null,null,null,null,{"$error":"#NAME?"},{"$error":"#NAME?"}]
[null,null,null,null,null,null,null,null,null,null,null,null,null,null,null,null,null,null,null,null,null,null,null,{"$error":"#NAME?"},{"$error":"#NAME?"}]
[null,null,null,null,null,null,null,null,null,null,null,null,null,null,null,null,null,null,null,null,null,null,null,{"$error":"#NAME?"},{"$error":"#NAME?"}]
[null,null,null,null,null,null,null,null,null,null,null,null,null,null,null,null,null,null,null,null,null,null,null,{"$error":"#NAME?"},{"$error":"#NAME?"}]
[null,null,null,null,null,null,null,null,null,null,null,null,null,null,null,null,null,null,null,null,null,null,null,{"$error":"#NAME?"},{"$error":"#NAME?"}]
[null,null,null,null,null,null,null,null,null,null,null,null,null,null,null,null,null,null,null,null,null,null,null,{"$error":"#NAME?"},{"$error":"#NAME?"}]
[null,null,null,null,null,null,null,null,null,null,null,null,null,null,null,null,null,null,null,null,null,null,null,{"$error":"#NAME?"},{"$error":"#NAME?"}]
[null,null,null,null,null,null,null,null,null,null,null,null,null,null,null,null,null,null,null,null,null,null,null,{"$error":"#NAME?"},{"$error":"#NAME?"}]
[null,null,null,null,null,null,null,null,null,null,null,null,null,null,null,null,null,null,null,null,null,null,null,{"$error":"#NAME?"},{"$error":"#NAME?"}]
[null,null,null,null,null,null,null,null,null,null,null,null,null,null,null,null,null,null,null,null,null,null,null,{"$error":"#NAME?"},{"$error":"#NAME?"}]
[null,null,null,null,null,null,null,null,null,null,null,null,null,null,null,null,null,null,null,null,null,null,null,{"$error":"#NAME?"},{"$error":"#NAME?"}]
[null,null,null,null,null,null,null,null,null,null,null,null,null,null,null,null,null,null,null,null,null,null,null,{"$error":"#NAME?"},{"$error":"#NAME?"}]
[null,null,null,null,null,null,null,null,null,null,null,null,null,null,null,null,null,null,null,null,null,null,null,{"$error":"#NAME?"},{"$error":"#NAME?"}]
[null,null,null,null,null,null,null,null,null,null,null,null,null,null,null,null,null,null,null,null,null,null,null,{"$error":"#NAME?"},{"$error":"#NAME?"}]
[null,null,null,null,null,null,null,null,null,null,null,null,null,null,null,null,null,null,null,null,null,null,null,{"$error":"#NAME?"},{"$error":"#NAME?"}]
[null,null,null,null,null,null,null,null,null,null,null,null,null,null,null,null,null,null,null,null,null,null,null,{"$error":"#NAME?"},{"$error":"#NAME?"}]
[null,null,null,null,null,null,null,null,null,null,null,null,null,null,null,null,null,null,null,null,null,null,null,{"$error":"#NAME?"},{"$error":"#NAME?"}]
[null,null,null,null,null,null,null,null,null,null,null,null,null,null,null,null,null,null,null,null,null,null,null,{"$error":"#NAME?"},{"$error":"#NAME?"}]
[null,null,null,null,null,null,null,null,null,null,null,null,null,null,null,null,null,null,null,null,null,null,null,{"$error":"#NAME?"},{"$error":"#NAME?"}]
[null,null,null,null,null,null,null,null,null,null,null,null,null,null,null,null,null,null,null,null,null,null,null,{"$error":"#NAME?"},{"$error":"#NAME?"}]
[null,null,null,null,null,null,null,null,null,null,null,null,null,null,null,null,null,null,null,null,null,null,null,{"$error":"#NAME?"},{"$error":"#NAME?"}]
[null,null,null,null,null,null,null,null,null,null,null,null,null,null,null,null,null,null,null,null,null,null,null,{"$error":"#NAME?"},{"$error":"#NAME?"}]
[null,null,null,null,null,null,null,null,null,null,null,null,null,null,null,null,null,null,null,null,null,null,null,{"$error":"#NAME?"},{"$error":"#NAME?"}]
[null,null,null,null,null,null,null,null,null,null,null,null,null,null,null,null,null,null,null,null,null,null,null,{"$error":"#NAME?"},{"$error":"#NAME?"}]
[null,null,null,null,null,null,null,null,null,null,null,null,null,null,null,null,null,null,null,null,null,null,null,{"$error":"#NAME?"},{"$error":"#NAME?"}]
[null,null,null,null,null,null,null,null,null,null,null,null,null,null,null,null,null,null,null,null,null,null,null,{"$error":"#NAME?"},{"$error":"#NAME?"}]
[null,null,null,null,null,null,null,null,null,null,null,null,null,null,null,null,null,null,null,null,null,null,null,{"$error":"#NAME?"},{"$error":"#NAME?"}]
[null,null,null,null,null,null,null,null,null,null,null,null,null,null,null,null,null,null,null,null,null,null,null,{"$error":"#NAME?"},{"$error":"#NAME?"}]
[null,null,null,null,null,null,null,null,null,null,null,null,null,null,null,null,null,null,null,null,null,null,null,{"$error":"#NAME?"},{"$error":"#NAME?"}]
[null,null,null,null,null,null,null,null,null,null,null,null,null,null,null,null,null,null,null,null,null,null,null,{"$error":"#NAME?"},{"$error":"#NAME?"}]
[null,null,null,null,null,null,null,null,null,null,null,null,null,null,null,null,null,null,null,null,null,null,null,{"$error":"#NAME?"},{"$error":"#NAME?"}]
[null,null,null,null,null,null,null,null,null,null,null,null,null,null,null,null,null,null,null,null,null,null,null,{"$error":"#NAME?"},{"$error":"#NAME?"}]
[null,null,null,null,null,null,null,null,null,null,null,null,null,null,null,null,null,null,null,null,null,null,null,{"$error":"#NAME?"},{"$error":"#NAME?"}]
[null,null,null,null,null,null,null,null,null,null,null,null,null,null,null,null,null,null,null,null,null,null,null,{"$error":"#NAME?"},{"$error":"#NAME?"}]
[null,null,null,null,null,null,null,null,null,null,null,null,null,null,null,null,null,null,null,null,null,null,null,{"$error":"#NAME?"},{"$error":"#NAME?"}]
[null,null,null,null,null,null,null,null,null,null,null,null,null,null,null,null,null,null,null,null,null,null,null,{"$error":"#NAME?"},{"$error":"#NAME?"}]
[null,null,null,null,null,null,null,null,null,null,null,null,null,null,null,null,null,null,null,null,null,null,null,{"$error":"#NAME?"},{"$error":"#NAME?"}]
[null,null,null,null,null,null,null,null,null,null,null,null,null,null,null,null,null,null,null,null,null,null,null,{"$error":"#NAME?"},{"$error":"#NAME?"}]
[null,null,null,null,null,null,null,null,null,null,null,null,null,null,null,null,null,null,null,null,null,null,null,{"$error":"#NAME?"},{"$error":"#NAME?"}]
[null,null,null,null,null,null,null,null,null,null,null,null,null,null,null,null,null,null,null,null,null,null,null,{"$error":"#NAME?"},{"$error":"#NAME?"}]
[null,null,null,null,null,null,null,null,null,null,null,null,null,null,null,null,null,null,null,null,null,null,null,{"$error":"#NAME?"},{"$error":"#NAME?"}]
[null,null,null,null,null,null,null,null,null,null,null,null,null,null,null,null,null,null,null,null,null,null,null,{"$error":"#NAME?"},{"$error":"#NAME?"}]
[null,null,null,null,null,null,null,null,null,null,null,null,null,null,null,null,null,null,null,null,null,null,null,{"$error":"#NAME?"},{"$error":"#NAME?"}]
[null,null,null,null,null,null,null,null,null,null,null,null,null,null,null,null,null,null,null,null,null,null,null,{"$error":"#NAME?"},{"$error":"#NAME?"}]
[null,null,null,null,null,null,null,null,null,null,null,null,null,null,null,null,null,null,null,null,null,null,null,{"$error":"#NAME?"},{"$error":"#NAME?"}]
[null,null,null,null,null,null,null,null,null,null,null,null,null,null,null,null,null,null,null,null,null,null,null,{"$error":"#NAME?"},{"$error":"#NAME?"}]
[null,null,null,null,null,null,null,null,null,null,null,null,null,null,null,null,null,null,null,null,null,null,null,{"$error":"#NAME?"},{"$error":"#NAME?"}]
[null,null,null,null,null,null,null,null,null,null,null,null,null,null,null,null,null,null,null,null,null,null,null,{"$error":"#NAME?"},{"$error":"#NAME?"}]
[null,null,null,null,null,null,null,null,null,null,null,null,null,null,null,null,null,null,null,null,null,null,null,{"$error":"#NAME?"},{"$error":"#NAME?"}]
[null,null,null,null,null,null,null,null,null,null,null,null,null,null,null,null,null,null,null,null,null,null,null,{"$error":"#NAME?"},{"$error":"#NAME?"}]
[null,null,null,null,null,null,null,null,null,null,null,null,null,null,null,null,null,null,null,null,null,null,null,{"$error":"#NAME?"},{"$error":"#NAME?"}]
[null,null,null,null,null,null,null,null,null,null,null,null,null,null,null,null,null,null,null,null,null,null,null,{"$error":"#NAME?"},{"$error":"#NAME?"}]
[null,null,null,null,null,null,null,null,null,null,null,null,null,null,null,null,null,null,null,null,null,null,null,{"$error":"#NAME?"},{"$error":"#NAME?"}]
[null,null,null,null,null,null,null,null,null,null,null,null,null,null,null,null,null,null,null,null,null,null,null,{"$error":"#NAME?"},{"$error":"#NAME?"}]
[null,null,null,null,null,null,null,null,null,null,null,null,null,null,null,null,null,null,null,null,null,null,null,{"$error":"#NAME?"},{"$error":"#NAME?"}]
[null,null,null,null,null,null,null,null,null,null,null,null,null,null,null,null,null,null,null,null,null,null,null,{"$error":"#NAME?"},{"$error":"#NAME?"}]
[null,null,null,null,null,null,null,null,null,null,null,null,null,null,null,null,null,null,null,null,null,null,null,{"$error":"#NAME?"},{"$error":"#NAME?"}]
[null,null,null,null,null,null,null,null,null,null,null,null,null,null,null,null,null,null,null,null,null,null,null,{"$error":"#NAME?"},{"$error":"#NAME?"}]
[null,null,null,null,null,null,null,null,null,null,null,null,null,null,null,null,null,null,null,null,null,null,null,{"$error":"#NAME?"},{"$error":"#NAME?"}]
[null,null,null,null,null,null,null,null,null,null,null,null,null,null,null,null,null,null,null,null,null,null,null,{"$error":"#NAME?"},{"$error":"#NAME?"}]
[null,null,null,null,null,null,null,null,null,null,null,null,null,null,null,null,null,null,null,null,null,null,null,{"$error":"#NAME?"},{"$error":"#NAME?"}]
[null,null,null,null,null,null,null,null,null,null,null,null,null,null,null,null,null,null,null,null,null,null,null,{"$error":"#NAME?"},{"$error":"#NAME?"}]
[null,null,null,null,null,null,null,null,null,null,null,null,null,null,null,null,null,null,null,null,null,null,null,{"$error":"#NAME?"},{"$error":"#NAME?"}]
[null,null,null,null,null,null,null,null,null,null,null,null,null,null,null,null,null,null,null,null,null,null,null,{"$error":"#NAME?"},{"$error":"#NAME?"}]
[null,null,null,null,null,null,null,null,null,null,null,null,null,null,null,null,null,null,null,null,null,null,null,{"$error":"#NAME?"},{"$error":"#NAME?"}]
[null,null,null,null,null,null,null,null,null,null,null,null,null,null,null,null,null,null,null,null,null,null,null,{"$error":"#NAME?"},{"$error":"#NAME?"}]
[null,null,null,null,null,null,null,null,null,null,null,null,null,null,null,null,null,null,null,null,null,null,null,{"$error":"#NAME?"},{"$error":"#NAME?"}]
[null,null,null,null,null,null,null,null,null,null,null,null,null,null,null,null,null,null,null,null,null,null,null,{"$error":"#NAME?"},{"$error":"#NAME?"}]
[null,null,null,null,null,null,null,null,null,null,null,null,null,null,null,null,null,null,null,null,null,null,null,{"$error":"#NAME?"},{"$error":"#NAME?"}]
[null,null,null,null,null,null,null,null,null,null,null,null,null,null,null,null,null,null,null,null,null,null,null,{"$error":"#NAME?"},{"$error":"#NAME?"}]
[null,null,null,null,null,null,null,null,null,null,null,null,null,null,null,null,null,null,null,null,null,null,null,{"$error":"#NAME?"},{"$error":"#NAME?"}]
[null,null,null,null,null,null,null,null,null,null,null,null,null,null,null,null,null,null,null,null,null,null,null,{"$error":"#NAME?"},{"$error":"#NAME?"}]
[null,null,null,null,null,null,null,null,null,null,null,null,null,null,null,null,null,null,null,null,null,null,null,{"$error":"#NAME?"},{"$error":"#NAME?"}]
[null,null,null,null,null,null,null,null,null,null,null,null,null,null,null,null,null,null,null,null,null,null,null,{"$error":"#NAME?"},{"$error":"#NAME?"}]
[null,null,null,null,null,null,null,null,null,null,null,null,null,null,null,null,null,null,null,null,null,null,null,{"$error":"#NAME?"},{"$error":"#NAME?"}]
[null,null,null,null,null,null,null,null,null,null,null,null,null,null,null,null,null,null,null,null,null,null,null,{"$error":"#NAME?"},{"$error":"#NAME?"}]
[null,null,null,null,null,null,null,null,null,null,null,null,null,null,null,null,null,null,null,null,null,null,null,{"$error":"#NAME?"},{"$error":"#NAME?"}]
[null,null,null,null,null,null,null,null,null,null,null,null,null,null,null,null,null,null,null,null,null,null,null,{"$error":"#NAME?"},{"$error":"#NAME?"}]
[null,null,null,null,null,null,null,null,null,null,null,null,null,null,null,null,null,null,null,null,null,null,null,{"$error":"#NAME?"},{"$error":"#NAME?"}]
[null,null,null,null,null,null,null,null,null,null,null,null,null,null,null,null,null,null,null,null,null,null,null,{"$error":"#NAME?"},{"$error":"#NAME?"}]
[null,null,null,null,null,null,null,null,null,null,null,null,null,null,null,null,null,null,null,null,null,null,null,{"$error":"#NAME?"},{"$error":"#NAME?"}]
[null,null,null,null,null,null,null,null,null,null,null,null,null,null,null,null,null,null,null,null,null,null,null,{"$error":"#NAME?"},{"$error":"#NAME?"}]
[null,null,null,null,null,null,null,null,null,null,null,null,null,null,null,null,null,null,null,null,null,null,null,{"$error":"#NAME?"},{"$error":"#NAME?"}]
[null,null,null,null,null,null,null,null,null,null,null,null,null,null,null,null,null,null,null,null,null,null,null,{"$error":"#NAME?"},{"$error":"#NAME?"}]
[null,null,null,null,null,null,null,null,null,null,null,null,null,null,null,null,null,null,null,null,null,null,null,{"$error":"#NAME?"},{"$error":"#NAME?"}]
[null,null,null,null,null,null,null,null,null,null,null,null,null,null,null,null,null,null,null,null,null,null,null,{"$error":"#NAME?"},{"$error":"#NAME?"}]
[null,null,null,null,null,null,null,null,null,null,null,null,null,null,null,null,null,null,null,null,null,null,null,{"$error":"#NAME?"},{"$error":"#NAME?"}]
[null,null,null,null,null,null,null,null,null,null,null,null,null,null,null,null,null,null,null,null,null,null,null,{"$error":"#NAME?"},{"$error":"#NAME?"}]
[null,null,null,null,null,null,null,null,null,null,null,null,null,null,null,null,null,null,null,null,null,null,null,{"$error":"#NAME?"},{"$error":"#NAME?"}]
[null,null,null,null,null,null,null,null,null,null,null,null,null,null,null,null,null,null,null,null,null,null,null,{"$error":"#NAME?"},{"$error":"#NAME?"}]
[null,null,null,null,null,null,null,null,null,null,null,null,null,null,null,null,null,null,null,null,null,null,null,{"$error":"#NAME?"},{"$error":"#NAME?"}]
[null,null,null,null,null,null,null,null,null,null,null,null,null,null,null,null,null,null,null,null,null,null,null,{"$error":"#NAME?"},{"$error":"#NAME?"}]
[null,null,null,null,null,null,null,null,null,null,null,null,null,null,null,null,null,null,null,null,null,null,null,{"$error":"#NAME?"},{"$error":"#NAME?"}]
[null,null,null,null,null,null,null,null,null,null,null,null,null,null,null,null,null,null,null,null,null,null,null,{"$error":"#NAME?"},{"$error":"#NAME?"}]
[null,null,null,null,null,null,null,null,null,null,null,null,null,null,null,null,null,null,null,null,null,null,null,{"$error":"#NAME?"},{"$error":"#NAME?"}]
[null,null,null,null,null,null,null,null,null,null,null,null,null,null,null,null,null,null,null,null,null,null,null,{"$error":"#NAME?"},{"$error":"#NAME?"}]
[null,null,null,null,null,null,null,null,null,null,null,null,null,null,null,null,null,null,null,null,null,null,null,{"$error":"#NAME?"},{"$error":"#NAME?"}]
[null,null,null,null,null,null,null,null,null,null,null,null,null,null,null,null,null,null,null,null,null,null,null,{"$error":"#NAME?"},{"$error":"#NAME?"}]
[null,null,null,null,null,null,null,null,null,null,null,null,null,null,null,null,null,null,null,null,null,null,null,{"$error":"#NAME?"},{"$error":"#NAME?"}]
[null,null,null,null,null,null,null,null,null,null,null,null,null,null,null,null,null,null,null,null,null,null,null,{"$error":"#NAME?"},{"$error":"#NAME?"}]
[null,null,null,null,null,null,null,null,null,null,null,null,null,null,null,null,null,null,null,null,null,null,null,{"$error":"#NAME?"},{"$error":"#NAME?"}]
[null,null,null,null,null,null,null,null,null,null,null,null,null,null,null,null,null,null,null,null,null,null,null,{"$error":"#NAME?"},{"$error":"#NAME?"}]
[null,null,null,null,null,null,null,null,null,null,null,null,null,null,null,null,null,null,null,null,null,null,null,{"$error":"#NAME?"},{"$error":"#NAME?"}]
[null,null,null,null,null,null,null,null,null,null,null,null,null,null,null,null,null,null,null,null,null,null,null,{"$error":"#NAME?"},{"$error":"#NAME?"}]
[null,null,null,null,null,null,null,null,null,null,null,null,null,null,null,null,null,null,null,null,null,null,null,{"$error":"#NAME?"},{"$error":"#NAME?"}]
[null,null,null,null,null,null,null,null,null,null,null,null,null,null,null,null,null,null,null,null,null,null,null,{"$error":"#NAME?"},{"$error":"#NAME?"}]
[null,null,null,null,null,null,null,null,null,null,null,null,null,null,null,null,null,null,null,null,null,null,null,{"$error":"#NAME?"},{"$error":"#NAME?"}]
[null,null,null,null,null,null,null,null,null,null,null,null,null,null,null,null,null,null,null,null,null,null,null,{"$error":"#NAME?"},{"$error":"#NAME?"}]
[null,null,null,null,null,null,null,null,null,null,null,null,null,null,null,null,null,null,null,null,null,null,null,{"$error":"#NAME?"},{"$error":"#NAME?"}]
[null,null,null,null,null,null,null,null,null,null,null,null,null,null,null,null,null,null,null,null,null,null,null,{"$error":"#NAME?"},{"$error":"#NAME?"}]
[null,null,null,null,null,null,null,null,null,null,null,null,null,null,null,null,null,null,null,null,null,null,null,{"$error":"#NAME?"},{"$error":"#NAME?"}]
[null,null,null,null,null,null,null,null,null,null,null,null,null,null,null,null,null,null,null,null,null,null,null,{"$error":"#NAME?"},{"$error":"#NAME?"}]
[null,null,null,null,null,null,null,null,null,null,null,null,null,null,null,null,null,null,null,null,null,null,null,{"$error":"#NAME?"},{"$error":"#NAME?"}]
[null,null,null,null,null,null,null,null,null,null,null,null,null,null,null,null,null,null,null,null,null,null,null,{"$error":"#NAME?"},{"$error":"#NAME?"}]
[null,null,null,null,null,null,null,null,null,null,null,null,null,null,null,null,null,null,null,null,null,null,null,{"$error":"#NAME?"},{"$error":"#NAME?"}]
[null,null,null,null,null,null,null,null,null,null,null,null,null,null,null,null,null,null,null,null,null,null,null,{"$error":"#NAME?"},{"$error":"#NAME?"}]
[null,null,null,null,null,null,null,null,null,null,null,null,null,null,null,null,null,null,null,null,null,null,null,{"$error":"#NAME?"},{"$error":"#NAME?"}]
[null,null,null,null,null,null,null,null,null,null,null,null,null,null,null,null,null,null,null,null,null,null,null,{"$error":"#NAME?"},{"$error":"#NAME?"}]
[null,null,null,null,null,null,null,null,null,null,null,null,null,null,null,null,null,null,null,null,null,null,null,{"$error":"#NAME?"},{"$error":"#NAME?"}]
[null,null,null,null,null,null,null,null,null,null,null,null,null,null,null,null,null,null,null,null,null,null,null,{"$error":"#NAME?"},{"$error":"#NAME?"}]
[null,null,null,null,null,null,null,null,null,null,null,null,null,null,null,null,null,null,null,null,null,null,null,{"$error":"#NAME?"},{"$error":"#NAME?"}]
[null,null,null,null,null,null,null,null,null,null,null,null,null,null,null,null,null,null,null,null,null,null,null,{"$error":"#NAME?"},{"$error":"#NAME?"}]
[null,null,null,null,null,null,null,null,null,null,null,null,null,null,null,null,null,null,null,null,null,null,null,{"$error":"#NAME?"},{"$error":"#NAME?"}]
[null,null,null,null,null,null,null,null,null,null,null,null,null,null,null,null,null,null,null,null,null,null,null,{"$error":"#NAME?"},{"$error":"#NAME?"}]
[null,null,null,null,null,null,null,null,null,null,null,null,null,null,null,null,null,null,null,null,null,null,null,{"$error":"#NAME?"},{"$error":"#NAME?"}]
[null,null,null,null,null,null,null,null,null,null,null,null,null,null,null,null,null,null,null,null,null,null,null,{"$error":"#NAME?"},{"$error":"#NAME?"}]
[null,null,null,null,null,null,null,null,null,null,null,null,null,null,null,null,null,null,null,null,null,null,null,{"$error":"#NAME?"},{"$error":"#NAME?"}]
[null,null,null,null,null,null,null,null,null,null,null,null,null,null,null,null,null,null,null,null,null,null,null,{"$error":"#NAME?"},{"$error":"#NAME?"}]
[null,null,null,null,null,null,null,null,null,null,null,null,null,null,null,null,null,null,null,null,null,null,null,{"$error":"#NAME?"},{"$error":"#NAME?"}]
[null,null,null,null,null,null,null,null,null,null,null,null,null,null,null,null,null,null,null,null,null,null,null,{"$error":"#NAME?"},{"$error":"#NAME?"}]
[null,null,null,null,null,null,null,null,null,null,null,null,null,null,null,null,null,null,null,null,null,null,null,{"$error":"#NAME?"},{"$error":"#NAME?"}]
[null,null,null,null,null,null,null,null,null,null,null,null,null,null,null,null,null,null,null,null,null,null,null,{"$error":"#NAME?"},{"$error":"#NAME?"}]
[null,null,null,null,null,null,null,null,null,null,null,null,null,null,null,null,null,null,null,null,null,null,null,{"$error":"#NAME?"},{"$error":"#NAME?"}]
[null,null,null,null,null,null,null,null,null,null,null,null,null,null,null,null,null,null,null,null,null,null,null,{"$error":"#NAME?"},{"$error":"#NAME?"}]
[null,null,null,null,null,null,null,null,null,null,null,null,null,null,null,null,null,null,null,null,null,null,null,{"$error":"#NAME?"},{"$error":"#NAME?"}]
[null,null,null,null,null,null,null,null,null,null,null,null,null,null,null,null,null,null,null,null,null,null,null,{"$error":"#NAME?"},{"$error":"#NAME?"}]
[null,null,null,null,null,null,null,null,null,null,null,null,null,null,null,null,null,null,null,null,null,null,null,{"$error":"#NAME?"},{"$error":"#NAME?"}]
[null,null,null,null,null,null,null,null,null,null,null,null,null,null,null,null,null,null,null,null,null,null,null,{"$error":"#NAME?"},{"$error":"#NAME?"}]
[null,null,null,null,null,null,null,null,null,null,null,null,null,null,null,null,null,null,null,null,null,null,null,{"$error":"#NAME?"},{"$error":"#NAME?"}]
[null,null,null,null,null,null,null,null,null,null,null,null,null,null,null,null,null,null,null,null,null,null,null,{"$error":"#NAME?"},{"$error":"#NAME?"}]
[null,null,null,null,null,null,null,null,null,null,null,null,null,null,null,null,null,null,null,null,null,null,null,{"$error":"#NAME?"},{"$error":"#NAME?"}]
[null,null,null,null,null,null,null,null,null,null,null,null,null,null,null,null,null,null,null,null,null,null,null,{"$error":"#NAME?"},{"$error":"#NAME?"}]
[null,null,null,null,null,null,null,null,null,null,null,null,null,null,null,null,null,null,null,null,null,null,null,{"$error":"#NAME?"},{"$error":"#NAME?"}]
[null,null,null,null,null,null,null,null,null,null,null,null,null,null,null,null,null,null,null,null,null,null,null,{"$error":"#NAME?"},{"$error":"#NAME?"}]
[null,null,null,null,null,null,null,null,null,null,null,null,null,null,null,null,null,null,null,null,null,null,null,{"$error":"#NAME?"},{"$error":"#NAME?"}]
[null,null,null,null,null,null,null,null,null,null,null,null,null,null,null,null,null,null,null,null,null,null,null,{"$error":"#NAME?"},{"$error":"#NAME?"}]
[null,null,null,null,null,null,null,null,null,null,null,null,null,null,null,null,null,null,null,null,null,null,null,{"$error":"#NAME?"},{"$error":"#NAME?"}]
[null,null,null,null,null,null,null,null,null,null,null,null,null,null,null,null,null,null,null,null,null,null,null,{"$error":"#NAME?"},{"$error":"#NAME?"}]
[null,null,null,null,null,null,null,null,null,null,null,null,null,null,null,null,null,null,null,null,null,null,null,{"$error":"#NAME?"},{"$error":"#NAME?"}]
[null,null,null,null,null,null,null,null,null,null,null,null,null,null,null,null,null,null,null,null,null,null,null,{"$error":"#NAME?"},{"$error":"#NAME?"}]
[null,null,null,null,null,null,null,null,null,null,null,null,null,null,null,null,null,null,null,null,null,null,null,{"$error":"#NAME?"},{"$error":"#NAME?"}]
[null,null,null,null,null,null,null,null,null,null,null,null,null,null,null,null,null,null,null,null,null,null,null,{"$error":"#NAME?"},{"$error":"#NAME?"}]
[null,null,null,null,null,null,null,null,null,null,null,null,null,null,null,null,null,null,null,null,null,null,null,{"$error":"#NAME?"},{"$error":"#NAME?"}]
[null,null,null,null,null,null,null,null,null,null,null,null,null,null,null,null,null,null,null,null,null,null,null,{"$error":"#NAME?"},{"$error":"#NAME?"}]
[null,null,null,null,null,null,null,null,null,null,null,null,null,null,null,null,null,null,null,null,null,null,null,{"$error":"#NAME?"},{"$error":"#NAME?"}]
[null,null,null,null,null,null,null,null,null,null,null,null,null,null,null,null,null,null,null,null,null,null,null,{"$error":"#NAME?"},{"$error":"#NAME?"}]
[null,null,null,null,null,null,null,null,null,null,null,null,null,null,null,null,null,null,null,null,null,null,null,{"$error":"#NAME?"},{"$error":"#NAME?"}]
[null,null,null,null,null,null,null,null,null,null,null,null,null,null,null,null,null,null,null,null,null,null,null,{"$error":"#NAME?"},{"$error":"#NAME?"}]
[null,null,null,null,null,null,null,null,null,null,null,null,null,null,null,null,null,null,null,null,null,null,null,{"$error":"#NAME?"},{"$error":"#NAME?"}]
[null,null,null,null,null,null,null,null,null,null,null,null,null,null,null,null,null,null,null,null,null,null,null,{"$error":"#NAME?"},{"$error":"#NAME?"}]
[null,null,null,null,null,null,null,null,null,null,null,null,null,null,null,null,null,null,null,null,null,null,null,{"$error":"#NAME?"},{"$error":"#NAME?"}]
[null,null,null,null,null,null,null,null,null,null,null,null,null,null,null,null,null,null,null,null,null,null,null,{"$error":"#NAME?"},{"$error":"#NAME?"}]
[null,null,null,null,null,null,null,null,null,null,null,null,null,null,null,null,null,null,null,null,null,null,null,{"$error":"#NAME?"},{"$error":"#NAME?"}]
[null,null,null,null,null,null,null,null,null,null,null,null,null,null,null,null,null,null,null,null,null,null,null,{"$error":"#NAME?"},{"$error":"#NAME?"}]
[null,null,null,null,null,null,null,null,null,null,null,null,null,null,null,null,null,null,null,null,null,null,null,{"$error":"#NAME?"},{"$error":"#NAME?"}]
[null,null,null,null,null,null,null,null,null,null,null,null,null,null,null,null,null,null,null,null,null,null,null,{"$error":"#NAME?"},{"$error":"#NAME?"}]
[null,null,null,null,null,null,null,null,null,null,null,null,null,null,null,null,null,null,null,null,null,null,null,{"$error":"#NAME?"},{"$error":"#NAME?"}]
[null,null,null,null,null,null,null,null,null,null,null,null,null,null,null,null,null,null,null,null,null,null,null,{"$error":"#NAME?"},{"$error":"#NAME?"}]
[null,null,null,null,null,null,null,null,null,null,null,null,null,null,null,null,null,null,null,null,null,null,null,{"$error":"#NAME?"},{"$error":"#NAME?"}]
[null,null,null,null,null,null,null,null,null,null,null,null,null,null,null,null,null,null,null,null,null,null,null,{"$error":"#NAME?"},{"$error":"#NAME?"}]
[null,null,null,null,null,null,null,null,null,null,null,null,null,null,null,null,null,null,null,null,null,null,null,{"$error":"#NAME?"},{"$error":"#NAME?"}]
[null,null,null,null,null,null,null,null,null,null,null,null,null,null,null,null,null,null,null,null,null,null,null,{"$error":"#NAME?"},{"$error":"#NAME?"}]
[null,null,null,null,null,null,null,null,null,null,null,null,null,null,null,null,null,null,null,null,null,null,null,{"$error":"#NAME?"},{"$error":"#NAME?"}]
[null,null,null,null,null,null,null,null,null,null,null,null,null,null,null,null,null,null,null,null,null,null,null,{"$error":"#NAME?"},{"$error":"#NAME?"}]
[null,null,null,null,null,null,null,null,null,null,null,null,null,null,null,null,null,null,null,null,null,null,null,{"$error":"#NAME?"},{"$error":"#NAME?"}]
[null,null,null,null,null,null,null,null,null,null,null,null,null,null,null,null,null,null,null,null,null,null,null,{"$error":"#NAME?"},{"$error":"#NAME?"}]
[null,null,null,null,null,null,null,null,null,null,null,null,null,null,null,null,null,null,null,null,null,null,null,{"$error":"#NAME?"},{"$error":"#NAME?"}]
[null,null,null,null,null,null,null,null,null,null,null,null,null,null,null,null,null,null,null,null,null,null,null,{"$error":"#NAME?"},{"$error":"#NAME?"}]
[null,null,null,null,null,null,null,null,null,null,null,null,null,null,null,null,null,null,null,null,null,null,null,{"$error":"#NAME?"},{"$error":"#NAME?"}]
[null,null,null,null,null,null,null,null,null,null,null,null,null,null,null,null,null,null,null,null,null,null,null,{"$error":"#NAME?"},{"$error":"#NAME?"}]
[null,null,null,null,null,null,null,null,null,null,null,null,null,null,null,null,null,null,null,null,null,null,null,{"$error":"#NAME?"},{"$error":"#NAME?"}]
[null,null,null,null,null,null,null,null,null,null,null,null,null,null,null,null,null,null,null,null,null,null,null,{"$error":"#NAME?"},{"$error":"#NAME?"}]
[null,null,null,null,null,null,null,null,null,null,null,null,null,null,null,null,null,null,null,null,null,null,null,{"$error":"#NAME?"},{"$error":"#NAME?"}]
[null,null,null,null,null,null,null,null,null,null,null,null,null,null,null,null,null,null,null,null,null,null,null,{"$error":"#NAME?"},{"$error":"#NAME?"}]
[null,null,null,null,null,null,null,null,null,null,null,null,null,null,null,null,null,null,null,null,null,null,null,{"$error":"#NAME?"},{"$error":"#NAME?"}]
[null,null,null,null,null,null,null,null,null,null,null,null,null,null,null,null,null,null,null,null,null,null,null,{"$error":"#NAME?"},{"$error":"#NAME?"}]
[null,null,null,null,null,null,null,null,null,null,null,null,null,null,null,null,null,null,null,null,null,null,null,{"$error":"#NAME?"},{"$error":"#NAME?"}]
[null,null,null,null,null,null,null,null,null,null,null,null,null,null,null,null,null,null,null,null,null,null,null,{"$error":"#NAME?"},{"$error":"#NAME?"}]
[null,null,null,null,null,null,null,null,null,null,null,null,null,null,null,null,null,null,null,null,null,null,null,{"$error":"#NAME?"},{"$error":"#NAME?"}]
[null,null,null,null,null,null,null,null,null,null,null,null,null,null,null,null,null,null,null,null,null,null,null,{"$error":"#NAME?"},{"$error":"#NAME?"}]
[null,null,null,null,null,null,null,null,null,null,null,null,null,null,null,null,null,null,null,null,null,null,null,{"$error":"#NAME?"},{"$error":"#NAME?"}]
[null,null,null,null,null,null,null,null,null,null,null,null,null,null,null,null,null,null,null,null,null,null,null,{"$error":"#NAME?"},{"$error":"#NAME?"}]
[null,null,null,null,null,null,null,null,null,null,null,null,null,null,null,null,null,null,null,null,null,null,null,{"$error":"#NAME?"},{"$error":"#NAME?"}]
[null,null,null,null,null,null,null,null,null,null,null,null,null,null,null,null,null,null,null,null,null,null,null,{"$error":"#NAME?"},{"$error":"#NAME?"}]
[null,null,null,null,null,null,null,null,null,null,null,null,null,null,null,null,null,null,null,null,null,null,null,{"$error":"#NAME?"},{"$error":"#NAME?"}]
[null,null,null,null,null,null,null,null,null,null,null,null,null,null,null,null,null,null,null,null,null,null,null,{"$error":"#NAME?"},{"$error":"#NAME?"}]
[null,null,null,null,null,null,null,null,null,null,null,null,null,null,null,null,null,null,null,null,null,null,null,{"$error":"#NAME?"},{"$error":"#NAME?"}]
[null,null,null,null,null,null,null,null,null,null,null,null,null,null,null,null,null,null,null,null,null,null,null,{"$error":"#NAME?"},{"$error":"#NAME?"}]
[null,null,null,null,null,null,null,null,null,null,null,null,null,null,null,null,null,null,null,null,null,null,null,{"$error":"#NAME?"},{"$error":"#NAME?"}]
[null,null,null,null,null,null,null,null,null,null,null,null,null,null,null,null,null,null,null,null,null,null,null,{"$error":"#NAME?"},{"$error":"#NAME?"}]
[null,null,null,null,null,null,null,null,null,null,null,null,null,null,null,null,null,null,null,null,null,null,null,{"$error":"#NAME?"},{"$error":"#NAME?"}]
[null,null,null,null,null,null,null,null,null,null,null,null,null,null,null,null,null,null,null,null,null,null,null,{"$error":"#NAME?"},{"$error":"#NAME?"}]
[null,null,null,null,null,null,null,null,null,null,null,null,null,null,null,null,null,null,null,null,null,null,null,{"$error":"#NAME?"},{"$error":"#NAME?"}]
[null,null,null,null,null,null,null,null,null,null,null,null,null,null,null,null,null,null,null,null,null,null,null,{"$error":"#NAME?"},{"$error":"#NAME?"}]
[null,null,null,null,null,null,null,null,null,null,null,null,null,null,null,null,null,null,null,null,null,null,null,{"$error":"#NAME?"},{"$error":"#NAME?"}]
[null,null,null,null,null,null,null,null,null,null,null,null,null,null,null,null,null,null,null,null,null,null,null,{"$error":"#NAME?"},{"$error":"#NAME?"}]
[null,null,null,null,null,null,null,null,null,null,null,null,null,null,null,null,null,null,null,null,null,null,null,{"$error":"#NAME?"},{"$error":"#NAME?"}]
[null,null,null,null,null,null,null,null,null,null,null,null,null,null,null,null,null,null,null,null,null,null,null,{"$error":"#NAME?"},{"$error":"#NAME?"}]
[null,null,null,null,null,null,null,null,null,null,null,null,null,null,null,null,null,null,null,null,null,null,null,{"$error":"#NAME?"},{"$error":"#NAME?"}]
[null,null,null,null,null,null,null,null,null,null,null,null,null,null,null,null,null,null,null,null,null,null,null,{"$error":"#NAME?"},{"$error":"#NAME?"}]
[null,null,null,null,null,null,null,null,null,null,null,null,null,null,null,null,null,null,null,null,null,null,null,{"$error":"#NAME?"},{"$error":"#NAME?"}]
[null,null,null,null,null,null,null,null,null,null,null,null,null,null,null,null,null,null,null,null,null,null,null,{"$error":"#NAME?"},{"$error":"#NAME?"}]
[null,null,null,null,null,null,null,null,null,null,null,null,null,null,null,null,null,null,null,null,null,null,null,{"$error":"#NAME?"},{"$error":"#NAME?"}]
[null,null,null,null,null,null,null,null,null,null,null,null,null,null,null,null,null,null,null,null,null,null,null,{"$error":"#NAME?"},{"$error":"#NAME?"}]
[null,null,null,null,null,null,null,null,null,null,null,null,null,null,null,null,null,null,null,null,null,null,null,{"$error":"#NAME?"},{"$error":"#NAME?"}]
[null,null,null,null,null,null,null,null,null,null,null,null,null,null,null,null,null,null,null,null,null,null,null,{"$error":"#NAME?"},{"$error":"#NAME?"}]
[null,null,null,null,null,null,null,null,null,null,null,null,null,null,null,null,null,null,null,null,null,null,null,{"$error":"#NAME?"},{"$error":"#NAME?"}]
[null,null,null,null,null,null,null,null,null,null,null,null,null,null,null,null,null,null,null,null,null,null,null,{"$error":"#NAME?"},{"$error":"#NAME?"}]
[null,null,null,null,null,null,null,null,null,null,null,null,null,null,null,null,null,null,null,null,null,null,null,{"$error":"#NAME?"},{"$error":"#NAME?"}]
[null,null,null,null,null,null,null,null,null,null,null,null,null,null,null,null,null,null,null,null,null,null,null,{"$error":"#NAME?"},{"$error":"#NAME?"}]
[null,null,null,null,null,null,null,null,null,null,null,null,null,null,null,null,null,null,null,null,null,null,null,{"$error":"#NAME?"},{"$error":"#NAME?"}]
[null,null,null,null,null,null,null,null,null,null,null,null,null,null,null,null,null,null,null,null,null,null,null,{"$error":"#NAME?"},{"$error":"#NAME?"}]
[null,null,null,null,null,null,null,null,null,null,null,null,null,null,null,null,null,null,null,null,null,null,null,{"$error":"#NAME?"},{"$error":"#NAME?"}]
[null,null,null,null,null,null,null,null,null,null,null,null,null,null,null,null,null,null,null,null,null,null,null,{"$error":"#NAME?"},{"$error":"#NAME?"}]
[null,null,null,null,null,null,null,null,null,null,null,null,null,null,null,null,null,null,null,null,null,null,null,{"$error":"#NAME?"},{"$error":"#NAME?"}]
[null,null,null,null,null,null,null,null,null,null,null,null,null,null,null,null,null,null,null,null,null,null,null,{"$error":"#NAME?"},{"$error":"#NAME?"}]
[null,null,null,null,null,null,null,null,null,null,null,null,null,null,null,null,null,null,null,null,null,null,null,{"$error":"#NAME?"},{"$error":"#NAME?"}]
[null,null,null,null,null,null,null,null,null,null,null,null,null,null,null,null,null,null,null,null,null,null,null,{"$error":"#NAME?"},{"$error":"#NAME?"}]
[null,null,null,null,null,null,null,null,null,null,null,null,null,null,null,null,null,null,null,null,null,null,null,{"$error":"#NAME?"},{"$error":"#NAME?"}]
[null,null,null,null,null,null,null,null,null,null,null,null,null,null,null,null,null,null,null,null,null,null,null,{"$error":"#NAME?"},{"$error":"#NAME?"}]
[null,null,null,null,null,null,null,null,null,null,null,null,null,null,null,null,null,null,null,null,null,null,null,{"$error":"#NAME?"},{"$error":"#NAME?"}]
[null,null,null,null,null,null,null,null,null,null,null,null,null,null,null,null,null,null,null,null,null,null,null,{"$error":"#NAME?"},{"$error":"#NAME?"}]
[null,null,null,null,null,null,null,null,null,null,null,null,null,null,null,null,null,null,null,null,null,null,null,{"$error":"#NAME?"},{"$error":"#NAME?"}]
[null,null,null,null,null,null,null,null,null,null,null,null,null,null,null,null,null,null,null,null,null,null,null,{"$error":"#NAME?"},{"$error":"#NAME?"}]
[null,null,null,null,null,null,null,null,null,null,null,null,null,null,null,null,null,null,null,null,null,null,null,{"$error":"#NAME?"},{"$error":"#NAME?"}]
[null,null,null,null,null,null,null,null,null,null,null,null,null,null,null,null,null,null,null,null,null,null,null,{"$error":"#NAME?"},{"$error":"#NAME?"}]
[null,null,null,null,null,null,null,null,null,null,null,null,null,null,null,null,null,null,null,null,null,null,null,{"$error":"#NAME?"},{"$error":"#NAME?"}]
[null,null,null,null,null,null,null,null,null,null,null,null,null,null,null,null,null,null,null,null,null,null,null,{"$error":"#NAME?"},{"$error":"#NAME?"}]
[null,null,null,null,null,null,null,null,null,null,null,null,null,null,null,null,null,null,null,null,null,null,null,{"$error":"#NAME?"},{"$error":"#NAME?"}]
[null,null,null,null,null,null,null,null,null,null,null,null,null,null,null,null,null,null,null,null,null,null,null,{"$error":"#NAME?"},{"$error":"#NAME?"}]
[null,null,null,null,null,null,null,null,null,null,null,null,null,null,null,null,null,null,null,null,null,null,null,{"$error":"#NAME?"},{"$error":"#NAME?"}]
[null,null,null,null,null,null,null,null,null,null,null,null,null,null,null,null,null,null,null,null,null,null,null,{"$error":"#NAME?"},{"$error":"#NAME?"}]
[null,null,null,null,null,null,null,null,null,null,null,null,null,null,null,null,null,null,null,null,null,null,null,{"$error":"#NAME?"},{"$error":"#NAME?"}]
[null,null,null,null,null,null,null,null,null,null,null,null,null,null,null,null,null,null,null,null,null,null,null,{"$error":"#NAME?"},{"$error":"#NAME?"}]
[null,null,null,null,null,null,null,null,null,null,null,null,null,null,null,null,null,null,null,null,null,null,null,{"$error":"#NAME?"},{"$error":"#NAME?"}]
[null,null,null,null,null,null,null,null,null,null,null,null,null,null,null,null,null,null,null,null,null,null,null,{"$error":"#NAME?"},{"$error":"#NAME?"}]
[null,null,null,null,null,null,null,null,null,null,null,null,null,null,null,null,null,null,null,null,null,null,null,{"$error":"#NAME?"},{"$error":"#NAME?"}]
[null,null,null,null,null,null,null,null,null,null,null,null,null,null,null,null,null,null,null,null,null,null,null,{"$error":"#NAME?"},{"$error":"#NAME?"}]
[null,null,null,null,null,null,null,null,null,null,null,null,null,null,null,null,null,null,null,null,null,null,null,{"$error":"#NAME?"},{"$error":"#NAME?"}]
[null,null,null,null,null,null,null,null,null,null,null,null,null,null,null,null,null,null,null,null,null,null,null,{"$error":"#NAME?"},{"$error":"#NAME?"}]
[null,null,null,null,null,null,null,null,null,null,null,null,null,null,null,null,null,null,null,null,null,null,null,{"$error":"#NAME?"},{"$error":"#NAME?"}]
[null,null,null,null,null,null,null,null,null,null,null,null,null,null,null,null,null,null,null,null,null,null,null,{"$error":"#NAME?"},{"$error":"#NAME?"}]
[null,null,null,null,null,null,null,null,null,null,null,null,null,null,null,null,null,null,null,null,null,null,null,{"$error":"#NAME?"},{"$error":"#NAME?"}]
[null,null,null,null,null,null,null,null,null,null,null,null,null,null,null,null,null,null,null,null,null,null,null,{"$error":"#NAME?"},{"$error":"#NAME?"}]
[null,null,null,null,null,null,null,null,null,null,null,null,null,null,null,null,null,null,null,null,null,null,null,{"$error":"#NAME?"},{"$error":"#NAME?"}]
[null,null,null,null,null,null,null,null,null,null,null,null,null,null,null,null,null,null,null,null,null,null,null,{"$error":"#NAME?"},{"$error":"#NAME?"}]
[null,null,null,null,null,null,null,null,null,null,null,null,null,null,null,null,null,null,null,null,null,null,null,{"$error":"#NAME?"},{"$error":"#NAME?"}]
[null,null,null,null,null,null,null,null,null,null,null,null,null,null,null,null,null,null,null,null,null,null,null,{"$error":"#NAME?"},{"$error":"#NAME?"}]
[null,null,null,null,null,null,null,null,null,null,null,null,null,null,null,null,null,null,null,null,null,null,null,{"$error":"#NAME?"},{"$error":"#NAME?"}]
[null,null,null,null,null,null,null,null,null,null,null,null,null,null,null,null,null,null,null,null,null,null,null,{"$error":"#NAME?"},{"$error":"#NAME?"}]
[null,null,null,null,null,null,null,null,null,null,null,null,null,null,null,null,null,null,null,null,null,null,null,{"$error":"#NAME?"},{"$error":"#NAME?"}]
[null,null,null,null,null,null,null,null,null,null,null,null,null,null,null,null,null,null,null,null,null,null,null,{"$error":"#NAME?"},{"$error":"#NAME?"}]
[null,null,null,null,null,null,null,null,null,null,null,null,null,null,null,null,null,null,null,null,null,null,null,{"$error":"#NAME?"},{"$error":"#NAME?"}]
[null,null,null,null,null,null,null,null,null,null,null,null,null,null,null,null,null,null,null,null,null,null,null,{"$error":"#NAME?"},{"$error":"#NAME?"}]
[null,null,null,null,null,null,null,null,null,null,null,null,null,null,null,null,null,null,null,null,null,null,null,{"$error":"#NAME?"},{"$error":"#NAME?"}]
[null,null,null,null,null,null,null,null,null,null,null,null,null,null,null,null,null,null,null,null,null,null,null,{"$error":"#NAME?"},{"$error":"#NAME?"}]
[null,null,null,null,null,null,null,null,null,null,null,null,null,null,null,null,null,null,null,null,null,null,null,{"$error":"#NAME?"},{"$error":"#NAME?"}]
[null,null,null,null,null,null,null,null,null,null,null,null,null,null,null,null,null,null,null,null,null,null,null,{"$error":"#NAME?"},{"$error":"#NAME?"}]
[null,null,null,null,null,null,null,null,null,null,null,null,null,null,null,null,null,null,null,null,null,null,null,{"$error":"#NAME?"},{"$error":"#NAME?"}]
[null,null,null,null,null,null,null,null,null,null,null,null,null,null,null,null,null,null,null,null,null,null,null,{"$error":"#NAME?"},{"$error":"#NAME?"}]
[null,null,null,null,null,null,null,null,null,null,null,null,null,null,null,null,null,null,null,null,null,null,null,{"$error":"#NAME?"},{"$error":"#NAME?"}]
[null,null,null,null,null,null,null,null,null,null,null,null,null,null,null,null,null,null,null,null,null,null,null,{"$error":"#NAME?"},{"$error":"#NAME?"}]
[null,null,null,null,null,null,null,null,null,null,null,null,null,null,null,null,null,null,null,null,null,null,null,{"$error":"#NAME?"},{"$error":"#NAME?"}]
[null,null,null,null,null,null,null,null,null,null,null,null,null,null,null,null,null,null,null,null,null,null,null,{"$error":"#NAME?"},{"$error":"#NAME?"}]
[null,null,null,null,null,null,null,null,null,null,null,null,null,null,null,null,null,null,null,null,null,null,null,{"$error":"#NAME?"},{"$error":"#NAME?"}]
[null,null,null,null,null,null,null,null,null,null,null,null,null,null,null,null,null,null,null,null,null,null,null,{"$error":"#NAME?"},{"$error":"#NAME?"}]
[null,null,null,null,null,null,null,null,null,null,null,null,null,null,null,null,null,null,null,null,null,null,null,{"$error":"#NAME?"},{"$error":"#NAME?"}]
[null,null,null,null,null,null,null,null,null,null,null,null,null,null,null,null,null,null,null,null,null,null,null,{"$error":"#NAME?"},{"$error":"#NAME?"}]
[null,null,null,null,null,null,null,null,null,null,null,null,null,null,null,null,null,null,null,null,null,null,null,{"$error":"#NAME?"},{"$error":"#NAME?"}]
[null,null,null,null,null,null,null,null,null,null,null,null,null,null,null,null,null,null,null,null,null,null,null,{"$error":"#NAME?"},{"$error":"#NAME?"}]
[null,null,null,null,null,null,null,null,null,null,null,null,null,null,null,null,null,null,null,null,null,null,null,{"$error":"#NAME?"},{"$error":"#NAME?"}]
[null,null,null,null,null,null,null,null,null,null,null,null,null,null,null,null,null,null,null,null,null,null,null,{"$error":"#NAME?"},{"$error":"#NAME?"}]
[null,null,null,null,null,null,null,null,null,null,null,null,null,null,null,null,null,null,null,null,null,null,null,{"$error":"#NAME?"},{"$error":"#NAME?"}]
[null,null,null,null,null,null,null,null,null,null,null,null,null,null,null,null,null,null,null,null,null,null,null,{"$error":"#NAME?"},{"$error":"#NAME?"}]
[null,null,null,null,null,null,null,null,null,null,null,null,null,null,null,null,null,null,null,null,null,null,null,{"$error":"#NAME?"},{"$error":"#NAME?"}]
[null,null,null,null,null,null,null,null,null,null,null,null,null,null,null,null,null,null,null,null,null,null,null,{"$error":"#NAME?"},{"$error":"#NAME?"}]
[null,null,null,null,null,null,null,null,null,null,null,null,null,null,null,null,null,null,null,null,null,null,null,{"$error":"#NAME?"},{"$error":"#NAME?"}]
[null,null,null,null,null,null,null,null,null,null,null,null,null,null,null,null,null,null,null,null,null,null,null,{"$error":"#NAME?"},{"$error":"#NAME?"}]
[null,null,null,null,null,null,null,null,null,null,null,null,null,null,null,null,null,null,null,null,null,null,null,{"$error":"#NAME?"},{"$error":"#NAME?"}]
[null,null,null,null,null,null,null,null,null,null,null,null,null,null,null,null,null,null,null,null,null,null,null,{"$error":"#NAME?"},{"$error":"#NAME?"}]
[null,null,null,null,null,null,null,null,null,null,null,null,null,null,null,null,null,null,null,null,null,null,null,{"$error":"#NAME?"},{"$error":"#NAME?"}]
[null,null,null,null,null,null,null,null,null,null,null,null,null,null,null,null,null,null,null,null,null,null,null,{"$error":"#NAME?"},{"$error":"#NAME?"}]
[null,null,null,null,null,null,null,null,null,null,null,null,null,null,null,null,null,null,null,null,null,null,null,{"$error":"#NAME?"},{"$error":"#NAME?"}]
[null,null,null,null,null,null,null,null,null,null,null,null,null,null,null,null,null,null,null,null,null,null,null,{"$error":"#NAME?"},{"$error":"#NAME?"}]
[null,null,null,null,null,null,null,null,null,null,null,null,null,null,null,null,null,null,null,null,null,null,null,{"$error":"#NAME?"},{"$error":"#NAME?"}]
[null,null,null,null,null,null,null,null,null,null,null,null,null,null,null,null,null,null,null,null,null,null,null,{"$error":"#NAME?"},{"$error":"#NAME?"}]
[null,null,null,null,null,null,null,null,null,null,null,null,null,null,null,null,null,null,null,null,null,null,null,{"$error":"#NAME?"},{"$error":"#NAME?"}]
[null,null,null,null,null,null,null,null,null,null,null,null,null,null,null,null,null,null,null,null,null,null,null,{"$error":"#NAME?"},{"$error":"#NAME?"}]
[null,null,null,null,null,null,null,null,null,null,null,null,null,null,null,null,null,null,null,null,null,null,null,{"$error":"#NAME?"},{"$error":"#NAME?"}]
[null,null,null,null,null,null,null,null,null,null,null,null,null,null,null,null,null,null,null,null,null,null,null,{"$error":"#NAME?"},{"$error":"#NAME?"}]
[null,null,null,null,null,null,null,null,null,null,null,null,null,null,null,null,null,null,null,null,null,null,null,{"$error":"#NAME?"},{"$error":"#NAME?"}]
[null,null,null,null,null,null,null,null,null,null,null,null,null,null,null,null,null,null,null,null,null,null,null,{"$error":"#NAME?"},{"$error":"#NAME?"}]
[null,null,null,null,null,null,null,null,null,null,null,null,null,null,null,null,null,null,null,null,null,null,null,{"$error":"#NAME?"},{"$error":"#NAME?"}]
[null,null,null,null,null,null,null,null,null,null,null,null,null,null,null,null,null,null,null,null,null,null,null,{"$error":"#NAME?"},{"$error":"#NAME?"}]
[null,null,null,null,null,null,null,null,null,null,null,null,null,null,null,null,null,null,null,null,null,null,null,{"$error":"#NAME?"},{"$error":"#NAME?"}]
[null,null,null,null,null,null,null,null,null,null,null,null,null,null,null,null,null,null,null,null,null,null,null,{"$error":"#NAME?"},{"$error":"#NAME?"}]
[null,null,null,null,null,null,null,null,null,null,null,null,null,null,null,null,null,null,null,null,null,null,null,{"$error":"#NAME?"},{"$error":"#NAME?"}]
[null,null,null,null,null,null,null,null,null,null,null,null,null,null,null,null,null,null,null,null,null,null,null,{"$error":"#NAME?"},{"$error":"#NAME?"}]
[null,null,null,null,null,null,null,null,null,null,null,null,null,null,null,null,null,null,null,null,null,null,null,{"$error":"#NAME?"},{"$error":"#NAME?"}]
[null,null,null,null,null,null,null,null,null,null,null,null,null,null,null,null,null,null,null,null,null,null,null,{"$error":"#NAME?"},{"$error":"#NAME?"}]
[null,null,null,null,null,null,null,null,null,null,null,null,null,null,null,null,null,null,null,null,null,null,null,{"$error":"#NAME?"},{"$error":"#NAME?"}]
[null,null,null,null,null,null,null,null,null,null,null,null,null,null,null,null,null,null,null,null,null,null,null,{"$error":"#NAME?"},{"$error":"#NAME?"}]
[null,null,null,null,null,null,null,null,null,null,null,null,null,null,null,null,null,null,null,null,null,null,null,{"$error":"#NAME?"},{"$error":"#NAME?"}]
[null,null,null,null,null,null,null,null,null,null,null,null,null,null,null,null,null,null,null,null,null,null,null,{"$error":"#NAME?"},{"$error":"#NAME?"}]
[null,null,null,null,null,null,null,null,null,null,null,null,null,null,null,null,null,null,null,null,null,null,null,{"$error":"#NAME?"},{"$error":"#NAME?"}]
[null,null,null,null,null,null,null,null,null,null,null,null,null,null,null,null,null,null,null,null,null,null,null,{"$error":"#NAME?"},{"$error":"#NAME?"}]
[null,null,null,null,null,null,null,null,null,null,null,null,null,null,null,null,null,null,null,null,null,null,null,{"$error":"#NAME?"},{"$error":"#NAME?"}]
[null,null,null,null,null,null,null,null,null,null,null,null,null,null,null,null,null,null,null,null,null,null,null,{"$error":"#NAME?"},{"$error":"#NAME?"}]
[null,null,null,null,null,null,null,null,null,null,null,null,null,null,null,null,null,null,null,null,null,null,null,{"$error":"#NAME?"},{"$error":"#NAME?"}]
[null,null,null,null,null,null,null,null,null,null,null,null,null,null,null,null,null,null,null,null,null,null,null,{"$error":"#NAME?"},{"$error":"#NAME?"}]
[null,null,null,null,null,null,null,null,null,null,null,null,null,null,null,null,null,null,null,null,null,null,null,{"$error":"#NAME?"},{"$error":"#NAME?"}]
[null,null,null,null,null,null,null,null,null,null,null,null,null,null,null,null,null,null,null,null,null,null,null,{"$error":"#NAME?"},{"$error":"#NAME?"}]
[null,null,null,null,null,null,null,null,null,null,null,null,null,null,null,null,null,null,null,null,null,null,null,{"$error":"#NAME?"},{"$error":"#NAME?"}]
[null,null,null,null,null,null,null,null,null,null,null,null,null,null,null,null,null,null,null,null,null,null,null,{"$error":"#NAME?"},{"$error":"#NAME?"}]
[null,null,null,null,null,null,null,null,null,null,null,null,null,null,null,null,null,null,null,null,null,null,null,{"$error":"#NAME?"},{"$error":"#NAME?"}]
[null,null,null,null,null,null,null,null,null,null,null,null,null,null,null,null,null,null,null,null,null,null,null,{"$error":"#NAME?"},{"$error":"#NAME?"}]
[null,null,null,null,null,null,null,null,null,null,null,null,null,null,null,null,null,null,null,null,null,null,null,{"$error":"#NAME?"},{"$error":"#NAME?"}]
[null,null,null,null,null,null,null,null,null,null,null,null,null,null,null,null,null,null,null,null,null,null,null,{"$error":"#NAME?"},{"$error":"#NAME?"}]
[null,null,null,null,null,null,null,null,null,null,null,null,null,null,null,null,null,null,null,null,null,null,null,{"$error":"#NAME?"},{"$error":"#NAME?"}]
[null,null,null,null,null,null,null,null,null,null,null,null,null,null,null,null,null,null,null,null,null,null,null,{"$error":"#NAME?"},{"$error":"#NAME?"}]
[null,null,null,null,null,null,null,null,null,null,null,null,null,null,null,null,null,null,null,null,null,null,null,{"$error":"#NAME?"},{"$error":"#NAME?"}]
[null,null,null,null,null,null,null,null,null,null,null,null,null,null,null,null,null,null,null,null,null,null,null,{"$error":"#NAME?"},{"$error":"#NAME?"}]
[null,null,null,null,null,null,null,null,null,null,null,null,null,null,null,null,null,null,null,null,null,null,null,{"$error":"#NAME?"},{"$error":"#NAME?"}]
[null,null,null,null,null,null,null,null,null,null,null,null,null,null,null,null,null,null,null,null,null,null,null,{"$error":"#NAME?"},{"$error":"#NAME?"}]
[null,null,null,null,null,null,null,null,null,null,null,null,null,null,null,null,null,null,null,null,null,null,null,{"$error":"#NAME?"},{"$error":"#NAME?"}]
[null,null,null,null,null,null,null,null,null,null,null,null,null,null,null,null,null,null,null,null,null,null,null,{"$error":"#NAME?"},{"$error":"#NAME?"}]
[null,null,null,null,null,null,null,null,null,null,null,null,null,null,null,null,null,null,null,null,null,null,null,{"$error":"#NAME?"},{"$error":"#NAME?"}]
[null,null,null,null,null,null,null,null,null,null,null,null,null,null,null,null,null,null,null,null,null,null,null,{"$error":"#NAME?"},{"$error":"#NAME?"}]
[null,null,null,null,null,null,null,null,null,null,null,null,null,null,null,null,null,null,null,null,null,null,null,{"$error":"#NAME?"},{"$error":"#NAME?"}]
[null,null,null,null,null,null,null,null,null,null,null,null,null,null,null,null,null,null,null,null,null,null,null,{"$error":"#NAME?"},{"$error":"#NAME?"}]
[null,null,null,null,null,null,null,null,null,null,null,null,null,null,null,null,null,null,null,null,null,null,null,{"$error":"#NAME?"},{"$error":"#NAME?"}]
[null,null,null,null,null,null,null,null,null,null,null,null,null,null,null,null,null,null,null,null,null,null,null,{"$error":"#NAME?"},{"$error":"#NAME?"}]
[null,null,null,null,null,null,null,null,null,null,null,null,null,null,null,null,null,null,null,null,null,null,null,{"$error":"#NAME?"},{"$error":"#NAME?"}]
[null,null,null,null,null,null,null,null,null,null,null,null,null,null,null,null,null,null,null,null,null,null,null,{"$error":"#NAME?"},{"$error":"#NAME?"}]
[null,null,null,null,null,null,null,null,null,null,null,null,null,null,null,null,null,null,null,null,null,null,null,{"$error":"#NAME?"},{"$error":"#NAME?"}]
[null,null,null,null,null,null,null,null,null,null,null,null,null,null,null,null,null,null,null,null,null,null,null,{"$error":"#NAME?"},{"$error":"#NAME?"}]
[null,null,null,null,null,null,null,null,null,null,null,null,null,null,null,null,null,null,null,null,null,null,null,{"$error":"#NAME?"},{"$error":"#NAME?"}]

{"sheet":"KYCT Data Sublot # 4","index":21,"n_rows":1031,"n_cols":25,"rows_kept":1031,"cut":false,"hidden":false,"merged":[[27,14,27,15],[0,3,0,13],[3,1,3,15],[26,0,26,15],[27,0,27,1],[27,2,27,3],[27,4,27,5],[27,6,27,7],[27,8,27,9],[27,10,27,11],[27,12,27,13]]}
["V1.03","  850 - IDEAL-CT",null,"SUBLOT # 4",null,null,null,null,null,null,null,null,null,null,null,"September 2019"]
[]
[null,null,null,null,null,null,null,null,null,null,null,null,null,null,null,"Show/Hide Formula Rows",null,null,null,null,null,null,null,"Test Number",1]
["Project ID",null,null,null,null,null,null,null,null,null,null,null,null,null,null,null,null,null,null,null,null,null,null,{"$f":"B4","v":0}]
["Num Points",{"$f":"COUNTA(INDIRECT(\"A\"&FirstRow&\":A\"&FirstRow+1000))","v":0},"Num Points",{"$f":"COUNTA(INDIRECT(\"C\"&FirstRow&\":C\"&FirstRow+1000))","v":0},"Num Points",{"$f":"COUNTA(INDIRECT(\"E\"&FirstRow&\":E\"&FirstRow+1000))","v":0},"Num Points",{"$f":"COUNTA(INDIRECT(\"G\"&FirstRow&\":G\"&FirstRow+1000))","v":0},"Num Points",{"$f":"COUNTA(INDIRECT(\"I\"&FirstRow&\":I\"&FirstRow+1000))","v":0},"Num Points",{"$f":"COUNTA(INDIRECT(\"K\"&FirstRow&\":K\"&FirstRow+1000))","v":0},"Num Points",{"$f":"COUNTA(INDIRECT(\"M\"&FirstRow&\":M\"&FirstRow+1000))","v":0},"Num Points",{"$f":"COUNTA(INDIRECT(\"O\"&FirstRow&\":O\"&FirstRow+1000))","v":0},null,null,null,null,null,null,null,{"$f":"IF(OFFSET(A5:P1031,0,(TestNum-1)*2)=\"\",NA(),OFFSET(A5:P1031,0,(TestNum-1)*2))","v":{"$error":"#NAME?"}},{"$error":"#NAME?"}]
["Peak Load",{"$f":"MAX(INDIRECT(\"B\"&FirstRow&\":B\"&FirstRow+B5))","v":0},"Peak Load",{"$f":"MAX(INDIRECT(\"D\"&FirstRow&\":D\"&FirstRow+D5))","v":0},"Peak Load",{"$f":"MAX(INDIRECT(\"F\"&FirstRow&\":F\"&FirstRow+F5))","v":0},"Peak Load",{"$f":"MAX(INDIRECT(\"H\"&FirstRow&\":H\"&FirstRow+H5))","v":0},"Peak Load",{"$f":"MAX(INDIRECT(\"J\"&FirstRow&\":J\"&FirstRow+J5))","v":0},"Peak Load",{"$f":"MAX(INDIRECT(\"L\"&FirstRow&\":L\"&FirstRow+L5))","v":0},"Peak Load",{"$f":"MAX(INDIRECT(\"N\"&FirstRow&\":N\"&FirstRow+N5))","v":0},"Peak Load",{"$f":"MAX(INDIRECT(\"P\"&FirstRow&\":P\"&FirstRow+P5))","v":0},null,"First Row of Data",31,null,null,null,null,{"$error":"#NAME?"},{"$error":"#NAME?"}]
["85% Peak",{"$f":"0.85*B6","v":0},"85% Peak",{"$f":"0.85*D6","v":0},"85% Peak",{"$f":"0.85*F6","v":0},"85% Peak",{"$f":"0.85*H6","v":0},"85% Peak",{"$f":"0.85*J6","v":0},"85% Peak",{"$f":"0.85*L6","v":0},"85% Peak",{"$f":"0.85*N6","v":0},"85% Peak",{"$f":"0.85*P6","v":0},null,null,null,null,null,null,null,{"$error":"#NAME?"},{"$error":"#NAME?"}]
["75% Peak",{"$f":"0.75*B6","v":0},"75% Peak",{"$f":"0.75*D6","v":0},"75% Peak",{"$f":"0.75*F6","v":0},"75% Peak",{"$f":"0.75*H6","v":0},"75% Peak",{"$f":"0.75*J6","v":0},"75% Peak",{"$f":"0.75*L6","v":0},"75% Peak",{"$f":"0.75*N6","v":0},"75% Peak",{"$f":"0.75*P6","v":0},null,null,null,null,null,null,null,{"$error":"#NAME?"},{"$error":"#NAME?"}]
["65% Peak",{"$f":"0.65*B6","v":0},"65% Peak",{"$f":"0.65*D6","v":0},"65% Peak",{"$f":"0.65*F6","v":0},"65% Peak",{"$f":"0.65*H6","v":0},"65% Peak",{"$f":"0.65*J6","v":0},"65% Peak",{"$f":"0.65*L6","v":0},"65% Peak",{"$f":"0.65*N6","v":0},"65% Peak",{"$f":"0.65*P6","v":0},null,null,null,null,null,null,null,{"$error":"#NAME?"},{"$error":"#NAME?"}]
["Rowpeak",{"$f":"MATCH(B6,INDIRECT(\"B\"&FirstRow&\":B\"&FirstRow+B5),0)+FirstRow-1","v":{"$error":"#N/A"}},"Rowpeak",{"$f":"MATCH(D6,INDIRECT(\"D\"&FirstRow&\":D\"&FirstRow+D5),0)+FirstRow-1","v":{"$error":"#N/A"}},"Rowpeak",{"$f":"MATCH(F6,INDIRECT(\"F\"&FirstRow&\":F\"&FirstRow+F5),0)+FirstRow-1","v":{"$error":"#N/A"}},"Rowpeak",{"$f":"MATCH(H6,INDIRECT(\"H\"&FirstRow&\":H\"&FirstRow+H5),0)+FirstRow-1","v":{"$error":"#N/A"}},"Rowpeak",{"$f":"MATCH(J6,INDIRECT(\"J\"&FirstRow&\":J\"&FirstRow+J5),0)+FirstRow-1","v":{"$error":"#N/A"}},"Rowpeak",{"$f":"MATCH(L6,INDIRECT(\"L\"&FirstRow&\":L\"&FirstRow+L5),0)+FirstRow-1","v":{"$error":"#N/A"}},"Rowpeak",{"$f":"MATCH(N6,INDIRECT(\"N\"&FirstRow&\":N\"&FirstRow+N5),0)+FirstRow-1","v":{"$error":"#N/A"}},"Rowpeak",{"$f":"MATCH(P6,INDIRECT(\"P\"&FirstRow&\":P\"&FirstRow+P5),0)+FirstRow-1","v":{"$error":"#N/A"}},null,null,null,null,null,null,null,{"$error":"#NAME?"},{"$error":"#NAME?"}]
["Row(85)",{"$f":"MATCH(B7,INDIRECT(\"B\"&B10&\":B\"&FirstRow+B5),-1)+B10","v":{"$error":"#N/A"}},"Row(85)",{"$f":"MATCH(D7,INDIRECT(\"D\"&D10&\":D\"&FirstRow+D5),-1)+D10","v":{"$error":"#N/A"}},"Row(85)",{"$f":"MATCH(F7,INDIRECT(\"F\"&F10&\":F\"&FirstRow+F5),-1)+F10","v":{"$error":"#N/A"}},"Row(85)",{"$f":"MATCH(H7,INDIRECT(\"H\"&H10&\":H\"&FirstRow+H5),-1)+H10","v":{"$error":"#N/A"}},"Row(85)",{"$f":"MATCH(J7,INDIRECT(\"J\"&J10&\":J\"&FirstRow+J5),-1)+J10","v":{"$error":"#N/A"}},"Row(85)",{"$f":"MATCH(L7,INDIRECT(\"L\"&L10&\":L\"&FirstRow+L5),-1)+L10","v":{"$error":"#N/A"}},"Row(85)",{"$f":"MATCH(N7,INDIRECT(\"N\"&N10&\":N\"&FirstRow+N5),-1)+N10","v":{"$error":"#N/A"}},"Row(85)",{"$f":"MATCH(P7,INDIRECT(\"P\"&P10&\":P\"&FirstRow+P5),-1)+P10","v":{"$error":"#N/A"}},null,null,null,null,null,null,null,{"$error":"#NAME?"},{"$error":"#NAME?"}]
["Row(75)",{"$f":"MATCH(B8,INDIRECT(\"B\"&B10&\":B\"&FirstRow+B5),-1)+B10","v":{"$error":"#N/A"}},"Row(75)",{"$f":"MATCH(D8,INDIRECT(\"D\"&D10&\":D\"&FirstRow+D5),-1)+D10","v":{"$error":"#N/A"}},"Row(75)",{"$f":"MATCH(F8,INDIRECT(\"F\"&F10&\":F\"&FirstRow+F5),-1)+F10","v":{"$error":"#N/A"}},"Row(75)",{"$f":"MATCH(H8,INDIRECT(\"H\"&H10&\":H\"&FirstRow+H5),-1)+H10","v":{"$error":"#N/A"}},"Row(75)",{"$f":"MATCH(J8,INDIRECT(\"J\"&J10&\":J\"&FirstRow+J5),-1)+J10","v":{"$error":"#N/A"}},"Row(75)",{"$f":"MATCH(L8,INDIRECT(\"L\"&L10&\":L\"&FirstRow+L5),-1)+L10","v":{"$error":"#N/A"}},"Row(75)",{"$f":"MATCH(N8,INDIRECT(\"N\"&N10&\":N\"&FirstRow+N5),-1)+N10","v":{"$error":"#N/A"}},"Row(75)",{"$f":"MATCH(P8,INDIRECT(\"P\"&P10&\":P\"&FirstRow+P5),-1)+P10","v":{"$error":"#N/A"}},null,null,null,null,null,null,null,{"$error":"#NAME?"},{"$error":"#NAME?"}]
["Row(65)",{"$f":"MATCH(B9,INDIRECT(\"B\"&B10&\":B\"&FirstRow+B5),-1)+B10","v":{"$error":"#N/A"}},"Row(65)",{"$f":"MATCH(D9,INDIRECT(\"D\"&D10&\":D\"&FirstRow+D5),-1)+D10","v":{"$error":"#N/A"}},"Row(65)",{"$f":"MATCH(F9,INDIRECT(\"F\"&F10&\":F\"&FirstRow+F5),-1)+F10","v":{"$error":"#N/A"}},"Row(65)",{"$f":"MATCH(H9,INDIRECT(\"H\"&H10&\":H\"&FirstRow+H5),-1)+H10","v":{"$error":"#N/A"}},"Row(65)",{"$f":"MATCH(J9,INDIRECT(\"J\"&J10&\":J\"&FirstRow+J5),-1)+J10","v":{"$error":"#N/A"}},"Row(65)",{"$f":"MATCH(L9,INDIRECT(\"L\"&L10&\":L\"&FirstRow+L5),-1)+L10","v":{"$error":"#N/A"}},"Row(65)",{"$f":"MATCH(N9,INDIRECT(\"N\"&N10&\":N\"&FirstRow+N5),-1)+N10","v":{"$error":"#N/A"}},"Row(65)",{"$f":"MATCH(P9,INDIRECT(\"P\"&P10&\":P\"&FirstRow+P5),-1)+P10","v":{"$error":"#N/A"}},null,null,null,null,null,null,null,{"$error":"#NAME?"},{"$error":"#NAME?"}]
["l75",{"$f":"IF(ISNA(B12),\"\",INDIRECT(\"A\"&B12))","v":""},"l75",{"$f":"IF(ISNA(D12),\"\",INDIRECT(\"C\"&D12))","v":""},"l75",{"$f":"IF(ISNA(F12),\"\",INDIRECT(\"E\"&F12))","v":""},"l75",{"$f":"IF(ISNA(H12),\"\",INDIRECT(\"G\"&H12))","v":""},"l75",{"$f":"IF(ISNA(J12),\"\",INDIRECT(\"I\"&J12))","v":""},"l75",{"$f":"IF(ISNA(L12),\"\",INDIRECT(\"K\"&L12))","v":""},"l75",{"$f":"IF(ISNA(N12),\"\",INDIRECT(\"M\"&N12))","v":""},"l75",{"$f":"IF(ISNA(P12),\"\",INDIRECT(\"O\"&P12))","v":""},null,null,null,null,null,null,null,{"$error":"#NAME?"},{"$error":"#NAME?"}]
["m",{"$f":"ABS(SLOPE((INDEX(B:B,B11):INDEX(B:B,B13)),(INDEX(A:A,B11):INDEX(A:A,B13))))","v":{"$error":"#N/A"}},"m",{"$f":"ABS(SLOPE((INDEX(D:D,D11):INDEX(D:D,D13)),(INDEX(C:C,D11):INDEX(C:C,D13))))","v":{"$error":"#N/A"}},"m",{"$f":"ABS(SLOPE((INDEX(F:F,F11):INDEX(F:F,F13)),(INDEX(E:E,F11):INDEX(E:E,F13))))","v":{"$error":"#N/A"}},"m",{"$f":"ABS(SLOPE((INDEX(H:H,H11):INDEX(H:H,H13)),(INDEX(G:G,H11):INDEX(G:G,H13))))","v":{"$error":"#N/A"}},"m",{"$f":"ABS(SLOPE((INDEX(J:J,J11):INDEX(J:J,J13)),(INDEX(I:I,J11):INDEX(I:I,J13))))","v":{"$error":"#N/A"}},"m",{"$f":"ABS(SLOPE((INDEX(L:L,L11):INDEX(L:L,L13)),(INDEX(K:K,L11):INDEX(K:K,L13))))","v":{"$error":"#N/A"}},"m",{"$f":"ABS(SLOPE((INDEX(N:N,N11):INDEX(N:N,N13)),(INDEX(M:M,N11):INDEX(M:M,N13))))","v":{"$error":"#N/A"}},"m",{"$f":"ABS(SLOPE((INDEX(P:P,P11):INDEX(P:P,P13)),(INDEX(O:O,P11):INDEX(O:O,P13))))","v":{"$error":"#N/A"}},null,null,null,null,null,null,null,{"$error":"#NAME?"},{"$error":"#NAME?"}]
["Series Name",{"$f":"IF(ISBLANK(B22),IF(ISBLANK(A28),\"\",A28),B22)","v":""},"Series Name",{"$f":"IF(ISBLANK(D22),IF(ISBLANK(C28),\"\",C28),D22)","v":""},"Series Name",{"$f":"IF(ISBLANK(F22),IF(ISBLANK(E28),\"\",E28),F22)","v":""},"Series Name",{"$f":"IF(ISBLANK(H22),IF(ISBLANK(G28),\"\",G28),H22)","v":""},"Series Name",{"$f":"IF(ISBLANK(J22),IF(ISBLANK(I28),\"\",I28),J22)","v":""},"Series Name",{"$f":"IF(ISBLANK(L22),IF(ISBLANK(K28),\"\",K28),L22)","v":""},"Series Name",{"$f":"IF(ISBLANK(N22),IF(ISBLANK(M28),\"\",M28),N22)","v":""},"Series Name",{"$f":"IF(ISBLANK(P22),IF(ISBLANK(O28),\"\",O28),P22)","v":""},null,null,null,null,null,null,null,{"$error":"#NAME?"},{"$error":"#NAME?"}]
["Row < 0.1",{"$f":"MATCH(0.1,INDIRECT(\"B\"&B10&\":B\"&FirstRow+B5),-1)+B10","v":{"$error":"#N/A"}},"Row < 0.1",{"$f":"MATCH(0.1,INDIRECT(\"D\"&D10&\":D\"&FirstRow+D5),-1)+D10","v":{"$error":"#N/A"}},"Row < 0.1",{"$f":"MATCH(0.1,INDIRECT(\"F\"&F10&\":F\"&FirstRow+F5),-1)+F10","v":{"$error":"#N/A"}},"Row < 0.1",{"$f":"MATCH(0.1,INDIRECT(\"H\"&H10&\":H\"&FirstRow+H5),-1)+H10","v":{"$error":"#N/A"}},"Row < 0.1",{"$f":"MATCH(0.1,INDIRECT(\"J\"&J10&\":J\"&FirstRow+J5),-1)+J10","v":{"$error":"#N/A"}},"Row < 0.1",{"$f":"MATCH(0.1,INDIRECT(\"L\"&L10&\":L\"&FirstRow+L5),-1)+L10","v":{"$error":"#N/A"}},"Row < 0.1",{"$f":"MATCH(0.1,INDIRECT(\"N\"&N10&\":N\"&FirstRow+N5),-1)+N10","v":{"$error":"#N/A"}},"Row < 0.1",{"$f":"MATCH(0.1,INDIRECT(\"P\"&P10&\":P\"&FirstRow+P5),-1)+P10","v":{"$error":"#N/A"}},null,null,null,null,null,null,null,{"$error":"#NAME?"},{"$error":"#NAME?"}]
["m75",{"$f":"IF(ISERROR(B15),\"\",ABS(B15))","v":""},"m75",{"$f":"IF(ISERROR(D15),\"\",ABS(D15))","v":""},"m75",{"$f":"IF(ISERROR(F15),\"\",ABS(F15))","v":""},"m75",{"$f":"IF(ISERROR(H15),\"\",ABS(H15))","v":""},"m75",{"$f":"IF(ISERROR(J15),\"\",ABS(J15))","v":""},"m75",{"$f":"IF(ISERROR(L15),\"\",ABS(L15))","v":""},"m75",{"$f":"IF(ISERROR(N15),\"\",ABS(N15))","v":""},"m75",{"$f":"IF(ISERROR(P15),\"\",ABS(P15))","v":""},null,null,null,null,null,null,null,{"$error":"#NAME?"},{"$error":"#NAME?"}]
["Wf",{"$f":"IF(ISNA(B17),\"\",SUMPRODUCT((INDIRECT(\"A\"&FirstRow+1&\":A\"&B17))-(INDIRECT(\"A\"&FirstRow&\":A\"&B17-1)),(((INDIRECT(\"B\"&FirstRow+1&\":B\"&B17))+(INDIRECT(\"B\"&FirstRow&\":B\"&B17-1)))/2)))","v":""},"Wf",{"$f":"IF(ISNA(D17),\"\",SUMPRODUCT((INDIRECT(\"C\"&FirstRow+1&\":C\"&D17))-(INDIRECT(\"C\"&FirstRow&\":C\"&D17-1)),(((INDIRECT(\"D\"&FirstRow+1&\":D\"&D17))+(INDIRECT(\"D\"&FirstRow&\":D\"&D17-1)))/2)))","v":""},"Wf",{"$f":"IF(ISNA(F17),\"\",SUMPRODUCT((INDIRECT(\"E\"&FirstRow+1&\":E\"&F17))-(INDIRECT(\"E\"&FirstRow&\":E\"&F17-1)),(((INDIRECT(\"F\"&FirstRow+1&\":F\"&F17))+(INDIRECT(\"F\"&FirstRow&\":F\"&F17-1)))/2)))","v":""},"Wf",{"$f":"IF(ISNA(H17),\"\",SUMPRODUCT((INDIRECT(\"G\"&FirstRow+1&\":G\"&H17))-(INDIRECT(\"G\"&FirstRow&\":G\"&H17-1)),(((INDIRECT(\"H\"&FirstRow+1&\":H\"&H17))+(INDIRECT(\"H\"&FirstRow&\":H\"&H17-1)))/2)))","v":""},"Wf",{"$f":"IF(ISNA(J17),\"\",SUMPRODUCT((INDIRECT(\"I\"&FirstRow+1&\":I\"&J17))-(INDIRECT(\"I\"&FirstRow&\":I\"&J17-1)),(((INDIRECT(\"J\"&FirstRow+1&\":J\"&J17))+(INDIRECT(\"J\"&FirstRow&\":J\"&J17-1)))/2)))","v":""},"Wf",{"$f":"IF(ISNA(L17),\"\",SUMPRODUCT((INDIRECT(\"K\"&FirstRow+1&\":K\"&L17))-(INDIRECT(\"K\"&FirstRow&\":K\"&L17-1)),(((INDIRECT(\"L\"&FirstRow+1&\":L\"&L17))+(INDIRECT(\"L\"&FirstRow&\":L\"&L17-1)))/2)))","v":""},"Wf",{"$f":"IF(ISNA(N17),\"\",SUMPRODUCT((INDIRECT(\"M\"&FirstRow+1&\":M\"&N17))-(INDIRECT(\"M\"&FirstRow&\":M\"&N17-1)),(((INDIRECT(\"N\"&FirstRow+1&\":N\"&N17))+(INDIRECT(\"N\"&FirstRow&\":N\"&N17-1)))/2)))","v":""},"Wf",{"$f":"IF(ISNA(P17),\"\",SUMPRODUCT((INDIRECT(\"O\"&FirstRow+1&\":O\"&P17))-(INDIRECT(\"O\"&FirstRow&\":O\"&P17-1)),(((INDIRECT(\"P\"&FirstRow+1&\":P\"&P17))+(INDIRECT(\"P\"&FirstRow&\":P\"&P17-1)))/2)))","v":""},null,null,null,null,null,null,null,{"$error":"#NAME?"},{"$error":"#NAME?"}]
["Gf",{"$f":"IF(B19=\"\",\"\",(B19/(B25*B26))*1000000)","v":""},"Gf",{"$f":"IF(D19=\"\",\"\",(D19/(D25*D26))*1000000)","v":""},"Gf",{"$f":"IF(F19=\"\",\"\",(F19/(F25*F26))*1000000)","v":""},"Gf",{"$f":"IF(H19=\"\",\"\",(H19/(H25*H26))*1000000)","v":""},"Gf",{"$f":"IF(J19=\"\",\"\",(J19/(J25*J26))*1000000)","v":""},"Gf",{"$f":"IF(L19=\"\",\"\",(L19/(L25*L26))*1000000)","v":""},"Gf",{"$f":"IF(N19=\"\",\"\",(N19/(N25*N26))*1000000)","v":""},"Gf",{"$f":"IF(P19=\"\",\"\",(P19/(P25*P26))*1000000)","v":""},null,null,null,null,null,null,null,{"$error":"#NAME?"},{"$error":"#NAME?"}]
["CTIndex",{"$f":"IF(B20=\"\",\"\",(B26/62)*(B14/B25)*(B20/B18))","v":""},"CTIndex",{"$f":"IF(D20=\"\",\"\",(D26/62)*(D14/D25)*(D20/D18))","v":""},"CTIndex",{"$f":"IF(F20=\"\",\"\",(F26/62)*(F14/F25)*(F20/F18))","v":""},"CTIndex",{"$f":"IF(H20=\"\",\"\",(H26/62)*(H14/H25)*(H20/H18))","v":""},"CTIndex",{"$f":"IF(J20=\"\",\"\",(J26/62)*(J14/J25)*(J20/J18))","v":""},"CTIndex",{"$f":"IF(L20=\"\",\"\",(L26/62)*(L14/L25)*(L20/L18))","v":""},"CTIndex",{"$f":"IF(N20=\"\",\"\",(N26/62)*(N14/N25)*(N20/N18))","v":""},"CTIndex",{"$f":"IF(P20=\"\",\"\",(P26/62)*(P14/P25)*(P20/P18))","v":""},null,null,null,null,null,null,null,{"$error":"#NAME?"},{"$error":"#NAME?"}]
["Sample 1 ID",null,"Sample 2 ID",null,"Sample 3 ID",null,"Sample 4 ID",null,"Sample 5 ID",null,"Sample 6 ID",null,"Sample 7 ID",null,"Sample 8 ID",null,null,null,null,null,null,null,null,{"$error":"#NAME?"},{"$error":"#NAME?"}]
["Temp [C]",null,"Temp [C]",null,"Temp [C]",null,"Temp [C]",null,"Temp [C]",null,"Temp [C]",null,"Temp [C]",null,"Temp [C]",null,null,null,null,null,null,null,null,{"$error":"#NAME?"},{"$error":"#NAME?"}]
["Air Voids",null,"Air Voids",null,"Air Voids",null,"Air Voids",null,"Air Voids",null,"Air Voids",null,"Air Voids",null,"Air Voids",null,null,null,null,null,null,null,null,{"$error":"#NAME?"},{"$error":"#NAME?"}]
["Diameter",null,"Diameter",null,"Diameter",null,"Diameter",null,"Diameter",null,"Diameter",null,"Diameter",null,"Diameter",null,null,null,null,null,null,null,null,{"$error":"#NAME?"},{"$error":"#NAME?"}]
["Thickness",null,"Thickness",null,"Thickness",null,"Thickness",null,"Thickness",null,"Thickness",null,"Thickness",null,"Thickness",null,null,null,null,null,null,null,null,{"$error":"#NAME?"},{"$error":"#NAME?"}]
["Flow/Stability Data",null,null,null,null,null,null,null,null,null,null,null,null,null,null,null,null,null,null,null,null,null,null,{"$error":"#NAME?"},{"$error":"#NAME?"}]
[null,null,null,null,null,null,null,null,null,null,null,null,null,null,null,null,null,null,null,null,null,null,null,{"$error":"#NAME?"},{"$error":"#NAME?"}]
[{"$f":"IF(ISBLANK(A31),\"\",INDIRECT(\"A$\"&MATCH(MAX(B31:B1031),B31:B1031,0)+FirstRow-1))","v":""},{"$f":"IF(ISBLANK(B31),\"\",MAX(B31:B1031))","v":""},{"$f":"IF(ISBLANK(C31),\"\",INDIRECT(\"C$\"&MATCH(MAX(D31:D1031),D31:D1031,0)+FirstRow-1))","v":""},{"$f":"IF(ISBLANK(D31),\"\",MAX(D31:D1031))","v":""},{"$f":"IF(ISBLANK(E31),\"\",INDIRECT(\"E$\"&MATCH(MAX(F31:F1031),F31:F1031,0)+FirstRow-1))","v":""},{"$f":"IF(ISBLANK(F31),\"\",MAX(F31:F1031))","v":""},{"$f":"IF(ISBLANK(G31),\"\",INDIRECT(\"g$\"&MATCH(MAX(H31:H1031),H31:H1031,0)+FirstRow-1))","v":""},{"$f":"IF(ISBLANK(H31),\"\",MAX(H31:H1031))","v":""},{"$f":"IF(ISBLANK(I31),\"\",INDIRECT(\"I$\"&MATCH(MAX(J31:J1031),J31:J1031,0)+FirstRow-1))","v":""},{"$f":"IF(ISBLANK(J31),\"\",MAX(J31:J1031))","v":""},{"$f":"IF(ISBLANK(K31),\"\",INDIRECT(\"K$\"&MATCH(MAX(L31:L1031),L31:L1031,0)+FirstRow-1))","v":""},{"$f":"IF(ISBLANK(L31),\"\",MAX(L31:L1031))","v":""},{"$f":"IF(ISBLANK(M31),\"\",INDIRECT(\"M$\"&MATCH(MAX(N31:N1031),N31:N1031,0)+FirstRow-1))","v":""},{"$f":"IF(ISBLANK(N31),\"\",MAX(N31:N1031))","v":""},{"$f":"IF(ISBLANK(O31),\"\",INDIRECT(\"O$\"&MATCH(MAX(P31:P1031),P31:P1031,0)+FirstRow-1))","v":""},{"$f":"IF(ISBLANK(P31),\"\",MAX(P31:P1031))","v":""},null,null,null,null,null,null,null,{"$error":"#NAME?"},{"$error":"#NAME?"}]
["Flow (mm)","Stability (kN)","Flow","Stability","Flow","Stability","Flow","Stability","Flow","Stability","Flow","Stability","Flow","Stability","Flow","Stability",null,null,null,null,null,null,null,{"$error":"#NAME?"},{"$error":"#NAME?"}]
[null,null,null,null,null,null,null,null,null,null,null,null,null,null,null,null,null,"Max Scale",{"$f":"MAX(B31:B706,D31:D706,F31:F706,H31:H706,J31:J706,L31:L706,N31:N706,P31:P706)","v":0},null,null,null,null,{"$error":"#NAME?"},{"$error":"#NAME?"}]
[null,null,null,null,null,null,null,null,null,null,null,null,null,null,null,null,null,"Port","COM1",null,null,null,null,{"$error":"#NAME?"},{"$error":"#NAME?"}]
[null,null,null,null,null,null,null,null,null,null,null,null,null,null,null,null,null,"Settings","baud=38400 parity=N data=8 stop=1",null,null,null,null,{"$error":"#NAME?"},{"$error":"#NAME?"}]
[null,null,null,null,null,null,null,null,null,null,null,null,null,null,null,null,null,null,null,null,null,null,null,{"$error":"#NAME?"},{"$error":"#NAME?"}]
[null,null,null,null,null,null,null,null,null,null,null,null,null,null,null,null,null,null,null,null,null,null,null,{"$error":"#NAME?"},{"$error":"#NAME?"}]
[null,null,null,null,null,null,null,null,null,null,null,null,null,null,null,null,null,null,null,null,null,null,null,{"$error":"#NAME?"},{"$error":"#NAME?"}]
[null,null,null,null,null,null,null,null,null,null,null,null,null,null,null,null,null,null,null,null,null,null,null,{"$error":"#NAME?"},{"$error":"#NAME?"}]
[null,null,null,null,null,null,null,null,null,null,null,null,null,null,null,null,null,null,null,null,null,null,null,{"$error":"#NAME?"},{"$error":"#NAME?"}]
[null,null,null,null,null,null,null,null,null,null,null,null,null,null,null,null,null,null,null,null,null,null,null,{"$error":"#NAME?"},{"$error":"#NAME?"}]
[null,null,null,null,null,null,null,null,null,null,null,null,null,null,null,null,null,null,null,null,null,null,null,{"$error":"#NAME?"},{"$error":"#NAME?"}]
[null,null,null,null,null,null,null,null,null,null,null,null,null,null,null,null,null,null,null,null,null,null,null,{"$error":"#NAME?"},{"$error":"#NAME?"}]
[null,null,null,null,null,null,null,null,null,null,null,null,null,null,null,null,null,null,null,null,null,null,null,{"$error":"#NAME?"},{"$error":"#NAME?"}]
[null,null,null,null,null,null,null,null,null,null,null,null,null,null,null,null,null,null,null,null,null,null,null,{"$error":"#NAME?"},{"$error":"#NAME?"}]
[null,null,null,null,null,null,null,null,null,null,null,null,null,null,null,null,null,null,null,null,null,null,null,{"$error":"#NAME?"},{"$error":"#NAME?"}]
[null,null,null,null,null,null,null,null,null,null,null,null,null,null,null,null,null,null,null,null,null,null,null,{"$error":"#NAME?"},{"$error":"#NAME?"}]
[null,null,null,null,null,null,null,null,null,null,null,null,null,null,null,null,null,null,null,null,null,null,null,{"$error":"#NAME?"},{"$error":"#NAME?"}]
[null,null,null,null,null,null,null,null,null,null,null,null,null,null,null,null,null,null,null,null,null,null,null,{"$error":"#NAME?"},{"$error":"#NAME?"}]
[null,null,null,null,null,null,null,null,null,null,null,null,null,null,null,null,null,null,null,null,null,null,null,{"$error":"#NAME?"},{"$error":"#NAME?"}]
[null,null,null,null,null,null,null,null,null,null,null,null,null,null,null,null,null,null,null,null,null,null,null,{"$error":"#NAME?"},{"$error":"#NAME?"}]
[null,null,null,null,null,null,null,null,null,null,null,null,null,null,null,null,null,null,null,null,null,null,null,{"$error":"#NAME?"},{"$error":"#NAME?"}]
[null,null,null,null,null,null,null,null,null,null,null,null,null,null,null,null,null,null,null,null,null,null,null,{"$error":"#NAME?"},{"$error":"#NAME?"}]
[null,null,null,null,null,null,null,null,null,null,null,null,null,null,null,null,null,null,null,null,null,null,null,{"$error":"#NAME?"},{"$error":"#NAME?"}]
[null,null,null,null,null,null,null,null,null,null,null,null,null,null,null,null,null,null,null,null,null,null,null,{"$error":"#NAME?"},{"$error":"#NAME?"}]
[null,null,null,null,null,null,null,null,null,null,null,null,null,null,null,null,null,null,null,null,null,null,null,{"$error":"#NAME?"},{"$error":"#NAME?"}]
[null,null,null,null,null,null,null,null,null,null,null,null,null,null,null,null,null,null,null,null,null,null,null,{"$error":"#NAME?"},{"$error":"#NAME?"}]
[null,null,null,null,null,null,null,null,null,null,null,null,null,null,null,null,null,null,null,null,null,null,null,{"$error":"#NAME?"},{"$error":"#NAME?"}]
[null,null,null,null,null,null,null,null,null,null,null,null,null,null,null,null,null,null,null,null,null,null,null,{"$error":"#NAME?"},{"$error":"#NAME?"}]
[null,null,null,null,null,null,null,null,null,null,null,null,null,null,null,null,null,null,null,null,null,null,null,{"$error":"#NAME?"},{"$error":"#NAME?"}]
[null,null,null,null,null,null,null,null,null,null,null,null,null,null,null,null,null,null,null,null,null,null,null,{"$error":"#NAME?"},{"$error":"#NAME?"}]
[null,null,null,null,null,null,null,null,null,null,null,null,null,null,null,null,null,null,null,null,null,null,null,{"$error":"#NAME?"},{"$error":"#NAME?"}]
[null,null,null,null,null,null,null,null,null,null,null,null,null,null,null,null,null,null,null,null,null,null,null,{"$error":"#NAME?"},{"$error":"#NAME?"}]
[null,null,null,null,null,null,null,null,null,null,null,null,null,null,null,null,null,null,null,null,null,null,null,{"$error":"#NAME?"},{"$error":"#NAME?"}]
[null,null,null,null,null,null,null,null,null,null,null,null,null,null,null,null,null,null,null,null,null,null,null,{"$error":"#NAME?"},{"$error":"#NAME?"}]
[null,null,null,null,null,null,null,null,null,null,null,null,null,null,null,null,null,null,null,null,null,null,null,{"$error":"#NAME?"},{"$error":"#NAME?"}]
[null,null,null,null,null,null,null,null,null,null,null,null,null,null,null,null,null,null,null,null,null,null,null,{"$error":"#NAME?"},{"$error":"#NAME?"}]
[null,null,null,null,null,null,null,null,null,null,null,null,null,null,null,null,null,null,null,null,null,null,null,{"$error":"#NAME?"},{"$error":"#NAME?"}]
[null,null,null,null,null,null,null,null,null,null,null,null,null,null,null,null,null,null,null,null,null,null,null,{"$error":"#NAME?"},{"$error":"#NAME?"}]
[null,null,null,null,null,null,null,null,null,null,null,null,null,null,null,null,null,null,null,null,null,null,null,{"$error":"#NAME?"},{"$error":"#NAME?"}]
[null,null,null,null,null,null,null,null,null,null,null,null,null,null,null,null,null,null,null,null,null,null,null,{"$error":"#NAME?"},{"$error":"#NAME?"}]
[null,null,null,null,null,null,null,null,null,null,null,null,null,null,null,null,null,null,null,null,null,null,null,{"$error":"#NAME?"},{"$error":"#NAME?"}]
[null,null,null,null,null,null,null,null,null,null,null,null,null,null,null,null,null,null,null,null,null,null,null,{"$error":"#NAME?"},{"$error":"#NAME?"}]
[null,null,null,null,null,null,null,null,null,null,null,null,null,null,null,null,null,null,null,null,null,null,null,{"$error":"#NAME?"},{"$error":"#NAME?"}]
[null,null,null,null,null,null,null,null,null,null,null,null,null,null,null,null,null,null,null,null,null,null,null,{"$error":"#NAME?"},{"$error":"#NAME?"}]
[null,null,null,null,null,null,null,null,null,null,null,null,null,null,null,null,null,null,null,null,null,null,null,{"$error":"#NAME?"},{"$error":"#NAME?"}]
[null,null,null,null,null,null,null,null,null,null,null,null,null,null,null,null,null,null,null,null,null,null,null,{"$error":"#NAME?"},{"$error":"#NAME?"}]
[null,null,null,null,null,null,null,null,null,null,null,null,null,null,null,null,null,null,null,null,null,null,null,{"$error":"#NAME?"},{"$error":"#NAME?"}]
[null,null,null,null,null,null,null,null,null,null,null,null,null,null,null,null,null,null,null,null,null,null,null,{"$error":"#NAME?"},{"$error":"#NAME?"}]
[null,null,null,null,null,null,null,null,null,null,null,null,null,null,null,null,null,null,null,null,null,null,null,{"$error":"#NAME?"},{"$error":"#NAME?"}]
[null,null,null,null,null,null,null,null,null,null,null,null,null,null,null,null,null,null,null,null,null,null,null,{"$error":"#NAME?"},{"$error":"#NAME?"}]
[null,null,null,null,null,null,null,null,null,null,null,null,null,null,null,null,null,null,null,null,null,null,null,{"$error":"#NAME?"},{"$error":"#NAME?"}]
[null,null,null,null,null,null,null,null,null,null,null,null,null,null,null,null,null,null,null,null,null,null,null,{"$error":"#NAME?"},{"$error":"#NAME?"}]
[null,null,null,null,null,null,null,null,null,null,null,null,null,null,null,null,null,null,null,null,null,null,null,{"$error":"#NAME?"},{"$error":"#NAME?"}]
[null,null,null,null,null,null,null,null,null,null,null,null,null,null,null,null,null,null,null,null,null,null,null,{"$error":"#NAME?"},{"$error":"#NAME?"}]
[null,null,null,null,null,null,null,null,null,null,null,null,null,null,null,null,null,null,null,null,null,null,null,{"$error":"#NAME?"},{"$error":"#NAME?"}]
[null,null,null,null,null,null,null,null,null,null,null,null,null,null,null,null,null,null,null,null,null,null,null,{"$error":"#NAME?"},{"$error":"#NAME?"}]
[null,null,null,null,null,null,null,null,null,null,null,null,null,null,null,null,null,null,null,null,null,null,null,{"$error":"#NAME?"},{"$error":"#NAME?"}]
[null,null,null,null,null,null,null,null,null,null,null,null,null,null,null,null,null,null,null,null,null,null,null,{"$error":"#NAME?"},{"$error":"#NAME?"}]
[null,null,null,null,null,null,null,null,null,null,null,null,null,null,null,null,null,null,null,null,null,null,null,{"$error":"#NAME?"},{"$error":"#NAME?"}]
[null,null,null,null,null,null,null,null,null,null,null,null,null,null,null,null,null,null,null,null,null,null,null,{"$error":"#NAME?"},{"$error":"#NAME?"}]
[null,null,null,null,null,null,null,null,null,null,null,null,null,null,null,null,null,null,null,null,null,null,null,{"$error":"#NAME?"},{"$error":"#NAME?"}]
[null,null,null,null,null,null,null,null,null,null,null,null,null,null,null,null,null,null,null,null,null,null,null,{"$error":"#NAME?"},{"$error":"#NAME?"}]
[null,null,null,null,null,null,null,null,null,null,null,null,null,null,null,null,null,null,null,null,null,null,null,{"$error":"#NAME?"},{"$error":"#NAME?"}]
[null,null,null,null,null,null,null,null,null,null,null,null,null,null,null,null,null,null,null,null,null,null,null,{"$error":"#NAME?"},{"$error":"#NAME?"}]
[null,null,null,null,null,null,null,null,null,null,null,null,null,null,null,null,null,null,null,null,null,null,null,{"$error":"#NAME?"},{"$error":"#NAME?"}]
[null,null,null,null,null,null,null,null,null,null,null,null,null,null,null,null,null,null,null,null,null,null,null,{"$error":"#NAME?"},{"$error":"#NAME?"}]
[null,null,null,null,null,null,null,null,null,null,null,null,null,null,null,null,null,null,null,null,null,null,null,{"$error":"#NAME?"},{"$error":"#NAME?"}]
[null,null,null,null,null,null,null,null,null,null,null,null,null,null,null,null,null,null,null,null,null,null,null,{"$error":"#NAME?"},{"$error":"#NAME?"}]
[null,null,null,null,null,null,null,null,null,null,null,null,null,null,null,null,null,null,null,null,null,null,null,{"$error":"#NAME?"},{"$error":"#NAME?"}]
[null,null,null,null,null,null,null,null,null,null,null,null,null,null,null,null,null,null,null,null,null,null,null,{"$error":"#NAME?"},{"$error":"#NAME?"}]
[null,null,null,null,null,null,null,null,null,null,null,null,null,null,null,null,null,null,null,null,null,null,null,{"$error":"#NAME?"},{"$error":"#NAME?"}]
[null,null,null,null,null,null,null,null,null,null,null,null,null,null,null,null,null,null,null,null,null,null,null,{"$error":"#NAME?"},{"$error":"#NAME?"}]
[null,null,null,null,null,null,null,null,null,null,null,null,null,null,null,null,null,null,null,null,null,null,null,{"$error":"#NAME?"},{"$error":"#NAME?"}]
[null,null,null,null,null,null,null,null,null,null,null,null,null,null,null,null,null,null,null,null,null,null,null,{"$error":"#NAME?"},{"$error":"#NAME?"}]
[null,null,null,null,null,null,null,null,null,null,null,null,null,null,null,null,null,null,null,null,null,null,null,{"$error":"#NAME?"},{"$error":"#NAME?"}]
[null,null,null,null,null,null,null,null,null,null,null,null,null,null,null,null,null,null,null,null,null,null,null,{"$error":"#NAME?"},{"$error":"#NAME?"}]
[null,null,null,null,null,null,null,null,null,null,null,null,null,null,null,null,null,null,null,null,null,null,null,{"$error":"#NAME?"},{"$error":"#NAME?"}]
[null,null,null,null,null,null,null,null,null,null,null,null,null,null,null,null,null,null,null,null,null,null,null,{"$error":"#NAME?"},{"$error":"#NAME?"}]
[null,null,null,null,null,null,null,null,null,null,null,null,null,null,null,null,null,null,null,null,null,null,null,{"$error":"#NAME?"},{"$error":"#NAME?"}]
[null,null,null,null,null,null,null,null,null,null,null,null,null,null,null,null,null,null,null,null,null,null,null,{"$error":"#NAME?"},{"$error":"#NAME?"}]
[null,null,null,null,null,null,null,null,null,null,null,null,null,null,null,null,null,null,null,null,null,null,null,{"$error":"#NAME?"},{"$error":"#NAME?"}]
[null,null,null,null,null,null,null,null,null,null,null,null,null,null,null,null,null,null,null,null,null,null,null,{"$error":"#NAME?"},{"$error":"#NAME?"}]
[null,null,null,null,null,null,null,null,null,null,null,null,null,null,null,null,null,null,null,null,null,null,null,{"$error":"#NAME?"},{"$error":"#NAME?"}]
[null,null,null,null,null,null,null,null,null,null,null,null,null,null,null,null,null,null,null,null,null,null,null,{"$error":"#NAME?"},{"$error":"#NAME?"}]
[null,null,null,null,null,null,null,null,null,null,null,null,null,null,null,null,null,null,null,null,null,null,null,{"$error":"#NAME?"},{"$error":"#NAME?"}]
[null,null,null,null,null,null,null,null,null,null,null,null,null,null,null,null,null,null,null,null,null,null,null,{"$error":"#NAME?"},{"$error":"#NAME?"}]
[null,null,null,null,null,null,null,null,null,null,null,null,null,null,null,null,null,null,null,null,null,null,null,{"$error":"#NAME?"},{"$error":"#NAME?"}]
[null,null,null,null,null,null,null,null,null,null,null,null,null,null,null,null,null,null,null,null,null,null,null,{"$error":"#NAME?"},{"$error":"#NAME?"}]
[null,null,null,null,null,null,null,null,null,null,null,null,null,null,null,null,null,null,null,null,null,null,null,{"$error":"#NAME?"},{"$error":"#NAME?"}]
[null,null,null,null,null,null,null,null,null,null,null,null,null,null,null,null,null,null,null,null,null,null,null,{"$error":"#NAME?"},{"$error":"#NAME?"}]
[null,null,null,null,null,null,null,null,null,null,null,null,null,null,null,null,null,null,null,null,null,null,null,{"$error":"#NAME?"},{"$error":"#NAME?"}]
[null,null,null,null,null,null,null,null,null,null,null,null,null,null,null,null,null,null,null,null,null,null,null,{"$error":"#NAME?"},{"$error":"#NAME?"}]
[null,null,null,null,null,null,null,null,null,null,null,null,null,null,null,null,null,null,null,null,null,null,null,{"$error":"#NAME?"},{"$error":"#NAME?"}]
[null,null,null,null,null,null,null,null,null,null,null,null,null,null,null,null,null,null,null,null,null,null,null,{"$error":"#NAME?"},{"$error":"#NAME?"}]
[null,null,null,null,null,null,null,null,null,null,null,null,null,null,null,null,null,null,null,null,null,null,null,{"$error":"#NAME?"},{"$error":"#NAME?"}]
[null,null,null,null,null,null,null,null,null,null,null,null,null,null,null,null,null,null,null,null,null,null,null,{"$error":"#NAME?"},{"$error":"#NAME?"}]
[null,null,null,null,null,null,null,null,null,null,null,null,null,null,null,null,null,null,null,null,null,null,null,{"$error":"#NAME?"},{"$error":"#NAME?"}]
[null,null,null,null,null,null,null,null,null,null,null,null,null,null,null,null,null,null,null,null,null,null,null,{"$error":"#NAME?"},{"$error":"#NAME?"}]
[null,null,null,null,null,null,null,null,null,null,null,null,null,null,null,null,null,null,null,null,null,null,null,{"$error":"#NAME?"},{"$error":"#NAME?"}]
[null,null,null,null,null,null,null,null,null,null,null,null,null,null,null,null,null,null,null,null,null,null,null,{"$error":"#NAME?"},{"$error":"#NAME?"}]
[null,null,null,null,null,null,null,null,null,null,null,null,null,null,null,null,null,null,null,null,null,null,null,{"$error":"#NAME?"},{"$error":"#NAME?"}]
[null,null,null,null,null,null,null,null,null,null,null,null,null,null,null,null,null,null,null,null,null,null,null,{"$error":"#NAME?"},{"$error":"#NAME?"}]
[null,null,null,null,null,null,null,null,null,null,null,null,null,null,null,null,null,null,null,null,null,null,null,{"$error":"#NAME?"},{"$error":"#NAME?"}]
[null,null,null,null,null,null,null,null,null,null,null,null,null,null,null,null,null,null,null,null,null,null,null,{"$error":"#NAME?"},{"$error":"#NAME?"}]
[null,null,null,null,null,null,null,null,null,null,null,null,null,null,null,null,null,null,null,null,null,null,null,{"$error":"#NAME?"},{"$error":"#NAME?"}]
[null,null,null,null,null,null,null,null,null,null,null,null,null,null,null,null,null,null,null,null,null,null,null,{"$error":"#NAME?"},{"$error":"#NAME?"}]
[null,null,null,null,null,null,null,null,null,null,null,null,null,null,null,null,null,null,null,null,null,null,null,{"$error":"#NAME?"},{"$error":"#NAME?"}]
[null,null,null,null,null,null,null,null,null,null,null,null,null,null,null,null,null,null,null,null,null,null,null,{"$error":"#NAME?"},{"$error":"#NAME?"}]
[null,null,null,null,null,null,null,null,null,null,null,null,null,null,null,null,null,null,null,null,null,null,null,{"$error":"#NAME?"},{"$error":"#NAME?"}]
[null,null,null,null,null,null,null,null,null,null,null,null,null,null,null,null,null,null,null,null,null,null,null,{"$error":"#NAME?"},{"$error":"#NAME?"}]
[null,null,null,null,null,null,null,null,null,null,null,null,null,null,null,null,null,null,null,null,null,null,null,{"$error":"#NAME?"},{"$error":"#NAME?"}]
[null,null,null,null,null,null,null,null,null,null,null,null,null,null,null,null,null,null,null,null,null,null,null,{"$error":"#NAME?"},{"$error":"#NAME?"}]
[null,null,null,null,null,null,null,null,null,null,null,null,null,null,null,null,null,null,null,null,null,null,null,{"$error":"#NAME?"},{"$error":"#NAME?"}]
[null,null,null,null,null,null,null,null,null,null,null,null,null,null,null,null,null,null,null,null,null,null,null,{"$error":"#NAME?"},{"$error":"#NAME?"}]
[null,null,null,null,null,null,null,null,null,null,null,null,null,null,null,null,null,null,null,null,null,null,null,{"$error":"#NAME?"},{"$error":"#NAME?"}]
[null,null,null,null,null,null,null,null,null,null,null,null,null,null,null,null,null,null,null,null,null,null,null,{"$error":"#NAME?"},{"$error":"#NAME?"}]
[null,null,null,null,null,null,null,null,null,null,null,null,null,null,null,null,null,null,null,null,null,null,null,{"$error":"#NAME?"},{"$error":"#NAME?"}]
[null,null,null,null,null,null,null,null,null,null,null,null,null,null,null,null,null,null,null,null,null,null,null,{"$error":"#NAME?"},{"$error":"#NAME?"}]
[null,null,null,null,null,null,null,null,null,null,null,null,null,null,null,null,null,null,null,null,null,null,null,{"$error":"#NAME?"},{"$error":"#NAME?"}]
[null,null,null,null,null,null,null,null,null,null,null,null,null,null,null,null,null,null,null,null,null,null,null,{"$error":"#NAME?"},{"$error":"#NAME?"}]
[null,null,null,null,null,null,null,null,null,null,null,null,null,null,null,null,null,null,null,null,null,null,null,{"$error":"#NAME?"},{"$error":"#NAME?"}]
[null,null,null,null,null,null,null,null,null,null,null,null,null,null,null,null,null,null,null,null,null,null,null,{"$error":"#NAME?"},{"$error":"#NAME?"}]
[null,null,null,null,null,null,null,null,null,null,null,null,null,null,null,null,null,null,null,null,null,null,null,{"$error":"#NAME?"},{"$error":"#NAME?"}]
[null,null,null,null,null,null,null,null,null,null,null,null,null,null,null,null,null,null,null,null,null,null,null,{"$error":"#NAME?"},{"$error":"#NAME?"}]
[null,null,null,null,null,null,null,null,null,null,null,null,null,null,null,null,null,null,null,null,null,null,null,{"$error":"#NAME?"},{"$error":"#NAME?"}]
[null,null,null,null,null,null,null,null,null,null,null,null,null,null,null,null,null,null,null,null,null,null,null,{"$error":"#NAME?"},{"$error":"#NAME?"}]
[null,null,null,null,null,null,null,null,null,null,null,null,null,null,null,null,null,null,null,null,null,null,null,{"$error":"#NAME?"},{"$error":"#NAME?"}]
[null,null,null,null,null,null,null,null,null,null,null,null,null,null,null,null,null,null,null,null,null,null,null,{"$error":"#NAME?"},{"$error":"#NAME?"}]
[null,null,null,null,null,null,null,null,null,null,null,null,null,null,null,null,null,null,null,null,null,null,null,{"$error":"#NAME?"},{"$error":"#NAME?"}]
[null,null,null,null,null,null,null,null,null,null,null,null,null,null,null,null,null,null,null,null,null,null,null,{"$error":"#NAME?"},{"$error":"#NAME?"}]
[null,null,null,null,null,null,null,null,null,null,null,null,null,null,null,null,null,null,null,null,null,null,null,{"$error":"#NAME?"},{"$error":"#NAME?"}]
[null,null,null,null,null,null,null,null,null,null,null,null,null,null,null,null,null,null,null,null,null,null,null,{"$error":"#NAME?"},{"$error":"#NAME?"}]
[null,null,null,null,null,null,null,null,null,null,null,null,null,null,null,null,null,null,null,null,null,null,null,{"$error":"#NAME?"},{"$error":"#NAME?"}]
[null,null,null,null,null,null,null,null,null,null,null,null,null,null,null,null,null,null,null,null,null,null,null,{"$error":"#NAME?"},{"$error":"#NAME?"}]
[null,null,null,null,null,null,null,null,null,null,null,null,null,null,null,null,null,null,null,null,null,null,null,{"$error":"#NAME?"},{"$error":"#NAME?"}]
[null,null,null,null,null,null,null,null,null,null,null,null,null,null,null,null,null,null,null,null,null,null,null,{"$error":"#NAME?"},{"$error":"#NAME?"}]
[null,null,null,null,null,null,null,null,null,null,null,null,null,null,null,null,null,null,null,null,null,null,null,{"$error":"#NAME?"},{"$error":"#NAME?"}]
[null,null,null,null,null,null,null,null,null,null,null,null,null,null,null,null,null,null,null,null,null,null,null,{"$error":"#NAME?"},{"$error":"#NAME?"}]
[null,null,null,null,null,null,null,null,null,null,null,null,null,null,null,null,null,null,null,null,null,null,null,{"$error":"#NAME?"},{"$error":"#NAME?"}]
[null,null,null,null,null,null,null,null,null,null,null,null,null,null,null,null,null,null,null,null,null,null,null,{"$error":"#NAME?"},{"$error":"#NAME?"}]
[null,null,null,null,null,null,null,null,null,null,null,null,null,null,null,null,null,null,null,null,null,null,null,{"$error":"#NAME?"},{"$error":"#NAME?"}]
[null,null,null,null,null,null,null,null,null,null,null,null,null,null,null,null,null,null,null,null,null,null,null,{"$error":"#NAME?"},{"$error":"#NAME?"}]
[null,null,null,null,null,null,null,null,null,null,null,null,null,null,null,null,null,null,null,null,null,null,null,{"$error":"#NAME?"},{"$error":"#NAME?"}]
[null,null,null,null,null,null,null,null,null,null,null,null,null,null,null,null,null,null,null,null,null,null,null,{"$error":"#NAME?"},{"$error":"#NAME?"}]
[null,null,null,null,null,null,null,null,null,null,null,null,null,null,null,null,null,null,null,null,null,null,null,{"$error":"#NAME?"},{"$error":"#NAME?"}]
[null,null,null,null,null,null,null,null,null,null,null,null,null,null,null,null,null,null,null,null,null,null,null,{"$error":"#NAME?"},{"$error":"#NAME?"}]
[null,null,null,null,null,null,null,null,null,null,null,null,null,null,null,null,null,null,null,null,null,null,null,{"$error":"#NAME?"},{"$error":"#NAME?"}]
[null,null,null,null,null,null,null,null,null,null,null,null,null,null,null,null,null,null,null,null,null,null,null,{"$error":"#NAME?"},{"$error":"#NAME?"}]
[null,null,null,null,null,null,null,null,null,null,null,null,null,null,null,null,null,null,null,null,null,null,null,{"$error":"#NAME?"},{"$error":"#NAME?"}]
[null,null,null,null,null,null,null,null,null,null,null,null,null,null,null,null,null,null,null,null,null,null,null,{"$error":"#NAME?"},{"$error":"#NAME?"}]
[null,null,null,null,null,null,null,null,null,null,null,null,null,null,null,null,null,null,null,null,null,null,null,{"$error":"#NAME?"},{"$error":"#NAME?"}]
[null,null,null,null,null,null,null,null,null,null,null,null,null,null,null,null,null,null,null,null,null,null,null,{"$error":"#NAME?"},{"$error":"#NAME?"}]
[null,null,null,null,null,null,null,null,null,null,null,null,null,null,null,null,null,null,null,null,null,null,null,{"$error":"#NAME?"},{"$error":"#NAME?"}]
[null,null,null,null,null,null,null,null,null,null,null,null,null,null,null,null,null,null,null,null,null,null,null,{"$error":"#NAME?"},{"$error":"#NAME?"}]
[null,null,null,null,null,null,null,null,null,null,null,null,null,null,null,null,null,null,null,null,null,null,null,{"$error":"#NAME?"},{"$error":"#NAME?"}]
[null,null,null,null,null,null,null,null,null,null,null,null,null,null,null,null,null,null,null,null,null,null,null,{"$error":"#NAME?"},{"$error":"#NAME?"}]
[null,null,null,null,null,null,null,null,null,null,null,null,null,null,null,null,null,null,null,null,null,null,null,{"$error":"#NAME?"},{"$error":"#NAME?"}]
[null,null,null,null,null,null,null,null,null,null,null,null,null,null,null,null,null,null,null,null,null,null,null,{"$error":"#NAME?"},{"$error":"#NAME?"}]
[null,null,null,null,null,null,null,null,null,null,null,null,null,null,null,null,null,null,null,null,null,null,null,{"$error":"#NAME?"},{"$error":"#NAME?"}]
[null,null,null,null,null,null,null,null,null,null,null,null,null,null,null,null,null,null,null,null,null,null,null,{"$error":"#NAME?"},{"$error":"#NAME?"}]
[null,null,null,null,null,null,null,null,null,null,null,null,null,null,null,null,null,null,null,null,null,null,null,{"$error":"#NAME?"},{"$error":"#NAME?"}]
[null,null,null,null,null,null,null,null,null,null,null,null,null,null,null,null,null,null,null,null,null,null,null,{"$error":"#NAME?"},{"$error":"#NAME?"}]
[null,null,null,null,null,null,null,null,null,null,null,null,null,null,null,null,null,null,null,null,null,null,null,{"$error":"#NAME?"},{"$error":"#NAME?"}]
[null,null,null,null,null,null,null,null,null,null,null,null,null,null,null,null,null,null,null,null,null,null,null,{"$error":"#NAME?"},{"$error":"#NAME?"}]
[null,null,null,null,null,null,null,null,null,null,null,null,null,null,null,null,null,null,null,null,null,null,null,{"$error":"#NAME?"},{"$error":"#NAME?"}]
[null,null,null,null,null,null,null,null,null,null,null,null,null,null,null,null,null,null,null,null,null,null,null,{"$error":"#NAME?"},{"$error":"#NAME?"}]
[null,null,null,null,null,null,null,null,null,null,null,null,null,null,null,null,null,null,null,null,null,null,null,{"$error":"#NAME?"},{"$error":"#NAME?"}]
[null,null,null,null,null,null,null,null,null,null,null,null,null,null,null,null,null,null,null,null,null,null,null,{"$error":"#NAME?"},{"$error":"#NAME?"}]
[null,null,null,null,null,null,null,null,null,null,null,null,null,null,null,null,null,null,null,null,null,null,null,{"$error":"#NAME?"},{"$error":"#NAME?"}]
[null,null,null,null,null,null,null,null,null,null,null,null,null,null,null,null,null,null,null,null,null,null,null,{"$error":"#NAME?"},{"$error":"#NAME?"}]
[null,null,null,null,null,null,null,null,null,null,null,null,null,null,null,null,null,null,null,null,null,null,null,{"$error":"#NAME?"},{"$error":"#NAME?"}]
[null,null,null,null,null,null,null,null,null,null,null,null,null,null,null,null,null,null,null,null,null,null,null,{"$error":"#NAME?"},{"$error":"#NAME?"}]
[null,null,null,null,null,null,null,null,null,null,null,null,null,null,null,null,null,null,null,null,null,null,null,{"$error":"#NAME?"},{"$error":"#NAME?"}]
[null,null,null,null,null,null,null,null,null,null,null,null,null,null,null,null,null,null,null,null,null,null,null,{"$error":"#NAME?"},{"$error":"#NAME?"}]
[null,null,null,null,null,null,null,null,null,null,null,null,null,null,null,null,null,null,null,null,null,null,null,{"$error":"#NAME?"},{"$error":"#NAME?"}]
[null,null,null,null,null,null,null,null,null,null,null,null,null,null,null,null,null,null,null,null,null,null,null,{"$error":"#NAME?"},{"$error":"#NAME?"}]
[null,null,null,null,null,null,null,null,null,null,null,null,null,null,null,null,null,null,null,null,null,null,null,{"$error":"#NAME?"},{"$error":"#NAME?"}]
[null,null,null,null,null,null,null,null,null,null,null,null,null,null,null,null,null,null,null,null,null,null,null,{"$error":"#NAME?"},{"$error":"#NAME?"}]
[null,null,null,null,null,null,null,null,null,null,null,null,null,null,null,null,null,null,null,null,null,null,null,{"$error":"#NAME?"},{"$error":"#NAME?"}]
[null,null,null,null,null,null,null,null,null,null,null,null,null,null,null,null,null,null,null,null,null,null,null,{"$error":"#NAME?"},{"$error":"#NAME?"}]
[null,null,null,null,null,null,null,null,null,null,null,null,null,null,null,null,null,null,null,null,null,null,null,{"$error":"#NAME?"},{"$error":"#NAME?"}]
[null,null,null,null,null,null,null,null,null,null,null,null,null,null,null,null,null,null,null,null,null,null,null,{"$error":"#NAME?"},{"$error":"#NAME?"}]
[null,null,null,null,null,null,null,null,null,null,null,null,null,null,null,null,null,null,null,null,null,null,null,{"$error":"#NAME?"},{"$error":"#NAME?"}]
[null,null,null,null,null,null,null,null,null,null,null,null,null,null,null,null,null,null,null,null,null,null,null,{"$error":"#NAME?"},{"$error":"#NAME?"}]
[null,null,null,null,null,null,null,null,null,null,null,null,null,null,null,null,null,null,null,null,null,null,null,{"$error":"#NAME?"},{"$error":"#NAME?"}]
[null,null,null,null,null,null,null,null,null,null,null,null,null,null,null,null,null,null,null,null,null,null,null,{"$error":"#NAME?"},{"$error":"#NAME?"}]
[null,null,null,null,null,null,null,null,null,null,null,null,null,null,null,null,null,null,null,null,null,null,null,{"$error":"#NAME?"},{"$error":"#NAME?"}]
[null,null,null,null,null,null,null,null,null,null,null,null,null,null,null,null,null,null,null,null,null,null,null,{"$error":"#NAME?"},{"$error":"#NAME?"}]
[null,null,null,null,null,null,null,null,null,null,null,null,null,null,null,null,null,null,null,null,null,null,null,{"$error":"#NAME?"},{"$error":"#NAME?"}]
[null,null,null,null,null,null,null,null,null,null,null,null,null,null,null,null,null,null,null,null,null,null,null,{"$error":"#NAME?"},{"$error":"#NAME?"}]
[null,null,null,null,null,null,null,null,null,null,null,null,null,null,null,null,null,null,null,null,null,null,null,{"$error":"#NAME?"},{"$error":"#NAME?"}]
[null,null,null,null,null,null,null,null,null,null,null,null,null,null,null,null,null,null,null,null,null,null,null,{"$error":"#NAME?"},{"$error":"#NAME?"}]
[null,null,null,null,null,null,null,null,null,null,null,null,null,null,null,null,null,null,null,null,null,null,null,{"$error":"#NAME?"},{"$error":"#NAME?"}]
[null,null,null,null,null,null,null,null,null,null,null,null,null,null,null,null,null,null,null,null,null,null,null,{"$error":"#NAME?"},{"$error":"#NAME?"}]
[null,null,null,null,null,null,null,null,null,null,null,null,null,null,null,null,null,null,null,null,null,null,null,{"$error":"#NAME?"},{"$error":"#NAME?"}]
[null,null,null,null,null,null,null,null,null,null,null,null,null,null,null,null,null,null,null,null,null,null,null,{"$error":"#NAME?"},{"$error":"#NAME?"}]
[null,null,null,null,null,null,null,null,null,null,null,null,null,null,null,null,null,null,null,null,null,null,null,{"$error":"#NAME?"},{"$error":"#NAME?"}]
[null,null,null,null,null,null,null,null,null,null,null,null,null,null,null,null,null,null,null,null,null,null,null,{"$error":"#NAME?"},{"$error":"#NAME?"}]
[null,null,null,null,null,null,null,null,null,null,null,null,null,null,null,null,null,null,null,null,null,null,null,{"$error":"#NAME?"},{"$error":"#NAME?"}]
[null,null,null,null,null,null,null,null,null,null,null,null,null,null,null,null,null,null,null,null,null,null,null,{"$error":"#NAME?"},{"$error":"#NAME?"}]
[null,null,null,null,null,null,null,null,null,null,null,null,null,null,null,null,null,null,null,null,null,null,null,{"$error":"#NAME?"},{"$error":"#NAME?"}]
[null,null,null,null,null,null,null,null,null,null,null,null,null,null,null,null,null,null,null,null,null,null,null,{"$error":"#NAME?"},{"$error":"#NAME?"}]
[null,null,null,null,null,null,null,null,null,null,null,null,null,null,null,null,null,null,null,null,null,null,null,{"$error":"#NAME?"},{"$error":"#NAME?"}]
[null,null,null,null,null,null,null,null,null,null,null,null,null,null,null,null,null,null,null,null,null,null,null,{"$error":"#NAME?"},{"$error":"#NAME?"}]
[null,null,null,null,null,null,null,null,null,null,null,null,null,null,null,null,null,null,null,null,null,null,null,{"$error":"#NAME?"},{"$error":"#NAME?"}]
[null,null,null,null,null,null,null,null,null,null,null,null,null,null,null,null,null,null,null,null,null,null,null,{"$error":"#NAME?"},{"$error":"#NAME?"}]
[null,null,null,null,null,null,null,null,null,null,null,null,null,null,null,null,null,null,null,null,null,null,null,{"$error":"#NAME?"},{"$error":"#NAME?"}]
[null,null,null,null,null,null,null,null,null,null,null,null,null,null,null,null,null,null,null,null,null,null,null,{"$error":"#NAME?"},{"$error":"#NAME?"}]
[null,null,null,null,null,null,null,null,null,null,null,null,null,null,null,null,null,null,null,null,null,null,null,{"$error":"#NAME?"},{"$error":"#NAME?"}]
[null,null,null,null,null,null,null,null,null,null,null,null,null,null,null,null,null,null,null,null,null,null,null,{"$error":"#NAME?"},{"$error":"#NAME?"}]
[null,null,null,null,null,null,null,null,null,null,null,null,null,null,null,null,null,null,null,null,null,null,null,{"$error":"#NAME?"},{"$error":"#NAME?"}]
[null,null,null,null,null,null,null,null,null,null,null,null,null,null,null,null,null,null,null,null,null,null,null,{"$error":"#NAME?"},{"$error":"#NAME?"}]
[null,null,null,null,null,null,null,null,null,null,null,null,null,null,null,null,null,null,null,null,null,null,null,{"$error":"#NAME?"},{"$error":"#NAME?"}]
[null,null,null,null,null,null,null,null,null,null,null,null,null,null,null,null,null,null,null,null,null,null,null,{"$error":"#NAME?"},{"$error":"#NAME?"}]
[null,null,null,null,null,null,null,null,null,null,null,null,null,null,null,null,null,null,null,null,null,null,null,{"$error":"#NAME?"},{"$error":"#NAME?"}]
[null,null,null,null,null,null,null,null,null,null,null,null,null,null,null,null,null,null,null,null,null,null,null,{"$error":"#NAME?"},{"$error":"#NAME?"}]
[null,null,null,null,null,null,null,null,null,null,null,null,null,null,null,null,null,null,null,null,null,null,null,{"$error":"#NAME?"},{"$error":"#NAME?"}]
[null,null,null,null,null,null,null,null,null,null,null,null,null,null,null,null,null,null,null,null,null,null,null,{"$error":"#NAME?"},{"$error":"#NAME?"}]
[null,null,null,null,null,null,null,null,null,null,null,null,null,null,null,null,null,null,null,null,null,null,null,{"$error":"#NAME?"},{"$error":"#NAME?"}]
[null,null,null,null,null,null,null,null,null,null,null,null,null,null,null,null,null,null,null,null,null,null,null,{"$error":"#NAME?"},{"$error":"#NAME?"}]
[null,null,null,null,null,null,null,null,null,null,null,null,null,null,null,null,null,null,null,null,null,null,null,{"$error":"#NAME?"},{"$error":"#NAME?"}]
[null,null,null,null,null,null,null,null,null,null,null,null,null,null,null,null,null,null,null,null,null,null,null,{"$error":"#NAME?"},{"$error":"#NAME?"}]
[null,null,null,null,null,null,null,null,null,null,null,null,null,null,null,null,null,null,null,null,null,null,null,{"$error":"#NAME?"},{"$error":"#NAME?"}]
[null,null,null,null,null,null,null,null,null,null,null,null,null,null,null,null,null,null,null,null,null,null,null,{"$error":"#NAME?"},{"$error":"#NAME?"}]
[null,null,null,null,null,null,null,null,null,null,null,null,null,null,null,null,null,null,null,null,null,null,null,{"$error":"#NAME?"},{"$error":"#NAME?"}]
[null,null,null,null,null,null,null,null,null,null,null,null,null,null,null,null,null,null,null,null,null,null,null,{"$error":"#NAME?"},{"$error":"#NAME?"}]
[null,null,null,null,null,null,null,null,null,null,null,null,null,null,null,null,null,null,null,null,null,null,null,{"$error":"#NAME?"},{"$error":"#NAME?"}]
[null,null,null,null,null,null,null,null,null,null,null,null,null,null,null,null,null,null,null,null,null,null,null,{"$error":"#NAME?"},{"$error":"#NAME?"}]
[null,null,null,null,null,null,null,null,null,null,null,null,null,null,null,null,null,null,null,null,null,null,null,{"$error":"#NAME?"},{"$error":"#NAME?"}]
[null,null,null,null,null,null,null,null,null,null,null,null,null,null,null,null,null,null,null,null,null,null,null,{"$error":"#NAME?"},{"$error":"#NAME?"}]
[null,null,null,null,null,null,null,null,null,null,null,null,null,null,null,null,null,null,null,null,null,null,null,{"$error":"#NAME?"},{"$error":"#NAME?"}]
[null,null,null,null,null,null,null,null,null,null,null,null,null,null,null,null,null,null,null,null,null,null,null,{"$error":"#NAME?"},{"$error":"#NAME?"}]
[null,null,null,null,null,null,null,null,null,null,null,null,null,null,null,null,null,null,null,null,null,null,null,{"$error":"#NAME?"},{"$error":"#NAME?"}]
[null,null,null,null,null,null,null,null,null,null,null,null,null,null,null,null,null,null,null,null,null,null,null,{"$error":"#NAME?"},{"$error":"#NAME?"}]
[null,null,null,null,null,null,null,null,null,null,null,null,null,null,null,null,null,null,null,null,null,null,null,{"$error":"#NAME?"},{"$error":"#NAME?"}]
[null,null,null,null,null,null,null,null,null,null,null,null,null,null,null,null,null,null,null,null,null,null,null,{"$error":"#NAME?"},{"$error":"#NAME?"}]
[null,null,null,null,null,null,null,null,null,null,null,null,null,null,null,null,null,null,null,null,null,null,null,{"$error":"#NAME?"},{"$error":"#NAME?"}]
[null,null,null,null,null,null,null,null,null,null,null,null,null,null,null,null,null,null,null,null,null,null,null,{"$error":"#NAME?"},{"$error":"#NAME?"}]
[null,null,null,null,null,null,null,null,null,null,null,null,null,null,null,null,null,null,null,null,null,null,null,{"$error":"#NAME?"},{"$error":"#NAME?"}]
[null,null,null,null,null,null,null,null,null,null,null,null,null,null,null,null,null,null,null,null,null,null,null,{"$error":"#NAME?"},{"$error":"#NAME?"}]
[null,null,null,null,null,null,null,null,null,null,null,null,null,null,null,null,null,null,null,null,null,null,null,{"$error":"#NAME?"},{"$error":"#NAME?"}]
[null,null,null,null,null,null,null,null,null,null,null,null,null,null,null,null,null,null,null,null,null,null,null,{"$error":"#NAME?"},{"$error":"#NAME?"}]
[null,null,null,null,null,null,null,null,null,null,null,null,null,null,null,null,null,null,null,null,null,null,null,{"$error":"#NAME?"},{"$error":"#NAME?"}]
[null,null,null,null,null,null,null,null,null,null,null,null,null,null,null,null,null,null,null,null,null,null,null,{"$error":"#NAME?"},{"$error":"#NAME?"}]
[null,null,null,null,null,null,null,null,null,null,null,null,null,null,null,null,null,null,null,null,null,null,null,{"$error":"#NAME?"},{"$error":"#NAME?"}]
[null,null,null,null,null,null,null,null,null,null,null,null,null,null,null,null,null,null,null,null,null,null,null,{"$error":"#NAME?"},{"$error":"#NAME?"}]
[null,null,null,null,null,null,null,null,null,null,null,null,null,null,null,null,null,null,null,null,null,null,null,{"$error":"#NAME?"},{"$error":"#NAME?"}]
[null,null,null,null,null,null,null,null,null,null,null,null,null,null,null,null,null,null,null,null,null,null,null,{"$error":"#NAME?"},{"$error":"#NAME?"}]
[null,null,null,null,null,null,null,null,null,null,null,null,null,null,null,null,null,null,null,null,null,null,null,{"$error":"#NAME?"},{"$error":"#NAME?"}]
[null,null,null,null,null,null,null,null,null,null,null,null,null,null,null,null,null,null,null,null,null,null,null,{"$error":"#NAME?"},{"$error":"#NAME?"}]
[null,null,null,null,null,null,null,null,null,null,null,null,null,null,null,null,null,null,null,null,null,null,null,{"$error":"#NAME?"},{"$error":"#NAME?"}]
[null,null,null,null,null,null,null,null,null,null,null,null,null,null,null,null,null,null,null,null,null,null,null,{"$error":"#NAME?"},{"$error":"#NAME?"}]
[null,null,null,null,null,null,null,null,null,null,null,null,null,null,null,null,null,null,null,null,null,null,null,{"$error":"#NAME?"},{"$error":"#NAME?"}]
[null,null,null,null,null,null,null,null,null,null,null,null,null,null,null,null,null,null,null,null,null,null,null,{"$error":"#NAME?"},{"$error":"#NAME?"}]
[null,null,null,null,null,null,null,null,null,null,null,null,null,null,null,null,null,null,null,null,null,null,null,{"$error":"#NAME?"},{"$error":"#NAME?"}]
[null,null,null,null,null,null,null,null,null,null,null,null,null,null,null,null,null,null,null,null,null,null,null,{"$error":"#NAME?"},{"$error":"#NAME?"}]
[null,null,null,null,null,null,null,null,null,null,null,null,null,null,null,null,null,null,null,null,null,null,null,{"$error":"#NAME?"},{"$error":"#NAME?"}]
[null,null,null,null,null,null,null,null,null,null,null,null,null,null,null,null,null,null,null,null,null,null,null,{"$error":"#NAME?"},{"$error":"#NAME?"}]
[null,null,null,null,null,null,null,null,null,null,null,null,null,null,null,null,null,null,null,null,null,null,null,{"$error":"#NAME?"},{"$error":"#NAME?"}]
[null,null,null,null,null,null,null,null,null,null,null,null,null,null,null,null,null,null,null,null,null,null,null,{"$error":"#NAME?"},{"$error":"#NAME?"}]
[null,null,null,null,null,null,null,null,null,null,null,null,null,null,null,null,null,null,null,null,null,null,null,{"$error":"#NAME?"},{"$error":"#NAME?"}]
[null,null,null,null,null,null,null,null,null,null,null,null,null,null,null,null,null,null,null,null,null,null,null,{"$error":"#NAME?"},{"$error":"#NAME?"}]
[null,null,null,null,null,null,null,null,null,null,null,null,null,null,null,null,null,null,null,null,null,null,null,{"$error":"#NAME?"},{"$error":"#NAME?"}]
[null,null,null,null,null,null,null,null,null,null,null,null,null,null,null,null,null,null,null,null,null,null,null,{"$error":"#NAME?"},{"$error":"#NAME?"}]
[null,null,null,null,null,null,null,null,null,null,null,null,null,null,null,null,null,null,null,null,null,null,null,{"$error":"#NAME?"},{"$error":"#NAME?"}]
[null,null,null,null,null,null,null,null,null,null,null,null,null,null,null,null,null,null,null,null,null,null,null,{"$error":"#NAME?"},{"$error":"#NAME?"}]
[null,null,null,null,null,null,null,null,null,null,null,null,null,null,null,null,null,null,null,null,null,null,null,{"$error":"#NAME?"},{"$error":"#NAME?"}]
[null,null,null,null,null,null,null,null,null,null,null,null,null,null,null,null,null,null,null,null,null,null,null,{"$error":"#NAME?"},{"$error":"#NAME?"}]
[null,null,null,null,null,null,null,null,null,null,null,null,null,null,null,null,null,null,null,null,null,null,null,{"$error":"#NAME?"},{"$error":"#NAME?"}]
[null,null,null,null,null,null,null,null,null,null,null,null,null,null,null,null,null,null,null,null,null,null,null,{"$error":"#NAME?"},{"$error":"#NAME?"}]
[null,null,null,null,null,null,null,null,null,null,null,null,null,null,null,null,null,null,null,null,null,null,null,{"$error":"#NAME?"},{"$error":"#NAME?"}]
[null,null,null,null,null,null,null,null,null,null,null,null,null,null,null,null,null,null,null,null,null,null,null,{"$error":"#NAME?"},{"$error":"#NAME?"}]
[null,null,null,null,null,null,null,null,null,null,null,null,null,null,null,null,null,null,null,null,null,null,null,{"$error":"#NAME?"},{"$error":"#NAME?"}]
[null,null,null,null,null,null,null,null,null,null,null,null,null,null,null,null,null,null,null,null,null,null,null,{"$error":"#NAME?"},{"$error":"#NAME?"}]
[null,null,null,null,null,null,null,null,null,null,null,null,null,null,null,null,null,null,null,null,null,null,null,{"$error":"#NAME?"},{"$error":"#NAME?"}]
[null,null,null,null,null,null,null,null,null,null,null,null,null,null,null,null,null,null,null,null,null,null,null,{"$error":"#NAME?"},{"$error":"#NAME?"}]
[null,null,null,null,null,null,null,null,null,null,null,null,null,null,null,null,null,null,null,null,null,null,null,{"$error":"#NAME?"},{"$error":"#NAME?"}]
[null,null,null,null,null,null,null,null,null,null,null,null,null,null,null,null,null,null,null,null,null,null,null,{"$error":"#NAME?"},{"$error":"#NAME?"}]
[null,null,null,null,null,null,null,null,null,null,null,null,null,null,null,null,null,null,null,null,null,null,null,{"$error":"#NAME?"},{"$error":"#NAME?"}]
[null,null,null,null,null,null,null,null,null,null,null,null,null,null,null,null,null,null,null,null,null,null,null,{"$error":"#NAME?"},{"$error":"#NAME?"}]
[null,null,null,null,null,null,null,null,null,null,null,null,null,null,null,null,null,null,null,null,null,null,null,{"$error":"#NAME?"},{"$error":"#NAME?"}]
[null,null,null,null,null,null,null,null,null,null,null,null,null,null,null,null,null,null,null,null,null,null,null,{"$error":"#NAME?"},{"$error":"#NAME?"}]
[null,null,null,null,null,null,null,null,null,null,null,null,null,null,null,null,null,null,null,null,null,null,null,{"$error":"#NAME?"},{"$error":"#NAME?"}]
[null,null,null,null,null,null,null,null,null,null,null,null,null,null,null,null,null,null,null,null,null,null,null,{"$error":"#NAME?"},{"$error":"#NAME?"}]
[null,null,null,null,null,null,null,null,null,null,null,null,null,null,null,null,null,null,null,null,null,null,null,{"$error":"#NAME?"},{"$error":"#NAME?"}]
[null,null,null,null,null,null,null,null,null,null,null,null,null,null,null,null,null,null,null,null,null,null,null,{"$error":"#NAME?"},{"$error":"#NAME?"}]
[null,null,null,null,null,null,null,null,null,null,null,null,null,null,null,null,null,null,null,null,null,null,null,{"$error":"#NAME?"},{"$error":"#NAME?"}]
[null,null,null,null,null,null,null,null,null,null,null,null,null,null,null,null,null,null,null,null,null,null,null,{"$error":"#NAME?"},{"$error":"#NAME?"}]
[null,null,null,null,null,null,null,null,null,null,null,null,null,null,null,null,null,null,null,null,null,null,null,{"$error":"#NAME?"},{"$error":"#NAME?"}]
[null,null,null,null,null,null,null,null,null,null,null,null,null,null,null,null,null,null,null,null,null,null,null,{"$error":"#NAME?"},{"$error":"#NAME?"}]
[null,null,null,null,null,null,null,null,null,null,null,null,null,null,null,null,null,null,null,null,null,null,null,{"$error":"#NAME?"},{"$error":"#NAME?"}]
[null,null,null,null,null,null,null,null,null,null,null,null,null,null,null,null,null,null,null,null,null,null,null,{"$error":"#NAME?"},{"$error":"#NAME?"}]
[null,null,null,null,null,null,null,null,null,null,null,null,null,null,null,null,null,null,null,null,null,null,null,{"$error":"#NAME?"},{"$error":"#NAME?"}]
[null,null,null,null,null,null,null,null,null,null,null,null,null,null,null,null,null,null,null,null,null,null,null,{"$error":"#NAME?"},{"$error":"#NAME?"}]
[null,null,null,null,null,null,null,null,null,null,null,null,null,null,null,null,null,null,null,null,null,null,null,{"$error":"#NAME?"},{"$error":"#NAME?"}]
[null,null,null,null,null,null,null,null,null,null,null,null,null,null,null,null,null,null,null,null,null,null,null,{"$error":"#NAME?"},{"$error":"#NAME?"}]
[null,null,null,null,null,null,null,null,null,null,null,null,null,null,null,null,null,null,null,null,null,null,null,{"$error":"#NAME?"},{"$error":"#NAME?"}]
[null,null,null,null,null,null,null,null,null,null,null,null,null,null,null,null,null,null,null,null,null,null,null,{"$error":"#NAME?"},{"$error":"#NAME?"}]
[null,null,null,null,null,null,null,null,null,null,null,null,null,null,null,null,null,null,null,null,null,null,null,{"$error":"#NAME?"},{"$error":"#NAME?"}]
[null,null,null,null,null,null,null,null,null,null,null,null,null,null,null,null,null,null,null,null,null,null,null,{"$error":"#NAME?"},{"$error":"#NAME?"}]
[null,null,null,null,null,null,null,null,null,null,null,null,null,null,null,null,null,null,null,null,null,null,null,{"$error":"#NAME?"},{"$error":"#NAME?"}]
[null,null,null,null,null,null,null,null,null,null,null,null,null,null,null,null,null,null,null,null,null,null,null,{"$error":"#NAME?"},{"$error":"#NAME?"}]
[null,null,null,null,null,null,null,null,null,null,null,null,null,null,null,null,null,null,null,null,null,null,null,{"$error":"#NAME?"},{"$error":"#NAME?"}]
[null,null,null,null,null,null,null,null,null,null,null,null,null,null,null,null,null,null,null,null,null,null,null,{"$error":"#NAME?"},{"$error":"#NAME?"}]
[null,null,null,null,null,null,null,null,null,null,null,null,null,null,null,null,null,null,null,null,null,null,null,{"$error":"#NAME?"},{"$error":"#NAME?"}]
[null,null,null,null,null,null,null,null,null,null,null,null,null,null,null,null,null,null,null,null,null,null,null,{"$error":"#NAME?"},{"$error":"#NAME?"}]
[null,null,null,null,null,null,null,null,null,null,null,null,null,null,null,null,null,null,null,null,null,null,null,{"$error":"#NAME?"},{"$error":"#NAME?"}]
[null,null,null,null,null,null,null,null,null,null,null,null,null,null,null,null,null,null,null,null,null,null,null,{"$error":"#NAME?"},{"$error":"#NAME?"}]
[null,null,null,null,null,null,null,null,null,null,null,null,null,null,null,null,null,null,null,null,null,null,null,{"$error":"#NAME?"},{"$error":"#NAME?"}]
[null,null,null,null,null,null,null,null,null,null,null,null,null,null,null,null,null,null,null,null,null,null,null,{"$error":"#NAME?"},{"$error":"#NAME?"}]
[null,null,null,null,null,null,null,null,null,null,null,null,null,null,null,null,null,null,null,null,null,null,null,{"$error":"#NAME?"},{"$error":"#NAME?"}]
[null,null,null,null,null,null,null,null,null,null,null,null,null,null,null,null,null,null,null,null,null,null,null,{"$error":"#NAME?"},{"$error":"#NAME?"}]
[null,null,null,null,null,null,null,null,null,null,null,null,null,null,null,null,null,null,null,null,null,null,null,{"$error":"#NAME?"},{"$error":"#NAME?"}]
[null,null,null,null,null,null,null,null,null,null,null,null,null,null,null,null,null,null,null,null,null,null,null,{"$error":"#NAME?"},{"$error":"#NAME?"}]
[null,null,null,null,null,null,null,null,null,null,null,null,null,null,null,null,null,null,null,null,null,null,null,{"$error":"#NAME?"},{"$error":"#NAME?"}]
[null,null,null,null,null,null,null,null,null,null,null,null,null,null,null,null,null,null,null,null,null,null,null,{"$error":"#NAME?"},{"$error":"#NAME?"}]
[null,null,null,null,null,null,null,null,null,null,null,null,null,null,null,null,null,null,null,null,null,null,null,{"$error":"#NAME?"},{"$error":"#NAME?"}]
[null,null,null,null,null,null,null,null,null,null,null,null,null,null,null,null,null,null,null,null,null,null,null,{"$error":"#NAME?"},{"$error":"#NAME?"}]
[null,null,null,null,null,null,null,null,null,null,null,null,null,null,null,null,null,null,null,null,null,null,null,{"$error":"#NAME?"},{"$error":"#NAME?"}]
[null,null,null,null,null,null,null,null,null,null,null,null,null,null,null,null,null,null,null,null,null,null,null,{"$error":"#NAME?"},{"$error":"#NAME?"}]
[null,null,null,null,null,null,null,null,null,null,null,null,null,null,null,null,null,null,null,null,null,null,null,{"$error":"#NAME?"},{"$error":"#NAME?"}]
[null,null,null,null,null,null,null,null,null,null,null,null,null,null,null,null,null,null,null,null,null,null,null,{"$error":"#NAME?"},{"$error":"#NAME?"}]
[null,null,null,null,null,null,null,null,null,null,null,null,null,null,null,null,null,null,null,null,null,null,null,{"$error":"#NAME?"},{"$error":"#NAME?"}]
[null,null,null,null,null,null,null,null,null,null,null,null,null,null,null,null,null,null,null,null,null,null,null,{"$error":"#NAME?"},{"$error":"#NAME?"}]
[null,null,null,null,null,null,null,null,null,null,null,null,null,null,null,null,null,null,null,null,null,null,null,{"$error":"#NAME?"},{"$error":"#NAME?"}]
[null,null,null,null,null,null,null,null,null,null,null,null,null,null,null,null,null,null,null,null,null,null,null,{"$error":"#NAME?"},{"$error":"#NAME?"}]
[null,null,null,null,null,null,null,null,null,null,null,null,null,null,null,null,null,null,null,null,null,null,null,{"$error":"#NAME?"},{"$error":"#NAME?"}]
[null,null,null,null,null,null,null,null,null,null,null,null,null,null,null,null,null,null,null,null,null,null,null,{"$error":"#NAME?"},{"$error":"#NAME?"}]
[null,null,null,null,null,null,null,null,null,null,null,null,null,null,null,null,null,null,null,null,null,null,null,{"$error":"#NAME?"},{"$error":"#NAME?"}]
[null,null,null,null,null,null,null,null,null,null,null,null,null,null,null,null,null,null,null,null,null,null,null,{"$error":"#NAME?"},{"$error":"#NAME?"}]
[null,null,null,null,null,null,null,null,null,null,null,null,null,null,null,null,null,null,null,null,null,null,null,{"$error":"#NAME?"},{"$error":"#NAME?"}]
[null,null,null,null,null,null,null,null,null,null,null,null,null,null,null,null,null,null,null,null,null,null,null,{"$error":"#NAME?"},{"$error":"#NAME?"}]
[null,null,null,null,null,null,null,null,null,null,null,null,null,null,null,null,null,null,null,null,null,null,null,{"$error":"#NAME?"},{"$error":"#NAME?"}]
[null,null,null,null,null,null,null,null,null,null,null,null,null,null,null,null,null,null,null,null,null,null,null,{"$error":"#NAME?"},{"$error":"#NAME?"}]
[null,null,null,null,null,null,null,null,null,null,null,null,null,null,null,null,null,null,null,null,null,null,null,{"$error":"#NAME?"},{"$error":"#NAME?"}]
[null,null,null,null,null,null,null,null,null,null,null,null,null,null,null,null,null,null,null,null,null,null,null,{"$error":"#NAME?"},{"$error":"#NAME?"}]
[null,null,null,null,null,null,null,null,null,null,null,null,null,null,null,null,null,null,null,null,null,null,null,{"$error":"#NAME?"},{"$error":"#NAME?"}]
[null,null,null,null,null,null,null,null,null,null,null,null,null,null,null,null,null,null,null,null,null,null,null,{"$error":"#NAME?"},{"$error":"#NAME?"}]
[null,null,null,null,null,null,null,null,null,null,null,null,null,null,null,null,null,null,null,null,null,null,null,{"$error":"#NAME?"},{"$error":"#NAME?"}]
[null,null,null,null,null,null,null,null,null,null,null,null,null,null,null,null,null,null,null,null,null,null,null,{"$error":"#NAME?"},{"$error":"#NAME?"}]
[null,null,null,null,null,null,null,null,null,null,null,null,null,null,null,null,null,null,null,null,null,null,null,{"$error":"#NAME?"},{"$error":"#NAME?"}]
[null,null,null,null,null,null,null,null,null,null,null,null,null,null,null,null,null,null,null,null,null,null,null,{"$error":"#NAME?"},{"$error":"#NAME?"}]
[null,null,null,null,null,null,null,null,null,null,null,null,null,null,null,null,null,null,null,null,null,null,null,{"$error":"#NAME?"},{"$error":"#NAME?"}]
[null,null,null,null,null,null,null,null,null,null,null,null,null,null,null,null,null,null,null,null,null,null,null,{"$error":"#NAME?"},{"$error":"#NAME?"}]
[null,null,null,null,null,null,null,null,null,null,null,null,null,null,null,null,null,null,null,null,null,null,null,{"$error":"#NAME?"},{"$error":"#NAME?"}]
[null,null,null,null,null,null,null,null,null,null,null,null,null,null,null,null,null,null,null,null,null,null,null,{"$error":"#NAME?"},{"$error":"#NAME?"}]
[null,null,null,null,null,null,null,null,null,null,null,null,null,null,null,null,null,null,null,null,null,null,null,{"$error":"#NAME?"},{"$error":"#NAME?"}]
[null,null,null,null,null,null,null,null,null,null,null,null,null,null,null,null,null,null,null,null,null,null,null,{"$error":"#NAME?"},{"$error":"#NAME?"}]
[null,null,null,null,null,null,null,null,null,null,null,null,null,null,null,null,null,null,null,null,null,null,null,{"$error":"#NAME?"},{"$error":"#NAME?"}]
[null,null,null,null,null,null,null,null,null,null,null,null,null,null,null,null,null,null,null,null,null,null,null,{"$error":"#NAME?"},{"$error":"#NAME?"}]
[null,null,null,null,null,null,null,null,null,null,null,null,null,null,null,null,null,null,null,null,null,null,null,{"$error":"#NAME?"},{"$error":"#NAME?"}]
[null,null,null,null,null,null,null,null,null,null,null,null,null,null,null,null,null,null,null,null,null,null,null,{"$error":"#NAME?"},{"$error":"#NAME?"}]
[null,null,null,null,null,null,null,null,null,null,null,null,null,null,null,null,null,null,null,null,null,null,null,{"$error":"#NAME?"},{"$error":"#NAME?"}]
[null,null,null,null,null,null,null,null,null,null,null,null,null,null,null,null,null,null,null,null,null,null,null,{"$error":"#NAME?"},{"$error":"#NAME?"}]
[null,null,null,null,null,null,null,null,null,null,null,null,null,null,null,null,null,null,null,null,null,null,null,{"$error":"#NAME?"},{"$error":"#NAME?"}]
[null,null,null,null,null,null,null,null,null,null,null,null,null,null,null,null,null,null,null,null,null,null,null,{"$error":"#NAME?"},{"$error":"#NAME?"}]
[null,null,null,null,null,null,null,null,null,null,null,null,null,null,null,null,null,null,null,null,null,null,null,{"$error":"#NAME?"},{"$error":"#NAME?"}]
[null,null,null,null,null,null,null,null,null,null,null,null,null,null,null,null,null,null,null,null,null,null,null,{"$error":"#NAME?"},{"$error":"#NAME?"}]
[null,null,null,null,null,null,null,null,null,null,null,null,null,null,null,null,null,null,null,null,null,null,null,{"$error":"#NAME?"},{"$error":"#NAME?"}]
[null,null,null,null,null,null,null,null,null,null,null,null,null,null,null,null,null,null,null,null,null,null,null,{"$error":"#NAME?"},{"$error":"#NAME?"}]
[null,null,null,null,null,null,null,null,null,null,null,null,null,null,null,null,null,null,null,null,null,null,null,{"$error":"#NAME?"},{"$error":"#NAME?"}]
[null,null,null,null,null,null,null,null,null,null,null,null,null,null,null,null,null,null,null,null,null,null,null,{"$error":"#NAME?"},{"$error":"#NAME?"}]
[null,null,null,null,null,null,null,null,null,null,null,null,null,null,null,null,null,null,null,null,null,null,null,{"$error":"#NAME?"},{"$error":"#NAME?"}]
[null,null,null,null,null,null,null,null,null,null,null,null,null,null,null,null,null,null,null,null,null,null,null,{"$error":"#NAME?"},{"$error":"#NAME?"}]
[null,null,null,null,null,null,null,null,null,null,null,null,null,null,null,null,null,null,null,null,null,null,null,{"$error":"#NAME?"},{"$error":"#NAME?"}]
[null,null,null,null,null,null,null,null,null,null,null,null,null,null,null,null,null,null,null,null,null,null,null,{"$error":"#NAME?"},{"$error":"#NAME?"}]
[null,null,null,null,null,null,null,null,null,null,null,null,null,null,null,null,null,null,null,null,null,null,null,{"$error":"#NAME?"},{"$error":"#NAME?"}]
[null,null,null,null,null,null,null,null,null,null,null,null,null,null,null,null,null,null,null,null,null,null,null,{"$error":"#NAME?"},{"$error":"#NAME?"}]
[null,null,null,null,null,null,null,null,null,null,null,null,null,null,null,null,null,null,null,null,null,null,null,{"$error":"#NAME?"},{"$error":"#NAME?"}]
[null,null,null,null,null,null,null,null,null,null,null,null,null,null,null,null,null,null,null,null,null,null,null,{"$error":"#NAME?"},{"$error":"#NAME?"}]
[null,null,null,null,null,null,null,null,null,null,null,null,null,null,null,null,null,null,null,null,null,null,null,{"$error":"#NAME?"},{"$error":"#NAME?"}]
[null,null,null,null,null,null,null,null,null,null,null,null,null,null,null,null,null,null,null,null,null,null,null,{"$error":"#NAME?"},{"$error":"#NAME?"}]
[null,null,null,null,null,null,null,null,null,null,null,null,null,null,null,null,null,null,null,null,null,null,null,{"$error":"#NAME?"},{"$error":"#NAME?"}]
[null,null,null,null,null,null,null,null,null,null,null,null,null,null,null,null,null,null,null,null,null,null,null,{"$error":"#NAME?"},{"$error":"#NAME?"}]
[null,null,null,null,null,null,null,null,null,null,null,null,null,null,null,null,null,null,null,null,null,null,null,{"$error":"#NAME?"},{"$error":"#NAME?"}]
[null,null,null,null,null,null,null,null,null,null,null,null,null,null,null,null,null,null,null,null,null,null,null,{"$error":"#NAME?"},{"$error":"#NAME?"}]
[null,null,null,null,null,null,null,null,null,null,null,null,null,null,null,null,null,null,null,null,null,null,null,{"$error":"#NAME?"},{"$error":"#NAME?"}]
[null,null,null,null,null,null,null,null,null,null,null,null,null,null,null,null,null,null,null,null,null,null,null,{"$error":"#NAME?"},{"$error":"#NAME?"}]
[null,null,null,null,null,null,null,null,null,null,null,null,null,null,null,null,null,null,null,null,null,null,null,{"$error":"#NAME?"},{"$error":"#NAME?"}]
[null,null,null,null,null,null,null,null,null,null,null,null,null,null,null,null,null,null,null,null,null,null,null,{"$error":"#NAME?"},{"$error":"#NAME?"}]
[null,null,null,null,null,null,null,null,null,null,null,null,null,null,null,null,null,null,null,null,null,null,null,{"$error":"#NAME?"},{"$error":"#NAME?"}]
[null,null,null,null,null,null,null,null,null,null,null,null,null,null,null,null,null,null,null,null,null,null,null,{"$error":"#NAME?"},{"$error":"#NAME?"}]
[null,null,null,null,null,null,null,null,null,null,null,null,null,null,null,null,null,null,null,null,null,null,null,{"$error":"#NAME?"},{"$error":"#NAME?"}]
[null,null,null,null,null,null,null,null,null,null,null,null,null,null,null,null,null,null,null,null,null,null,null,{"$error":"#NAME?"},{"$error":"#NAME?"}]
[null,null,null,null,null,null,null,null,null,null,null,null,null,null,null,null,null,null,null,null,null,null,null,{"$error":"#NAME?"},{"$error":"#NAME?"}]
[null,null,null,null,null,null,null,null,null,null,null,null,null,null,null,null,null,null,null,null,null,null,null,{"$error":"#NAME?"},{"$error":"#NAME?"}]
[null,null,null,null,null,null,null,null,null,null,null,null,null,null,null,null,null,null,null,null,null,null,null,{"$error":"#NAME?"},{"$error":"#NAME?"}]
[null,null,null,null,null,null,null,null,null,null,null,null,null,null,null,null,null,null,null,null,null,null,null,{"$error":"#NAME?"},{"$error":"#NAME?"}]
[null,null,null,null,null,null,null,null,null,null,null,null,null,null,null,null,null,null,null,null,null,null,null,{"$error":"#NAME?"},{"$error":"#NAME?"}]
[null,null,null,null,null,null,null,null,null,null,null,null,null,null,null,null,null,null,null,null,null,null,null,{"$error":"#NAME?"},{"$error":"#NAME?"}]
[null,null,null,null,null,null,null,null,null,null,null,null,null,null,null,null,null,null,null,null,null,null,null,{"$error":"#NAME?"},{"$error":"#NAME?"}]
[null,null,null,null,null,null,null,null,null,null,null,null,null,null,null,null,null,null,null,null,null,null,null,{"$error":"#NAME?"},{"$error":"#NAME?"}]
[null,null,null,null,null,null,null,null,null,null,null,null,null,null,null,null,null,null,null,null,null,null,null,{"$error":"#NAME?"},{"$error":"#NAME?"}]
[null,null,null,null,null,null,null,null,null,null,null,null,null,null,null,null,null,null,null,null,null,null,null,{"$error":"#NAME?"},{"$error":"#NAME?"}]
[null,null,null,null,null,null,null,null,null,null,null,null,null,null,null,null,null,null,null,null,null,null,null,{"$error":"#NAME?"},{"$error":"#NAME?"}]
[null,null,null,null,null,null,null,null,null,null,null,null,null,null,null,null,null,null,null,null,null,null,null,{"$error":"#NAME?"},{"$error":"#NAME?"}]
[null,null,null,null,null,null,null,null,null,null,null,null,null,null,null,null,null,null,null,null,null,null,null,{"$error":"#NAME?"},{"$error":"#NAME?"}]
[null,null,null,null,null,null,null,null,null,null,null,null,null,null,null,null,null,null,null,null,null,null,null,{"$error":"#NAME?"},{"$error":"#NAME?"}]
[null,null,null,null,null,null,null,null,null,null,null,null,null,null,null,null,null,null,null,null,null,null,null,{"$error":"#NAME?"},{"$error":"#NAME?"}]
[null,null,null,null,null,null,null,null,null,null,null,null,null,null,null,null,null,null,null,null,null,null,null,{"$error":"#NAME?"},{"$error":"#NAME?"}]
[null,null,null,null,null,null,null,null,null,null,null,null,null,null,null,null,null,null,null,null,null,null,null,{"$error":"#NAME?"},{"$error":"#NAME?"}]
[null,null,null,null,null,null,null,null,null,null,null,null,null,null,null,null,null,null,null,null,null,null,null,{"$error":"#NAME?"},{"$error":"#NAME?"}]
[null,null,null,null,null,null,null,null,null,null,null,null,null,null,null,null,null,null,null,null,null,null,null,{"$error":"#NAME?"},{"$error":"#NAME?"}]
[null,null,null,null,null,null,null,null,null,null,null,null,null,null,null,null,null,null,null,null,null,null,null,{"$error":"#NAME?"},{"$error":"#NAME?"}]
[null,null,null,null,null,null,null,null,null,null,null,null,null,null,null,null,null,null,null,null,null,null,null,{"$error":"#NAME?"},{"$error":"#NAME?"}]
[null,null,null,null,null,null,null,null,null,null,null,null,null,null,null,null,null,null,null,null,null,null,null,{"$error":"#NAME?"},{"$error":"#NAME?"}]
[null,null,null,null,null,null,null,null,null,null,null,null,null,null,null,null,null,null,null,null,null,null,null,{"$error":"#NAME?"},{"$error":"#NAME?"}]
[null,null,null,null,null,null,null,null,null,null,null,null,null,null,null,null,null,null,null,null,null,null,null,{"$error":"#NAME?"},{"$error":"#NAME?"}]
[null,null,null,null,null,null,null,null,null,null,null,null,null,null,null,null,null,null,null,null,null,null,null,{"$error":"#NAME?"},{"$error":"#NAME?"}]
[null,null,null,null,null,null,null,null,null,null,null,null,null,null,null,null,null,null,null,null,null,null,null,{"$error":"#NAME?"},{"$error":"#NAME?"}]
[null,null,null,null,null,null,null,null,null,null,null,null,null,null,null,null,null,null,null,null,null,null,null,{"$error":"#NAME?"},{"$error":"#NAME?"}]
[null,null,null,null,null,null,null,null,null,null,null,null,null,null,null,null,null,null,null,null,null,null,null,{"$error":"#NAME?"},{"$error":"#NAME?"}]
[null,null,null,null,null,null,null,null,null,null,null,null,null,null,null,null,null,null,null,null,null,null,null,{"$error":"#NAME?"},{"$error":"#NAME?"}]
[null,null,null,null,null,null,null,null,null,null,null,null,null,null,null,null,null,null,null,null,null,null,null,{"$error":"#NAME?"},{"$error":"#NAME?"}]
[null,null,null,null,null,null,null,null,null,null,null,null,null,null,null,null,null,null,null,null,null,null,null,{"$error":"#NAME?"},{"$error":"#NAME?"}]
[null,null,null,null,null,null,null,null,null,null,null,null,null,null,null,null,null,null,null,null,null,null,null,{"$error":"#NAME?"},{"$error":"#NAME?"}]
[null,null,null,null,null,null,null,null,null,null,null,null,null,null,null,null,null,null,null,null,null,null,null,{"$error":"#NAME?"},{"$error":"#NAME?"}]
[null,null,null,null,null,null,null,null,null,null,null,null,null,null,null,null,null,null,null,null,null,null,null,{"$error":"#NAME?"},{"$error":"#NAME?"}]
[null,null,null,null,null,null,null,null,null,null,null,null,null,null,null,null,null,null,null,null,null,null,null,{"$error":"#NAME?"},{"$error":"#NAME?"}]
[null,null,null,null,null,null,null,null,null,null,null,null,null,null,null,null,null,null,null,null,null,null,null,{"$error":"#NAME?"},{"$error":"#NAME?"}]
[null,null,null,null,null,null,null,null,null,null,null,null,null,null,null,null,null,null,null,null,null,null,null,{"$error":"#NAME?"},{"$error":"#NAME?"}]
[null,null,null,null,null,null,null,null,null,null,null,null,null,null,null,null,null,null,null,null,null,null,null,{"$error":"#NAME?"},{"$error":"#NAME?"}]
[null,null,null,null,null,null,null,null,null,null,null,null,null,null,null,null,null,null,null,null,null,null,null,{"$error":"#NAME?"},{"$error":"#NAME?"}]
[null,null,null,null,null,null,null,null,null,null,null,null,null,null,null,null,null,null,null,null,null,null,null,{"$error":"#NAME?"},{"$error":"#NAME?"}]
[null,null,null,null,null,null,null,null,null,null,null,null,null,null,null,null,null,null,null,null,null,null,null,{"$error":"#NAME?"},{"$error":"#NAME?"}]
[null,null,null,null,null,null,null,null,null,null,null,null,null,null,null,null,null,null,null,null,null,null,null,{"$error":"#NAME?"},{"$error":"#NAME?"}]
[null,null,null,null,null,null,null,null,null,null,null,null,null,null,null,null,null,null,null,null,null,null,null,{"$error":"#NAME?"},{"$error":"#NAME?"}]
[null,null,null,null,null,null,null,null,null,null,null,null,null,null,null,null,null,null,null,null,null,null,null,{"$error":"#NAME?"},{"$error":"#NAME?"}]
[null,null,null,null,null,null,null,null,null,null,null,null,null,null,null,null,null,null,null,null,null,null,null,{"$error":"#NAME?"},{"$error":"#NAME?"}]
[null,null,null,null,null,null,null,null,null,null,null,null,null,null,null,null,null,null,null,null,null,null,null,{"$error":"#NAME?"},{"$error":"#NAME?"}]
[null,null,null,null,null,null,null,null,null,null,null,null,null,null,null,null,null,null,null,null,null,null,null,{"$error":"#NAME?"},{"$error":"#NAME?"}]
[null,null,null,null,null,null,null,null,null,null,null,null,null,null,null,null,null,null,null,null,null,null,null,{"$error":"#NAME?"},{"$error":"#NAME?"}]
[null,null,null,null,null,null,null,null,null,null,null,null,null,null,null,null,null,null,null,null,null,null,null,{"$error":"#NAME?"},{"$error":"#NAME?"}]
[null,null,null,null,null,null,null,null,null,null,null,null,null,null,null,null,null,null,null,null,null,null,null,{"$error":"#NAME?"},{"$error":"#NAME?"}]
[null,null,null,null,null,null,null,null,null,null,null,null,null,null,null,null,null,null,null,null,null,null,null,{"$error":"#NAME?"},{"$error":"#NAME?"}]
[null,null,null,null,null,null,null,null,null,null,null,null,null,null,null,null,null,null,null,null,null,null,null,{"$error":"#NAME?"},{"$error":"#NAME?"}]
[null,null,null,null,null,null,null,null,null,null,null,null,null,null,null,null,null,null,null,null,null,null,null,{"$error":"#NAME?"},{"$error":"#NAME?"}]
[null,null,null,null,null,null,null,null,null,null,null,null,null,null,null,null,null,null,null,null,null,null,null,{"$error":"#NAME?"},{"$error":"#NAME?"}]
[null,null,null,null,null,null,null,null,null,null,null,null,null,null,null,null,null,null,null,null,null,null,null,{"$error":"#NAME?"},{"$error":"#NAME?"}]
[null,null,null,null,null,null,null,null,null,null,null,null,null,null,null,null,null,null,null,null,null,null,null,{"$error":"#NAME?"},{"$error":"#NAME?"}]
[null,null,null,null,null,null,null,null,null,null,null,null,null,null,null,null,null,null,null,null,null,null,null,{"$error":"#NAME?"},{"$error":"#NAME?"}]
[null,null,null,null,null,null,null,null,null,null,null,null,null,null,null,null,null,null,null,null,null,null,null,{"$error":"#NAME?"},{"$error":"#NAME?"}]
[null,null,null,null,null,null,null,null,null,null,null,null,null,null,null,null,null,null,null,null,null,null,null,{"$error":"#NAME?"},{"$error":"#NAME?"}]
[null,null,null,null,null,null,null,null,null,null,null,null,null,null,null,null,null,null,null,null,null,null,null,{"$error":"#NAME?"},{"$error":"#NAME?"}]
[null,null,null,null,null,null,null,null,null,null,null,null,null,null,null,null,null,null,null,null,null,null,null,{"$error":"#NAME?"},{"$error":"#NAME?"}]
[null,null,null,null,null,null,null,null,null,null,null,null,null,null,null,null,null,null,null,null,null,null,null,{"$error":"#NAME?"},{"$error":"#NAME?"}]
[null,null,null,null,null,null,null,null,null,null,null,null,null,null,null,null,null,null,null,null,null,null,null,{"$error":"#NAME?"},{"$error":"#NAME?"}]
[null,null,null,null,null,null,null,null,null,null,null,null,null,null,null,null,null,null,null,null,null,null,null,{"$error":"#NAME?"},{"$error":"#NAME?"}]
[null,null,null,null,null,null,null,null,null,null,null,null,null,null,null,null,null,null,null,null,null,null,null,{"$error":"#NAME?"},{"$error":"#NAME?"}]
[null,null,null,null,null,null,null,null,null,null,null,null,null,null,null,null,null,null,null,null,null,null,null,{"$error":"#NAME?"},{"$error":"#NAME?"}]
[null,null,null,null,null,null,null,null,null,null,null,null,null,null,null,null,null,null,null,null,null,null,null,{"$error":"#NAME?"},{"$error":"#NAME?"}]
[null,null,null,null,null,null,null,null,null,null,null,null,null,null,null,null,null,null,null,null,null,null,null,{"$error":"#NAME?"},{"$error":"#NAME?"}]
[null,null,null,null,null,null,null,null,null,null,null,null,null,null,null,null,null,null,null,null,null,null,null,{"$error":"#NAME?"},{"$error":"#NAME?"}]
[null,null,null,null,null,null,null,null,null,null,null,null,null,null,null,null,null,null,null,null,null,null,null,{"$error":"#NAME?"},{"$error":"#NAME?"}]
[null,null,null,null,null,null,null,null,null,null,null,null,null,null,null,null,null,null,null,null,null,null,null,{"$error":"#NAME?"},{"$error":"#NAME?"}]
[null,null,null,null,null,null,null,null,null,null,null,null,null,null,null,null,null,null,null,null,null,null,null,{"$error":"#NAME?"},{"$error":"#NAME?"}]
[null,null,null,null,null,null,null,null,null,null,null,null,null,null,null,null,null,null,null,null,null,null,null,{"$error":"#NAME?"},{"$error":"#NAME?"}]
[null,null,null,null,null,null,null,null,null,null,null,null,null,null,null,null,null,null,null,null,null,null,null,{"$error":"#NAME?"},{"$error":"#NAME?"}]
[null,null,null,null,null,null,null,null,null,null,null,null,null,null,null,null,null,null,null,null,null,null,null,{"$error":"#NAME?"},{"$error":"#NAME?"}]
[null,null,null,null,null,null,null,null,null,null,null,null,null,null,null,null,null,null,null,null,null,null,null,{"$error":"#NAME?"},{"$error":"#NAME?"}]
[null,null,null,null,null,null,null,null,null,null,null,null,null,null,null,null,null,null,null,null,null,null,null,{"$error":"#NAME?"},{"$error":"#NAME?"}]
[null,null,null,null,null,null,null,null,null,null,null,null,null,null,null,null,null,null,null,null,null,null,null,{"$error":"#NAME?"},{"$error":"#NAME?"}]
[null,null,null,null,null,null,null,null,null,null,null,null,null,null,null,null,null,null,null,null,null,null,null,{"$error":"#NAME?"},{"$error":"#NAME?"}]
[null,null,null,null,null,null,null,null,null,null,null,null,null,null,null,null,null,null,null,null,null,null,null,{"$error":"#NAME?"},{"$error":"#NAME?"}]
[null,null,null,null,null,null,null,null,null,null,null,null,null,null,null,null,null,null,null,null,null,null,null,{"$error":"#NAME?"},{"$error":"#NAME?"}]
[null,null,null,null,null,null,null,null,null,null,null,null,null,null,null,null,null,null,null,null,null,null,null,{"$error":"#NAME?"},{"$error":"#NAME?"}]
[null,null,null,null,null,null,null,null,null,null,null,null,null,null,null,null,null,null,null,null,null,null,null,{"$error":"#NAME?"},{"$error":"#NAME?"}]
[null,null,null,null,null,null,null,null,null,null,null,null,null,null,null,null,null,null,null,null,null,null,null,{"$error":"#NAME?"},{"$error":"#NAME?"}]
[null,null,null,null,null,null,null,null,null,null,null,null,null,null,null,null,null,null,null,null,null,null,null,{"$error":"#NAME?"},{"$error":"#NAME?"}]
[null,null,null,null,null,null,null,null,null,null,null,null,null,null,null,null,null,null,null,null,null,null,null,{"$error":"#NAME?"},{"$error":"#NAME?"}]
[null,null,null,null,null,null,null,null,null,null,null,null,null,null,null,null,null,null,null,null,null,null,null,{"$error":"#NAME?"},{"$error":"#NAME?"}]
[null,null,null,null,null,null,null,null,null,null,null,null,null,null,null,null,null,null,null,null,null,null,null,{"$error":"#NAME?"},{"$error":"#NAME?"}]
[null,null,null,null,null,null,null,null,null,null,null,null,null,null,null,null,null,null,null,null,null,null,null,{"$error":"#NAME?"},{"$error":"#NAME?"}]
[null,null,null,null,null,null,null,null,null,null,null,null,null,null,null,null,null,null,null,null,null,null,null,{"$error":"#NAME?"},{"$error":"#NAME?"}]
[null,null,null,null,null,null,null,null,null,null,null,null,null,null,null,null,null,null,null,null,null,null,null,{"$error":"#NAME?"},{"$error":"#NAME?"}]
[null,null,null,null,null,null,null,null,null,null,null,null,null,null,null,null,null,null,null,null,null,null,null,{"$error":"#NAME?"},{"$error":"#NAME?"}]
[null,null,null,null,null,null,null,null,null,null,null,null,null,null,null,null,null,null,null,null,null,null,null,{"$error":"#NAME?"},{"$error":"#NAME?"}]
[null,null,null,null,null,null,null,null,null,null,null,null,null,null,null,null,null,null,null,null,null,null,null,{"$error":"#NAME?"},{"$error":"#NAME?"}]
[null,null,null,null,null,null,null,null,null,null,null,null,null,null,null,null,null,null,null,null,null,null,null,{"$error":"#NAME?"},{"$error":"#NAME?"}]
[null,null,null,null,null,null,null,null,null,null,null,null,null,null,null,null,null,null,null,null,null,null,null,{"$error":"#NAME?"},{"$error":"#NAME?"}]
[null,null,null,null,null,null,null,null,null,null,null,null,null,null,null,null,null,null,null,null,null,null,null,{"$error":"#NAME?"},{"$error":"#NAME?"}]
[null,null,null,null,null,null,null,null,null,null,null,null,null,null,null,null,null,null,null,null,null,null,null,{"$error":"#NAME?"},{"$error":"#NAME?"}]
[null,null,null,null,null,null,null,null,null,null,null,null,null,null,null,null,null,null,null,null,null,null,null,{"$error":"#NAME?"},{"$error":"#NAME?"}]
[null,null,null,null,null,null,null,null,null,null,null,null,null,null,null,null,null,null,null,null,null,null,null,{"$error":"#NAME?"},{"$error":"#NAME?"}]
[null,null,null,null,null,null,null,null,null,null,null,null,null,null,null,null,null,null,null,null,null,null,null,{"$error":"#NAME?"},{"$error":"#NAME?"}]
[null,null,null,null,null,null,null,null,null,null,null,null,null,null,null,null,null,null,null,null,null,null,null,{"$error":"#NAME?"},{"$error":"#NAME?"}]
[null,null,null,null,null,null,null,null,null,null,null,null,null,null,null,null,null,null,null,null,null,null,null,{"$error":"#NAME?"},{"$error":"#NAME?"}]
[null,null,null,null,null,null,null,null,null,null,null,null,null,null,null,null,null,null,null,null,null,null,null,{"$error":"#NAME?"},{"$error":"#NAME?"}]
[null,null,null,null,null,null,null,null,null,null,null,null,null,null,null,null,null,null,null,null,null,null,null,{"$error":"#NAME?"},{"$error":"#NAME?"}]
[null,null,null,null,null,null,null,null,null,null,null,null,null,null,null,null,null,null,null,null,null,null,null,{"$error":"#NAME?"},{"$error":"#NAME?"}]
[null,null,null,null,null,null,null,null,null,null,null,null,null,null,null,null,null,null,null,null,null,null,null,{"$error":"#NAME?"},{"$error":"#NAME?"}]
[null,null,null,null,null,null,null,null,null,null,null,null,null,null,null,null,null,null,null,null,null,null,null,{"$error":"#NAME?"},{"$error":"#NAME?"}]
[null,null,null,null,null,null,null,null,null,null,null,null,null,null,null,null,null,null,null,null,null,null,null,{"$error":"#NAME?"},{"$error":"#NAME?"}]
[null,null,null,null,null,null,null,null,null,null,null,null,null,null,null,null,null,null,null,null,null,null,null,{"$error":"#NAME?"},{"$error":"#NAME?"}]
[null,null,null,null,null,null,null,null,null,null,null,null,null,null,null,null,null,null,null,null,null,null,null,{"$error":"#NAME?"},{"$error":"#NAME?"}]
[null,null,null,null,null,null,null,null,null,null,null,null,null,null,null,null,null,null,null,null,null,null,null,{"$error":"#NAME?"},{"$error":"#NAME?"}]
[null,null,null,null,null,null,null,null,null,null,null,null,null,null,null,null,null,null,null,null,null,null,null,{"$error":"#NAME?"},{"$error":"#NAME?"}]
[null,null,null,null,null,null,null,null,null,null,null,null,null,null,null,null,null,null,null,null,null,null,null,{"$error":"#NAME?"},{"$error":"#NAME?"}]
[null,null,null,null,null,null,null,null,null,null,null,null,null,null,null,null,null,null,null,null,null,null,null,{"$error":"#NAME?"},{"$error":"#NAME?"}]
[null,null,null,null,null,null,null,null,null,null,null,null,null,null,null,null,null,null,null,null,null,null,null,{"$error":"#NAME?"},{"$error":"#NAME?"}]
[null,null,null,null,null,null,null,null,null,null,null,null,null,null,null,null,null,null,null,null,null,null,null,{"$error":"#NAME?"},{"$error":"#NAME?"}]
[null,null,null,null,null,null,null,null,null,null,null,null,null,null,null,null,null,null,null,null,null,null,null,{"$error":"#NAME?"},{"$error":"#NAME?"}]
[null,null,null,null,null,null,null,null,null,null,null,null,null,null,null,null,null,null,null,null,null,null,null,{"$error":"#NAME?"},{"$error":"#NAME?"}]
[null,null,null,null,null,null,null,null,null,null,null,null,null,null,null,null,null,null,null,null,null,null,null,{"$error":"#NAME?"},{"$error":"#NAME?"}]
[null,null,null,null,null,null,null,null,null,null,null,null,null,null,null,null,null,null,null,null,null,null,null,{"$error":"#NAME?"},{"$error":"#NAME?"}]
[null,null,null,null,null,null,null,null,null,null,null,null,null,null,null,null,null,null,null,null,null,null,null,{"$error":"#NAME?"},{"$error":"#NAME?"}]
[null,null,null,null,null,null,null,null,null,null,null,null,null,null,null,null,null,null,null,null,null,null,null,{"$error":"#NAME?"},{"$error":"#NAME?"}]
[null,null,null,null,null,null,null,null,null,null,null,null,null,null,null,null,null,null,null,null,null,null,null,{"$error":"#NAME?"},{"$error":"#NAME?"}]
[null,null,null,null,null,null,null,null,null,null,null,null,null,null,null,null,null,null,null,null,null,null,null,{"$error":"#NAME?"},{"$error":"#NAME?"}]
[null,null,null,null,null,null,null,null,null,null,null,null,null,null,null,null,null,null,null,null,null,null,null,{"$error":"#NAME?"},{"$error":"#NAME?"}]
[null,null,null,null,null,null,null,null,null,null,null,null,null,null,null,null,null,null,null,null,null,null,null,{"$error":"#NAME?"},{"$error":"#NAME?"}]
[null,null,null,null,null,null,null,null,null,null,null,null,null,null,null,null,null,null,null,null,null,null,null,{"$error":"#NAME?"},{"$error":"#NAME?"}]
[null,null,null,null,null,null,null,null,null,null,null,null,null,null,null,null,null,null,null,null,null,null,null,{"$error":"#NAME?"},{"$error":"#NAME?"}]
[null,null,null,null,null,null,null,null,null,null,null,null,null,null,null,null,null,null,null,null,null,null,null,{"$error":"#NAME?"},{"$error":"#NAME?"}]
[null,null,null,null,null,null,null,null,null,null,null,null,null,null,null,null,null,null,null,null,null,null,null,{"$error":"#NAME?"},{"$error":"#NAME?"}]
[null,null,null,null,null,null,null,null,null,null,null,null,null,null,null,null,null,null,null,null,null,null,null,{"$error":"#NAME?"},{"$error":"#NAME?"}]
[null,null,null,null,null,null,null,null,null,null,null,null,null,null,null,null,null,null,null,null,null,null,null,{"$error":"#NAME?"},{"$error":"#NAME?"}]
[null,null,null,null,null,null,null,null,null,null,null,null,null,null,null,null,null,null,null,null,null,null,null,{"$error":"#NAME?"},{"$error":"#NAME?"}]
[null,null,null,null,null,null,null,null,null,null,null,null,null,null,null,null,null,null,null,null,null,null,null,{"$error":"#NAME?"},{"$error":"#NAME?"}]
[null,null,null,null,null,null,null,null,null,null,null,null,null,null,null,null,null,null,null,null,null,null,null,{"$error":"#NAME?"},{"$error":"#NAME?"}]
[null,null,null,null,null,null,null,null,null,null,null,null,null,null,null,null,null,null,null,null,null,null,null,{"$error":"#NAME?"},{"$error":"#NAME?"}]
[null,null,null,null,null,null,null,null,null,null,null,null,null,null,null,null,null,null,null,null,null,null,null,{"$error":"#NAME?"},{"$error":"#NAME?"}]
[null,null,null,null,null,null,null,null,null,null,null,null,null,null,null,null,null,null,null,null,null,null,null,{"$error":"#NAME?"},{"$error":"#NAME?"}]
[null,null,null,null,null,null,null,null,null,null,null,null,null,null,null,null,null,null,null,null,null,null,null,{"$error":"#NAME?"},{"$error":"#NAME?"}]
[null,null,null,null,null,null,null,null,null,null,null,null,null,null,null,null,null,null,null,null,null,null,null,{"$error":"#NAME?"},{"$error":"#NAME?"}]
[null,null,null,null,null,null,null,null,null,null,null,null,null,null,null,null,null,null,null,null,null,null,null,{"$error":"#NAME?"},{"$error":"#NAME?"}]
[null,null,null,null,null,null,null,null,null,null,null,null,null,null,null,null,null,null,null,null,null,null,null,{"$error":"#NAME?"},{"$error":"#NAME?"}]
[null,null,null,null,null,null,null,null,null,null,null,null,null,null,null,null,null,null,null,null,null,null,null,{"$error":"#NAME?"},{"$error":"#NAME?"}]
[null,null,null,null,null,null,null,null,null,null,null,null,null,null,null,null,null,null,null,null,null,null,null,{"$error":"#NAME?"},{"$error":"#NAME?"}]
[null,null,null,null,null,null,null,null,null,null,null,null,null,null,null,null,null,null,null,null,null,null,null,{"$error":"#NAME?"},{"$error":"#NAME?"}]
[null,null,null,null,null,null,null,null,null,null,null,null,null,null,null,null,null,null,null,null,null,null,null,{"$error":"#NAME?"},{"$error":"#NAME?"}]
[null,null,null,null,null,null,null,null,null,null,null,null,null,null,null,null,null,null,null,null,null,null,null,{"$error":"#NAME?"},{"$error":"#NAME?"}]
[null,null,null,null,null,null,null,null,null,null,null,null,null,null,null,null,null,null,null,null,null,null,null,{"$error":"#NAME?"},{"$error":"#NAME?"}]
[null,null,null,null,null,null,null,null,null,null,null,null,null,null,null,null,null,null,null,null,null,null,null,{"$error":"#NAME?"},{"$error":"#NAME?"}]
[null,null,null,null,null,null,null,null,null,null,null,null,null,null,null,null,null,null,null,null,null,null,null,{"$error":"#NAME?"},{"$error":"#NAME?"}]
[null,null,null,null,null,null,null,null,null,null,null,null,null,null,null,null,null,null,null,null,null,null,null,{"$error":"#NAME?"},{"$error":"#NAME?"}]
[null,null,null,null,null,null,null,null,null,null,null,null,null,null,null,null,null,null,null,null,null,null,null,{"$error":"#NAME?"},{"$error":"#NAME?"}]
[null,null,null,null,null,null,null,null,null,null,null,null,null,null,null,null,null,null,null,null,null,null,null,{"$error":"#NAME?"},{"$error":"#NAME?"}]
[null,null,null,null,null,null,null,null,null,null,null,null,null,null,null,null,null,null,null,null,null,null,null,{"$error":"#NAME?"},{"$error":"#NAME?"}]
[null,null,null,null,null,null,null,null,null,null,null,null,null,null,null,null,null,null,null,null,null,null,null,{"$error":"#NAME?"},{"$error":"#NAME?"}]
[null,null,null,null,null,null,null,null,null,null,null,null,null,null,null,null,null,null,null,null,null,null,null,{"$error":"#NAME?"},{"$error":"#NAME?"}]
[null,null,null,null,null,null,null,null,null,null,null,null,null,null,null,null,null,null,null,null,null,null,null,{"$error":"#NAME?"},{"$error":"#NAME?"}]
[null,null,null,null,null,null,null,null,null,null,null,null,null,null,null,null,null,null,null,null,null,null,null,{"$error":"#NAME?"},{"$error":"#NAME?"}]
[null,null,null,null,null,null,null,null,null,null,null,null,null,null,null,null,null,null,null,null,null,null,null,{"$error":"#NAME?"},{"$error":"#NAME?"}]
[null,null,null,null,null,null,null,null,null,null,null,null,null,null,null,null,null,null,null,null,null,null,null,{"$error":"#NAME?"},{"$error":"#NAME?"}]
[null,null,null,null,null,null,null,null,null,null,null,null,null,null,null,null,null,null,null,null,null,null,null,{"$error":"#NAME?"},{"$error":"#NAME?"}]
[null,null,null,null,null,null,null,null,null,null,null,null,null,null,null,null,null,null,null,null,null,null,null,{"$error":"#NAME?"},{"$error":"#NAME?"}]
[null,null,null,null,null,null,null,null,null,null,null,null,null,null,null,null,null,null,null,null,null,null,null,{"$error":"#NAME?"},{"$error":"#NAME?"}]
[null,null,null,null,null,null,null,null,null,null,null,null,null,null,null,null,null,null,null,null,null,null,null,{"$error":"#NAME?"},{"$error":"#NAME?"}]
[null,null,null,null,null,null,null,null,null,null,null,null,null,null,null,null,null,null,null,null,null,null,null,{"$error":"#NAME?"},{"$error":"#NAME?"}]
[null,null,null,null,null,null,null,null,null,null,null,null,null,null,null,null,null,null,null,null,null,null,null,{"$error":"#NAME?"},{"$error":"#NAME?"}]
[null,null,null,null,null,null,null,null,null,null,null,null,null,null,null,null,null,null,null,null,null,null,null,{"$error":"#NAME?"},{"$error":"#NAME?"}]
[null,null,null,null,null,null,null,null,null,null,null,null,null,null,null,null,null,null,null,null,null,null,null,{"$error":"#NAME?"},{"$error":"#NAME?"}]
[null,null,null,null,null,null,null,null,null,null,null,null,null,null,null,null,null,null,null,null,null,null,null,{"$error":"#NAME?"},{"$error":"#NAME?"}]
[null,null,null,null,null,null,null,null,null,null,null,null,null,null,null,null,null,null,null,null,null,null,null,{"$error":"#NAME?"},{"$error":"#NAME?"}]
[null,null,null,null,null,null,null,null,null,null,null,null,null,null,null,null,null,null,null,null,null,null,null,{"$error":"#NAME?"},{"$error":"#NAME?"}]
[null,null,null,null,null,null,null,null,null,null,null,null,null,null,null,null,null,null,null,null,null,null,null,{"$error":"#NAME?"},{"$error":"#NAME?"}]
[null,null,null,null,null,null,null,null,null,null,null,null,null,null,null,null,null,null,null,null,null,null,null,{"$error":"#NAME?"},{"$error":"#NAME?"}]
[null,null,null,null,null,null,null,null,null,null,null,null,null,null,null,null,null,null,null,null,null,null,null,{"$error":"#NAME?"},{"$error":"#NAME?"}]
[null,null,null,null,null,null,null,null,null,null,null,null,null,null,null,null,null,null,null,null,null,null,null,{"$error":"#NAME?"},{"$error":"#NAME?"}]
[null,null,null,null,null,null,null,null,null,null,null,null,null,null,null,null,null,null,null,null,null,null,null,{"$error":"#NAME?"},{"$error":"#NAME?"}]
[null,null,null,null,null,null,null,null,null,null,null,null,null,null,null,null,null,null,null,null,null,null,null,{"$error":"#NAME?"},{"$error":"#NAME?"}]
[null,null,null,null,null,null,null,null,null,null,null,null,null,null,null,null,null,null,null,null,null,null,null,{"$error":"#NAME?"},{"$error":"#NAME?"}]
[null,null,null,null,null,null,null,null,null,null,null,null,null,null,null,null,null,null,null,null,null,null,null,{"$error":"#NAME?"},{"$error":"#NAME?"}]
[null,null,null,null,null,null,null,null,null,null,null,null,null,null,null,null,null,null,null,null,null,null,null,{"$error":"#NAME?"},{"$error":"#NAME?"}]
[null,null,null,null,null,null,null,null,null,null,null,null,null,null,null,null,null,null,null,null,null,null,null,{"$error":"#NAME?"},{"$error":"#NAME?"}]
[null,null,null,null,null,null,null,null,null,null,null,null,null,null,null,null,null,null,null,null,null,null,null,{"$error":"#NAME?"},{"$error":"#NAME?"}]
[null,null,null,null,null,null,null,null,null,null,null,null,null,null,null,null,null,null,null,null,null,null,null,{"$error":"#NAME?"},{"$error":"#NAME?"}]
[null,null,null,null,null,null,null,null,null,null,null,null,null,null,null,null,null,null,null,null,null,null,null,{"$error":"#NAME?"},{"$error":"#NAME?"}]
[null,null,null,null,null,null,null,null,null,null,null,null,null,null,null,null,null,null,null,null,null,null,null,{"$error":"#NAME?"},{"$error":"#NAME?"}]
[null,null,null,null,null,null,null,null,null,null,null,null,null,null,null,null,null,null,null,null,null,null,null,{"$error":"#NAME?"},{"$error":"#NAME?"}]
[null,null,null,null,null,null,null,null,null,null,null,null,null,null,null,null,null,null,null,null,null,null,null,{"$error":"#NAME?"},{"$error":"#NAME?"}]
[null,null,null,null,null,null,null,null,null,null,null,null,null,null,null,null,null,null,null,null,null,null,null,{"$error":"#NAME?"},{"$error":"#NAME?"}]
[null,null,null,null,null,null,null,null,null,null,null,null,null,null,null,null,null,null,null,null,null,null,null,{"$error":"#NAME?"},{"$error":"#NAME?"}]
[null,null,null,null,null,null,null,null,null,null,null,null,null,null,null,null,null,null,null,null,null,null,null,{"$error":"#NAME?"},{"$error":"#NAME?"}]
[null,null,null,null,null,null,null,null,null,null,null,null,null,null,null,null,null,null,null,null,null,null,null,{"$error":"#NAME?"},{"$error":"#NAME?"}]
[null,null,null,null,null,null,null,null,null,null,null,null,null,null,null,null,null,null,null,null,null,null,null,{"$error":"#NAME?"},{"$error":"#NAME?"}]
[null,null,null,null,null,null,null,null,null,null,null,null,null,null,null,null,null,null,null,null,null,null,null,{"$error":"#NAME?"},{"$error":"#NAME?"}]
[null,null,null,null,null,null,null,null,null,null,null,null,null,null,null,null,null,null,null,null,null,null,null,{"$error":"#NAME?"},{"$error":"#NAME?"}]
[null,null,null,null,null,null,null,null,null,null,null,null,null,null,null,null,null,null,null,null,null,null,null,{"$error":"#NAME?"},{"$error":"#NAME?"}]
[null,null,null,null,null,null,null,null,null,null,null,null,null,null,null,null,null,null,null,null,null,null,null,{"$error":"#NAME?"},{"$error":"#NAME?"}]
[null,null,null,null,null,null,null,null,null,null,null,null,null,null,null,null,null,null,null,null,null,null,null,{"$error":"#NAME?"},{"$error":"#NAME?"}]
[null,null,null,null,null,null,null,null,null,null,null,null,null,null,null,null,null,null,null,null,null,null,null,{"$error":"#NAME?"},{"$error":"#NAME?"}]
[null,null,null,null,null,null,null,null,null,null,null,null,null,null,null,null,null,null,null,null,null,null,null,{"$error":"#NAME?"},{"$error":"#NAME?"}]
[null,null,null,null,null,null,null,null,null,null,null,null,null,null,null,null,null,null,null,null,null,null,null,{"$error":"#NAME?"},{"$error":"#NAME?"}]
[null,null,null,null,null,null,null,null,null,null,null,null,null,null,null,null,null,null,null,null,null,null,null,{"$error":"#NAME?"},{"$error":"#NAME?"}]
[null,null,null,null,null,null,null,null,null,null,null,null,null,null,null,null,null,null,null,null,null,null,null,{"$error":"#NAME?"},{"$error":"#NAME?"}]
[null,null,null,null,null,null,null,null,null,null,null,null,null,null,null,null,null,null,null,null,null,null,null,{"$error":"#NAME?"},{"$error":"#NAME?"}]
[null,null,null,null,null,null,null,null,null,null,null,null,null,null,null,null,null,null,null,null,null,null,null,{"$error":"#NAME?"},{"$error":"#NAME?"}]
[null,null,null,null,null,null,null,null,null,null,null,null,null,null,null,null,null,null,null,null,null,null,null,{"$error":"#NAME?"},{"$error":"#NAME?"}]
[null,null,null,null,null,null,null,null,null,null,null,null,null,null,null,null,null,null,null,null,null,null,null,{"$error":"#NAME?"},{"$error":"#NAME?"}]
[null,null,null,null,null,null,null,null,null,null,null,null,null,null,null,null,null,null,null,null,null,null,null,{"$error":"#NAME?"},{"$error":"#NAME?"}]
[null,null,null,null,null,null,null,null,null,null,null,null,null,null,null,null,null,null,null,null,null,null,null,{"$error":"#NAME?"},{"$error":"#NAME?"}]
[null,null,null,null,null,null,null,null,null,null,null,null,null,null,null,null,null,null,null,null,null,null,null,{"$error":"#NAME?"},{"$error":"#NAME?"}]
[null,null,null,null,null,null,null,null,null,null,null,null,null,null,null,null,null,null,null,null,null,null,null,{"$error":"#NAME?"},{"$error":"#NAME?"}]
[null,null,null,null,null,null,null,null,null,null,null,null,null,null,null,null,null,null,null,null,null,null,null,{"$error":"#NAME?"},{"$error":"#NAME?"}]
[null,null,null,null,null,null,null,null,null,null,null,null,null,null,null,null,null,null,null,null,null,null,null,{"$error":"#NAME?"},{"$error":"#NAME?"}]
[null,null,null,null,null,null,null,null,null,null,null,null,null,null,null,null,null,null,null,null,null,null,null,{"$error":"#NAME?"},{"$error":"#NAME?"}]
[null,null,null,null,null,null,null,null,null,null,null,null,null,null,null,null,null,null,null,null,null,null,null,{"$error":"#NAME?"},{"$error":"#NAME?"}]
[null,null,null,null,null,null,null,null,null,null,null,null,null,null,null,null,null,null,null,null,null,null,null,{"$error":"#NAME?"},{"$error":"#NAME?"}]
[null,null,null,null,null,null,null,null,null,null,null,null,null,null,null,null,null,null,null,null,null,null,null,{"$error":"#NAME?"},{"$error":"#NAME?"}]
[null,null,null,null,null,null,null,null,null,null,null,null,null,null,null,null,null,null,null,null,null,null,null,{"$error":"#NAME?"},{"$error":"#NAME?"}]
[null,null,null,null,null,null,null,null,null,null,null,null,null,null,null,null,null,null,null,null,null,null,null,{"$error":"#NAME?"},{"$error":"#NAME?"}]
[null,null,null,null,null,null,null,null,null,null,null,null,null,null,null,null,null,null,null,null,null,null,null,{"$error":"#NAME?"},{"$error":"#NAME?"}]
[null,null,null,null,null,null,null,null,null,null,null,null,null,null,null,null,null,null,null,null,null,null,null,{"$error":"#NAME?"},{"$error":"#NAME?"}]
[null,null,null,null,null,null,null,null,null,null,null,null,null,null,null,null,null,null,null,null,null,null,null,{"$error":"#NAME?"},{"$error":"#NAME?"}]
[null,null,null,null,null,null,null,null,null,null,null,null,null,null,null,null,null,null,null,null,null,null,null,{"$error":"#NAME?"},{"$error":"#NAME?"}]
[null,null,null,null,null,null,null,null,null,null,null,null,null,null,null,null,null,null,null,null,null,null,null,{"$error":"#NAME?"},{"$error":"#NAME?"}]
[null,null,null,null,null,null,null,null,null,null,null,null,null,null,null,null,null,null,null,null,null,null,null,{"$error":"#NAME?"},{"$error":"#NAME?"}]
[null,null,null,null,null,null,null,null,null,null,null,null,null,null,null,null,null,null,null,null,null,null,null,{"$error":"#NAME?"},{"$error":"#NAME?"}]
[null,null,null,null,null,null,null,null,null,null,null,null,null,null,null,null,null,null,null,null,null,null,null,{"$error":"#NAME?"},{"$error":"#NAME?"}]
[null,null,null,null,null,null,null,null,null,null,null,null,null,null,null,null,null,null,null,null,null,null,null,{"$error":"#NAME?"},{"$error":"#NAME?"}]
[null,null,null,null,null,null,null,null,null,null,null,null,null,null,null,null,null,null,null,null,null,null,null,{"$error":"#NAME?"},{"$error":"#NAME?"}]
[null,null,null,null,null,null,null,null,null,null,null,null,null,null,null,null,null,null,null,null,null,null,null,{"$error":"#NAME?"},{"$error":"#NAME?"}]
[null,null,null,null,null,null,null,null,null,null,null,null,null,null,null,null,null,null,null,null,null,null,null,{"$error":"#NAME?"},{"$error":"#NAME?"}]
[null,null,null,null,null,null,null,null,null,null,null,null,null,null,null,null,null,null,null,null,null,null,null,{"$error":"#NAME?"},{"$error":"#NAME?"}]
[null,null,null,null,null,null,null,null,null,null,null,null,null,null,null,null,null,null,null,null,null,null,null,{"$error":"#NAME?"},{"$error":"#NAME?"}]
[null,null,null,null,null,null,null,null,null,null,null,null,null,null,null,null,null,null,null,null,null,null,null,{"$error":"#NAME?"},{"$error":"#NAME?"}]
[null,null,null,null,null,null,null,null,null,null,null,null,null,null,null,null,null,null,null,null,null,null,null,{"$error":"#NAME?"},{"$error":"#NAME?"}]
[null,null,null,null,null,null,null,null,null,null,null,null,null,null,null,null,null,null,null,null,null,null,null,{"$error":"#NAME?"},{"$error":"#NAME?"}]
[null,null,null,null,null,null,null,null,null,null,null,null,null,null,null,null,null,null,null,null,null,null,null,{"$error":"#NAME?"},{"$error":"#NAME?"}]
[null,null,null,null,null,null,null,null,null,null,null,null,null,null,null,null,null,null,null,null,null,null,null,{"$error":"#NAME?"},{"$error":"#NAME?"}]
[null,null,null,null,null,null,null,null,null,null,null,null,null,null,null,null,null,null,null,null,null,null,null,{"$error":"#NAME?"},{"$error":"#NAME?"}]
[null,null,null,null,null,null,null,null,null,null,null,null,null,null,null,null,null,null,null,null,null,null,null,{"$error":"#NAME?"},{"$error":"#NAME?"}]
[null,null,null,null,null,null,null,null,null,null,null,null,null,null,null,null,null,null,null,null,null,null,null,{"$error":"#NAME?"},{"$error":"#NAME?"}]
[null,null,null,null,null,null,null,null,null,null,null,null,null,null,null,null,null,null,null,null,null,null,null,{"$error":"#NAME?"},{"$error":"#NAME?"}]
[null,null,null,null,null,null,null,null,null,null,null,null,null,null,null,null,null,null,null,null,null,null,null,{"$error":"#NAME?"},{"$error":"#NAME?"}]
[null,null,null,null,null,null,null,null,null,null,null,null,null,null,null,null,null,null,null,null,null,null,null,{"$error":"#NAME?"},{"$error":"#NAME?"}]
[null,null,null,null,null,null,null,null,null,null,null,null,null,null,null,null,null,null,null,null,null,null,null,{"$error":"#NAME?"},{"$error":"#NAME?"}]
[null,null,null,null,null,null,null,null,null,null,null,null,null,null,null,null,null,null,null,null,null,null,null,{"$error":"#NAME?"},{"$error":"#NAME?"}]
[null,null,null,null,null,null,null,null,null,null,null,null,null,null,null,null,null,null,null,null,null,null,null,{"$error":"#NAME?"},{"$error":"#NAME?"}]
[null,null,null,null,null,null,null,null,null,null,null,null,null,null,null,null,null,null,null,null,null,null,null,{"$error":"#NAME?"},{"$error":"#NAME?"}]
[null,null,null,null,null,null,null,null,null,null,null,null,null,null,null,null,null,null,null,null,null,null,null,{"$error":"#NAME?"},{"$error":"#NAME?"}]
[null,null,null,null,null,null,null,null,null,null,null,null,null,null,null,null,null,null,null,null,null,null,null,{"$error":"#NAME?"},{"$error":"#NAME?"}]
[null,null,null,null,null,null,null,null,null,null,null,null,null,null,null,null,null,null,null,null,null,null,null,{"$error":"#NAME?"},{"$error":"#NAME?"}]
[null,null,null,null,null,null,null,null,null,null,null,null,null,null,null,null,null,null,null,null,null,null,null,{"$error":"#NAME?"},{"$error":"#NAME?"}]
[null,null,null,null,null,null,null,null,null,null,null,null,null,null,null,null,null,null,null,null,null,null,null,{"$error":"#NAME?"},{"$error":"#NAME?"}]
[null,null,null,null,null,null,null,null,null,null,null,null,null,null,null,null,null,null,null,null,null,null,null,{"$error":"#NAME?"},{"$error":"#NAME?"}]
[null,null,null,null,null,null,null,null,null,null,null,null,null,null,null,null,null,null,null,null,null,null,null,{"$error":"#NAME?"},{"$error":"#NAME?"}]
[null,null,null,null,null,null,null,null,null,null,null,null,null,null,null,null,null,null,null,null,null,null,null,{"$error":"#NAME?"},{"$error":"#NAME?"}]
[null,null,null,null,null,null,null,null,null,null,null,null,null,null,null,null,null,null,null,null,null,null,null,{"$error":"#NAME?"},{"$error":"#NAME?"}]
[null,null,null,null,null,null,null,null,null,null,null,null,null,null,null,null,null,null,null,null,null,null,null,{"$error":"#NAME?"},{"$error":"#NAME?"}]
[null,null,null,null,null,null,null,null,null,null,null,null,null,null,null,null,null,null,null,null,null,null,null,{"$error":"#NAME?"},{"$error":"#NAME?"}]
[null,null,null,null,null,null,null,null,null,null,null,null,null,null,null,null,null,null,null,null,null,null,null,{"$error":"#NAME?"},{"$error":"#NAME?"}]
[null,null,null,null,null,null,null,null,null,null,null,null,null,null,null,null,null,null,null,null,null,null,null,{"$error":"#NAME?"},{"$error":"#NAME?"}]
[null,null,null,null,null,null,null,null,null,null,null,null,null,null,null,null,null,null,null,null,null,null,null,{"$error":"#NAME?"},{"$error":"#NAME?"}]
[null,null,null,null,null,null,null,null,null,null,null,null,null,null,null,null,null,null,null,null,null,null,null,{"$error":"#NAME?"},{"$error":"#NAME?"}]
[null,null,null,null,null,null,null,null,null,null,null,null,null,null,null,null,null,null,null,null,null,null,null,{"$error":"#NAME?"},{"$error":"#NAME?"}]
[null,null,null,null,null,null,null,null,null,null,null,null,null,null,null,null,null,null,null,null,null,null,null,{"$error":"#NAME?"},{"$error":"#NAME?"}]
[null,null,null,null,null,null,null,null,null,null,null,null,null,null,null,null,null,null,null,null,null,null,null,{"$error":"#NAME?"},{"$error":"#NAME?"}]
[null,null,null,null,null,null,null,null,null,null,null,null,null,null,null,null,null,null,null,null,null,null,null,{"$error":"#NAME?"},{"$error":"#NAME?"}]
[null,null,null,null,null,null,null,null,null,null,null,null,null,null,null,null,null,null,null,null,null,null,null,{"$error":"#NAME?"},{"$error":"#NAME?"}]
[null,null,null,null,null,null,null,null,null,null,null,null,null,null,null,null,null,null,null,null,null,null,null,{"$error":"#NAME?"},{"$error":"#NAME?"}]
[null,null,null,null,null,null,null,null,null,null,null,null,null,null,null,null,null,null,null,null,null,null,null,{"$error":"#NAME?"},{"$error":"#NAME?"}]
[null,null,null,null,null,null,null,null,null,null,null,null,null,null,null,null,null,null,null,null,null,null,null,{"$error":"#NAME?"},{"$error":"#NAME?"}]
[null,null,null,null,null,null,null,null,null,null,null,null,null,null,null,null,null,null,null,null,null,null,null,{"$error":"#NAME?"},{"$error":"#NAME?"}]
[null,null,null,null,null,null,null,null,null,null,null,null,null,null,null,null,null,null,null,null,null,null,null,{"$error":"#NAME?"},{"$error":"#NAME?"}]
[null,null,null,null,null,null,null,null,null,null,null,null,null,null,null,null,null,null,null,null,null,null,null,{"$error":"#NAME?"},{"$error":"#NAME?"}]
[null,null,null,null,null,null,null,null,null,null,null,null,null,null,null,null,null,null,null,null,null,null,null,{"$error":"#NAME?"},{"$error":"#NAME?"}]
[null,null,null,null,null,null,null,null,null,null,null,null,null,null,null,null,null,null,null,null,null,null,null,{"$error":"#NAME?"},{"$error":"#NAME?"}]
[null,null,null,null,null,null,null,null,null,null,null,null,null,null,null,null,null,null,null,null,null,null,null,{"$error":"#NAME?"},{"$error":"#NAME?"}]
[null,null,null,null,null,null,null,null,null,null,null,null,null,null,null,null,null,null,null,null,null,null,null,{"$error":"#NAME?"},{"$error":"#NAME?"}]
[null,null,null,null,null,null,null,null,null,null,null,null,null,null,null,null,null,null,null,null,null,null,null,{"$error":"#NAME?"},{"$error":"#NAME?"}]
[null,null,null,null,null,null,null,null,null,null,null,null,null,null,null,null,null,null,null,null,null,null,null,{"$error":"#NAME?"},{"$error":"#NAME?"}]
[null,null,null,null,null,null,null,null,null,null,null,null,null,null,null,null,null,null,null,null,null,null,null,{"$error":"#NAME?"},{"$error":"#NAME?"}]
[null,null,null,null,null,null,null,null,null,null,null,null,null,null,null,null,null,null,null,null,null,null,null,{"$error":"#NAME?"},{"$error":"#NAME?"}]
[null,null,null,null,null,null,null,null,null,null,null,null,null,null,null,null,null,null,null,null,null,null,null,{"$error":"#NAME?"},{"$error":"#NAME?"}]
[null,null,null,null,null,null,null,null,null,null,null,null,null,null,null,null,null,null,null,null,null,null,null,{"$error":"#NAME?"},{"$error":"#NAME?"}]
[null,null,null,null,null,null,null,null,null,null,null,null,null,null,null,null,null,null,null,null,null,null,null,{"$error":"#NAME?"},{"$error":"#NAME?"}]
[null,null,null,null,null,null,null,null,null,null,null,null,null,null,null,null,null,null,null,null,null,null,null,{"$error":"#NAME?"},{"$error":"#NAME?"}]
[null,null,null,null,null,null,null,null,null,null,null,null,null,null,null,null,null,null,null,null,null,null,null,{"$error":"#NAME?"},{"$error":"#NAME?"}]
[null,null,null,null,null,null,null,null,null,null,null,null,null,null,null,null,null,null,null,null,null,null,null,{"$error":"#NAME?"},{"$error":"#NAME?"}]
[null,null,null,null,null,null,null,null,null,null,null,null,null,null,null,null,null,null,null,null,null,null,null,{"$error":"#NAME?"},{"$error":"#NAME?"}]
[null,null,null,null,null,null,null,null,null,null,null,null,null,null,null,null,null,null,null,null,null,null,null,{"$error":"#NAME?"},{"$error":"#NAME?"}]
[null,null,null,null,null,null,null,null,null,null,null,null,null,null,null,null,null,null,null,null,null,null,null,{"$error":"#NAME?"},{"$error":"#NAME?"}]
[null,null,null,null,null,null,null,null,null,null,null,null,null,null,null,null,null,null,null,null,null,null,null,{"$error":"#NAME?"},{"$error":"#NAME?"}]
[null,null,null,null,null,null,null,null,null,null,null,null,null,null,null,null,null,null,null,null,null,null,null,{"$error":"#NAME?"},{"$error":"#NAME?"}]
[null,null,null,null,null,null,null,null,null,null,null,null,null,null,null,null,null,null,null,null,null,null,null,{"$error":"#NAME?"},{"$error":"#NAME?"}]
[null,null,null,null,null,null,null,null,null,null,null,null,null,null,null,null,null,null,null,null,null,null,null,{"$error":"#NAME?"},{"$error":"#NAME?"}]
[null,null,null,null,null,null,null,null,null,null,null,null,null,null,null,null,null,null,null,null,null,null,null,{"$error":"#NAME?"},{"$error":"#NAME?"}]
[null,null,null,null,null,null,null,null,null,null,null,null,null,null,null,null,null,null,null,null,null,null,null,{"$error":"#NAME?"},{"$error":"#NAME?"}]
[null,null,null,null,null,null,null,null,null,null,null,null,null,null,null,null,null,null,null,null,null,null,null,{"$error":"#NAME?"},{"$error":"#NAME?"}]
[null,null,null,null,null,null,null,null,null,null,null,null,null,null,null,null,null,null,null,null,null,null,null,{"$error":"#NAME?"},{"$error":"#NAME?"}]
[null,null,null,null,null,null,null,null,null,null,null,null,null,null,null,null,null,null,null,null,null,null,null,{"$error":"#NAME?"},{"$error":"#NAME?"}]
[null,null,null,null,null,null,null,null,null,null,null,null,null,null,null,null,null,null,null,null,null,null,null,{"$error":"#NAME?"},{"$error":"#NAME?"}]
[null,null,null,null,null,null,null,null,null,null,null,null,null,null,null,null,null,null,null,null,null,null,null,{"$error":"#NAME?"},{"$error":"#NAME?"}]
[null,null,null,null,null,null,null,null,null,null,null,null,null,null,null,null,null,null,null,null,null,null,null,{"$error":"#NAME?"},{"$error":"#NAME?"}]
[null,null,null,null,null,null,null,null,null,null,null,null,null,null,null,null,null,null,null,null,null,null,null,{"$error":"#NAME?"},{"$error":"#NAME?"}]
[null,null,null,null,null,null,null,null,null,null,null,null,null,null,null,null,null,null,null,null,null,null,null,{"$error":"#NAME?"},{"$error":"#NAME?"}]
[null,null,null,null,null,null,null,null,null,null,null,null,null,null,null,null,null,null,null,null,null,null,null,{"$error":"#NAME?"},{"$error":"#NAME?"}]
[null,null,null,null,null,null,null,null,null,null,null,null,null,null,null,null,null,null,null,null,null,null,null,{"$error":"#NAME?"},{"$error":"#NAME?"}]
[null,null,null,null,null,null,null,null,null,null,null,null,null,null,null,null,null,null,null,null,null,null,null,{"$error":"#NAME?"},{"$error":"#NAME?"}]
[null,null,null,null,null,null,null,null,null,null,null,null,null,null,null,null,null,null,null,null,null,null,null,{"$error":"#NAME?"},{"$error":"#NAME?"}]
[null,null,null,null,null,null,null,null,null,null,null,null,null,null,null,null,null,null,null,null,null,null,null,{"$error":"#NAME?"},{"$error":"#NAME?"}]
[null,null,null,null,null,null,null,null,null,null,null,null,null,null,null,null,null,null,null,null,null,null,null,{"$error":"#NAME?"},{"$error":"#NAME?"}]
[null,null,null,null,null,null,null,null,null,null,null,null,null,null,null,null,null,null,null,null,null,null,null,{"$error":"#NAME?"},{"$error":"#NAME?"}]
[null,null,null,null,null,null,null,null,null,null,null,null,null,null,null,null,null,null,null,null,null,null,null,{"$error":"#NAME?"},{"$error":"#NAME?"}]
[null,null,null,null,null,null,null,null,null,null,null,null,null,null,null,null,null,null,null,null,null,null,null,{"$error":"#NAME?"},{"$error":"#NAME?"}]
[null,null,null,null,null,null,null,null,null,null,null,null,null,null,null,null,null,null,null,null,null,null,null,{"$error":"#NAME?"},{"$error":"#NAME?"}]
[null,null,null,null,null,null,null,null,null,null,null,null,null,null,null,null,null,null,null,null,null,null,null,{"$error":"#NAME?"},{"$error":"#NAME?"}]
[null,null,null,null,null,null,null,null,null,null,null,null,null,null,null,null,null,null,null,null,null,null,null,{"$error":"#NAME?"},{"$error":"#NAME?"}]
[null,null,null,null,null,null,null,null,null,null,null,null,null,null,null,null,null,null,null,null,null,null,null,{"$error":"#NAME?"},{"$error":"#NAME?"}]
[null,null,null,null,null,null,null,null,null,null,null,null,null,null,null,null,null,null,null,null,null,null,null,{"$error":"#NAME?"},{"$error":"#NAME?"}]
[null,null,null,null,null,null,null,null,null,null,null,null,null,null,null,null,null,null,null,null,null,null,null,{"$error":"#NAME?"},{"$error":"#NAME?"}]
[null,null,null,null,null,null,null,null,null,null,null,null,null,null,null,null,null,null,null,null,null,null,null,{"$error":"#NAME?"},{"$error":"#NAME?"}]
[null,null,null,null,null,null,null,null,null,null,null,null,null,null,null,null,null,null,null,null,null,null,null,{"$error":"#NAME?"},{"$error":"#NAME?"}]
[null,null,null,null,null,null,null,null,null,null,null,null,null,null,null,null,null,null,null,null,null,null,null,{"$error":"#NAME?"},{"$error":"#NAME?"}]
[null,null,null,null,null,null,null,null,null,null,null,null,null,null,null,null,null,null,null,null,null,null,null,{"$error":"#NAME?"},{"$error":"#NAME?"}]
[null,null,null,null,null,null,null,null,null,null,null,null,null,null,null,null,null,null,null,null,null,null,null,{"$error":"#NAME?"},{"$error":"#NAME?"}]
[null,null,null,null,null,null,null,null,null,null,null,null,null,null,null,null,null,null,null,null,null,null,null,{"$error":"#NAME?"},{"$error":"#NAME?"}]
[null,null,null,null,null,null,null,null,null,null,null,null,null,null,null,null,null,null,null,null,null,null,null,{"$error":"#NAME?"},{"$error":"#NAME?"}]
[null,null,null,null,null,null,null,null,null,null,null,null,null,null,null,null,null,null,null,null,null,null,null,{"$error":"#NAME?"},{"$error":"#NAME?"}]
[null,null,null,null,null,null,null,null,null,null,null,null,null,null,null,null,null,null,null,null,null,null,null,{"$error":"#NAME?"},{"$error":"#NAME?"}]
[null,null,null,null,null,null,null,null,null,null,null,null,null,null,null,null,null,null,null,null,null,null,null,{"$error":"#NAME?"},{"$error":"#NAME?"}]
[null,null,null,null,null,null,null,null,null,null,null,null,null,null,null,null,null,null,null,null,null,null,null,{"$error":"#NAME?"},{"$error":"#NAME?"}]
[null,null,null,null,null,null,null,null,null,null,null,null,null,null,null,null,null,null,null,null,null,null,null,{"$error":"#NAME?"},{"$error":"#NAME?"}]
[null,null,null,null,null,null,null,null,null,null,null,null,null,null,null,null,null,null,null,null,null,null,null,{"$error":"#NAME?"},{"$error":"#NAME?"}]
[null,null,null,null,null,null,null,null,null,null,null,null,null,null,null,null,null,null,null,null,null,null,null,{"$error":"#NAME?"},{"$error":"#NAME?"}]
[null,null,null,null,null,null,null,null,null,null,null,null,null,null,null,null,null,null,null,null,null,null,null,{"$error":"#NAME?"},{"$error":"#NAME?"}]
[null,null,null,null,null,null,null,null,null,null,null,null,null,null,null,null,null,null,null,null,null,null,null,{"$error":"#NAME?"},{"$error":"#NAME?"}]
[null,null,null,null,null,null,null,null,null,null,null,null,null,null,null,null,null,null,null,null,null,null,null,{"$error":"#NAME?"},{"$error":"#NAME?"}]
[null,null,null,null,null,null,null,null,null,null,null,null,null,null,null,null,null,null,null,null,null,null,null,{"$error":"#NAME?"},{"$error":"#NAME?"}]
[null,null,null,null,null,null,null,null,null,null,null,null,null,null,null,null,null,null,null,null,null,null,null,{"$error":"#NAME?"},{"$error":"#NAME?"}]
[null,null,null,null,null,null,null,null,null,null,null,null,null,null,null,null,null,null,null,null,null,null,null,{"$error":"#NAME?"},{"$error":"#NAME?"}]
[null,null,null,null,null,null,null,null,null,null,null,null,null,null,null,null,null,null,null,null,null,null,null,{"$error":"#NAME?"},{"$error":"#NAME?"}]
[null,null,null,null,null,null,null,null,null,null,null,null,null,null,null,null,null,null,null,null,null,null,null,{"$error":"#NAME?"},{"$error":"#NAME?"}]
[null,null,null,null,null,null,null,null,null,null,null,null,null,null,null,null,null,null,null,null,null,null,null,{"$error":"#NAME?"},{"$error":"#NAME?"}]
[null,null,null,null,null,null,null,null,null,null,null,null,null,null,null,null,null,null,null,null,null,null,null,{"$error":"#NAME?"},{"$error":"#NAME?"}]
[null,null,null,null,null,null,null,null,null,null,null,null,null,null,null,null,null,null,null,null,null,null,null,{"$error":"#NAME?"},{"$error":"#NAME?"}]
[null,null,null,null,null,null,null,null,null,null,null,null,null,null,null,null,null,null,null,null,null,null,null,{"$error":"#NAME?"},{"$error":"#NAME?"}]
[null,null,null,null,null,null,null,null,null,null,null,null,null,null,null,null,null,null,null,null,null,null,null,{"$error":"#NAME?"},{"$error":"#NAME?"}]
[null,null,null,null,null,null,null,null,null,null,null,null,null,null,null,null,null,null,null,null,null,null,null,{"$error":"#NAME?"},{"$error":"#NAME?"}]
[null,null,null,null,null,null,null,null,null,null,null,null,null,null,null,null,null,null,null,null,null,null,null,{"$error":"#NAME?"},{"$error":"#NAME?"}]
[null,null,null,null,null,null,null,null,null,null,null,null,null,null,null,null,null,null,null,null,null,null,null,{"$error":"#NAME?"},{"$error":"#NAME?"}]
[null,null,null,null,null,null,null,null,null,null,null,null,null,null,null,null,null,null,null,null,null,null,null,{"$error":"#NAME?"},{"$error":"#NAME?"}]
[null,null,null,null,null,null,null,null,null,null,null,null,null,null,null,null,null,null,null,null,null,null,null,{"$error":"#NAME?"},{"$error":"#NAME?"}]
[null,null,null,null,null,null,null,null,null,null,null,null,null,null,null,null,null,null,null,null,null,null,null,{"$error":"#NAME?"},{"$error":"#NAME?"}]
[null,null,null,null,null,null,null,null,null,null,null,null,null,null,null,null,null,null,null,null,null,null,null,{"$error":"#NAME?"},{"$error":"#NAME?"}]
[null,null,null,null,null,null,null,null,null,null,null,null,null,null,null,null,null,null,null,null,null,null,null,{"$error":"#NAME?"},{"$error":"#NAME?"}]
[null,null,null,null,null,null,null,null,null,null,null,null,null,null,null,null,null,null,null,null,null,null,null,{"$error":"#NAME?"},{"$error":"#NAME?"}]
[null,null,null,null,null,null,null,null,null,null,null,null,null,null,null,null,null,null,null,null,null,null,null,{"$error":"#NAME?"},{"$error":"#NAME?"}]
[null,null,null,null,null,null,null,null,null,null,null,null,null,null,null,null,null,null,null,null,null,null,null,{"$error":"#NAME?"},{"$error":"#NAME?"}]
[null,null,null,null,null,null,null,null,null,null,null,null,null,null,null,null,null,null,null,null,null,null,null,{"$error":"#NAME?"},{"$error":"#NAME?"}]
[null,null,null,null,null,null,null,null,null,null,null,null,null,null,null,null,null,null,null,null,null,null,null,{"$error":"#NAME?"},{"$error":"#NAME?"}]
[null,null,null,null,null,null,null,null,null,null,null,null,null,null,null,null,null,null,null,null,null,null,null,{"$error":"#NAME?"},{"$error":"#NAME?"}]
[null,null,null,null,null,null,null,null,null,null,null,null,null,null,null,null,null,null,null,null,null,null,null,{"$error":"#NAME?"},{"$error":"#NAME?"}]
[null,null,null,null,null,null,null,null,null,null,null,null,null,null,null,null,null,null,null,null,null,null,null,{"$error":"#NAME?"},{"$error":"#NAME?"}]
[null,null,null,null,null,null,null,null,null,null,null,null,null,null,null,null,null,null,null,null,null,null,null,{"$error":"#NAME?"},{"$error":"#NAME?"}]
[null,null,null,null,null,null,null,null,null,null,null,null,null,null,null,null,null,null,null,null,null,null,null,{"$error":"#NAME?"},{"$error":"#NAME?"}]
[null,null,null,null,null,null,null,null,null,null,null,null,null,null,null,null,null,null,null,null,null,null,null,{"$error":"#NAME?"},{"$error":"#NAME?"}]
[null,null,null,null,null,null,null,null,null,null,null,null,null,null,null,null,null,null,null,null,null,null,null,{"$error":"#NAME?"},{"$error":"#NAME?"}]
[null,null,null,null,null,null,null,null,null,null,null,null,null,null,null,null,null,null,null,null,null,null,null,{"$error":"#NAME?"},{"$error":"#NAME?"}]
[null,null,null,null,null,null,null,null,null,null,null,null,null,null,null,null,null,null,null,null,null,null,null,{"$error":"#NAME?"},{"$error":"#NAME?"}]
[null,null,null,null,null,null,null,null,null,null,null,null,null,null,null,null,null,null,null,null,null,null,null,{"$error":"#NAME?"},{"$error":"#NAME?"}]
[null,null,null,null,null,null,null,null,null,null,null,null,null,null,null,null,null,null,null,null,null,null,null,{"$error":"#NAME?"},{"$error":"#NAME?"}]
[null,null,null,null,null,null,null,null,null,null,null,null,null,null,null,null,null,null,null,null,null,null,null,{"$error":"#NAME?"},{"$error":"#NAME?"}]
[null,null,null,null,null,null,null,null,null,null,null,null,null,null,null,null,null,null,null,null,null,null,null,{"$error":"#NAME?"},{"$error":"#NAME?"}]
[null,null,null,null,null,null,null,null,null,null,null,null,null,null,null,null,null,null,null,null,null,null,null,{"$error":"#NAME?"},{"$error":"#NAME?"}]
[null,null,null,null,null,null,null,null,null,null,null,null,null,null,null,null,null,null,null,null,null,null,null,{"$error":"#NAME?"},{"$error":"#NAME?"}]
[null,null,null,null,null,null,null,null,null,null,null,null,null,null,null,null,null,null,null,null,null,null,null,{"$error":"#NAME?"},{"$error":"#NAME?"}]
[null,null,null,null,null,null,null,null,null,null,null,null,null,null,null,null,null,null,null,null,null,null,null,{"$error":"#NAME?"},{"$error":"#NAME?"}]
[null,null,null,null,null,null,null,null,null,null,null,null,null,null,null,null,null,null,null,null,null,null,null,{"$error":"#NAME?"},{"$error":"#NAME?"}]
[null,null,null,null,null,null,null,null,null,null,null,null,null,null,null,null,null,null,null,null,null,null,null,{"$error":"#NAME?"},{"$error":"#NAME?"}]
[null,null,null,null,null,null,null,null,null,null,null,null,null,null,null,null,null,null,null,null,null,null,null,{"$error":"#NAME?"},{"$error":"#NAME?"}]
[null,null,null,null,null,null,null,null,null,null,null,null,null,null,null,null,null,null,null,null,null,null,null,{"$error":"#NAME?"},{"$error":"#NAME?"}]
[null,null,null,null,null,null,null,null,null,null,null,null,null,null,null,null,null,null,null,null,null,null,null,{"$error":"#NAME?"},{"$error":"#NAME?"}]
[null,null,null,null,null,null,null,null,null,null,null,null,null,null,null,null,null,null,null,null,null,null,null,{"$error":"#NAME?"},{"$error":"#NAME?"}]
[null,null,null,null,null,null,null,null,null,null,null,null,null,null,null,null,null,null,null,null,null,null,null,{"$error":"#NAME?"},{"$error":"#NAME?"}]
[null,null,null,null,null,null,null,null,null,null,null,null,null,null,null,null,null,null,null,null,null,null,null,{"$error":"#NAME?"},{"$error":"#NAME?"}]
[null,null,null,null,null,null,null,null,null,null,null,null,null,null,null,null,null,null,null,null,null,null,null,{"$error":"#NAME?"},{"$error":"#NAME?"}]
[null,null,null,null,null,null,null,null,null,null,null,null,null,null,null,null,null,null,null,null,null,null,null,{"$error":"#NAME?"},{"$error":"#NAME?"}]
[null,null,null,null,null,null,null,null,null,null,null,null,null,null,null,null,null,null,null,null,null,null,null,{"$error":"#NAME?"},{"$error":"#NAME?"}]
[null,null,null,null,null,null,null,null,null,null,null,null,null,null,null,null,null,null,null,null,null,null,null,{"$error":"#NAME?"},{"$error":"#NAME?"}]
[null,null,null,null,null,null,null,null,null,null,null,null,null,null,null,null,null,null,null,null,null,null,null,{"$error":"#NAME?"},{"$error":"#NAME?"}]
[null,null,null,null,null,null,null,null,null,null,null,null,null,null,null,null,null,null,null,null,null,null,null,{"$error":"#NAME?"},{"$error":"#NAME?"}]
[null,null,null,null,null,null,null,null,null,null,null,null,null,null,null,null,null,null,null,null,null,null,null,{"$error":"#NAME?"},{"$error":"#NAME?"}]
[null,null,null,null,null,null,null,null,null,null,null,null,null,null,null,null,null,null,null,null,null,null,null,{"$error":"#NAME?"},{"$error":"#NAME?"}]
[null,null,null,null,null,null,null,null,null,null,null,null,null,null,null,null,null,null,null,null,null,null,null,{"$error":"#NAME?"},{"$error":"#NAME?"}]
[null,null,null,null,null,null,null,null,null,null,null,null,null,null,null,null,null,null,null,null,null,null,null,{"$error":"#NAME?"},{"$error":"#NAME?"}]
[null,null,null,null,null,null,null,null,null,null,null,null,null,null,null,null,null,null,null,null,null,null,null,{"$error":"#NAME?"},{"$error":"#NAME?"}]
[null,null,null,null,null,null,null,null,null,null,null,null,null,null,null,null,null,null,null,null,null,null,null,{"$error":"#NAME?"},{"$error":"#NAME?"}]
[null,null,null,null,null,null,null,null,null,null,null,null,null,null,null,null,null,null,null,null,null,null,null,{"$error":"#NAME?"},{"$error":"#NAME?"}]
[null,null,null,null,null,null,null,null,null,null,null,null,null,null,null,null,null,null,null,null,null,null,null,{"$error":"#NAME?"},{"$error":"#NAME?"}]
[null,null,null,null,null,null,null,null,null,null,null,null,null,null,null,null,null,null,null,null,null,null,null,{"$error":"#NAME?"},{"$error":"#NAME?"}]
[null,null,null,null,null,null,null,null,null,null,null,null,null,null,null,null,null,null,null,null,null,null,null,{"$error":"#NAME?"},{"$error":"#NAME?"}]
[null,null,null,null,null,null,null,null,null,null,null,null,null,null,null,null,null,null,null,null,null,null,null,{"$error":"#NAME?"},{"$error":"#NAME?"}]
[null,null,null,null,null,null,null,null,null,null,null,null,null,null,null,null,null,null,null,null,null,null,null,{"$error":"#NAME?"},{"$error":"#NAME?"}]
[null,null,null,null,null,null,null,null,null,null,null,null,null,null,null,null,null,null,null,null,null,null,null,{"$error":"#NAME?"},{"$error":"#NAME?"}]
[null,null,null,null,null,null,null,null,null,null,null,null,null,null,null,null,null,null,null,null,null,null,null,{"$error":"#NAME?"},{"$error":"#NAME?"}]
[null,null,null,null,null,null,null,null,null,null,null,null,null,null,null,null,null,null,null,null,null,null,null,{"$error":"#NAME?"},{"$error":"#NAME?"}]
[null,null,null,null,null,null,null,null,null,null,null,null,null,null,null,null,null,null,null,null,null,null,null,{"$error":"#NAME?"},{"$error":"#NAME?"}]
[null,null,null,null,null,null,null,null,null,null,null,null,null,null,null,null,null,null,null,null,null,null,null,{"$error":"#NAME?"},{"$error":"#NAME?"}]
[null,null,null,null,null,null,null,null,null,null,null,null,null,null,null,null,null,null,null,null,null,null,null,{"$error":"#NAME?"},{"$error":"#NAME?"}]
[null,null,null,null,null,null,null,null,null,null,null,null,null,null,null,null,null,null,null,null,null,null,null,{"$error":"#NAME?"},{"$error":"#NAME?"}]
[null,null,null,null,null,null,null,null,null,null,null,null,null,null,null,null,null,null,null,null,null,null,null,{"$error":"#NAME?"},{"$error":"#NAME?"}]
[null,null,null,null,null,null,null,null,null,null,null,null,null,null,null,null,null,null,null,null,null,null,null,{"$error":"#NAME?"},{"$error":"#NAME?"}]
[null,null,null,null,null,null,null,null,null,null,null,null,null,null,null,null,null,null,null,null,null,null,null,{"$error":"#NAME?"},{"$error":"#NAME?"}]
[null,null,null,null,null,null,null,null,null,null,null,null,null,null,null,null,null,null,null,null,null,null,null,{"$error":"#NAME?"},{"$error":"#NAME?"}]
[null,null,null,null,null,null,null,null,null,null,null,null,null,null,null,null,null,null,null,null,null,null,null,{"$error":"#NAME?"},{"$error":"#NAME?"}]
[null,null,null,null,null,null,null,null,null,null,null,null,null,null,null,null,null,null,null,null,null,null,null,{"$error":"#NAME?"},{"$error":"#NAME?"}]
[null,null,null,null,null,null,null,null,null,null,null,null,null,null,null,null,null,null,null,null,null,null,null,{"$error":"#NAME?"},{"$error":"#NAME?"}]
[null,null,null,null,null,null,null,null,null,null,null,null,null,null,null,null,null,null,null,null,null,null,null,{"$error":"#NAME?"},{"$error":"#NAME?"}]
[null,null,null,null,null,null,null,null,null,null,null,null,null,null,null,null,null,null,null,null,null,null,null,{"$error":"#NAME?"},{"$error":"#NAME?"}]
[null,null,null,null,null,null,null,null,null,null,null,null,null,null,null,null,null,null,null,null,null,null,null,{"$error":"#NAME?"},{"$error":"#NAME?"}]
[null,null,null,null,null,null,null,null,null,null,null,null,null,null,null,null,null,null,null,null,null,null,null,{"$error":"#NAME?"},{"$error":"#NAME?"}]
[null,null,null,null,null,null,null,null,null,null,null,null,null,null,null,null,null,null,null,null,null,null,null,{"$error":"#NAME?"},{"$error":"#NAME?"}]
[null,null,null,null,null,null,null,null,null,null,null,null,null,null,null,null,null,null,null,null,null,null,null,{"$error":"#NAME?"},{"$error":"#NAME?"}]
[null,null,null,null,null,null,null,null,null,null,null,null,null,null,null,null,null,null,null,null,null,null,null,{"$error":"#NAME?"},{"$error":"#NAME?"}]
[null,null,null,null,null,null,null,null,null,null,null,null,null,null,null,null,null,null,null,null,null,null,null,{"$error":"#NAME?"},{"$error":"#NAME?"}]
[null,null,null,null,null,null,null,null,null,null,null,null,null,null,null,null,null,null,null,null,null,null,null,{"$error":"#NAME?"},{"$error":"#NAME?"}]
[null,null,null,null,null,null,null,null,null,null,null,null,null,null,null,null,null,null,null,null,null,null,null,{"$error":"#NAME?"},{"$error":"#NAME?"}]
[null,null,null,null,null,null,null,null,null,null,null,null,null,null,null,null,null,null,null,null,null,null,null,{"$error":"#NAME?"},{"$error":"#NAME?"}]
[null,null,null,null,null,null,null,null,null,null,null,null,null,null,null,null,null,null,null,null,null,null,null,{"$error":"#NAME?"},{"$error":"#NAME?"}]
[null,null,null,null,null,null,null,null,null,null,null,null,null,null,null,null,null,null,null,null,null,null,null,{"$error":"#NAME?"},{"$error":"#NAME?"}]
[null,null,null,null,null,null,null,null,null,null,null,null,null,null,null,null,null,null,null,null,null,null,null,{"$error":"#NAME?"},{"$error":"#NAME?"}]
[null,null,null,null,null,null,null,null,null,null,null,null,null,null,null,null,null,null,null,null,null,null,null,{"$error":"#NAME?"},{"$error":"#NAME?"}]
[null,null,null,null,null,null,null,null,null,null,null,null,null,null,null,null,null,null,null,null,null,null,null,{"$error":"#NAME?"},{"$error":"#NAME?"}]
[null,null,null,null,null,null,null,null,null,null,null,null,null,null,null,null,null,null,null,null,null,null,null,{"$error":"#NAME?"},{"$error":"#NAME?"}]
[null,null,null,null,null,null,null,null,null,null,null,null,null,null,null,null,null,null,null,null,null,null,null,{"$error":"#NAME?"},{"$error":"#NAME?"}]
[null,null,null,null,null,null,null,null,null,null,null,null,null,null,null,null,null,null,null,null,null,null,null,{"$error":"#NAME?"},{"$error":"#NAME?"}]
[null,null,null,null,null,null,null,null,null,null,null,null,null,null,null,null,null,null,null,null,null,null,null,{"$error":"#NAME?"},{"$error":"#NAME?"}]
[null,null,null,null,null,null,null,null,null,null,null,null,null,null,null,null,null,null,null,null,null,null,null,{"$error":"#NAME?"},{"$error":"#NAME?"}]
[null,null,null,null,null,null,null,null,null,null,null,null,null,null,null,null,null,null,null,null,null,null,null,{"$error":"#NAME?"},{"$error":"#NAME?"}]
[null,null,null,null,null,null,null,null,null,null,null,null,null,null,null,null,null,null,null,null,null,null,null,{"$error":"#NAME?"},{"$error":"#NAME?"}]
[null,null,null,null,null,null,null,null,null,null,null,null,null,null,null,null,null,null,null,null,null,null,null,{"$error":"#NAME?"},{"$error":"#NAME?"}]
[null,null,null,null,null,null,null,null,null,null,null,null,null,null,null,null,null,null,null,null,null,null,null,{"$error":"#NAME?"},{"$error":"#NAME?"}]
[null,null,null,null,null,null,null,null,null,null,null,null,null,null,null,null,null,null,null,null,null,null,null,{"$error":"#NAME?"},{"$error":"#NAME?"}]
[null,null,null,null,null,null,null,null,null,null,null,null,null,null,null,null,null,null,null,null,null,null,null,{"$error":"#NAME?"},{"$error":"#NAME?"}]
[null,null,null,null,null,null,null,null,null,null,null,null,null,null,null,null,null,null,null,null,null,null,null,{"$error":"#NAME?"},{"$error":"#NAME?"}]
[null,null,null,null,null,null,null,null,null,null,null,null,null,null,null,null,null,null,null,null,null,null,null,{"$error":"#NAME?"},{"$error":"#NAME?"}]
[null,null,null,null,null,null,null,null,null,null,null,null,null,null,null,null,null,null,null,null,null,null,null,{"$error":"#NAME?"},{"$error":"#NAME?"}]
[null,null,null,null,null,null,null,null,null,null,null,null,null,null,null,null,null,null,null,null,null,null,null,{"$error":"#NAME?"},{"$error":"#NAME?"}]
[null,null,null,null,null,null,null,null,null,null,null,null,null,null,null,null,null,null,null,null,null,null,null,{"$error":"#NAME?"},{"$error":"#NAME?"}]
[null,null,null,null,null,null,null,null,null,null,null,null,null,null,null,null,null,null,null,null,null,null,null,{"$error":"#NAME?"},{"$error":"#NAME?"}]
[null,null,null,null,null,null,null,null,null,null,null,null,null,null,null,null,null,null,null,null,null,null,null,{"$error":"#NAME?"},{"$error":"#NAME?"}]
[null,null,null,null,null,null,null,null,null,null,null,null,null,null,null,null,null,null,null,null,null,null,null,{"$error":"#NAME?"},{"$error":"#NAME?"}]
[null,null,null,null,null,null,null,null,null,null,null,null,null,null,null,null,null,null,null,null,null,null,null,{"$error":"#NAME?"},{"$error":"#NAME?"}]
[null,null,null,null,null,null,null,null,null,null,null,null,null,null,null,null,null,null,null,null,null,null,null,{"$error":"#NAME?"},{"$error":"#NAME?"}]
[null,null,null,null,null,null,null,null,null,null,null,null,null,null,null,null,null,null,null,null,null,null,null,{"$error":"#NAME?"},{"$error":"#NAME?"}]
[null,null,null,null,null,null,null,null,null,null,null,null,null,null,null,null,null,null,null,null,null,null,null,{"$error":"#NAME?"},{"$error":"#NAME?"}]
[null,null,null,null,null,null,null,null,null,null,null,null,null,null,null,null,null,null,null,null,null,null,null,{"$error":"#NAME?"},{"$error":"#NAME?"}]
[null,null,null,null,null,null,null,null,null,null,null,null,null,null,null,null,null,null,null,null,null,null,null,{"$error":"#NAME?"},{"$error":"#NAME?"}]
[null,null,null,null,null,null,null,null,null,null,null,null,null,null,null,null,null,null,null,null,null,null,null,{"$error":"#NAME?"},{"$error":"#NAME?"}]
[null,null,null,null,null,null,null,null,null,null,null,null,null,null,null,null,null,null,null,null,null,null,null,{"$error":"#NAME?"},{"$error":"#NAME?"}]
[null,null,null,null,null,null,null,null,null,null,null,null,null,null,null,null,null,null,null,null,null,null,null,{"$error":"#NAME?"},{"$error":"#NAME?"}]
[null,null,null,null,null,null,null,null,null,null,null,null,null,null,null,null,null,null,null,null,null,null,null,{"$error":"#NAME?"},{"$error":"#NAME?"}]
[null,null,null,null,null,null,null,null,null,null,null,null,null,null,null,null,null,null,null,null,null,null,null,{"$error":"#NAME?"},{"$error":"#NAME?"}]
[null,null,null,null,null,null,null,null,null,null,null,null,null,null,null,null,null,null,null,null,null,null,null,{"$error":"#NAME?"},{"$error":"#NAME?"}]
[null,null,null,null,null,null,null,null,null,null,null,null,null,null,null,null,null,null,null,null,null,null,null,{"$error":"#NAME?"},{"$error":"#NAME?"}]
[null,null,null,null,null,null,null,null,null,null,null,null,null,null,null,null,null,null,null,null,null,null,null,{"$error":"#NAME?"},{"$error":"#NAME?"}]
[null,null,null,null,null,null,null,null,null,null,null,null,null,null,null,null,null,null,null,null,null,null,null,{"$error":"#NAME?"},{"$error":"#NAME?"}]
[null,null,null,null,null,null,null,null,null,null,null,null,null,null,null,null,null,null,null,null,null,null,null,{"$error":"#NAME?"},{"$error":"#NAME?"}]
[null,null,null,null,null,null,null,null,null,null,null,null,null,null,null,null,null,null,null,null,null,null,null,{"$error":"#NAME?"},{"$error":"#NAME?"}]
[null,null,null,null,null,null,null,null,null,null,null,null,null,null,null,null,null,null,null,null,null,null,null,{"$error":"#NAME?"},{"$error":"#NAME?"}]
[null,null,null,null,null,null,null,null,null,null,null,null,null,null,null,null,null,null,null,null,null,null,null,{"$error":"#NAME?"},{"$error":"#NAME?"}]
[null,null,null,null,null,null,null,null,null,null,null,null,null,null,null,null,null,null,null,null,null,null,null,{"$error":"#NAME?"},{"$error":"#NAME?"}]
[null,null,null,null,null,null,null,null,null,null,null,null,null,null,null,null,null,null,null,null,null,null,null,{"$error":"#NAME?"},{"$error":"#NAME?"}]
[null,null,null,null,null,null,null,null,null,null,null,null,null,null,null,null,null,null,null,null,null,null,null,{"$error":"#NAME?"},{"$error":"#NAME?"}]
[null,null,null,null,null,null,null,null,null,null,null,null,null,null,null,null,null,null,null,null,null,null,null,{"$error":"#NAME?"},{"$error":"#NAME?"}]
[null,null,null,null,null,null,null,null,null,null,null,null,null,null,null,null,null,null,null,null,null,null,null,{"$error":"#NAME?"},{"$error":"#NAME?"}]
[null,null,null,null,null,null,null,null,null,null,null,null,null,null,null,null,null,null,null,null,null,null,null,{"$error":"#NAME?"},{"$error":"#NAME?"}]
[null,null,null,null,null,null,null,null,null,null,null,null,null,null,null,null,null,null,null,null,null,null,null,{"$error":"#NAME?"},{"$error":"#NAME?"}]
[null,null,null,null,null,null,null,null,null,null,null,null,null,null,null,null,null,null,null,null,null,null,null,{"$error":"#NAME?"},{"$error":"#NAME?"}]
[null,null,null,null,null,null,null,null,null,null,null,null,null,null,null,null,null,null,null,null,null,null,null,{"$error":"#NAME?"},{"$error":"#NAME?"}]
[null,null,null,null,null,null,null,null,null,null,null,null,null,null,null,null,null,null,null,null,null,null,null,{"$error":"#NAME?"},{"$error":"#NAME?"}]
[null,null,null,null,null,null,null,null,null,null,null,null,null,null,null,null,null,null,null,null,null,null,null,{"$error":"#NAME?"},{"$error":"#NAME?"}]
[null,null,null,null,null,null,null,null,null,null,null,null,null,null,null,null,null,null,null,null,null,null,null,{"$error":"#NAME?"},{"$error":"#NAME?"}]
[null,null,null,null,null,null,null,null,null,null,null,null,null,null,null,null,null,null,null,null,null,null,null,{"$error":"#NAME?"},{"$error":"#NAME?"}]
[null,null,null,null,null,null,null,null,null,null,null,null,null,null,null,null,null,null,null,null,null,null,null,{"$error":"#NAME?"},{"$error":"#NAME?"}]
[null,null,null,null,null,null,null,null,null,null,null,null,null,null,null,null,null,null,null,null,null,null,null,{"$error":"#NAME?"},{"$error":"#NAME?"}]
[null,null,null,null,null,null,null,null,null,null,null,null,null,null,null,null,null,null,null,null,null,null,null,{"$error":"#NAME?"},{"$error":"#NAME?"}]
[null,null,null,null,null,null,null,null,null,null,null,null,null,null,null,null,null,null,null,null,null,null,null,{"$error":"#NAME?"},{"$error":"#NAME?"}]
[null,null,null,null,null,null,null,null,null,null,null,null,null,null,null,null,null,null,null,null,null,null,null,{"$error":"#NAME?"},{"$error":"#NAME?"}]
[null,null,null,null,null,null,null,null,null,null,null,null,null,null,null,null,null,null,null,null,null,null,null,{"$error":"#NAME?"},{"$error":"#NAME?"}]
[null,null,null,null,null,null,null,null,null,null,null,null,null,null,null,null,null,null,null,null,null,null,null,{"$error":"#NAME?"},{"$error":"#NAME?"}]
[null,null,null,null,null,null,null,null,null,null,null,null,null,null,null,null,null,null,null,null,null,null,null,{"$error":"#NAME?"},{"$error":"#NAME?"}]
[null,null,null,null,null,null,null,null,null,null,null,null,null,null,null,null,null,null,null,null,null,null,null,{"$error":"#NAME?"},{"$error":"#NAME?"}]
[null,null,null,null,null,null,null,null,null,null,null,null,null,null,null,null,null,null,null,null,null,null,null,{"$error":"#NAME?"},{"$error":"#NAME?"}]
[null,null,null,null,null,null,null,null,null,null,null,null,null,null,null,null,null,null,null,null,null,null,null,{"$error":"#NAME?"},{"$error":"#NAME?"}]
[null,null,null,null,null,null,null,null,null,null,null,null,null,null,null,null,null,null,null,null,null,null,null,{"$error":"#NAME?"},{"$error":"#NAME?"}]
[null,null,null,null,null,null,null,null,null,null,null,null,null,null,null,null,null,null,null,null,null,null,null,{"$error":"#NAME?"},{"$error":"#NAME?"}]
[null,null,null,null,null,null,null,null,null,null,null,null,null,null,null,null,null,null,null,null,null,null,null,{"$error":"#NAME?"},{"$error":"#NAME?"}]
[null,null,null,null,null,null,null,null,null,null,null,null,null,null,null,null,null,null,null,null,null,null,null,{"$error":"#NAME?"},{"$error":"#NAME?"}]
[null,null,null,null,null,null,null,null,null,null,null,null,null,null,null,null,null,null,null,null,null,null,null,{"$error":"#NAME?"},{"$error":"#NAME?"}]
[null,null,null,null,null,null,null,null,null,null,null,null,null,null,null,null,null,null,null,null,null,null,null,{"$error":"#NAME?"},{"$error":"#NAME?"}]
[null,null,null,null,null,null,null,null,null,null,null,null,null,null,null,null,null,null,null,null,null,null,null,{"$error":"#NAME?"},{"$error":"#NAME?"}]
[null,null,null,null,null,null,null,null,null,null,null,null,null,null,null,null,null,null,null,null,null,null,null,{"$error":"#NAME?"},{"$error":"#NAME?"}]
[null,null,null,null,null,null,null,null,null,null,null,null,null,null,null,null,null,null,null,null,null,null,null,{"$error":"#NAME?"},{"$error":"#NAME?"}]
[null,null,null,null,null,null,null,null,null,null,null,null,null,null,null,null,null,null,null,null,null,null,null,{"$error":"#NAME?"},{"$error":"#NAME?"}]
[null,null,null,null,null,null,null,null,null,null,null,null,null,null,null,null,null,null,null,null,null,null,null,{"$error":"#NAME?"},{"$error":"#NAME?"}]
[null,null,null,null,null,null,null,null,null,null,null,null,null,null,null,null,null,null,null,null,null,null,null,{"$error":"#NAME?"},{"$error":"#NAME?"}]
[null,null,null,null,null,null,null,null,null,null,null,null,null,null,null,null,null,null,null,null,null,null,null,{"$error":"#NAME?"},{"$error":"#NAME?"}]
[null,null,null,null,null,null,null,null,null,null,null,null,null,null,null,null,null,null,null,null,null,null,null,{"$error":"#NAME?"},{"$error":"#NAME?"}]
[null,null,null,null,null,null,null,null,null,null,null,null,null,null,null,null,null,null,null,null,null,null,null,{"$error":"#NAME?"},{"$error":"#NAME?"}]
[null,null,null,null,null,null,null,null,null,null,null,null,null,null,null,null,null,null,null,null,null,null,null,{"$error":"#NAME?"},{"$error":"#NAME?"}]
[null,null,null,null,null,null,null,null,null,null,null,null,null,null,null,null,null,null,null,null,null,null,null,{"$error":"#NAME?"},{"$error":"#NAME?"}]
[null,null,null,null,null,null,null,null,null,null,null,null,null,null,null,null,null,null,null,null,null,null,null,{"$error":"#NAME?"},{"$error":"#NAME?"}]
[null,null,null,null,null,null,null,null,null,null,null,null,null,null,null,null,null,null,null,null,null,null,null,{"$error":"#NAME?"},{"$error":"#NAME?"}]
[null,null,null,null,null,null,null,null,null,null,null,null,null,null,null,null,null,null,null,null,null,null,null,{"$error":"#NAME?"},{"$error":"#NAME?"}]
[null,null,null,null,null,null,null,null,null,null,null,null,null,null,null,null,null,null,null,null,null,null,null,{"$error":"#NAME?"},{"$error":"#NAME?"}]
[null,null,null,null,null,null,null,null,null,null,null,null,null,null,null,null,null,null,null,null,null,null,null,{"$error":"#NAME?"},{"$error":"#NAME?"}]
[null,null,null,null,null,null,null,null,null,null,null,null,null,null,null,null,null,null,null,null,null,null,null,{"$error":"#NAME?"},{"$error":"#NAME?"}]
[null,null,null,null,null,null,null,null,null,null,null,null,null,null,null,null,null,null,null,null,null,null,null,{"$error":"#NAME?"},{"$error":"#NAME?"}]
[null,null,null,null,null,null,null,null,null,null,null,null,null,null,null,null,null,null,null,null,null,null,null,{"$error":"#NAME?"},{"$error":"#NAME?"}]
[null,null,null,null,null,null,null,null,null,null,null,null,null,null,null,null,null,null,null,null,null,null,null,{"$error":"#NAME?"},{"$error":"#NAME?"}]
[null,null,null,null,null,null,null,null,null,null,null,null,null,null,null,null,null,null,null,null,null,null,null,{"$error":"#NAME?"},{"$error":"#NAME?"}]
[null,null,null,null,null,null,null,null,null,null,null,null,null,null,null,null,null,null,null,null,null,null,null,{"$error":"#NAME?"},{"$error":"#NAME?"}]
[null,null,null,null,null,null,null,null,null,null,null,null,null,null,null,null,null,null,null,null,null,null,null,{"$error":"#NAME?"},{"$error":"#NAME?"}]
[null,null,null,null,null,null,null,null,null,null,null,null,null,null,null,null,null,null,null,null,null,null,null,{"$error":"#NAME?"},{"$error":"#NAME?"}]
[null,null,null,null,null,null,null,null,null,null,null,null,null,null,null,null,null,null,null,null,null,null,null,{"$error":"#NAME?"},{"$error":"#NAME?"}]
[null,null,null,null,null,null,null,null,null,null,null,null,null,null,null,null,null,null,null,null,null,null,null,{"$error":"#NAME?"},{"$error":"#NAME?"}]
[null,null,null,null,null,null,null,null,null,null,null,null,null,null,null,null,null,null,null,null,null,null,null,{"$error":"#NAME?"},{"$error":"#NAME?"}]
[null,null,null,null,null,null,null,null,null,null,null,null,null,null,null,null,null,null,null,null,null,null,null,{"$error":"#NAME?"},{"$error":"#NAME?"}]
[null,null,null,null,null,null,null,null,null,null,null,null,null,null,null,null,null,null,null,null,null,null,null,{"$error":"#NAME?"},{"$error":"#NAME?"}]
[null,null,null,null,null,null,null,null,null,null,null,null,null,null,null,null,null,null,null,null,null,null,null,{"$error":"#NAME?"},{"$error":"#NAME?"}]
[null,null,null,null,null,null,null,null,null,null,null,null,null,null,null,null,null,null,null,null,null,null,null,{"$error":"#NAME?"},{"$error":"#NAME?"}]
[null,null,null,null,null,null,null,null,null,null,null,null,null,null,null,null,null,null,null,null,null,null,null,{"$error":"#NAME?"},{"$error":"#NAME?"}]
[null,null,null,null,null,null,null,null,null,null,null,null,null,null,null,null,null,null,null,null,null,null,null,{"$error":"#NAME?"},{"$error":"#NAME?"}]
[null,null,null,null,null,null,null,null,null,null,null,null,null,null,null,null,null,null,null,null,null,null,null,{"$error":"#NAME?"},{"$error":"#NAME?"}]
[null,null,null,null,null,null,null,null,null,null,null,null,null,null,null,null,null,null,null,null,null,null,null,{"$error":"#NAME?"},{"$error":"#NAME?"}]
[null,null,null,null,null,null,null,null,null,null,null,null,null,null,null,null,null,null,null,null,null,null,null,{"$error":"#NAME?"},{"$error":"#NAME?"}]
[null,null,null,null,null,null,null,null,null,null,null,null,null,null,null,null,null,null,null,null,null,null,null,{"$error":"#NAME?"},{"$error":"#NAME?"}]
[null,null,null,null,null,null,null,null,null,null,null,null,null,null,null,null,null,null,null,null,null,null,null,{"$error":"#NAME?"},{"$error":"#NAME?"}]
[null,null,null,null,null,null,null,null,null,null,null,null,null,null,null,null,null,null,null,null,null,null,null,{"$error":"#NAME?"},{"$error":"#NAME?"}]
[null,null,null,null,null,null,null,null,null,null,null,null,null,null,null,null,null,null,null,null,null,null,null,{"$error":"#NAME?"},{"$error":"#NAME?"}]
[null,null,null,null,null,null,null,null,null,null,null,null,null,null,null,null,null,null,null,null,null,null,null,{"$error":"#NAME?"},{"$error":"#NAME?"}]
[null,null,null,null,null,null,null,null,null,null,null,null,null,null,null,null,null,null,null,null,null,null,null,{"$error":"#NAME?"},{"$error":"#NAME?"}]
[null,null,null,null,null,null,null,null,null,null,null,null,null,null,null,null,null,null,null,null,null,null,null,{"$error":"#NAME?"},{"$error":"#NAME?"}]
[null,null,null,null,null,null,null,null,null,null,null,null,null,null,null,null,null,null,null,null,null,null,null,{"$error":"#NAME?"},{"$error":"#NAME?"}]
[null,null,null,null,null,null,null,null,null,null,null,null,null,null,null,null,null,null,null,null,null,null,null,{"$error":"#NAME?"},{"$error":"#NAME?"}]
[null,null,null,null,null,null,null,null,null,null,null,null,null,null,null,null,null,null,null,null,null,null,null,{"$error":"#NAME?"},{"$error":"#NAME?"}]
[null,null,null,null,null,null,null,null,null,null,null,null,null,null,null,null,null,null,null,null,null,null,null,{"$error":"#NAME?"},{"$error":"#NAME?"}]
[null,null,null,null,null,null,null,null,null,null,null,null,null,null,null,null,null,null,null,null,null,null,null,{"$error":"#NAME?"},{"$error":"#NAME?"}]
[null,null,null,null,null,null,null,null,null,null,null,null,null,null,null,null,null,null,null,null,null,null,null,{"$error":"#NAME?"},{"$error":"#NAME?"}]
[null,null,null,null,null,null,null,null,null,null,null,null,null,null,null,null,null,null,null,null,null,null,null,{"$error":"#NAME?"},{"$error":"#NAME?"}]
[null,null,null,null,null,null,null,null,null,null,null,null,null,null,null,null,null,null,null,null,null,null,null,{"$error":"#NAME?"},{"$error":"#NAME?"}]
[null,null,null,null,null,null,null,null,null,null,null,null,null,null,null,null,null,null,null,null,null,null,null,{"$error":"#NAME?"},{"$error":"#NAME?"}]
[null,null,null,null,null,null,null,null,null,null,null,null,null,null,null,null,null,null,null,null,null,null,null,{"$error":"#NAME?"},{"$error":"#NAME?"}]
[null,null,null,null,null,null,null,null,null,null,null,null,null,null,null,null,null,null,null,null,null,null,null,{"$error":"#NAME?"},{"$error":"#NAME?"}]
[null,null,null,null,null,null,null,null,null,null,null,null,null,null,null,null,null,null,null,null,null,null,null,{"$error":"#NAME?"},{"$error":"#NAME?"}]
[null,null,null,null,null,null,null,null,null,null,null,null,null,null,null,null,null,null,null,null,null,null,null,{"$error":"#NAME?"},{"$error":"#NAME?"}]
[null,null,null,null,null,null,null,null,null,null,null,null,null,null,null,null,null,null,null,null,null,null,null,{"$error":"#NAME?"},{"$error":"#NAME?"}]
[null,null,null,null,null,null,null,null,null,null,null,null,null,null,null,null,null,null,null,null,null,null,null,{"$error":"#NAME?"},{"$error":"#NAME?"}]
[null,null,null,null,null,null,null,null,null,null,null,null,null,null,null,null,null,null,null,null,null,null,null,{"$error":"#NAME?"},{"$error":"#NAME?"}]
[null,null,null,null,null,null,null,null,null,null,null,null,null,null,null,null,null,null,null,null,null,null,null,{"$error":"#NAME?"},{"$error":"#NAME?"}]
[null,null,null,null,null,null,null,null,null,null,null,null,null,null,null,null,null,null,null,null,null,null,null,{"$error":"#NAME?"},{"$error":"#NAME?"}]
[null,null,null,null,null,null,null,null,null,null,null,null,null,null,null,null,null,null,null,null,null,null,null,{"$error":"#NAME?"},{"$error":"#NAME?"}]
[null,null,null,null,null,null,null,null,null,null,null,null,null,null,null,null,null,null,null,null,null,null,null,{"$error":"#NAME?"},{"$error":"#NAME?"}]
[null,null,null,null,null,null,null,null,null,null,null,null,null,null,null,null,null,null,null,null,null,null,null,{"$error":"#NAME?"},{"$error":"#NAME?"}]
[null,null,null,null,null,null,null,null,null,null,null,null,null,null,null,null,null,null,null,null,null,null,null,{"$error":"#NAME?"},{"$error":"#NAME?"}]
[null,null,null,null,null,null,null,null,null,null,null,null,null,null,null,null,null,null,null,null,null,null,null,{"$error":"#NAME?"},{"$error":"#NAME?"}]
[null,null,null,null,null,null,null,null,null,null,null,null,null,null,null,null,null,null,null,null,null,null,null,{"$error":"#NAME?"},{"$error":"#NAME?"}]
[null,null,null,null,null,null,null,null,null,null,null,null,null,null,null,null,null,null,null,null,null,null,null,{"$error":"#NAME?"},{"$error":"#NAME?"}]
[null,null,null,null,null,null,null,null,null,null,null,null,null,null,null,null,null,null,null,null,null,null,null,{"$error":"#NAME?"},{"$error":"#NAME?"}]
[null,null,null,null,null,null,null,null,null,null,null,null,null,null,null,null,null,null,null,null,null,null,null,{"$error":"#NAME?"},{"$error":"#NAME?"}]
[null,null,null,null,null,null,null,null,null,null,null,null,null,null,null,null,null,null,null,null,null,null,null,{"$error":"#NAME?"},{"$error":"#NAME?"}]
[null,null,null,null,null,null,null,null,null,null,null,null,null,null,null,null,null,null,null,null,null,null,null,{"$error":"#NAME?"},{"$error":"#NAME?"}]
[null,null,null,null,null,null,null,null,null,null,null,null,null,null,null,null,null,null,null,null,null,null,null,{"$error":"#NAME?"},{"$error":"#NAME?"}]
[null,null,null,null,null,null,null,null,null,null,null,null,null,null,null,null,null,null,null,null,null,null,null,{"$error":"#NAME?"},{"$error":"#NAME?"}]
[null,null,null,null,null,null,null,null,null,null,null,null,null,null,null,null,null,null,null,null,null,null,null,{"$error":"#NAME?"},{"$error":"#NAME?"}]
[null,null,null,null,null,null,null,null,null,null,null,null,null,null,null,null,null,null,null,null,null,null,null,{"$error":"#NAME?"},{"$error":"#NAME?"}]
[null,null,null,null,null,null,null,null,null,null,null,null,null,null,null,null,null,null,null,null,null,null,null,{"$error":"#NAME?"},{"$error":"#NAME?"}]
[null,null,null,null,null,null,null,null,null,null,null,null,null,null,null,null,null,null,null,null,null,null,null,{"$error":"#NAME?"},{"$error":"#NAME?"}]
[null,null,null,null,null,null,null,null,null,null,null,null,null,null,null,null,null,null,null,null,null,null,null,{"$error":"#NAME?"},{"$error":"#NAME?"}]
[null,null,null,null,null,null,null,null,null,null,null,null,null,null,null,null,null,null,null,null,null,null,null,{"$error":"#NAME?"},{"$error":"#NAME?"}]
[null,null,null,null,null,null,null,null,null,null,null,null,null,null,null,null,null,null,null,null,null,null,null,{"$error":"#NAME?"},{"$error":"#NAME?"}]
[null,null,null,null,null,null,null,null,null,null,null,null,null,null,null,null,null,null,null,null,null,null,null,{"$error":"#NAME?"},{"$error":"#NAME?"}]
[null,null,null,null,null,null,null,null,null,null,null,null,null,null,null,null,null,null,null,null,null,null,null,{"$error":"#NAME?"},{"$error":"#NAME?"}]
[null,null,null,null,null,null,null,null,null,null,null,null,null,null,null,null,null,null,null,null,null,null,null,{"$error":"#NAME?"},{"$error":"#NAME?"}]
[null,null,null,null,null,null,null,null,null,null,null,null,null,null,null,null,null,null,null,null,null,null,null,{"$error":"#NAME?"},{"$error":"#NAME?"}]
[null,null,null,null,null,null,null,null,null,null,null,null,null,null,null,null,null,null,null,null,null,null,null,{"$error":"#NAME?"},{"$error":"#NAME?"}]
[null,null,null,null,null,null,null,null,null,null,null,null,null,null,null,null,null,null,null,null,null,null,null,{"$error":"#NAME?"},{"$error":"#NAME?"}]
[null,null,null,null,null,null,null,null,null,null,null,null,null,null,null,null,null,null,null,null,null,null,null,{"$error":"#NAME?"},{"$error":"#NAME?"}]
[null,null,null,null,null,null,null,null,null,null,null,null,null,null,null,null,null,null,null,null,null,null,null,{"$error":"#NAME?"},{"$error":"#NAME?"}]
[null,null,null,null,null,null,null,null,null,null,null,null,null,null,null,null,null,null,null,null,null,null,null,{"$error":"#NAME?"},{"$error":"#NAME?"}]
[null,null,null,null,null,null,null,null,null,null,null,null,null,null,null,null,null,null,null,null,null,null,null,{"$error":"#NAME?"},{"$error":"#NAME?"}]
[null,null,null,null,null,null,null,null,null,null,null,null,null,null,null,null,null,null,null,null,null,null,null,{"$error":"#NAME?"},{"$error":"#NAME?"}]
[null,null,null,null,null,null,null,null,null,null,null,null,null,null,null,null,null,null,null,null,null,null,null,{"$error":"#NAME?"},{"$error":"#NAME?"}]
[null,null,null,null,null,null,null,null,null,null,null,null,null,null,null,null,null,null,null,null,null,null,null,{"$error":"#NAME?"},{"$error":"#NAME?"}]
[null,null,null,null,null,null,null,null,null,null,null,null,null,null,null,null,null,null,null,null,null,null,null,{"$error":"#NAME?"},{"$error":"#NAME?"}]
[null,null,null,null,null,null,null,null,null,null,null,null,null,null,null,null,null,null,null,null,null,null,null,{"$error":"#NAME?"},{"$error":"#NAME?"}]
[null,null,null,null,null,null,null,null,null,null,null,null,null,null,null,null,null,null,null,null,null,null,null,{"$error":"#NAME?"},{"$error":"#NAME?"}]
[null,null,null,null,null,null,null,null,null,null,null,null,null,null,null,null,null,null,null,null,null,null,null,{"$error":"#NAME?"},{"$error":"#NAME?"}]
[null,null,null,null,null,null,null,null,null,null,null,null,null,null,null,null,null,null,null,null,null,null,null,{"$error":"#NAME?"},{"$error":"#NAME?"}]
[null,null,null,null,null,null,null,null,null,null,null,null,null,null,null,null,null,null,null,null,null,null,null,{"$error":"#NAME?"},{"$error":"#NAME?"}]
[null,null,null,null,null,null,null,null,null,null,null,null,null,null,null,null,null,null,null,null,null,null,null,{"$error":"#NAME?"},{"$error":"#NAME?"}]
[null,null,null,null,null,null,null,null,null,null,null,null,null,null,null,null,null,null,null,null,null,null,null,{"$error":"#NAME?"},{"$error":"#NAME?"}]
[null,null,null,null,null,null,null,null,null,null,null,null,null,null,null,null,null,null,null,null,null,null,null,{"$error":"#NAME?"},{"$error":"#NAME?"}]
[null,null,null,null,null,null,null,null,null,null,null,null,null,null,null,null,null,null,null,null,null,null,null,{"$error":"#NAME?"},{"$error":"#NAME?"}]
[null,null,null,null,null,null,null,null,null,null,null,null,null,null,null,null,null,null,null,null,null,null,null,{"$error":"#NAME?"},{"$error":"#NAME?"}]
[null,null,null,null,null,null,null,null,null,null,null,null,null,null,null,null,null,null,null,null,null,null,null,{"$error":"#NAME?"},{"$error":"#NAME?"}]
[null,null,null,null,null,null,null,null,null,null,null,null,null,null,null,null,null,null,null,null,null,null,null,{"$error":"#NAME?"},{"$error":"#NAME?"}]
[null,null,null,null,null,null,null,null,null,null,null,null,null,null,null,null,null,null,null,null,null,null,null,{"$error":"#NAME?"},{"$error":"#NAME?"}]
[null,null,null,null,null,null,null,null,null,null,null,null,null,null,null,null,null,null,null,null,null,null,null,{"$error":"#NAME?"},{"$error":"#NAME?"}]
[null,null,null,null,null,null,null,null,null,null,null,null,null,null,null,null,null,null,null,null,null,null,null,{"$error":"#NAME?"},{"$error":"#NAME?"}]
[null,null,null,null,null,null,null,null,null,null,null,null,null,null,null,null,null,null,null,null,null,null,null,{"$error":"#NAME?"},{"$error":"#NAME?"}]
[null,null,null,null,null,null,null,null,null,null,null,null,null,null,null,null,null,null,null,null,null,null,null,{"$error":"#NAME?"},{"$error":"#NAME?"}]
[null,null,null,null,null,null,null,null,null,null,null,null,null,null,null,null,null,null,null,null,null,null,null,{"$error":"#NAME?"},{"$error":"#NAME?"}]
[null,null,null,null,null,null,null,null,null,null,null,null,null,null,null,null,null,null,null,null,null,null,null,{"$error":"#NAME?"},{"$error":"#NAME?"}]
[null,null,null,null,null,null,null,null,null,null,null,null,null,null,null,null,null,null,null,null,null,null,null,{"$error":"#NAME?"},{"$error":"#NAME?"}]
[null,null,null,null,null,null,null,null,null,null,null,null,null,null,null,null,null,null,null,null,null,null,null,{"$error":"#NAME?"},{"$error":"#NAME?"}]
[null,null,null,null,null,null,null,null,null,null,null,null,null,null,null,null,null,null,null,null,null,null,null,{"$error":"#NAME?"},{"$error":"#NAME?"}]

{"sheet":"Hamburg Data","index":22,"n_rows":30,"n_cols":13,"rows_kept":30,"cut":false,"hidden":false,"merged":[[8,11,9,14],[10,11,11,14],[16,0,16,5],[16,6,16,8],[16,9,16,11],[16,12,16,14],[17,0,17,3],[17,4,17,5],[17,6,17,8],[18,0,18,3],[18,4,18,5],[18,6,18,8],[18,9,18,11],[18,12,18,14],[19,0,19,3],[19,4,19,5],[19,6,19,8],[19,9,19,11],[19,12,19,14],[20,4,20,5],[20,6,20,8],[20,9,20,11],[20,12,20,14],[21,4,21,5],[21,6,21,8],[21,9,21,11],[21,12,21,14],[22,6,22,8],[22,9,22,11],[22,12,22,14],[23,4,23,5],[23,6,23,8],[23,9,23,11],[23,12,23,14],[27,4,27,5],[27,6,27,8],[27,9,27,11],[27,12,27,14],[25,4,25,5],[25,6,25,8],[25,9,25,11],[25,12,25,14],[26,6,26,8],[26,9,26,11],[26,12,26,14]]}
[]
["Kentucky Transportation Cabinet, Department of Highways, Division of Materials"]
["Asphalt Mixtures Testing Section"]
["1227 Wilkinson Boulevard, Frankfort, KY  40601-1226"]
[]
[]
["Hamburg Wheel-Track Testing Results"]
[]
["SAMPLE ID #:",{"$f":"IF('Pay Values'!B3=\"\",\"\",'Pay Values'!B3)","v":""},null,null,null,"COUNTY:",null,{"$f":"IF('Pay Values'!I3=\"\",\"\",'Pay Values'!I3)","v":""},null,"TYPE OF MIX.:",null,{"$f":"IF('Pay Values'!B5=\"\",\"\",'Pay Values'!B5)","v":""}]
[]
["PROJ. #:",{"$f":"IF('Pay Values'!B4=\"\",\"\",'Pay Values'!B4)","v":""},null,null,null,"LAB:",null,{"$f":"IF('Pay Values'!I5=\"\",\"\",'Pay Values'!I5)","v":""},null,"CONTR. & LOC.:",null,{"$f":"IF('Pay Values'!C6=\"\",\"\",'Pay Values'!C6)","v":{"$error":"#N/A"}}]
[]
["BIND. GRADE:",{"$f":"IF(Calculations!E147=\"\",\"\",Calculations!E147)","v":{"$error":"#N/A"}},null,null,null,"MADE WITH:",null,null,null,"TEST METHOD:",null,"AASHTO T324"]
["(as per bid item)"]
["BIND. SOURCE:",{"$f":"IF('Pay Values'!B46=\"\",\"\",'Pay Values'!B46)","v":""}]
[]
["S.I.P Criteria",null,null,null,null,null,"Pass Count",null,null,"Left Max",null,null,"Right Max"]
["Plot Count:",null,null,null,1000]
["Stripping Limit Depth:",null,null,null,"1 mm",null,100]
["Stripping Limit Count:",null,null,null,"50 passes",null,5000]
["Left Creep Slope Start:",null,null,null,1000,null,10000]
["Right Creep Slope Start:",null,null,null,1000,null,15000]
[null,null,null,null,null,null,20000]
[null,null,null,null,null,null,25000]
[]
["Left Max Rut Set Point:",null,null,null,null,null,"Max Deformation"]
[null,null,null,null,null,null,"Pass Number"]
["Right Max Rut Set Point:",null,null,null,null,null,"SIP"]
[]
["REMARKS:"]

{"sheet":"Cert. Techs","index":23,"n_rows":1,"n_cols":3,"rows_kept":1,"cut":false,"hidden":false,"merged":[]}
[null,"Site Manager User I.D.","Technicians Name"]

{"sheet":"AMAMAW","index":24,"n_rows":124,"n_cols":18,"rows_kept":124,"cut":false,"hidden":true,"merged":[[13,7,13,8],[14,7,14,8],[8,7,8,8],[9,7,9,8],[10,7,10,8],[11,7,11,8],[12,7,12,8],[24,1,24,2],[14,2,14,3],[16,3,16,6],[23,7,23,8],[22,7,22,8],[22,1,22,5],[23,1,23,2],[23,3,23,5],[14,4,14,5],[13,4,13,5],[13,2,13,3],[12,4,12,5],[9,2,9,3],[0,2,0,8],[1,2,1,8],[5,2,5,3],[8,2,8,3],[3,4,3,6],[4,4,4,6],[5,4,5,6],[7,2,7,5],[3,2,3,3],[4,2,4,3],[7,7,7,8],[10,2,10,3],[11,2,11,3],[12,2,12,3],[8,4,8,5],[10,4,10,5],[11,4,11,5],[9,4,9,5],[36,1,36,4],[33,1,33,2],[32,1,32,2],[25,1,25,2],[26,1,26,2],[31,1,31,2],[30,1,30,2],[27,1,27,2],[28,1,28,2],[29,1,29,2]]}
[null,null,null,null,null,null,null,null,null,null,null,"Mapping","Cell","Type","Label","Length","English unit","Comment"]
[null,null,null,null,null,null,null,null,null,null,null,"f8","E5","Alphanumeric","County",12,"N/A"]
[null,null,null,null,null,null,null,null,null,null,null,"f9","C8","Label","Sublot Aggregate Data","N/A","N/A"]
[null,null,null,null,null,null,null,null,null,null,null,"f10","H8","Numeric","Gsb =",1.2,"N/A"]
[null,null,"County:",null,"E5",null,null,null,null,null,null,"f11","C10","Alphanumeric","Aggr. Pro. Codes",15,"N/A","P/S Code is 15 on SM (not 7)"]
[null,null,null,null,null,null,null,null,null,null,null,"f12","C11","Alphanumeric","Aggr. Pro. Codes #2",15,"N/A","P/S Code is 15 on SM (not 7)"]
[null,null,null,null,null,null,null,null,null,null,null,"f13","C12","Alphanumeric","Aggr. Pro. Codes #3",15,"N/A","P/S Code is 15 on SM (not 7)"]
[null,null,"Sublot Aggregate Data",null,null,null,"Gsb =","H8",null,null,null,"f14","C13","Alphanumeric","Aggr. Pro. Codes #4",15,"N/A","P/S Code is 15 on SM (not 7)"]
[null,null,"Aggr. Pro. Codes",null,"Type & Size",null,"%","B.O.D. Sp. Gravity",null,null,null,"f15","C14","Alphanumeric","Aggr. Pro. Codes #5",15,"N/A","P/S Code is 15 on SM (not 7)"]
[null,null,"C10",null,"E10",null,"G10","H10",null,null,null,"f16","C15","Alphanumeric","Aggr. Pro. Codes #6",15,"N/A","P/S Code is 15 on SM (not 7)"]
[null,null,"C11",null,"E11",null,"G11","H11",null,null,null,"f17","E10","Alphanumeric","Type & Size",9,"N/A"]
[null,null,"C12",null,"E12",null,"G12","H12",null,null,null,"f18","E11","Alphanumeric","Type & Size #2",9,"N/A"]
[null,null,"C13",null,"E13",null,"G13","H13",null,null,null,"f19","E12","Alphanumeric","Type & Size #3",9,"N/A"]
[null,null,"C14",null,"E14",null,"G14","H14",null,null,null,"f20","E13","Alphanumeric","Type & Size #4",9,"N/A"]
[null,null,"C15",null,"E15",null,"G15","H15",null,null,null,"f21","E14","Alphanumeric","Type & Size #5",9,"N/A"]
[null,null,null,null,null,null,null,null,null,null,null,"f22","E15","Alphanumeric","Type & Size #6",9,"N/A"]
[null,null,null,"Sample Info",null,null,null,null,null,null,null,"f23","G10","Numeric","%",2.1,"%"]
[null,null,null,"Date","Time ","Truck #","Tons",null,null,null,null,"f24","G11","Numeric","% #2",2.1,"%"]
[null,null,null,"D19","E19","F19","G19",null,null,null,null,"f25","G12","Numeric","% #3",2.1,"%"]
[null,null,null,null,null,null,null,null,null,null,null,"f26","G13","Numeric","% #4",2.1,"%"]
[null,null,null,null,null,null,null,null,null,null,null,"f27","G14","Numeric","% #5",2.1,"%"]
[null,null,null,null,null,null,null,null,null,null,null,"f28","G15","Numeric","% #6",2.1,"%"]
[null,"Volumetric Results",null,null,null,null,null,"Gradation Test Results",null,null,null,"f29","H10","Numeric","B.O.D. Sp. Gravity",1.2,"N/A"]
[null,"Acceptance Method",null,"          D24",null,null,null,"% Passing",null,null,null,"f30","H11","Numeric","B.O.D. Sp. Gravity #2",1.2,"N/A"]
[null,"% Binder in Mix",null,"D25",null,null,null,"2 \"","I25",null,null,"f31","H12","Numeric","B.O.D. Sp. Gravity #3",1.2,"N/A"]
[null,"Unit Weight",null,"D26",null,null,null,"1 1/2 \"","I26",null,null,"f32","H13","Numeric","B.O.D. Sp. Gravity #4",1.2,"N/A"]
[null,"Max. Sp. Gravity",null,"D27",null,null,null,"1 \"","I27",null,null,"f33","H14","Numeric","B.O.D. Sp. Gravity #5",1.2,"N/A"]
[null,"Air Voids",null,"D28",null,null,null,"3/4 \"","I28",null,null,"f34","H15","Numeric","B.O.D. Sp. Gravity #6",1.2,"N/A"]
[null,"% Eff. Binder",null,"D29",null,null,null,"1/2 \"","I29",null,null,"f35","D17","Label","Sample Info","N/A","N/A"]
[null,"VMA",null,"D30",null,null,null,"3/8 \"","I30",null,null,"f36","D19","Numeric","Date",8,"N/A","Use KYTC Std; MMDDYYYY"]
[null,"VFA",null,"D31",null,null,null,"1/4 \"","I31",null,null,"f37","E19","Numeric","Time ",4,"N/A","Use KYTC Std; HHMM (24-HR format)"]
[null,"D/A Ratio",null,"D32",null,null,null,"# 4","I32",null,null,"f38","F19","Alphanumeric","Truck #",5,"N/A"]
[null,"Hand Mixed % Binder ",null,"D33",null,null,null,"# 8","I33",null,null,"f39","G19","Numeric","Tons",6.2,"Tons"]
[null,"H. M. Max. Sp. Gravity",null,"D34",null,null,null,"# 16","I34",null,null,"f40","B23","Label","Volumetric Results","N/A","N/A"]
[null,null,null,null,null,null,null,"# 30","I35",null,null,"f41","D24","Alphanumeric","Acceptance Method",30,"N/A","Max is currently 23; but leaving a little extra room."]
[null,null,null,null,null,null,null,"# 50","I36",null,null,"f42","D25","Numeric","% Binder in Mix",1.1000000000000001,"%"]
[null,"Core Data",null,null,null,null,null,"# 100","I37",null,null,"f43","D26","Numeric","Unit Weight",3.1,"PCF"]
[null,"Core #","Sta,# / Offset","Core Density","% Sol. Den.",null,null,"# 200","I38",null,null,"f44","D27","Numeric","Max. Sp. Gravity",1.3,"N/A"]
[null,"B39","C39","D39","E39",null,null,null,null,null,null,"f45","D28","Numeric","Air Voids",2.1,"%"]
[null,"B40","C40","D40","E40",null,null,null,null,null,null,"f46","D29","Numeric","% Eff. Binder",1.1000000000000001,"%"]
[null,"B41","C41","D41","E41",null,null,"Test Charges",null,null,null,"f47","D30","Numeric","VMA",2.1,"%"]
[null,"B42","C42","D42","E42",null,null,"H42",null,null,null,"f48","D31","Numeric","VFA",2.1,"%"]
[null,"B43","C43","D43","E43",null,null,null,null,null,null,"f49","D32","Numeric","D/A Ratio",1.1000000000000001,"N/A"]
[null,"B44","C44","D44","E44",null,null,null,null,null,null,"f50","D33","Numeric","Hand Mixed % Binder ",1.1000000000000001,"%"]
[null,null,null,null,null,null,null,null,null,null,null,"f51","D34","Numeric","H. M. Max. Sp. Gravity",1.3,"%"]
[null,null,null,null,null,null,null,null,null,null,null,"f52","H23","Label","Gradation Test Results % Passing","N/A","N/A","Combined previous two labels"]
[null,null,null,null,null,null,null,null,null,null,null,"f53","I25","Numeric","2 \"",3.1,"%"]
[null,null,null,null,null,null,null,null,null,null,null,"f54","I26","Numeric","1 1/2 \"",3.1,"%"]
[null,null,null,null,null,null,null,null,null,null,null,"f55","I27","Numeric","1 \"",3.1,"%"]
[null,null,null,null,null,null,null,null,null,null,null,"f56","I28","Numeric","3/4 \"",3.1,"%"]
[null,null,null,null,null,null,null,null,null,null,null,"f57","I29","Numeric","1/2 \"",3.1,"%"]
[null,null,null,null,null,null,null,null,null,null,null,"f58","I30","Numeric","3/8 \"",3.1,"%"]
[null,null,null,null,null,null,null,null,null,null,null,"f59","I31","Numeric","1/4 \"",3.1,"%"]
[null,null,null,null,null,null,null,null,null,null,null,"f60","I32","Numeric","# 4",3.1,"%"]
[null,null,null,null,null,null,null,null,null,null,null,"f61","I33","Numeric","# 8",3.1,"%"]
[null,null,null,null,null,null,null,null,null,null,null,"f62","I34","Numeric","# 16",3.1,"%"]
[null,null,null,null,null,null,null,null,null,null,null,"f63","I35","Numeric","# 30",3.1,"%"]
[null,null,null,null,null,null,null,null,null,null,null,"f64","I36","Numeric","# 50",3.1,"%"]
[null,null,null,null,null,null,null,null,null,null,null,"f65","I37","Numeric","# 100",3.1,"%"]
[null,null,null,null,null,null,null,null,null,null,null,"f66","I38","Numeric","# 200",3.1,"%"]
[null,null,null,null,null,null,null,null,null,null,null,"f67","B37","Label","Core Data","N/A","N/A"]
[null,null,null,null,null,null,null,null,null,null,null,"f68","B39","Alphanumeric","Core #",7,"N/A"]
[null,null,null,null,null,null,null,null,null,null,null,"f69","B40","Alphanumeric","Core #2",7,"N/A"]
[null,null,null,null,null,null,null,null,null,null,null,"f70","B41","Alphanumeric","Core #3",7,"N/A"]
[null,null,null,null,null,null,null,null,null,null,null,"f71","B42","Alphanumeric","Core #4",7,"N/A"]
[null,null,null,null,null,null,null,null,null,null,null,"f72","B43","Alphanumeric","Core #5",7,"N/A"]
[null,null,null,null,null,null,null,null,null,null,null,"f73","B44","Alphanumeric","Core #6",7,"N/A"]
[null,null,null,null,null,null,null,null,null,null,null,"f74","C39","Alphanumeric","Sta,# / Offset",13,"N/A"]
[null,null,null,null,null,null,null,null,null,null,null,"f75","C40","Alphanumeric","Sta,# / Offset #2",13,"N/A"]
[null,null,null,null,null,null,null,null,null,null,null,"f76","C41","Alphanumeric","Sta,# / Offset #3",13,"N/A"]
[null,null,null,null,null,null,null,null,null,null,null,"f77","C42","Alphanumeric","Sta,# / Offset #4",13,"N/A"]
[null,null,null,null,null,null,null,null,null,null,null,"f78","C43","Alphanumeric","Sta,# / Offset #5",13,"N/A"]
[null,null,null,null,null,null,null,null,null,null,null,"f79","C44","Alphanumeric","Sta,# / Offset #6",13,"N/A"]
[null,null,null,null,null,null,null,null,null,null,null,"f80","D39","Numeric","Core Density",3.1,"PCF"]
[null,null,null,null,null,null,null,null,null,null,null,"f81","D40","Numeric","Core Density #2",3.1,"PCF"]
[null,null,null,null,null,null,null,null,null,null,null,"f82","D41","Numeric","Core Density #3",3.1,"PCF"]
[null,null,null,null,null,null,null,null,null,null,null,"f83","D42","Numeric","Core Density #4",3.1,"PCF"]
[null,null,null,null,null,null,null,null,null,null,null,"f84","D43","Numeric","Core Density #5",3.1,"PCF"]
[null,null,null,null,null,null,null,null,null,null,null,"f85","D44","Numeric","Core Density #6",3.1,"PCF"]
[null,null,null,null,null,null,null,null,null,null,null,"f86","E39","Numeric","% Sol. Den.",2.1,"%"]
[null,null,null,null,null,null,null,null,null,null,null,"f87","E40","Numeric","% Sol. Den. #2",2.1,"%"]
[null,null,null,null,null,null,null,null,null,null,null,"f88","E41","Numeric","% Sol. Den. #3",2.1,"%"]
[null,null,null,null,null,null,null,null,null,null,null,"f89","E42","Numeric","% Sol. Den. #4",2.1,"%"]
[null,null,null,null,null,null,null,null,null,null,null,"f90","E43","Numeric","% Sol. Den. #5",2.1,"%"]
[null,null,null,null,null,null,null,null,null,null,null,"f91","E44","Numeric","% Sol. Den. #6",2.1,"%"]
[null,null,null,null,null,null,null,null,null,null,null,"f253","H42","Numeric","Test Charges",3.2,"$"]
[null,null,null,null,null,null,null,null,null,null,null,"f92",null,"Numeric","ESAL Class",1,"N/A"]
[null,null,null,null,null,null,null,null,null,null,null,"f93",null,"Alphanumeric","Acceptance Method",20,"N/A"]
[null,null,null,null,null,null,null,null,null,null,null,"f94",null,"Alphanumeric","Density Option",1,"N/A"]
[null,null,null,null,null,null,null,null,null,null,null,"f95",null,"Numeric","JMF %AC",1.1000000000000001,"%"]
[null,null,null,null,null,null,null,null,null,null,null,"f96",null,"Numeric","AC Pay Value",3.1,"%"]
[null,null,null,null,null,null,null,null,null,null,null,"f97",null,"Numeric","Target %AV",1.1000000000000001,"%"]
[null,null,null,null,null,null,null,null,null,null,null,"f98",null,"Numeric","AV Pay Value",3.1,"%"]
[null,null,null,null,null,null,null,null,null,null,null,"f99",null,"Numeric","Min. %VMA",2.1,"%"]
[null,null,null,null,null,null,null,null,null,null,null,"f100",null,"Numeric","VMA Pay Value",3.1,"%"]
[null,null,null,null,null,null,null,null,null,null,null,"f101",null,"Numeric","JD Pay Value",3.1,"%"]
[null,null,null,null,null,null,null,null,null,null,null,"f102",null,"Numeric","LD Pay Value",3.2,"%"]
[null,null,null,null,null,null,null,null,null,null,null,"f103",null,"Numeric","Pavement Wedge Tons",3.2,"Tons"]
[null,null,null,null,null,null,null,null,null,null,null,"f104",null,"Numeric","Final Pay Value Mainline",3.2,"%"]
[null,null,null,null,null,null,null,null,null,null,null,"f105",null,"Numeric","Lot Pay Adjustment",5.3,"$"]
[null,null,null,null,null,null,null,null,null,null,null,"f106",null,"Alphanumeric","Gradation Target JMF",20,"N/A"]
[null,null,null,null,null,null,null,null,null,null,null,"f107",null,"Alphanumeric","Gradation Test Result",10,"N/A"]
[null,null,null,null,null,null,null,null,null,null,null,"f108",null,"Numeric","Gradation Pay Value",3.1,"%"]
[null,null,null,null,null,null,null,null,null,null,null,"f109",null,"Alphanumeric","PG Binder Lot Number",30,"N/A"]
[null,null,null,null,null,null,null,null,null,null,null,"f110",null,"Alphanumeric","Tack Oil Lot Number",30,"N/A"]
[null,null,null,null,null,null,null,null,null,null,null,"f111",null,"Alphanumeric","PG Binder Grade",10,"N/A"]
[null,null,null,null,null,null,null,null,null,null,null,"f112",null,"Alphanumeric","PG Binder Producer",10,"N/A"]
[null,null,null,null,null,null,null,null,null,null,null,"f113",null,"Alphanumeric","% and Type of Additive",40,"N/A"]
[null,null,null,null,null,null,null,null,null,null,null,"f114",null,"Alphanumeric","First Sublot Ver. Same Equip.",3,"N/A"]
[null,null,null,null,null,null,null,null,null,null,null,"f115",null,"Alphanumeric","Second Sublot Ver. Same Equip.",3,"N/A"]
[null,null,null,null,null,null,null,null,null,null,null,"f116",null,"Numeric","JMF-2 \"",3.1,"%",{"$f":"CONCATENATE(\"VI01 - \"&O111)","v":"VI01 - JMF-2 \""}]
[null,null,null,null,null,null,null,null,null,null,null,"f117",null,"Numeric","JMF-1 1/2 \"",3.1,"%",{"$f":"CONCATENATE(\"VI01 - \"&O112)","v":"VI01 - JMF-1 1/2 \""}]
[null,null,null,null,null,null,null,null,null,null,null,"f118",null,"Numeric","JMF-1 \"",3.1,"%","VI01 - JMF-1 \""]
[null,null,null,null,null,null,null,null,null,null,null,"f119",null,"Numeric","JMF-3/4 \"",3.1,"%","VI01 - JMF-3/4 \""]
[null,null,null,null,null,null,null,null,null,null,null,"f120",null,"Numeric","JMF-1/2 \"",3.1,"%","VI01 - JMF-1/2 \""]
[null,null,null,null,null,null,null,null,null,null,null,"f121",null,"Numeric","JMF-3/8 \"",3.1,"%","VI01 - JMF-3/8 \""]
[null,null,null,null,null,null,null,null,null,null,null,"f122",null,"Numeric","JMF-1/4 \"",3.1,"%","VI01 - JMF-1/4 \""]
[null,null,null,null,null,null,null,null,null,null,null,"f123",null,"Numeric","JMF-# 4",3.1,"%","VI01 - JMF-# 4"]
[null,null,null,null,null,null,null,null,null,null,null,"f124",null,"Numeric","JMF-# 8",3.1,"%","VI01 - JMF-# 8"]
[null,null,null,null,null,null,null,null,null,null,null,"f125",null,"Numeric","JMF-# 16",3.1,"%","VI01 - JMF-# 16"]
[null,null,null,null,null,null,null,null,null,null,null,"f126",null,"Numeric","JMF-# 30",3.1,"%","VI01 - JMF-# 30"]
[null,null,null,null,null,null,null,null,null,null,null,"f127",null,"Numeric","JMF-# 50",3.1,"%","VI01 - JMF-# 50"]
[null,null,null,null,null,null,null,null,null,null,null,"f128",null,"Numeric","JMF-# 100",3.1,"%","VI01 - JMF-# 100"]
[null,null,null,null,null,null,null,null,null,null,null,"f129",null,"Numeric","JMF-# 200",3.1,"%","VI01 - JMF-# 200"]

{"sheet":"Workbook Edits","index":25,"n_rows":19,"n_cols":3,"rows_kept":19,"cut":false,"hidden":true,"merged":[]}
["Tracks Pre-Production Workbook Changes"]
["Date","Initials","Description"]
["2006-10-03","BGP","Initial release of workbook with SM data mappings."]
["2006-11-16","BGP","Fiixed reference to KMIMS on Cores tab; Fixed Inspector ID on top of Gradation tab; Fixed all Remark IDs on t_rmks_dtl tab; Fixed \"TON\" in code table (was \"TONS\")."]
["2006-11-16","BGP","Fixed edit on t_smpl.smpl_mix_id (SUPERPAVE not PCC)."]
["2006-11-17","BGP","Fixed \"out-of-range edits on all the \"Percentage\" calculations on the Gradations tab;  worked on the Unit Weight fields on the Super Verify tab."]
["2006-12-07","MDH","Fixed formulas on 'Super Verify' tab for Unit Weight.  Currently calculating in English units instead of Metric units.  This was causing a validation problem due to the value containing four numbers to the left of the decimal point instead of three."]
["2006-12-08","MDH","Replaced Lab, Sampler, and Tester data with valid KQTL data."]
["2006-12-11","BGP","Performance tuning (started using ScreenUpdating Property in background macros to help speed up processing); Added \"Filename\" (SampleIDRoot) to the discipline tab."]
["2006-12-13","TDS","Attached new map which includes the root sample id (filename).  The new map also ensures all dates from excel are in the same formate (serial date).  Conversion to normal date and format is handled in the applet.  All dates are tested for validity and that they don't exceed the current system date."]
["2006-12-20","BGP","Updated the edit on t_smpl_tstr tab for the t_smpl_tstr column.  (It was prevously written as if it was checking against the sampler qualifications rather than the tester qualifications)."]
["2007-01-03","MDH","Prefixed Lab ID with 'C' or 'T' to designate Contractor or KYTC lab."]
["2007-01-18","MDH","Fixed problem with spreadsheet displaying incorrect material code.  Updated spreadsheet to include correct material codes."]
["2007-02-01","BGP","Corrected data in spreadsheet - details showed 4 sublots, but the Superpave tab Random Tons matrix only showed a single sublot, so I added the other 3 sublots;  also updated the edits for the est_cmpl_dt and actl_cmpl_dt on the t_smpl_tst tab to be consistent with all other spreadsheets."]
["2007-02-07","BGP","Assigned new \"Template Status\" code table value in t_tst_rslt_dtl.F2 based on the value in t_smpl.smpl_stat (Global Template Change)."]
["2007-02-14","MDH","Updated P/S and Materials Codes to valid codes."]
["2007-04-05","BGP","Rather than using the \"Mix ID\" (on the Additional Sample Data tab)  to link to link the project samples to the Mix, use the \"Link To\" field on the Basic Sample Data tab and link to the MDA Sample corresponding to the Mix (t_smpl);  Also, changing the Field Number (on t_tst_rslt_dtl) to report test charge amount so that it is the same number on whenever this value is coming from a test template for the TCI."]
["2007-04-10","BGP","Re-applied changes mentioned in 04/05/07 update (as Gary/Mark had applied some changes to the spreadsheet while BGP had applied the changes on 4/5/07 version.  Mark fixed \"SaveAs\" issue.  Gary did some GUI changes."]
["2007-04-12","BGP","REALLY finish the field number change for Test Charges on t_tst_rst_dtl tab."]

{"sheet":"discipline","index":26,"n_rows":2,"n_cols":5,"rows_kept":2,"cut":false,"hidden":true,"merged":[]}
["discipline_id","discipline_version","replace_allowed_indicator","district","Filename"]
["AMAW","v2.0","Y",{"$f":"LEFT('Pay Values'!B3,2)","v":""},{"$f":"'Pay Values'!B3","v":0}]

{"sheet":"t_smpl","index":27,"n_rows":14,"n_cols":55,"rows_kept":14,"cut":false,"hidden":true,"merged":[]}
["Special Processing",null,null,null,"d",null,null,null,null,"c","d",null,"d",null,"c","c",null,null,null,null,null,"c",null,null,"c",null,"c","c","c","c","c","c",null,"c","c","c","c",null,"c",null,"c","c",null,"c","c","c","c","c","c","c","c","c","c","c","c"]
["SM Table","t_smpl","t_smpl","t_smpl","t_smpl","t_smpl","t_smpl","t_smpl","t_smpl","t_smpl","t_smpl","t_smpl","t_smpl","t_smpl","t_smpl","t_smpl","t_smpl","t_smpl","t_smpl","t_smpl","t_smpl","t_smpl","t_smpl","t_smpl","t_smpl","t_smpl","t_smpl","t_smpl","t_smpl","t_smpl","t_smpl","t_smpl","t_smpl","t_smpl","t_smpl","t_smpl","t_smpl","t_smpl","t_smpl","t_smpl","t_smpl","t_smpl","t_smpl","t_smpl","t_smpl","t_smpl","t_smpl","t_smpl","t_smpl","t_smpl","t_smpl","t_smpl","t_smpl","t_smpl","t_smpl"]
["SM Column","smpl_id","acpt_meth_t","auth_by_cms_uid","auth_dt","cms_uid","cntrl_nbr","cntrl_t","geog_area_t","intd_use_txt","last_modfd_dt","last_modfd_uid","log_dt","matl_cd","offst","plant_id","prodr_supp_cd","rel_smpl_id","rmrks_id","smpl_dsn_t","smpl_dt","smpl_mix_id","smpl_t","smpld_by","sta","stat_t","witnes_by_cms_uid","prod_nm","plant_t","revise_smpl_id","smpl_origin","smpld_fr_txt","unt_t","mnfctr_cd","twn","buy_usa_ind","buy_usa_rqrdmt_t","repr_qty","ref","seal_nbr","smpl_sz","reqst_by_nm","std_rmrks_ind","smpl_lock_ind","dstnc_fnsh_grd","dstnc_fnsh_grd_unt","ref_doc","sz_unt_t","lock_type","locked_by","lock_dt","lev1_office_ind","lev2_office_nbr","lev3_office_nbr","lev4_office_nbr"]
["Logical Validation","No duplicates of key (highlighted in yellow);\n\nIF Sample ID \"blank\", THEN skip to next record","Existing on t_cd_tbl_dtl (cd_id)\nAND t_cd_tbl_dtl.tbl_id='ACPTMETH'","Existing on t_matl_user \nAND t_matl_user.sm_user_ind='Y'\n\nQUESTION: SHOULD WE CHECK GROUP SECURITY FOR \"AUTHORIZATION\"?",null,"Existing on t_matl_user \nAND t_matl_user.sm_user_ind='Y'",null,"Existing on t_cd_tbl_dtl (cd_id)\nAND t_cd_tbl_dtl.tbl_id='CNTRLTYP'","Existing on t_cd_tbl_dtl (cd_id)\nAND t_cd_tbl_dtl.tbl_id='GEOGAREA'",null,null,null,null,"Existing on t_matl\nAND t.matl_actvty_stat_t = \"A\"",null,null,"Existing on t_prodr_supp\nAND t_prodr_supp.actvty_stat_t = \"A\"\nAND smpl_dt (below) is between \n            t_prodr_supp_matl.effdt & exp_dt\n            (for the matl_cd above)","Existing on t_smpl",null,"Existing on t_cd_tbl_dtl (cd_id)\nAND t_cd_tbl_dtl.tbl_id='SMPLDSN'",null,null,"Existing on t_cd_tbl_dtl (cd_id)\nAND t_cd_tbl_dtl.tbl_id='SMPLTYPE'","Existing on t_matl_user \nAND  t_matl_user.smplr_ind='Y\"\nAND  active sampler qualification of \"Superpave Plant Tech\" or \"Superpave Mix Design Tech\" \n        (  I.e., At least one row returned from:\n         SELECT * FROM t_insp_qualfn\n         WHERE smpld_by = smpld_by\n         AND      insp_qualfn_t = \"ASPM\"\n         AND      qualfn_lev_t = \"SPLT\"\n         AND      exp_dt >= t_smpl.smpl_dt (same keys as current row)\n         AND      effdt     <= t_smpl.smpl_dt (same keys as current row)   )\n-- OR --\n         SELECT * FROM t_insp_qualfn\n         WHERE smpld_by = smpld_by\n         AND      insp_qualfn_t = \"ASMD\"\n         AND      qualfn_lev_t = \"SMDT\"\n         AND      exp_dt >= t_smpl.smpl_dt (same keys as current row)\n         AND      effdt     <= t_smpl.smpl_dt (same keys as current row)   )",null,"Existing on t_cd_tbl_dtl (cd_id)\nAND t_cd_tbl_dtl.tbl_id='SMPLSTAT'",null,null,null,null,null,null,"Existing on t_cd_tbl_dtl (cd_id)\nAND t_cd_tbl_dtl.tbl_id='UNITS'"]
["Comment","IF No Sample ID, Ignore Row.",null,"SM User ID from Header","Current system date","SM User ID from Header",null,null,"Derived from first two characters of Sample ID",null,"Current system date",null,"Current system date",null,"Not Used\nInitialized to \" \" (i.e., space)","Not Used\nInitialized to \" \" (i.e., space)",null,"For Asphalt and Concrete QC/QA samples, this should reference the Sample ID corresponding to the original Mix Design Approval Sample (i.e., the link back to the original Mix definition)","Comes from t_rmks_dtl tab\n(Only QC & QA have active remarks - not active for INFO Samples currently)",null,null,"Removed from Applet 3/26/07; Will now using the Related Sample ID instead to link to the Mix ID.","Embed code table in spreadsheet","An active “SUPERPAVE PLANT TECHNOLOGIST” Sampler qualification for a Material Category of “'ASPHALT-PLANT MIX”.\n\n---OR---\n\nAn active “SUPERPAVE MIX DESIGN TECHNOLOGIST” Sampler qualification (and therefore have a SM User ID) for a Material Category of “ASPHALT-MIX DESIGN”.\n","Not Used\nInitialized to \" \" (i.e., space)",null,"Not Used\nInitialized to \" \" (i.e., space)","Not Used\nInitialized to \" \" (i.e., space)","Not Used\nInitialized to \" \" (i.e., space)","Not Used\nInitialized to \" \" (i.e., space)","Not Used\nInitialized to \" \" (i.e., space)","Not Used\nInitialized to \" \" (i.e., space)",null,"Not Used\nInitialized to \" \" (i.e., space)","Not Used\nInitialized to \" \" (i.e., space)","Not Used\nInitialized to \" \" (i.e., space)","Not Used\nInitialized to \" \" (i.e., space)",null,"Not Used\nInitialized to \" \" (i.e., space)","Not Used for Visual\nInitialized to \" \" (i.e., space)\nUsed for remaining.","Not Used\nInitialized to \" \" (i.e., space)","Not Used\nInitialized to \" \" (i.e., space)","Set Only for QC Samples\nInitialized to \"N\" otherwise","Not Used\nInitialized to \" \" (i.e., space)","Not Used\nInitialized to \" \" (i.e., space)","Not Used\nInitialized to \" \" (i.e., space)","Not Used\nInitialized to \" \" (i.e., space)","Not Used\nInitialized to \" \" (i.e., space)","Not Used\nInitialized to \" \" (i.e., space)","Not Used\nInitialized to \" \" (i.e., space)","Not Used\nInitialized to \"\" (i.e., NULL)","Not Used\nInitialized to \" \" (i.e., space)","Not Used\nInitialized to \" \" (i.e., space)","Not Used\nInitialized to \" \" (i.e., space)","Not Used\nInitialized to \" \" (i.e., space)"]
["Long Description","SiteManager \nSample ID ","Acceptance Method","Authorizer SM User ID","Authorization Date","Sample \"Creator\" \nSM User ID","Control Number","Control Type","Geographic Area","Intended Use (of material sampled)","Last Modified Date","Last Modified User ID","Sample Logged Date","Material Code","Offset","Plant ID","Producer / Supplier","Related Sample ID","Remarks ID","Mix Design Type","Sample Date","Mix ID","Sample Type","Sampling Technician (SM User ID)","Station","Sample Status","Sampling KYTC Witness SM User ID ","Product Name","Plant Type","Revised Sample ID","Sample Origin","Sample From","Repr Material Quantity Units","Manufacturer","Town (where sampled)","Buy USA Indicator","Buy USA Requirement Type","Represented Material Quantity","Reference","Sublot Sample","Sample Size","Name of Sample Requester","Standard Remarks Included Indicator","Sample Locked Indicator","Distance From Finished Grade","Distance From Finished Grade Unit","Reference Document","Sample Size Unit","Sample Lock Type","Sample Locked By (SM User ID)","Sample Lock Date","Sample Lock Level 1 Office","Sample Lock Level 2 Office","Sample Lock Level 3 Office","Sample Lock Level 4 Office"]
["User Entry                                     XML Schema \nSheet Map                                   Column Name","smpl_id","acpt_meth_t","auth_by_cms_uid","auth_dt","cms_uid","cntrl_nbr","cntrl_t","geog_area_t","intd_use_txt","last_modfd_dt","last_modfd_uid","log_dt","matl_cd","offst","plant_id","prodr_supp_cd","rel_smpl_id","rmrks_id","smpl_dsn_t","smpl_dt","smpl_mix_id","smpl_t","smpld_by","sta","stat_t","witnes_by_cms_uid","prod_nm","plant_t","revise_smpl_id","smpl_origin","smpld_fr_txt","unt_t","mnfctr_cd","twn","buy_usa_ind","buy_usa_rqrdmt_t","repr_qty","ref","seal_nbr","smpl_sz","reqst_by_nm","std_rmrks_ind","smpl_lock_ind","dstnc_fnsh_grd","dstnc_fnsh_grd_unt","ref_doc","sz_unt_t","lock_type","locked_by","lock_dt","lev1_office_ind","lev2_office_nbr","lev3_office_nbr","lev4_office_nbr"]
["VI01",{"$f":"IF(Calculations!H20=\"Visual\",IF('Pay Values'!B3=\"\",\"\",CONCATENATE('Pay Values'!B3,\"VI01\")),\"\")","v":""},"VI",{"$f":"'Pay Values'!I9","v":0},null,{"$f":"'Pay Values'!I9","v":0},{"$f":"Calculations!BK1","v":0},"LNBR",{"$f":"LEFT('Pay Values'!B3,2)","v":""},{"$f":"IF(Calculations!$C$20,\"Warm-Mix Asphalt\",\"\")","v":""},null,{"$f":"'Pay Values'!I9","v":0},null,{"$f":"'Pay Values'!C9","v":{"$error":"#N/A"}}," "," ",{"$f":"'Pay Values'!D6","v":{"$error":"#N/A"}},{"$f":"'Pay Values'!D7","v":0},{"$f":"t_rmks_dtl!B8","v":" "},"SUP",{"$f":"Superpave!I3","v":"00:00:00"}," ","PACP",{"$f":"Superpave!B6","v":""}," ","COMP"," "," "," "," "," "," ",{"$f":"'Pay Values'!E4","v":"TON"}," "," "," "," ",{"$f":"'Pay Values'!F4","v":0}," ",1," "," ","N"," "," "," "," "," "," "," ",null," "," "," "," "]
["QC01",{"$f":"IF(B8=\"\",IF(Superpave!I3=\"\",\"\",IF('Pay Values'!B3=\"\",\"\",CONCATENATE('Pay Values'!B3,\"QC01\"))),\"\")","v":""},"TR",{"$f":"'Pay Values'!I9","v":0},null,{"$f":"'Pay Values'!I9","v":0},{"$f":"Calculations!BK1","v":0},"LNBR",{"$f":"LEFT('Pay Values'!B3,2)","v":""},{"$f":"IF(Calculations!$C$20,\"Warm-Mix Asphalt\",\"\")","v":""},null,{"$f":"'Pay Values'!I9","v":0},null,{"$f":"'Pay Values'!C9","v":{"$error":"#N/A"}}," "," ",{"$f":"'Pay Values'!D6","v":{"$error":"#N/A"}},{"$f":"'Pay Values'!D7","v":0},{"$f":"t_rmks_dtl!B58","v":" "},"SUP",{"$f":"Superpave!I3","v":"00:00:00"}," ","QC",{"$f":"Superpave!B6","v":""}," ","COMP"," "," "," "," "," "," ",{"$f":"'Pay Values'!E4","v":"TON"}," "," "," "," ",{"$f":"IF(B9=\"\",0,IF('Pay Values'!F4>1000*AN9,1000,'Pay Values'!F4))","v":0}," ",1," "," ","Y"," "," "," "," "," "," "," ",null," "," "," "," "]
[null,{"$f":"IF(B8=\"\",IF(Superpave!I4=\"\",\"\",IF('Pay Values'!B3=\"\",\"\",CONCATENATE('Pay Values'!B3,\"QC02\"))),\"\")","v":""},"TR",{"$f":"'Pay Values'!I9","v":0},null,{"$f":"'Pay Values'!I9","v":0},{"$f":"Calculations!BK1","v":0},"LNBR",{"$f":"LEFT('Pay Values'!B3,2)","v":""},{"$f":"IF(Calculations!$C$20,\"Warm-Mix Asphalt\",\"\")","v":""},null,{"$f":"'Pay Values'!I9","v":0},null,{"$f":"'Pay Values'!C9","v":{"$error":"#N/A"}}," "," ",{"$f":"'Pay Values'!D6","v":{"$error":"#N/A"}},{"$f":"'Pay Values'!D7","v":0},{"$f":"t_rmks_dtl!B108","v":" "},"SUP",{"$f":"Superpave!I4","v":"00:00:00"}," ","QC",{"$f":"Superpave!E6","v":""}," ","COMP"," "," "," "," "," "," ",{"$f":"'Pay Values'!E4","v":"TON"}," "," "," "," ",{"$f":"IF(B10=\"\",0,IF('Pay Values'!F4>1000*AN10,1000,'Pay Values'!F4-AL9))","v":0}," ",2," "," ","Y"," "," "," "," "," "," "," ",null," "," "," "," "]
[null,{"$f":"IF(B8=\"\",IF(Superpave!I5=\"\",\"\",IF('Pay Values'!B3=\"\",\"\",CONCATENATE('Pay Values'!B3,\"QC03\"))),\"\")","v":""},"TR",{"$f":"'Pay Values'!I9","v":0},null,{"$f":"'Pay Values'!I9","v":0},{"$f":"Calculations!BK1","v":0},"LNBR",{"$f":"LEFT('Pay Values'!B3,2)","v":""},{"$f":"IF(Calculations!$C$20,\"Warm-Mix Asphalt\",\"\")","v":""},null,{"$f":"'Pay Values'!I9","v":0},null,{"$f":"'Pay Values'!C9","v":{"$error":"#N/A"}}," "," ",{"$f":"'Pay Values'!D6","v":{"$error":"#N/A"}},{"$f":"'Pay Values'!D7","v":0},{"$f":"t_rmks_dtl!B158","v":" "},"SUP",{"$f":"Superpave!I5","v":"00:00:00"}," ","QC",{"$f":"Superpave!B8","v":""}," ","COMP"," "," "," "," "," "," ",{"$f":"'Pay Values'!E4","v":"TON"}," "," "," "," ",{"$f":"IF(B11=\"\",0,IF('Pay Values'!F4>1000*AN11,1000,'Pay Values'!F4-AL9-AL10))","v":0}," ",3," "," ","Y"," "," "," "," "," "," "," ",null," "," "," "," "]
["QC04",{"$f":"IF(B8=\"\",IF(Superpave!I6=\"\",\"\",IF('Pay Values'!B3=\"\",\"\",CONCATENATE('Pay Values'!B3,\"QC04\"))),\"\")","v":""},"TR",{"$f":"'Pay Values'!I9","v":0},null,{"$f":"'Pay Values'!I9","v":0},{"$f":"Calculations!BK1","v":0},"LNBR",{"$f":"LEFT('Pay Values'!B3,2)","v":""},{"$f":"IF(Calculations!$C$20,\"Warm-Mix Asphalt\",\"\")","v":""},null,{"$f":"'Pay Values'!I9","v":0},null,{"$f":"'Pay Values'!C9","v":{"$error":"#N/A"}}," "," ",{"$f":"'Pay Values'!D6","v":{"$error":"#N/A"}},{"$f":"'Pay Values'!D7","v":0},{"$f":"t_rmks_dtl!B208","v":" "},"SUP",{"$f":"Superpave!I6","v":"00:00:00"}," ","QC",{"$f":"Superpave!E8","v":""}," ","COMP"," "," "," "," "," "," ",{"$f":"'Pay Values'!E4","v":"TON"}," "," "," "," ",{"$f":"IF(B12=\"\",0,IF('Pay Values'!F4>1000*AN12,1000,'Pay Values'!F4-AL9-AL10-AL11))","v":0}," ",4," "," ","Y"," "," "," "," "," "," "," ",null," "," "," "," "]
["QA01",{"$f":"IF(B8=\"\",IF('Super Verify'!E5=\"\",\"\",IF('Pay Values'!B3=\"\",\"\",CONCATENATE('Pay Values'!B3,\"QA01\"))),\"\")","v":""},"TR",{"$f":"'Pay Values'!I9","v":0},null,{"$f":"'Pay Values'!I9","v":0},{"$f":"Calculations!BK1","v":0},"LNBR",{"$f":"LEFT('Pay Values'!B3,2)","v":""},{"$f":"IF(Calculations!$C$20,\"Warm-Mix Asphalt\",\"\")","v":""},null,{"$f":"'Pay Values'!I9","v":0},null,{"$f":"'Pay Values'!C9","v":{"$error":"#N/A"}}," "," ",{"$f":"'Pay Values'!D6","v":{"$error":"#N/A"}},{"$f":"'Pay Values'!D7","v":0},{"$f":"t_rmks_dtl!B258","v":" "},"SUP",{"$f":"IF('Super Verify'!B5=1,t_smpl!U9,IF('Super Verify'!B5=2,t_smpl!U10,IF('Super Verify'!B5=3,t_smpl!U11,t_smpl!U12)))","v":"00:00:00"}," ","QA",{"$f":"'Super Verify'!E5","v":"00:00:00"}," ","COMP"," "," "," "," "," "," ",{"$f":"'Pay Values'!E4","v":"TON"}," "," "," "," ",{"$f":"'Pay Values'!F4","v":0}," ",{"$f":"'Super Verify'!B5","v":""}," "," ","N"," "," "," "," "," "," "," ",null," "," "," "," "]
["IQ01",{"$f":"IF(B8=\"\",IF('Super Verify'!E12=\"\",\"\",IF('Pay Values'!B3=\"\",\"\",CONCATENATE('Pay Values'!B3,\"IQ01\"))),\"\")","v":""},"TR",{"$f":"'Pay Values'!I9","v":0},null,{"$f":"'Pay Values'!I9","v":0},{"$f":"Calculations!BK1","v":0},"LNBR",{"$f":"LEFT('Pay Values'!B3,2)","v":""},{"$f":"IF(Calculations!$C$20,\"Warm-Mix Asphalt\",\"\")","v":""},null,{"$f":"'Pay Values'!I9","v":0},null,{"$f":"'Pay Values'!C9","v":{"$error":"#N/A"}}," "," ",{"$f":"'Pay Values'!D6","v":{"$error":"#N/A"}},{"$f":"'Pay Values'!D7","v":0},{"$f":"t_rmks_dtl!B308","v":" "},"SUP",{"$f":"IF('Super Verify'!B12=1,t_smpl!U9,IF('Super Verify'!B12=2,t_smpl!U10,IF('Super Verify'!B12=3,t_smpl!U11,t_smpl!U12)))","v":"00:00:00"}," ","INFO",{"$f":"'Super Verify'!E12","v":"00:00:00"}," ","COMP"," "," "," "," "," "," ",{"$f":"'Pay Values'!E4","v":"TON"}," "," "," "," ",{"$f":"'Pay Values'!F4","v":0}," ",{"$f":"'Super Verify'!B12","v":""}," "," ","N"," "," "," "," "," "," "," ",null," "," "," "," "]

{"sheet":"t_cont_smpl","index":28,"n_rows":14,"n_cols":11,"rows_kept":14,"cut":false,"hidden":true,"merged":[[3,2,3,4],[3,10,3,12]]}
["Special Processing","x",null,null,null,null,null,"d"]
["SM Table","t_cont_smpl","t_cont_smpl","t_cont_smpl","t_cont_smpl","t_cont_smpl","t_cont_smpl","t_cont_smpl"]
["SM Column","smpl_id","cont_id","prj_nbr","ln_itm_nbr","repr_qty","last_modfd_uid","last_modfd_dt"]
["Logical Validation","No duplicates of key (highlighted in yellow);\n\nIF Sample ID \"blank\", THEN skip to next record","These three keys (and matl_cd from Header tab) must exist on t_cont_streq_matl.",null,null,"IF t_smpl.smpl_t = \"QC\" THEN\n   t_cont_smpl.repr_qty = \n            User Entered \"Represent Quantity\" / J4\nELSE\n   just use User Entered \"Represented Quantity\"\nENDIF\n     ",null,null,null,{"$f":"COUNT(Superpave!I3:I6)","v":0},"NUMBER OF QC SAMPLES"]
["Comment","IF No Sample ID, Ignore Row.",null,"THESE THREE FIELDS COME FROM THE FIRST THREE COLUMNS ON THE \"Project Item\" TAB \n(AND EACH ROW ON THAT TAB REPEATS FOR EVERY ROW ON THIS TAB HAVING A \"Sample ID\")",null,null,null,"Current system date"]
["Long Description","SiteManager \nSample ID ","Contract ID","Project Number","Line Item Number","Represented Quantity","Last Modified User ID","Last Modified Date"]
["User Entry                                     XML Schema \nSheet Map                                   Column Name","smpl_id","cont_id","prj_nbr","ln_itm_nbr","repr_qty","last_modfd_uid","last_modfd_dt"]
["QC01",{"$f":"t_smpl!B8","v":""},{"$f":"'Pay Values'!B4","v":0},"N/A","N/A","N/A",{"$f":"'Pay Values'!I9","v":"00:00:00"}]
["QC01",{"$f":"t_smpl!B9","v":""},{"$f":"'Pay Values'!B4","v":0},"N/A","N/A","N/A",{"$f":"'Pay Values'!I9","v":"00:00:00"}]
[null,{"$f":"t_smpl!B10","v":""},{"$f":"'Pay Values'!B4","v":0},"N/A","N/A","N/A",{"$f":"'Pay Values'!I9","v":"00:00:00"}]
[null,{"$f":"t_smpl!B11","v":""},{"$f":"'Pay Values'!B4","v":0},"N/A","N/A","N/A",{"$f":"'Pay Values'!I9","v":"00:00:00"}]
["QC04",{"$f":"t_smpl!B12","v":""},{"$f":"'Pay Values'!B4","v":0},"N/A","N/A","N/A",{"$f":"'Pay Values'!I9","v":"00:00:00"}]
["QA01",{"$f":"t_smpl!B13","v":""},{"$f":"'Pay Values'!B4","v":0},"N/A","N/A","N/A",{"$f":"'Pay Values'!I9","v":"00:00:00"}]
["IQ01",{"$f":"t_smpl!B14","v":""},{"$f":"'Pay Values'!B4","v":0},"N/A","N/A","N/A",{"$f":"'Pay Values'!I9","v":"00:00:00"}]

{"sheet":"t_rmks_dtl","index":29,"n_rows":357,"n_cols":7,"rows_kept":357,"cut":false,"hidden":true,"merged":[]}
["Special Processing",null,null,null,null,null,"d"]
["SM Table","t_rmrks_dtl","t_rmrks_dtl","t_rmrks_dtl","t_rmrks_dtl","t_rmrks_dtl","t_rmrks_dtl"]
["SM Column","rmrks_id","rmrks_t","rmrks_sn","rmrks_txt_fld","last_modfd_uid","last_modfd_dt"]
["Logical Validation","No duplicates of key (highlighted in yellow);\n\nIF Remark ID \"blank\", THEN skip to next record"]
["Comment","IF No Sample ID, Ignore Row.",null,null,"Up to 254 char Sample Remark  \n(NOTE: COULD HAVE REMARK FOR EACH TEST.)",null,"Current system date"]
["Long Description","Remark ID","Remark Type","Remark Sequence Number","Remarks","Last Modified User ID","Last Modified Date"]
["User Entry                                     XML Schema \nSheet Map                                   Column Name","rmrks_id","rmrks_t","rmrks_sn","rmrks_txt_fld","last_modfd_uid","last_modfd_dt"]
["VI01",{"$f":"IF(t_smpl!B8=\"\",\" \",IF(E8=0,\"\",CONCATENATE(TEXT(NOW(),\"yyyymmddhhmmss\"),RIGHT(t_smpl!B8,4))))","v":" "},"GEN",1,{"$f":"IF(Comments!A4=\"\",\"\",CONCATENATE(Comments!A4,CHAR(10)))","v":""},{"$f":"'Pay Values'!I9","v":"00:00:00"}]
[null,{"$f":"IF(E9=\"\",\"\",B8)","v":""},"GEN",{"$f":"D8+1","v":2},{"$f":"IF(Comments!A5=\"\",\"\",CONCATENATE(Comments!A5,CHAR(10)))","v":""},{"$f":"F8","v":"00:00:00"}]
[null,{"$f":"IF(E10=\"\",\"\",B8)","v":""},"GEN",{"$f":"D9+1","v":3},{"$f":"IF(Comments!A6=\"\",\"\",CONCATENATE(Comments!A6,CHAR(10)))","v":""},{"$f":"F9","v":0}]
[null,{"$f":"IF(E11=\"\",\"\",B8)","v":""},"GEN",4,{"$f":"IF(Comments!A7=\"\",\"\",CONCATENATE(Comments!A7,CHAR(10)))","v":""},0]
[null,{"$f":"IF(E12=\"\",\"\",B8)","v":""},"GEN",5,{"$f":"IF(Comments!A8=\"\",\"\",CONCATENATE(Comments!A8,CHAR(10)))","v":""},0]
[null,{"$f":"IF(E13=\"\",\"\",B8)","v":""},"GEN",6,{"$f":"IF(Comments!A9=\"\",\"\",CONCATENATE(Comments!A9,CHAR(10)))","v":""},0]
[null,{"$f":"IF(E14=\"\",\"\",B8)","v":""},"GEN",7,{"$f":"IF(Comments!A10=\"\",\"\",CONCATENATE(Comments!A10,CHAR(10)))","v":""},0]
[null,{"$f":"IF(E15=\"\",\"\",B8)","v":""},"GEN",8,{"$f":"IF(Comments!A11=\"\",\"\",CONCATENATE(Comments!A11,CHAR(10)))","v":""},0]
[null,{"$f":"IF(E16=\"\",\"\",B8)","v":""},"GEN",9,{"$f":"IF(Comments!A12=\"\",\"\",CONCATENATE(Comments!A12,CHAR(10)))","v":""},0]
[null,{"$f":"IF(E17=\"\",\"\",B8)","v":""},"GEN",10,{"$f":"IF(Comments!A13=\"\",\"\",CONCATENATE(Comments!A13,CHAR(10)))","v":""},0]
[null,{"$f":"IF(E18=\"\",\"\",B8)","v":""},"GEN",11,{"$f":"IF(Comments!A14=\"\",\"\",CONCATENATE(Comments!A14,CHAR(10)))","v":""},0]
[null,{"$f":"IF(E19=\"\",\"\",B8)","v":""},"GEN",12,{"$f":"IF(Comments!A15=\"\",\"\",CONCATENATE(Comments!A15,CHAR(10)))","v":""},0]
[null,{"$f":"IF(E20=\"\",\"\",B8)","v":""},"GEN",13,{"$f":"IF(Comments!A16=\"\",\"\",CONCATENATE(Comments!A16,CHAR(10)))","v":""},0]
[null,{"$f":"IF(E21=\"\",\"\",B8)","v":""},"GEN",14,{"$f":"IF(Comments!A17=\"\",\"\",CONCATENATE(Comments!A17,CHAR(10)))","v":""},0]
[null,{"$f":"IF(E22=\"\",\"\",B8)","v":""},"GEN",15,{"$f":"IF(Comments!A18=\"\",\"\",CONCATENATE(Comments!A18,CHAR(10)))","v":""},0]
[null,{"$f":"IF(E23=\"\",\"\",B8)","v":""},"GEN",16,{"$f":"IF(Comments!A19=\"\",\"\",CONCATENATE(Comments!A19,CHAR(10)))","v":""},0]
[null,{"$f":"IF(E24=\"\",\"\",B8)","v":""},"GEN",17,{"$f":"IF(Comments!A20=\"\",\"\",CONCATENATE(Comments!A20,CHAR(10)))","v":""},0]
[null,{"$f":"IF(E25=\"\",\"\",B8)","v":""},"GEN",18,{"$f":"IF(Comments!A21=\"\",\"\",CONCATENATE(Comments!A21,CHAR(10)))","v":""},0]
[null,{"$f":"IF(E26=\"\",\"\",B8)","v":""},"GEN",19,{"$f":"IF(Comments!A22=\"\",\"\",CONCATENATE(Comments!A22,CHAR(10)))","v":""},0]
[null,{"$f":"IF(E27=\"\",\"\",B8)","v":""},"GEN",20,{"$f":"IF(Comments!A23=\"\",\"\",CONCATENATE(Comments!A23,CHAR(10)))","v":""},0]
[null,{"$f":"IF(E28=\"\",\"\",B8)","v":""},"GEN",21,{"$f":"IF(Comments!A24=\"\",\"\",CONCATENATE(Comments!A24,CHAR(10)))","v":""},0]
[null,{"$f":"IF(E29=\"\",\"\",B8)","v":""},"GEN",22,{"$f":"IF(Comments!A25=\"\",\"\",CONCATENATE(Comments!A25,CHAR(10)))","v":""},0]
[null,{"$f":"IF(E30=\"\",\"\",B8)","v":""},"GEN",23,{"$f":"IF(Comments!A26=\"\",\"\",CONCATENATE(Comments!A26,CHAR(10)))","v":""},0]
[null,{"$f":"IF(E31=\"\",\"\",B8)","v":""},"GEN",24,{"$f":"IF(Comments!A27=\"\",\"\",CONCATENATE(Comments!A27,CHAR(10)))","v":""},0]
[null,{"$f":"IF(E32=\"\",\"\",B8)","v":""},"GEN",25,{"$f":"IF(Comments!A28=\"\",\"\",CONCATENATE(Comments!A28,CHAR(10)))","v":""},0]
[null,{"$f":"IF(E33=\"\",\"\",B8)","v":""},"GEN",26,{"$f":"IF(Comments!A29=\"\",\"\",CONCATENATE(Comments!A29,CHAR(10)))","v":""},0]
[null,{"$f":"IF(E34=\"\",\"\",B8)","v":""},"GEN",27,{"$f":"IF(Comments!A30=\"\",\"\",CONCATENATE(Comments!A30,CHAR(10)))","v":""},0]
[null,{"$f":"IF(E35=\"\",\"\",B8)","v":""},"GEN",28,{"$f":"IF(Comments!A31=\"\",\"\",CONCATENATE(Comments!A31,CHAR(10)))","v":""},0]
[null,{"$f":"IF(E36=\"\",\"\",B8)","v":""},"GEN",29,{"$f":"IF(Comments!A32=\"\",\"\",CONCATENATE(Comments!A32,CHAR(10)))","v":""},0]
[null,{"$f":"IF(E37=\"\",\"\",B8)","v":""},"GEN",30,{"$f":"IF(Comments!A33=\"\",\"\",CONCATENATE(Comments!A33,CHAR(10)))","v":""},0]
[null,{"$f":"IF(E38=\"\",\"\",B8)","v":""},"GEN",31,{"$f":"IF(Comments!A34=\"\",\"\",CONCATENATE(Comments!A34,CHAR(10)))","v":""},0]
[null,{"$f":"IF(E39=\"\",\"\",B8)","v":""},"GEN",32,{"$f":"IF(Comments!A35=\"\",\"\",CONCATENATE(Comments!A35,CHAR(10)))","v":""},0]
[null,{"$f":"IF(E40=\"\",\"\",B8)","v":""},"GEN",33,{"$f":"IF(Comments!A36=\"\",\"\",CONCATENATE(Comments!A36,CHAR(10)))","v":""},0]
[null,{"$f":"IF(E41=\"\",\"\",B8)","v":""},"GEN",34,{"$f":"IF(Comments!A37=\"\",\"\",CONCATENATE(Comments!A37,CHAR(10)))","v":""},0]
[null,{"$f":"IF(E42=\"\",\"\",B8)","v":""},"GEN",35,{"$f":"IF(Comments!A38=\"\",\"\",CONCATENATE(Comments!A38,CHAR(10)))","v":""},0]
[null,{"$f":"IF(E43=\"\",\"\",B8)","v":""},"GEN",36,{"$f":"IF(Comments!A39=\"\",\"\",CONCATENATE(Comments!A39,CHAR(10)))","v":""},0]
[null,{"$f":"IF(E44=\"\",\"\",B8)","v":""},"GEN",37,{"$f":"IF(Comments!A40=\"\",\"\",CONCATENATE(Comments!A40,CHAR(10)))","v":""},0]
[null,{"$f":"IF(E45=\"\",\"\",B8)","v":""},"GEN",38,{"$f":"IF(Comments!A41=\"\",\"\",CONCATENATE(Comments!A41,CHAR(10)))","v":""},0]
[null,{"$f":"IF(E46=\"\",\"\",B8)","v":""},"GEN",39,{"$f":"IF(Comments!A42=\"\",\"\",CONCATENATE(Comments!A42,CHAR(10)))","v":""},0]
[null,{"$f":"IF(E47=\"\",\"\",B8)","v":""},"GEN",40,{"$f":"IF(Comments!A43=\"\",\"\",CONCATENATE(Comments!A43,CHAR(10)))","v":""},0]
[null,{"$f":"IF(E48=\"\",\"\",B8)","v":""},"GEN",41,{"$f":"IF(Comments!A44=\"\",\"\",CONCATENATE(Comments!A44,CHAR(10)))","v":""},0]
[null,{"$f":"IF(E49=\"\",\"\",B8)","v":""},"GEN",42,{"$f":"IF(Comments!A45=\"\",\"\",CONCATENATE(Comments!A45,CHAR(10)))","v":""},0]
[null,{"$f":"IF(E50=\"\",\"\",B8)","v":""},"GEN",43,{"$f":"IF(Comments!A46=\"\",\"\",CONCATENATE(Comments!A46,CHAR(10)))","v":""},0]
[null,{"$f":"IF(E51=\"\",\"\",B8)","v":""},"GEN",44,{"$f":"IF(Comments!A47=\"\",\"\",CONCATENATE(Comments!A47,CHAR(10)))","v":""},0]
[null,{"$f":"IF(E52=\"\",\"\",B8)","v":""},"GEN",45,{"$f":"IF(Comments!A48=\"\",\"\",CONCATENATE(Comments!A48,CHAR(10)))","v":""},0]
[null,{"$f":"IF(E53=\"\",\"\",B8)","v":""},"GEN",46,{"$f":"IF(Comments!A49=\"\",\"\",CONCATENATE(Comments!A49,CHAR(10)))","v":""},0]
[null,{"$f":"IF(E54=\"\",\"\",B8)","v":""},"GEN",47,{"$f":"IF(Comments!A50=\"\",\"\",CONCATENATE(Comments!A50,CHAR(10)))","v":""},0]
[null,{"$f":"IF(E55=\"\",\"\",B8)","v":""},"GEN",48,{"$f":"IF(Comments!A51=\"\",\"\",CONCATENATE(Comments!A51,CHAR(10)))","v":""},0]
[null,{"$f":"IF(E56=\"\",\"\",B8)","v":""},"GEN",49,{"$f":"IF(Comments!A52=\"\",\"\",CONCATENATE(Comments!A52,CHAR(10)))","v":""},0]
[null,{"$f":"IF(E57=\"\",\"\",B8)","v":""},"GEN",50,{"$f":"IF(Comments!A53=\"\",\"\",CONCATENATE(Comments!A53,CHAR(10)))","v":""},0]
["QC01",{"$f":"IF(t_smpl!B9=\"\",\" \",IF(E58=0,\"\",CONCATENATE(TEXT(NOW(),\"yyyymmddhhmmss\"),RIGHT(t_smpl!B9,4))))","v":" "},"GEN",1,{"$f":"IF(Comments!A4=\"\",\"\",CONCATENATE(Comments!A4,CHAR(10)))","v":""},0]
[null,{"$f":"IF(E59=\"\",\"\",B58)","v":""},"GEN",{"$f":"D58+1","v":2},{"$f":"IF(Comments!A5=\"\",\"\",CONCATENATE(Comments!A5,CHAR(10)))","v":""},0]
[null,{"$f":"IF(E60=\"\",\"\",B58)","v":""},"GEN",{"$f":"D59+1","v":3},{"$f":"IF(Comments!A6=\"\",\"\",CONCATENATE(Comments!A6,CHAR(10)))","v":""},0]
[null,{"$f":"IF(E61=\"\",\"\",B58)","v":""},"GEN",4,{"$f":"IF(Comments!A7=\"\",\"\",CONCATENATE(Comments!A7,CHAR(10)))","v":""},0]
[null,{"$f":"IF(E62=\"\",\"\",B58)","v":""},"GEN",5,{"$f":"IF(Comments!A8=\"\",\"\",CONCATENATE(Comments!A8,CHAR(10)))","v":""},0]
[null,{"$f":"IF(E63=\"\",\"\",B58)","v":""},"GEN",6,{"$f":"IF(Comments!A9=\"\",\"\",CONCATENATE(Comments!A9,CHAR(10)))","v":""},0]
[null,{"$f":"IF(E64=\"\",\"\",B58)","v":""},"GEN",7,{"$f":"IF(Comments!A10=\"\",\"\",CONCATENATE(Comments!A10,CHAR(10)))","v":""},0]
[null,{"$f":"IF(E65=\"\",\"\",B58)","v":""},"GEN",8,{"$f":"IF(Comments!A11=\"\",\"\",CONCATENATE(Comments!A11,CHAR(10)))","v":""},0]
[null,{"$f":"IF(E66=\"\",\"\",B58)","v":""},"GEN",9,{"$f":"IF(Comments!A12=\"\",\"\",CONCATENATE(Comments!A12,CHAR(10)))","v":""},0]
[null,{"$f":"IF(E67=\"\",\"\",B58)","v":""},"GEN",10,{"$f":"IF(Comments!A13=\"\",\"\",CONCATENATE(Comments!A13,CHAR(10)))","v":""},0]
[null,{"$f":"IF(E68=\"\",\"\",B58)","v":""},"GEN",11,{"$f":"IF(Comments!A14=\"\",\"\",CONCATENATE(Comments!A14,CHAR(10)))","v":""},0]
[null,{"$f":"IF(E69=\"\",\"\",B58)","v":""},"GEN",12,{"$f":"IF(Comments!A15=\"\",\"\",CONCATENATE(Comments!A15,CHAR(10)))","v":""},0]
[null,{"$f":"IF(E70=\"\",\"\",B58)","v":""},"GEN",13,{"$f":"IF(Comments!A16=\"\",\"\",CONCATENATE(Comments!A16,CHAR(10)))","v":""},0]
[null,{"$f":"IF(E71=\"\",\"\",B58)","v":""},"GEN",14,{"$f":"IF(Comments!A17=\"\",\"\",CONCATENATE(Comments!A17,CHAR(10)))","v":""},0]
[null,{"$f":"IF(E72=\"\",\"\",B58)","v":""},"GEN",15,{"$f":"IF(Comments!A18=\"\",\"\",CONCATENATE(Comments!A18,CHAR(10)))","v":""},0]
[null,{"$f":"IF(E73=\"\",\"\",B58)","v":""},"GEN",16,{"$f":"IF(Comments!A19=\"\",\"\",CONCATENATE(Comments!A19,CHAR(10)))","v":""},0]
[null,{"$f":"IF(E74=\"\",\"\",B58)","v":""},"GEN",17,{"$f":"IF(Comments!A20=\"\",\"\",CONCATENATE(Comments!A20,CHAR(10)))","v":""},{"$f":"F73","v":0}]
[null,{"$f":"IF(E75=\"\",\"\",B58)","v":""},"GEN",18,{"$f":"IF(Comments!A21=\"\",\"\",CONCATENATE(Comments!A21,CHAR(10)))","v":""},0]
[null,{"$f":"IF(E76=\"\",\"\",B58)","v":""},"GEN",19,{"$f":"IF(Comments!A22=\"\",\"\",CONCATENATE(Comments!A22,CHAR(10)))","v":""},0]
[null,{"$f":"IF(E77=\"\",\"\",B58)","v":""},"GEN",20,{"$f":"IF(Comments!A23=\"\",\"\",CONCATENATE(Comments!A23,CHAR(10)))","v":""},0]
[null,{"$f":"IF(E78=\"\",\"\",B58)","v":""},"GEN",21,{"$f":"IF(Comments!A24=\"\",\"\",CONCATENATE(Comments!A24,CHAR(10)))","v":""},0]
[null,{"$f":"IF(E79=\"\",\"\",B58)","v":""},"GEN",22,{"$f":"IF(Comments!A25=\"\",\"\",CONCATENATE(Comments!A25,CHAR(10)))","v":""},0]
[null,{"$f":"IF(E80=\"\",\"\",B58)","v":""},"GEN",23,{"$f":"IF(Comments!A26=\"\",\"\",CONCATENATE(Comments!A26,CHAR(10)))","v":""},0]
[null,{"$f":"IF(E81=\"\",\"\",B58)","v":""},"GEN",24,{"$f":"IF(Comments!A27=\"\",\"\",CONCATENATE(Comments!A27,CHAR(10)))","v":""},0]
[null,{"$f":"IF(E82=\"\",\"\",B58)","v":""},"GEN",25,{"$f":"IF(Comments!A28=\"\",\"\",CONCATENATE(Comments!A28,CHAR(10)))","v":""},0]
[null,{"$f":"IF(E83=\"\",\"\",B58)","v":""},"GEN",26,{"$f":"IF(Comments!A29=\"\",\"\",CONCATENATE(Comments!A29,CHAR(10)))","v":""},0]
[null,{"$f":"IF(E84=\"\",\"\",B58)","v":""},"GEN",27,{"$f":"IF(Comments!A30=\"\",\"\",CONCATENATE(Comments!A30,CHAR(10)))","v":""},0]
[null,{"$f":"IF(E85=\"\",\"\",B58)","v":""},"GEN",28,{"$f":"IF(Comments!A31=\"\",\"\",CONCATENATE(Comments!A31,CHAR(10)))","v":""},0]
[null,{"$f":"IF(E86=\"\",\"\",B58)","v":""},"GEN",29,{"$f":"IF(Comments!A32=\"\",\"\",CONCATENATE(Comments!A32,CHAR(10)))","v":""},0]
[null,{"$f":"IF(E87=\"\",\"\",B58)","v":""},"GEN",30,{"$f":"IF(Comments!A33=\"\",\"\",CONCATENATE(Comments!A33,CHAR(10)))","v":""},0]
[null,{"$f":"IF(E88=\"\",\"\",B58)","v":""},"GEN",31,{"$f":"IF(Comments!A34=\"\",\"\",CONCATENATE(Comments!A34,CHAR(10)))","v":""},0]
[null,{"$f":"IF(E89=\"\",\"\",B58)","v":""},"GEN",32,{"$f":"IF(Comments!A35=\"\",\"\",CONCATENATE(Comments!A35,CHAR(10)))","v":""},0]
[null,{"$f":"IF(E90=\"\",\"\",B58)","v":""},"GEN",33,{"$f":"IF(Comments!A36=\"\",\"\",CONCATENATE(Comments!A36,CHAR(10)))","v":""},0]
[null,{"$f":"IF(E91=\"\",\"\",B58)","v":""},"GEN",34,{"$f":"IF(Comments!A37=\"\",\"\",CONCATENATE(Comments!A37,CHAR(10)))","v":""},0]
[null,{"$f":"IF(E92=\"\",\"\",B58)","v":""},"GEN",35,{"$f":"IF(Comments!A38=\"\",\"\",CONCATENATE(Comments!A38,CHAR(10)))","v":""},0]
[null,{"$f":"IF(E93=\"\",\"\",B58)","v":""},"GEN",36,{"$f":"IF(Comments!A39=\"\",\"\",CONCATENATE(Comments!A39,CHAR(10)))","v":""},0]
[null,{"$f":"IF(E94=\"\",\"\",B58)","v":""},"GEN",37,{"$f":"IF(Comments!A40=\"\",\"\",CONCATENATE(Comments!A40,CHAR(10)))","v":""},0]
[null,{"$f":"IF(E95=\"\",\"\",B58)","v":""},"GEN",38,{"$f":"IF(Comments!A41=\"\",\"\",CONCATENATE(Comments!A41,CHAR(10)))","v":""},0]
[null,{"$f":"IF(E96=\"\",\"\",B58)","v":""},"GEN",39,{"$f":"IF(Comments!A42=\"\",\"\",CONCATENATE(Comments!A42,CHAR(10)))","v":""},0]
[null,{"$f":"IF(E97=\"\",\"\",B58)","v":""},"GEN",40,{"$f":"IF(Comments!A43=\"\",\"\",CONCATENATE(Comments!A43,CHAR(10)))","v":""},0]
[null,{"$f":"IF(E98=\"\",\"\",B58)","v":""},"GEN",41,{"$f":"IF(Comments!A44=\"\",\"\",CONCATENATE(Comments!A44,CHAR(10)))","v":""},0]
[null,{"$f":"IF(E99=\"\",\"\",B58)","v":""},"GEN",42,{"$f":"IF(Comments!A45=\"\",\"\",CONCATENATE(Comments!A45,CHAR(10)))","v":""},0]
[null,{"$f":"IF(E100=\"\",\"\",B58)","v":""},"GEN",43,{"$f":"IF(Comments!A46=\"\",\"\",CONCATENATE(Comments!A46,CHAR(10)))","v":""},0]
[null,{"$f":"IF(E101=\"\",\"\",B58)","v":""},"GEN",44,{"$f":"IF(Comments!A47=\"\",\"\",CONCATENATE(Comments!A47,CHAR(10)))","v":""},0]
[null,{"$f":"IF(E102=\"\",\"\",B58)","v":""},"GEN",45,{"$f":"IF(Comments!A48=\"\",\"\",CONCATENATE(Comments!A48,CHAR(10)))","v":""},0]
[null,{"$f":"IF(E103=\"\",\"\",B58)","v":""},"GEN",46,{"$f":"IF(Comments!A49=\"\",\"\",CONCATENATE(Comments!A49,CHAR(10)))","v":""},0]
[null,{"$f":"IF(E104=\"\",\"\",B58)","v":""},"GEN",47,{"$f":"IF(Comments!A50=\"\",\"\",CONCATENATE(Comments!A50,CHAR(10)))","v":""},0]
[null,{"$f":"IF(E105=\"\",\"\",B58)","v":""},"GEN",48,{"$f":"IF(Comments!A51=\"\",\"\",CONCATENATE(Comments!A51,CHAR(10)))","v":""},0]
[null,{"$f":"IF(E106=\"\",\"\",B58)","v":""},"GEN",49,{"$f":"IF(Comments!A52=\"\",\"\",CONCATENATE(Comments!A52,CHAR(10)))","v":""},0]
[null,{"$f":"IF(E107=\"\",\"\",B58)","v":""},"GEN",50,{"$f":"IF(Comments!A53=\"\",\"\",CONCATENATE(Comments!A53,CHAR(10)))","v":""},0]
["QC02",{"$f":"IF(t_smpl!B10=\"\",\" \",IF(E108=0,\"\",CONCATENATE(TEXT(NOW(),\"yyyymmddhhmmss\"),RIGHT(t_smpl!B10,4))))","v":" "},"GEN",1,{"$f":"IF(Comments!A4=\"\",\"\",CONCATENATE(Comments!A4,CHAR(10)))","v":""},0]
[null,{"$f":"IF(E109=\"\",\"\",B108)","v":""},"GEN",{"$f":"D108+1","v":2},{"$f":"IF(Comments!A5=\"\",\"\",CONCATENATE(Comments!A5,CHAR(10)))","v":""},0]
[null,{"$f":"IF(E110=\"\",\"\",B108)","v":""},"GEN",{"$f":"D109+1","v":3},{"$f":"IF(Comments!A6=\"\",\"\",CONCATENATE(Comments!A6,CHAR(10)))","v":""},0]
[null,{"$f":"IF(E111=\"\",\"\",B108)","v":""},"GEN",4,{"$f":"IF(Comments!A7=\"\",\"\",CONCATENATE(Comments!A7,CHAR(10)))","v":""},0]
[null,{"$f":"IF(E112=\"\",\"\",B108)","v":""},"GEN",5,{"$f":"IF(Comments!A8=\"\",\"\",CONCATENATE(Comments!A8,CHAR(10)))","v":""},0]
[null,{"$f":"IF(E113=\"\",\"\",B108)","v":""},"GEN",6,{"$f":"IF(Comments!A9=\"\",\"\",CONCATENATE(Comments!A9,CHAR(10)))","v":""},0]
[null,{"$f":"IF(E114=\"\",\"\",B108)","v":""},"GEN",7,{"$f":"IF(Comments!A10=\"\",\"\",CONCATENATE(Comments!A10,CHAR(10)))","v":""},0]
[null,{"$f":"IF(E115=\"\",\"\",B108)","v":""},"GEN",8,{"$f":"IF(Comments!A11=\"\",\"\",CONCATENATE(Comments!A11,CHAR(10)))","v":""},0]
[null,{"$f":"IF(E116=\"\",\"\",B108)","v":""},"GEN",9,{"$f":"IF(Comments!A12=\"\",\"\",CONCATENATE(Comments!A12,CHAR(10)))","v":""},0]
[null,{"$f":"IF(E117=\"\",\"\",B108)","v":""},"GEN",10,{"$f":"IF(Comments!A13=\"\",\"\",CONCATENATE(Comments!A13,CHAR(10)))","v":""},0]
[null,{"$f":"IF(E118=\"\",\"\",B108)","v":""},"GEN",11,{"$f":"IF(Comments!A14=\"\",\"\",CONCATENATE(Comments!A14,CHAR(10)))","v":""},0]
[null,{"$f":"IF(E119=\"\",\"\",B108)","v":""},"GEN",12,{"$f":"IF(Comments!A15=\"\",\"\",CONCATENATE(Comments!A15,CHAR(10)))","v":""},0]
[null,{"$f":"IF(E120=\"\",\"\",B108)","v":""},"GEN",13,{"$f":"IF(Comments!A16=\"\",\"\",CONCATENATE(Comments!A16,CHAR(10)))","v":""},0]
[null,{"$f":"IF(E121=\"\",\"\",B108)","v":""},"GEN",14,{"$f":"IF(Comments!A17=\"\",\"\",CONCATENATE(Comments!A17,CHAR(10)))","v":""},0]
[null,{"$f":"IF(E122=\"\",\"\",B108)","v":""},"GEN",15,{"$f":"IF(Comments!A18=\"\",\"\",CONCATENATE(Comments!A18,CHAR(10)))","v":""},0]
[null,{"$f":"IF(E123=\"\",\"\",B108)","v":""},"GEN",16,{"$f":"IF(Comments!A19=\"\",\"\",CONCATENATE(Comments!A19,CHAR(10)))","v":""},0]
[null,{"$f":"IF(E124=\"\",\"\",B108)","v":""},"GEN",17,{"$f":"IF(Comments!A20=\"\",\"\",CONCATENATE(Comments!A20,CHAR(10)))","v":""},0]
[null,{"$f":"IF(E125=\"\",\"\",B108)","v":""},"GEN",18,{"$f":"IF(Comments!A21=\"\",\"\",CONCATENATE(Comments!A21,CHAR(10)))","v":""},0]
[null,{"$f":"IF(E126=\"\",\"\",B108)","v":""},"GEN",19,{"$f":"IF(Comments!A22=\"\",\"\",CONCATENATE(Comments!A22,CHAR(10)))","v":""},0]
[null,{"$f":"IF(E127=\"\",\"\",B108)","v":""},"GEN",20,{"$f":"IF(Comments!A23=\"\",\"\",CONCATENATE(Comments!A23,CHAR(10)))","v":""},0]
[null,{"$f":"IF(E128=\"\",\"\",B108)","v":""},"GEN",21,{"$f":"IF(Comments!A24=\"\",\"\",CONCATENATE(Comments!A24,CHAR(10)))","v":""},0]
[null,{"$f":"IF(E129=\"\",\"\",B108)","v":""},"GEN",22,{"$f":"IF(Comments!A25=\"\",\"\",CONCATENATE(Comments!A25,CHAR(10)))","v":""},0]
[null,{"$f":"IF(E130=\"\",\"\",B108)","v":""},"GEN",23,{"$f":"IF(Comments!A26=\"\",\"\",CONCATENATE(Comments!A26,CHAR(10)))","v":""},0]
[null,{"$f":"IF(E131=\"\",\"\",B108)","v":""},"GEN",24,{"$f":"IF(Comments!A27=\"\",\"\",CONCATENATE(Comments!A27,CHAR(10)))","v":""},0]
[null,{"$f":"IF(E132=\"\",\"\",B108)","v":""},"GEN",25,{"$f":"IF(Comments!A28=\"\",\"\",CONCATENATE(Comments!A28,CHAR(10)))","v":""},0]
[null,{"$f":"IF(E133=\"\",\"\",B108)","v":""},"GEN",26,{"$f":"IF(Comments!A29=\"\",\"\",CONCATENATE(Comments!A29,CHAR(10)))","v":""},0]
[null,{"$f":"IF(E134=\"\",\"\",B108)","v":""},"GEN",27,{"$f":"IF(Comments!A30=\"\",\"\",CONCATENATE(Comments!A30,CHAR(10)))","v":""},0]
[null,{"$f":"IF(E135=\"\",\"\",B108)","v":""},"GEN",28,{"$f":"IF(Comments!A31=\"\",\"\",CONCATENATE(Comments!A31,CHAR(10)))","v":""},0]
[null,{"$f":"IF(E136=\"\",\"\",B108)","v":""},"GEN",29,{"$f":"IF(Comments!A32=\"\",\"\",CONCATENATE(Comments!A32,CHAR(10)))","v":""},0]
[null,{"$f":"IF(E137=\"\",\"\",B108)","v":""},"GEN",30,{"$f":"IF(Comments!A33=\"\",\"\",CONCATENATE(Comments!A33,CHAR(10)))","v":""},0]
[null,{"$f":"IF(E138=\"\",\"\",B108)","v":""},"GEN",31,{"$f":"IF(Comments!A34=\"\",\"\",CONCATENATE(Comments!A34,CHAR(10)))","v":""},{"$f":"F137","v":0}]
[null,{"$f":"IF(E139=\"\",\"\",B108)","v":""},"GEN",32,{"$f":"IF(Comments!A35=\"\",\"\",CONCATENATE(Comments!A35,CHAR(10)))","v":""},0]
[null,{"$f":"IF(E140=\"\",\"\",B108)","v":""},"GEN",33,{"$f":"IF(Comments!A36=\"\",\"\",CONCATENATE(Comments!A36,CHAR(10)))","v":""},0]
[null,{"$f":"IF(E141=\"\",\"\",B108)","v":""},"GEN",34,{"$f":"IF(Comments!A37=\"\",\"\",CONCATENATE(Comments!A37,CHAR(10)))","v":""},0]
[null,{"$f":"IF(E142=\"\",\"\",B108)","v":""},"GEN",35,{"$f":"IF(Comments!A38=\"\",\"\",CONCATENATE(Comments!A38,CHAR(10)))","v":""},0]
[null,{"$f":"IF(E143=\"\",\"\",B108)","v":""},"GEN",36,{"$f":"IF(Comments!A39=\"\",\"\",CONCATENATE(Comments!A39,CHAR(10)))","v":""},0]
[null,{"$f":"IF(E144=\"\",\"\",B108)","v":""},"GEN",37,{"$f":"IF(Comments!A40=\"\",\"\",CONCATENATE(Comments!A40,CHAR(10)))","v":""},0]
[null,{"$f":"IF(E145=\"\",\"\",B108)","v":""},"GEN",38,{"$f":"IF(Comments!A41=\"\",\"\",CONCATENATE(Comments!A41,CHAR(10)))","v":""},0]
[null,{"$f":"IF(E146=\"\",\"\",B108)","v":""},"GEN",39,{"$f":"IF(Comments!A42=\"\",\"\",CONCATENATE(Comments!A42,CHAR(10)))","v":""},0]
[null,{"$f":"IF(E147=\"\",\"\",B108)","v":""},"GEN",40,{"$f":"IF(Comments!A43=\"\",\"\",CONCATENATE(Comments!A43,CHAR(10)))","v":""},0]
[null,{"$f":"IF(E148=\"\",\"\",B108)","v":""},"GEN",41,{"$f":"IF(Comments!A44=\"\",\"\",CONCATENATE(Comments!A44,CHAR(10)))","v":""},0]
[null,{"$f":"IF(E149=\"\",\"\",B108)","v":""},"GEN",42,{"$f":"IF(Comments!A45=\"\",\"\",CONCATENATE(Comments!A45,CHAR(10)))","v":""},0]
[null,{"$f":"IF(E150=\"\",\"\",B108)","v":""},"GEN",43,{"$f":"IF(Comments!A46=\"\",\"\",CONCATENATE(Comments!A46,CHAR(10)))","v":""},0]
[null,{"$f":"IF(E151=\"\",\"\",B108)","v":""},"GEN",44,{"$f":"IF(Comments!A47=\"\",\"\",CONCATENATE(Comments!A47,CHAR(10)))","v":""},0]
[null,{"$f":"IF(E152=\"\",\"\",B108)","v":""},"GEN",45,{"$f":"IF(Comments!A48=\"\",\"\",CONCATENATE(Comments!A48,CHAR(10)))","v":""},0]
[null,{"$f":"IF(E153=\"\",\"\",B108)","v":""},"GEN",46,{"$f":"IF(Comments!A49=\"\",\"\",CONCATENATE(Comments!A49,CHAR(10)))","v":""},0]
[null,{"$f":"IF(E154=\"\",\"\",B108)","v":""},"GEN",47,{"$f":"IF(Comments!A50=\"\",\"\",CONCATENATE(Comments!A50,CHAR(10)))","v":""},0]
[null,{"$f":"IF(E155=\"\",\"\",B108)","v":""},"GEN",48,{"$f":"IF(Comments!A51=\"\",\"\",CONCATENATE(Comments!A51,CHAR(10)))","v":""},0]
[null,{"$f":"IF(E156=\"\",\"\",B108)","v":""},"GEN",49,{"$f":"IF(Comments!A52=\"\",\"\",CONCATENATE(Comments!A52,CHAR(10)))","v":""},0]
[null,{"$f":"IF(E157=\"\",\"\",B108)","v":""},"GEN",50,{"$f":"IF(Comments!A53=\"\",\"\",CONCATENATE(Comments!A53,CHAR(10)))","v":""},0]
["QC03",{"$f":"IF(t_smpl!B11=\"\",\" \",IF(E158=0,\"\",CONCATENATE(TEXT(NOW(),\"yyyymmddhhmmss\"),RIGHT(t_smpl!B11,4))))","v":" "},"GEN",1,{"$f":"IF(Comments!A4=\"\",\"\",CONCATENATE(Comments!A4,CHAR(10)))","v":""},0]
[null,{"$f":"IF(E159=\"\",\"\",B158)","v":""},"GEN",{"$f":"D158+1","v":2},{"$f":"IF(Comments!A5=\"\",\"\",CONCATENATE(Comments!A5,CHAR(10)))","v":""},0]
[null,{"$f":"IF(E160=\"\",\"\",B158)","v":""},"GEN",{"$f":"D159+1","v":3},{"$f":"IF(Comments!A6=\"\",\"\",CONCATENATE(Comments!A6,CHAR(10)))","v":""},0]
[null,{"$f":"IF(E161=\"\",\"\",B158)","v":""},"GEN",4,{"$f":"IF(Comments!A7=\"\",\"\",CONCATENATE(Comments!A7,CHAR(10)))","v":""},0]
[null,{"$f":"IF(E162=\"\",\"\",B158)","v":""},"GEN",5,{"$f":"IF(Comments!A8=\"\",\"\",CONCATENATE(Comments!A8,CHAR(10)))","v":""},0]
[null,{"$f":"IF(E163=\"\",\"\",B158)","v":""},"GEN",6,{"$f":"IF(Comments!A9=\"\",\"\",CONCATENATE(Comments!A9,CHAR(10)))","v":""},0]
[null,{"$f":"IF(E164=\"\",\"\",B158)","v":""},"GEN",7,{"$f":"IF(Comments!A10=\"\",\"\",CONCATENATE(Comments!A10,CHAR(10)))","v":""},0]
[null,{"$f":"IF(E165=\"\",\"\",B158)","v":""},"GEN",8,{"$f":"IF(Comments!A11=\"\",\"\",CONCATENATE(Comments!A11,CHAR(10)))","v":""},0]
[null,{"$f":"IF(E166=\"\",\"\",B158)","v":""},"GEN",9,{"$f":"IF(Comments!A12=\"\",\"\",CONCATENATE(Comments!A12,CHAR(10)))","v":""},0]
[null,{"$f":"IF(E167=\"\",\"\",B158)","v":""},"GEN",10,{"$f":"IF(Comments!A13=\"\",\"\",CONCATENATE(Comments!A13,CHAR(10)))","v":""},0]
[null,{"$f":"IF(E168=\"\",\"\",B158)","v":""},"GEN",11,{"$f":"IF(Comments!A14=\"\",\"\",CONCATENATE(Comments!A14,CHAR(10)))","v":""},0]
[null,{"$f":"IF(E169=\"\",\"\",B158)","v":""},"GEN",12,{"$f":"IF(Comments!A15=\"\",\"\",CONCATENATE(Comments!A15,CHAR(10)))","v":""},0]
[null,{"$f":"IF(E170=\"\",\"\",B158)","v":""},"GEN",13,{"$f":"IF(Comments!A16=\"\",\"\",CONCATENATE(Comments!A16,CHAR(10)))","v":""},0]
[null,{"$f":"IF(E171=\"\",\"\",B158)","v":""},"GEN",14,{"$f":"IF(Comments!A17=\"\",\"\",CONCATENATE(Comments!A17,CHAR(10)))","v":""},0]
[null,{"$f":"IF(E172=\"\",\"\",B158)","v":""},"GEN",15,{"$f":"IF(Comments!A18=\"\",\"\",CONCATENATE(Comments!A18,CHAR(10)))","v":""},0]
[null,{"$f":"IF(E173=\"\",\"\",B158)","v":""},"GEN",16,{"$f":"IF(Comments!A19=\"\",\"\",CONCATENATE(Comments!A19,CHAR(10)))","v":""},0]
[null,{"$f":"IF(E174=\"\",\"\",B158)","v":""},"GEN",17,{"$f":"IF(Comments!A20=\"\",\"\",CONCATENATE(Comments!A20,CHAR(10)))","v":""},0]
[null,{"$f":"IF(E175=\"\",\"\",B158)","v":""},"GEN",18,{"$f":"IF(Comments!A21=\"\",\"\",CONCATENATE(Comments!A21,CHAR(10)))","v":""},0]
[null,{"$f":"IF(E176=\"\",\"\",B158)","v":""},"GEN",19,{"$f":"IF(Comments!A22=\"\",\"\",CONCATENATE(Comments!A22,CHAR(10)))","v":""},0]
[null,{"$f":"IF(E177=\"\",\"\",B158)","v":""},"GEN",20,{"$f":"IF(Comments!A23=\"\",\"\",CONCATENATE(Comments!A23,CHAR(10)))","v":""},0]
[null,{"$f":"IF(E178=\"\",\"\",B158)","v":""},"GEN",21,{"$f":"IF(Comments!A24=\"\",\"\",CONCATENATE(Comments!A24,CHAR(10)))","v":""},0]
[null,{"$f":"IF(E179=\"\",\"\",B158)","v":""},"GEN",22,{"$f":"IF(Comments!A25=\"\",\"\",CONCATENATE(Comments!A25,CHAR(10)))","v":""},0]
[null,{"$f":"IF(E180=\"\",\"\",B158)","v":""},"GEN",23,{"$f":"IF(Comments!A26=\"\",\"\",CONCATENATE(Comments!A26,CHAR(10)))","v":""},0]
[null,{"$f":"IF(E181=\"\",\"\",B158)","v":""},"GEN",24,{"$f":"IF(Comments!A27=\"\",\"\",CONCATENATE(Comments!A27,CHAR(10)))","v":""},0]
[null,{"$f":"IF(E182=\"\",\"\",B158)","v":""},"GEN",25,{"$f":"IF(Comments!A28=\"\",\"\",CONCATENATE(Comments!A28,CHAR(10)))","v":""},0]
[null,{"$f":"IF(E183=\"\",\"\",B158)","v":""},"GEN",26,{"$f":"IF(Comments!A29=\"\",\"\",CONCATENATE(Comments!A29,CHAR(10)))","v":""},0]
[null,{"$f":"IF(E184=\"\",\"\",B158)","v":""},"GEN",27,{"$f":"IF(Comments!A30=\"\",\"\",CONCATENATE(Comments!A30,CHAR(10)))","v":""},0]
[null,{"$f":"IF(E185=\"\",\"\",B158)","v":""},"GEN",28,{"$f":"IF(Comments!A31=\"\",\"\",CONCATENATE(Comments!A31,CHAR(10)))","v":""},0]
[null,{"$f":"IF(E186=\"\",\"\",B158)","v":""},"GEN",29,{"$f":"IF(Comments!A32=\"\",\"\",CONCATENATE(Comments!A32,CHAR(10)))","v":""},0]
[null,{"$f":"IF(E187=\"\",\"\",B158)","v":""},"GEN",30,{"$f":"IF(Comments!A33=\"\",\"\",CONCATENATE(Comments!A33,CHAR(10)))","v":""},0]
[null,{"$f":"IF(E188=\"\",\"\",B158)","v":""},"GEN",31,{"$f":"IF(Comments!A34=\"\",\"\",CONCATENATE(Comments!A34,CHAR(10)))","v":""},0]
[null,{"$f":"IF(E189=\"\",\"\",B158)","v":""},"GEN",32,{"$f":"IF(Comments!A35=\"\",\"\",CONCATENATE(Comments!A35,CHAR(10)))","v":""},0]
[null,{"$f":"IF(E190=\"\",\"\",B158)","v":""},"GEN",33,{"$f":"IF(Comments!A36=\"\",\"\",CONCATENATE(Comments!A36,CHAR(10)))","v":""},0]
[null,{"$f":"IF(E191=\"\",\"\",B158)","v":""},"GEN",34,{"$f":"IF(Comments!A37=\"\",\"\",CONCATENATE(Comments!A37,CHAR(10)))","v":""},0]
[null,{"$f":"IF(E192=\"\",\"\",B158)","v":""},"GEN",35,{"$f":"IF(Comments!A38=\"\",\"\",CONCATENATE(Comments!A38,CHAR(10)))","v":""},0]
[null,{"$f":"IF(E193=\"\",\"\",B158)","v":""},"GEN",36,{"$f":"IF(Comments!A39=\"\",\"\",CONCATENATE(Comments!A39,CHAR(10)))","v":""},0]
[null,{"$f":"IF(E194=\"\",\"\",B158)","v":""},"GEN",37,{"$f":"IF(Comments!A40=\"\",\"\",CONCATENATE(Comments!A40,CHAR(10)))","v":""},0]
[null,{"$f":"IF(E195=\"\",\"\",B158)","v":""},"GEN",38,{"$f":"IF(Comments!A41=\"\",\"\",CONCATENATE(Comments!A41,CHAR(10)))","v":""},0]
[null,{"$f":"IF(E196=\"\",\"\",B158)","v":""},"GEN",39,{"$f":"IF(Comments!A42=\"\",\"\",CONCATENATE(Comments!A42,CHAR(10)))","v":""},0]
[null,{"$f":"IF(E197=\"\",\"\",B158)","v":""},"GEN",40,{"$f":"IF(Comments!A43=\"\",\"\",CONCATENATE(Comments!A43,CHAR(10)))","v":""},0]
[null,{"$f":"IF(E198=\"\",\"\",B158)","v":""},"GEN",41,{"$f":"IF(Comments!A44=\"\",\"\",CONCATENATE(Comments!A44,CHAR(10)))","v":""},0]
[null,{"$f":"IF(E199=\"\",\"\",B158)","v":""},"GEN",42,{"$f":"IF(Comments!A45=\"\",\"\",CONCATENATE(Comments!A45,CHAR(10)))","v":""},0]
[null,{"$f":"IF(E200=\"\",\"\",B158)","v":""},"GEN",43,{"$f":"IF(Comments!A46=\"\",\"\",CONCATENATE(Comments!A46,CHAR(10)))","v":""},0]
[null,{"$f":"IF(E201=\"\",\"\",B158)","v":""},"GEN",44,{"$f":"IF(Comments!A47=\"\",\"\",CONCATENATE(Comments!A47,CHAR(10)))","v":""},0]
[null,{"$f":"IF(E202=\"\",\"\",B158)","v":""},"GEN",45,{"$f":"IF(Comments!A48=\"\",\"\",CONCATENATE(Comments!A48,CHAR(10)))","v":""},{"$f":"F201","v":0}]
[null,{"$f":"IF(E203=\"\",\"\",B158)","v":""},"GEN",46,{"$f":"IF(Comments!A49=\"\",\"\",CONCATENATE(Comments!A49,CHAR(10)))","v":""},0]
[null,{"$f":"IF(E204=\"\",\"\",B158)","v":""},"GEN",47,{"$f":"IF(Comments!A50=\"\",\"\",CONCATENATE(Comments!A50,CHAR(10)))","v":""},0]
[null,{"$f":"IF(E205=\"\",\"\",B158)","v":""},"GEN",48,{"$f":"IF(Comments!A51=\"\",\"\",CONCATENATE(Comments!A51,CHAR(10)))","v":""},0]
[null,{"$f":"IF(E206=\"\",\"\",B158)","v":""},"GEN",49,{"$f":"IF(Comments!A52=\"\",\"\",CONCATENATE(Comments!A52,CHAR(10)))","v":""},0]
[null,{"$f":"IF(E207=\"\",\"\",B158)","v":""},"GEN",50,{"$f":"IF(Comments!A53=\"\",\"\",CONCATENATE(Comments!A53,CHAR(10)))","v":""},0]
["QC04",{"$f":"IF(t_smpl!B12=\"\",\" \",IF(E208=0,\"\",CONCATENATE(TEXT(NOW(),\"yyyymmddhhmmss\"),RIGHT(t_smpl!B12,4))))","v":" "},"GEN",1,{"$f":"IF(Comments!A4=\"\",\"\",CONCATENATE(Comments!A4,CHAR(10)))","v":""},0]
[null,{"$f":"IF(E209=\"\",\"\",B208)","v":""},"GEN",{"$f":"D208+1","v":2},{"$f":"IF(Comments!A5=\"\",\"\",CONCATENATE(Comments!A5,CHAR(10)))","v":""},0]
[null,{"$f":"IF(E210=\"\",\"\",B208)","v":""},"GEN",{"$f":"D209+1","v":3},{"$f":"IF(Comments!A6=\"\",\"\",CONCATENATE(Comments!A6,CHAR(10)))","v":""},0]
[null,{"$f":"IF(E211=\"\",\"\",B208)","v":""},"GEN",4,{"$f":"IF(Comments!A7=\"\",\"\",CONCATENATE(Comments!A7,CHAR(10)))","v":""},0]
[null,{"$f":"IF(E212=\"\",\"\",B208)","v":""},"GEN",5,{"$f":"IF(Comments!A8=\"\",\"\",CONCATENATE(Comments!A8,CHAR(10)))","v":""},0]
[null,{"$f":"IF(E213=\"\",\"\",B208)","v":""},"GEN",6,{"$f":"IF(Comments!A9=\"\",\"\",CONCATENATE(Comments!A9,CHAR(10)))","v":""},0]
[null,{"$f":"IF(E214=\"\",\"\",B208)","v":""},"GEN",7,{"$f":"IF(Comments!A10=\"\",\"\",CONCATENATE(Comments!A10,CHAR(10)))","v":""},0]
[null,{"$f":"IF(E215=\"\",\"\",B208)","v":""},"GEN",8,{"$f":"IF(Comments!A11=\"\",\"\",CONCATENATE(Comments!A11,CHAR(10)))","v":""},0]
[null,{"$f":"IF(E216=\"\",\"\",B208)","v":""},"GEN",9,{"$f":"IF(Comments!A12=\"\",\"\",CONCATENATE(Comments!A12,CHAR(10)))","v":""},0]
[null,{"$f":"IF(E217=\"\",\"\",B208)","v":""},"GEN",10,{"$f":"IF(Comments!A13=\"\",\"\",CONCATENATE(Comments!A13,CHAR(10)))","v":""},0]
[null,{"$f":"IF(E218=\"\",\"\",B208)","v":""},"GEN",11,{"$f":"IF(Comments!A14=\"\",\"\",CONCATENATE(Comments!A14,CHAR(10)))","v":""},0]
[null,{"$f":"IF(E219=\"\",\"\",B208)","v":""},"GEN",12,{"$f":"IF(Comments!A15=\"\",\"\",CONCATENATE(Comments!A15,CHAR(10)))","v":""},0]
[null,{"$f":"IF(E220=\"\",\"\",B208)","v":""},"GEN",13,{"$f":"IF(Comments!A16=\"\",\"\",CONCATENATE(Comments!A16,CHAR(10)))","v":""},0]
[null,{"$f":"IF(E221=\"\",\"\",B208)","v":""},"GEN",14,{"$f":"IF(Comments!A17=\"\",\"\",CONCATENATE(Comments!A17,CHAR(10)))","v":""},0]
[null,{"$f":"IF(E222=\"\",\"\",B208)","v":""},"GEN",15,{"$f":"IF(Comments!A18=\"\",\"\",CONCATENATE(Comments!A18,CHAR(10)))","v":""},0]
[null,{"$f":"IF(E223=\"\",\"\",B208)","v":""},"GEN",16,{"$f":"IF(Comments!A19=\"\",\"\",CONCATENATE(Comments!A19,CHAR(10)))","v":""},0]
[null,{"$f":"IF(E224=\"\",\"\",B208)","v":""},"GEN",17,{"$f":"IF(Comments!A20=\"\",\"\",CONCATENATE(Comments!A20,CHAR(10)))","v":""},0]
[null,{"$f":"IF(E225=\"\",\"\",B208)","v":""},"GEN",18,{"$f":"IF(Comments!A21=\"\",\"\",CONCATENATE(Comments!A21,CHAR(10)))","v":""},0]
[null,{"$f":"IF(E226=\"\",\"\",B208)","v":""},"GEN",19,{"$f":"IF(Comments!A22=\"\",\"\",CONCATENATE(Comments!A22,CHAR(10)))","v":""},0]
[null,{"$f":"IF(E227=\"\",\"\",B208)","v":""},"GEN",20,{"$f":"IF(Comments!A23=\"\",\"\",CONCATENATE(Comments!A23,CHAR(10)))","v":""},0]
[null,{"$f":"IF(E228=\"\",\"\",B208)","v":""},"GEN",21,{"$f":"IF(Comments!A24=\"\",\"\",CONCATENATE(Comments!A24,CHAR(10)))","v":""},0]
[null,{"$f":"IF(E229=\"\",\"\",B208)","v":""},"GEN",22,{"$f":"IF(Comments!A25=\"\",\"\",CONCATENATE(Comments!A25,CHAR(10)))","v":""},0]
[null,{"$f":"IF(E230=\"\",\"\",B208)","v":""},"GEN",23,{"$f":"IF(Comments!A26=\"\",\"\",CONCATENATE(Comments!A26,CHAR(10)))","v":""},0]
[null,{"$f":"IF(E231=\"\",\"\",B208)","v":""},"GEN",24,{"$f":"IF(Comments!A27=\"\",\"\",CONCATENATE(Comments!A27,CHAR(10)))","v":""},0]
[null,{"$f":"IF(E232=\"\",\"\",B208)","v":""},"GEN",25,{"$f":"IF(Comments!A28=\"\",\"\",CONCATENATE(Comments!A28,CHAR(10)))","v":""},0]
[null,{"$f":"IF(E233=\"\",\"\",B208)","v":""},"GEN",26,{"$f":"IF(Comments!A29=\"\",\"\",CONCATENATE(Comments!A29,CHAR(10)))","v":""},0]
[null,{"$f":"IF(E234=\"\",\"\",B208)","v":""},"GEN",27,{"$f":"IF(Comments!A30=\"\",\"\",CONCATENATE(Comments!A30,CHAR(10)))","v":""},0]
[null,{"$f":"IF(E235=\"\",\"\",B208)","v":""},"GEN",28,{"$f":"IF(Comments!A31=\"\",\"\",CONCATENATE(Comments!A31,CHAR(10)))","v":""},0]
[null,{"$f":"IF(E236=\"\",\"\",B208)","v":""},"GEN",29,{"$f":"IF(Comments!A32=\"\",\"\",CONCATENATE(Comments!A32,CHAR(10)))","v":""},0]
[null,{"$f":"IF(E237=\"\",\"\",B208)","v":""},"GEN",30,{"$f":"IF(Comments!A33=\"\",\"\",CONCATENATE(Comments!A33,CHAR(10)))","v":""},0]
[null,{"$f":"IF(E238=\"\",\"\",B208)","v":""},"GEN",31,{"$f":"IF(Comments!A34=\"\",\"\",CONCATENATE(Comments!A34,CHAR(10)))","v":""},0]
[null,{"$f":"IF(E239=\"\",\"\",B208)","v":""},"GEN",32,{"$f":"IF(Comments!A35=\"\",\"\",CONCATENATE(Comments!A35,CHAR(10)))","v":""},0]
[null,{"$f":"IF(E240=\"\",\"\",B208)","v":""},"GEN",33,{"$f":"IF(Comments!A36=\"\",\"\",CONCATENATE(Comments!A36,CHAR(10)))","v":""},0]
[null,{"$f":"IF(E241=\"\",\"\",B208)","v":""},"GEN",34,{"$f":"IF(Comments!A37=\"\",\"\",CONCATENATE(Comments!A37,CHAR(10)))","v":""},0]
[null,{"$f":"IF(E242=\"\",\"\",B208)","v":""},"GEN",35,{"$f":"IF(Comments!A38=\"\",\"\",CONCATENATE(Comments!A38,CHAR(10)))","v":""},0]
[null,{"$f":"IF(E243=\"\",\"\",B208)","v":""},"GEN",36,{"$f":"IF(Comments!A39=\"\",\"\",CONCATENATE(Comments!A39,CHAR(10)))","v":""},0]
[null,{"$f":"IF(E244=\"\",\"\",B208)","v":""},"GEN",37,{"$f":"IF(Comments!A40=\"\",\"\",CONCATENATE(Comments!A40,CHAR(10)))","v":""},0]
[null,{"$f":"IF(E245=\"\",\"\",B208)","v":""},"GEN",38,{"$f":"IF(Comments!A41=\"\",\"\",CONCATENATE(Comments!A41,CHAR(10)))","v":""},0]
[null,{"$f":"IF(E246=\"\",\"\",B208)","v":""},"GEN",39,{"$f":"IF(Comments!A42=\"\",\"\",CONCATENATE(Comments!A42,CHAR(10)))","v":""},0]
[null,{"$f":"IF(E247=\"\",\"\",B208)","v":""},"GEN",40,{"$f":"IF(Comments!A43=\"\",\"\",CONCATENATE(Comments!A43,CHAR(10)))","v":""},0]
[null,{"$f":"IF(E248=\"\",\"\",B208)","v":""},"GEN",41,{"$f":"IF(Comments!A44=\"\",\"\",CONCATENATE(Comments!A44,CHAR(10)))","v":""},0]
[null,{"$f":"IF(E249=\"\",\"\",B208)","v":""},"GEN",42,{"$f":"IF(Comments!A45=\"\",\"\",CONCATENATE(Comments!A45,CHAR(10)))","v":""},0]
[null,{"$f":"IF(E250=\"\",\"\",B208)","v":""},"GEN",43,{"$f":"IF(Comments!A46=\"\",\"\",CONCATENATE(Comments!A46,CHAR(10)))","v":""},0]
[null,{"$f":"IF(E251=\"\",\"\",B208)","v":""},"GEN",44,{"$f":"IF(Comments!A47=\"\",\"\",CONCATENATE(Comments!A47,CHAR(10)))","v":""},0]
[null,{"$f":"IF(E252=\"\",\"\",B208)","v":""},"GEN",45,{"$f":"IF(Comments!A48=\"\",\"\",CONCATENATE(Comments!A48,CHAR(10)))","v":""},0]
[null,{"$f":"IF(E253=\"\",\"\",B208)","v":""},"GEN",46,{"$f":"IF(Comments!A49=\"\",\"\",CONCATENATE(Comments!A49,CHAR(10)))","v":""},0]
[null,{"$f":"IF(E254=\"\",\"\",B208)","v":""},"GEN",47,{"$f":"IF(Comments!A50=\"\",\"\",CONCATENATE(Comments!A50,CHAR(10)))","v":""},0]
[null,{"$f":"IF(E255=\"\",\"\",B208)","v":""},"GEN",48,{"$f":"IF(Comments!A51=\"\",\"\",CONCATENATE(Comments!A51,CHAR(10)))","v":""},0]
[null,{"$f":"IF(E256=\"\",\"\",B208)","v":""},"GEN",49,{"$f":"IF(Comments!A52=\"\",\"\",CONCATENATE(Comments!A52,CHAR(10)))","v":""},0]
[null,{"$f":"IF(E257=\"\",\"\",B208)","v":""},"GEN",50,{"$f":"IF(Comments!A53=\"\",\"\",CONCATENATE(Comments!A53,CHAR(10)))","v":""},0]
["QA01",{"$f":"IF(t_smpl!B13=\"\",\" \",IF(E258=0,\"\",CONCATENATE(TEXT(NOW(),\"yyyymmddhhmmss\"),RIGHT(t_smpl!B13,4))))","v":" "},"GEN",1,{"$f":"IF(Comments!A4=\"\",\"\",CONCATENATE(Comments!A4,CHAR(10)))","v":""},0]
[null,{"$f":"IF(E259=\"\",\"\",B258)","v":""},"GEN",{"$f":"D258+1","v":2},{"$f":"IF(Comments!A5=\"\",\"\",CONCATENATE(Comments!A5,CHAR(10)))","v":""},0]
[null,{"$f":"IF(E260=\"\",\"\",B258)","v":""},"GEN",{"$f":"D259+1","v":3},{"$f":"IF(Comments!A6=\"\",\"\",CONCATENATE(Comments!A6,CHAR(10)))","v":""},0]
[null,{"$f":"IF(E261=\"\",\"\",B258)","v":""},"GEN",4,{"$f":"IF(Comments!A7=\"\",\"\",CONCATENATE(Comments!A7,CHAR(10)))","v":""},0]
[null,{"$f":"IF(E262=\"\",\"\",B258)","v":""},"GEN",5,{"$f":"IF(Comments!A8=\"\",\"\",CONCATENATE(Comments!A8,CHAR(10)))","v":""},0]
[null,{"$f":"IF(E263=\"\",\"\",B258)","v":""},"GEN",6,{"$f":"IF(Comments!A9=\"\",\"\",CONCATENATE(Comments!A9,CHAR(10)))","v":""},0]
[null,{"$f":"IF(E264=\"\",\"\",B258)","v":""},"GEN",7,{"$f":"IF(Comments!A10=\"\",\"\",CONCATENATE(Comments!A10,CHAR(10)))","v":""},0]
[null,{"$f":"IF(E265=\"\",\"\",B258)","v":""},"GEN",8,{"$f":"IF(Comments!A11=\"\",\"\",CONCATENATE(Comments!A11,CHAR(10)))","v":""},0]
[null,{"$f":"IF(E266=\"\",\"\",B258)","v":""},"GEN",9,{"$f":"IF(Comments!A12=\"\",\"\",CONCATENATE(Comments!A12,CHAR(10)))","v":""},{"$f":"F265","v":0}]
[null,{"$f":"IF(E267=\"\",\"\",B258)","v":""},"GEN",10,{"$f":"IF(Comments!A13=\"\",\"\",CONCATENATE(Comments!A13,CHAR(10)))","v":""},0]
[null,{"$f":"IF(E268=\"\",\"\",B258)","v":""},"GEN",11,{"$f":"IF(Comments!A14=\"\",\"\",CONCATENATE(Comments!A14,CHAR(10)))","v":""},0]
[null,{"$f":"IF(E269=\"\",\"\",B258)","v":""},"GEN",12,{"$f":"IF(Comments!A15=\"\",\"\",CONCATENATE(Comments!A15,CHAR(10)))","v":""},0]
[null,{"$f":"IF(E270=\"\",\"\",B258)","v":""},"GEN",13,{"$f":"IF(Comments!A16=\"\",\"\",CONCATENATE(Comments!A16,CHAR(10)))","v":""},0]
[null,{"$f":"IF(E271=\"\",\"\",B258)","v":""},"GEN",14,{"$f":"IF(Comments!A17=\"\",\"\",CONCATENATE(Comments!A17,CHAR(10)))","v":""},0]
[null,{"$f":"IF(E272=\"\",\"\",B258)","v":""},"GEN",15,{"$f":"IF(Comments!A18=\"\",\"\",CONCATENATE(Comments!A18,CHAR(10)))","v":""},0]
[null,{"$f":"IF(E273=\"\",\"\",B258)","v":""},"GEN",16,{"$f":"IF(Comments!A19=\"\",\"\",CONCATENATE(Comments!A19,CHAR(10)))","v":""},0]
[null,{"$f":"IF(E274=\"\",\"\",B258)","v":""},"GEN",17,{"$f":"IF(Comments!A20=\"\",\"\",CONCATENATE(Comments!A20,CHAR(10)))","v":""},0]
[null,{"$f":"IF(E275=\"\",\"\",B258)","v":""},"GEN",18,{"$f":"IF(Comments!A21=\"\",\"\",CONCATENATE(Comments!A21,CHAR(10)))","v":""},0]
[null,{"$f":"IF(E276=\"\",\"\",B258)","v":""},"GEN",19,{"$f":"IF(Comments!A22=\"\",\"\",CONCATENATE(Comments!A22,CHAR(10)))","v":""},0]
[null,{"$f":"IF(E277=\"\",\"\",B258)","v":""},"GEN",20,{"$f":"IF(Comments!A23=\"\",\"\",CONCATENATE(Comments!A23,CHAR(10)))","v":""},0]
[null,{"$f":"IF(E278=\"\",\"\",B258)","v":""},"GEN",21,{"$f":"IF(Comments!A24=\"\",\"\",CONCATENATE(Comments!A24,CHAR(10)))","v":""},0]
[null,{"$f":"IF(E279=\"\",\"\",B258)","v":""},"GEN",22,{"$f":"IF(Comments!A25=\"\",\"\",CONCATENATE(Comments!A25,CHAR(10)))","v":""},0]
[null,{"$f":"IF(E280=\"\",\"\",B258)","v":""},"GEN",23,{"$f":"IF(Comments!A26=\"\",\"\",CONCATENATE(Comments!A26,CHAR(10)))","v":""},0]
[null,{"$f":"IF(E281=\"\",\"\",B258)","v":""},"GEN",24,{"$f":"IF(Comments!A27=\"\",\"\",CONCATENATE(Comments!A27,CHAR(10)))","v":""},0]
[null,{"$f":"IF(E282=\"\",\"\",B258)","v":""},"GEN",25,{"$f":"IF(Comments!A28=\"\",\"\",CONCATENATE(Comments!A28,CHAR(10)))","v":""},0]
[null,{"$f":"IF(E283=\"\",\"\",B258)","v":""},"GEN",26,{"$f":"IF(Comments!A29=\"\",\"\",CONCATENATE(Comments!A29,CHAR(10)))","v":""},0]
[null,{"$f":"IF(E284=\"\",\"\",B258)","v":""},"GEN",27,{"$f":"IF(Comments!A30=\"\",\"\",CONCATENATE(Comments!A30,CHAR(10)))","v":""},0]
[null,{"$f":"IF(E285=\"\",\"\",B258)","v":""},"GEN",28,{"$f":"IF(Comments!A31=\"\",\"\",CONCATENATE(Comments!A31,CHAR(10)))","v":""},0]
[null,{"$f":"IF(E286=\"\",\"\",B258)","v":""},"GEN",29,{"$f":"IF(Comments!A32=\"\",\"\",CONCATENATE(Comments!A32,CHAR(10)))","v":""},0]
[null,{"$f":"IF(E287=\"\",\"\",B258)","v":""},"GEN",30,{"$f":"IF(Comments!A33=\"\",\"\",CONCATENATE(Comments!A33,CHAR(10)))","v":""},0]
[null,{"$f":"IF(E288=\"\",\"\",B258)","v":""},"GEN",31,{"$f":"IF(Comments!A34=\"\",\"\",CONCATENATE(Comments!A34,CHAR(10)))","v":""},0]
[null,{"$f":"IF(E289=\"\",\"\",B258)","v":""},"GEN",32,{"$f":"IF(Comments!A35=\"\",\"\",CONCATENATE(Comments!A35,CHAR(10)))","v":""},0]
[null,{"$f":"IF(E290=\"\",\"\",B258)","v":""},"GEN",33,{"$f":"IF(Comments!A36=\"\",\"\",CONCATENATE(Comments!A36,CHAR(10)))","v":""},0]
[null,{"$f":"IF(E291=\"\",\"\",B258)","v":""},"GEN",34,{"$f":"IF(Comments!A37=\"\",\"\",CONCATENATE(Comments!A37,CHAR(10)))","v":""},0]
[null,{"$f":"IF(E292=\"\",\"\",B258)","v":""},"GEN",35,{"$f":"IF(Comments!A38=\"\",\"\",CONCATENATE(Comments!A38,CHAR(10)))","v":""},0]
[null,{"$f":"IF(E293=\"\",\"\",B258)","v":""},"GEN",36,{"$f":"IF(Comments!A39=\"\",\"\",CONCATENATE(Comments!A39,CHAR(10)))","v":""},0]
[null,{"$f":"IF(E294=\"\",\"\",B258)","v":""},"GEN",37,{"$f":"IF(Comments!A40=\"\",\"\",CONCATENATE(Comments!A40,CHAR(10)))","v":""},0]
[null,{"$f":"IF(E295=\"\",\"\",B258)","v":""},"GEN",38,{"$f":"IF(Comments!A41=\"\",\"\",CONCATENATE(Comments!A41,CHAR(10)))","v":""},0]
[null,{"$f":"IF(E296=\"\",\"\",B258)","v":""},"GEN",39,{"$f":"IF(Comments!A42=\"\",\"\",CONCATENATE(Comments!A42,CHAR(10)))","v":""},0]
[null,{"$f":"IF(E297=\"\",\"\",B258)","v":""},"GEN",40,{"$f":"IF(Comments!A43=\"\",\"\",CONCATENATE(Comments!A43,CHAR(10)))","v":""},0]
[null,{"$f":"IF(E298=\"\",\"\",B258)","v":""},"GEN",41,{"$f":"IF(Comments!A44=\"\",\"\",CONCATENATE(Comments!A44,CHAR(10)))","v":""},0]
[null,{"$f":"IF(E299=\"\",\"\",B258)","v":""},"GEN",42,{"$f":"IF(Comments!A45=\"\",\"\",CONCATENATE(Comments!A45,CHAR(10)))","v":""},0]
[null,{"$f":"IF(E300=\"\",\"\",B258)","v":""},"GEN",43,{"$f":"IF(Comments!A46=\"\",\"\",CONCATENATE(Comments!A46,CHAR(10)))","v":""},0]
[null,{"$f":"IF(E301=\"\",\"\",B258)","v":""},"GEN",44,{"$f":"IF(Comments!A47=\"\",\"\",CONCATENATE(Comments!A47,CHAR(10)))","v":""},0]
[null,{"$f":"IF(E302=\"\",\"\",B258)","v":""},"GEN",45,{"$f":"IF(Comments!A48=\"\",\"\",CONCATENATE(Comments!A48,CHAR(10)))","v":""},0]
[null,{"$f":"IF(E303=\"\",\"\",B258)","v":""},"GEN",46,{"$f":"IF(Comments!A49=\"\",\"\",CONCATENATE(Comments!A49,CHAR(10)))","v":""},0]
[null,{"$f":"IF(E304=\"\",\"\",B258)","v":""},"GEN",47,{"$f":"IF(Comments!A50=\"\",\"\",CONCATENATE(Comments!A50,CHAR(10)))","v":""},0]
[null,{"$f":"IF(E305=\"\",\"\",B258)","v":""},"GEN",48,{"$f":"IF(Comments!A51=\"\",\"\",CONCATENATE(Comments!A51,CHAR(10)))","v":""},0]
[null,{"$f":"IF(E306=\"\",\"\",B258)","v":""},"GEN",49,{"$f":"IF(Comments!A52=\"\",\"\",CONCATENATE(Comments!A52,CHAR(10)))","v":""},0]
[null,{"$f":"IF(E307=\"\",\"\",B258)","v":""},"GEN",50,{"$f":"IF(Comments!A53=\"\",\"\",CONCATENATE(Comments!A53,CHAR(10)))","v":""},0]
["IQ01",{"$f":"IF(t_smpl!B14=\"\",\" \",IF(E308=0,\"\",CONCATENATE(TEXT(NOW(),\"yyyymmddhhmmss\"),RIGHT(t_smpl!B14,4))))","v":" "},"GEN",1,{"$f":"IF(Comments!A4=\"\",\"\",CONCATENATE(Comments!A4,CHAR(10)))","v":""},0]
[null,{"$f":"IF(E309=\"\",\"\",B308)","v":""},"GEN",{"$f":"D308+1","v":2},{"$f":"IF(Comments!A5=\"\",\"\",CONCATENATE(Comments!A5,CHAR(10)))","v":""},0]
[null,{"$f":"IF(E310=\"\",\"\",B308)","v":""},"GEN",{"$f":"D309+1","v":3},{"$f":"IF(Comments!A6=\"\",\"\",CONCATENATE(Comments!A6,CHAR(10)))","v":""},0]
[null,{"$f":"IF(E311=\"\",\"\",B308)","v":""},"GEN",4,{"$f":"IF(Comments!A7=\"\",\"\",CONCATENATE(Comments!A7,CHAR(10)))","v":""},0]
[null,{"$f":"IF(E312=\"\",\"\",B308)","v":""},"GEN",5,{"$f":"IF(Comments!A8=\"\",\"\",CONCATENATE(Comments!A8,CHAR(10)))","v":""},0]
[null,{"$f":"IF(E313=\"\",\"\",B308)","v":""},"GEN",6,{"$f":"IF(Comments!A9=\"\",\"\",CONCATENATE(Comments!A9,CHAR(10)))","v":""},0]
[null,{"$f":"IF(E314=\"\",\"\",B308)","v":""},"GEN",7,{"$f":"IF(Comments!A10=\"\",\"\",CONCATENATE(Comments!A10,CHAR(10)))","v":""},0]
[null,{"$f":"IF(E315=\"\",\"\",B308)","v":""},"GEN",8,{"$f":"IF(Comments!A11=\"\",\"\",CONCATENATE(Comments!A11,CHAR(10)))","v":""},0]
[null,{"$f":"IF(E316=\"\",\"\",B308)","v":""},"GEN",9,{"$f":"IF(Comments!A12=\"\",\"\",CONCATENATE(Comments!A12,CHAR(10)))","v":""},0]
[null,{"$f":"IF(E317=\"\",\"\",B308)","v":""},"GEN",10,{"$f":"IF(Comments!A13=\"\",\"\",CONCATENATE(Comments!A13,CHAR(10)))","v":""},0]
[null,{"$f":"IF(E318=\"\",\"\",B308)","v":""},"GEN",11,{"$f":"IF(Comments!A14=\"\",\"\",CONCATENATE(Comments!A14,CHAR(10)))","v":""},0]
[null,{"$f":"IF(E319=\"\",\"\",B308)","v":""},"GEN",12,{"$f":"IF(Comments!A15=\"\",\"\",CONCATENATE(Comments!A15,CHAR(10)))","v":""},0]
[null,{"$f":"IF(E320=\"\",\"\",B308)","v":""},"GEN",13,{"$f":"IF(Comments!A16=\"\",\"\",CONCATENATE(Comments!A16,CHAR(10)))","v":""},0]
[null,{"$f":"IF(E321=\"\",\"\",B308)","v":""},"GEN",14,{"$f":"IF(Comments!A17=\"\",\"\",CONCATENATE(Comments!A17,CHAR(10)))","v":""},0]
[null,{"$f":"IF(E322=\"\",\"\",B308)","v":""},"GEN",15,{"$f":"IF(Comments!A18=\"\",\"\",CONCATENATE(Comments!A18,CHAR(10)))","v":""},0]
[null,{"$f":"IF(E323=\"\",\"\",B308)","v":""},"GEN",16,{"$f":"IF(Comments!A19=\"\",\"\",CONCATENATE(Comments!A19,CHAR(10)))","v":""},0]
[null,{"$f":"IF(E324=\"\",\"\",B308)","v":""},"GEN",17,{"$f":"IF(Comments!A20=\"\",\"\",CONCATENATE(Comments!A20,CHAR(10)))","v":""},0]
[null,{"$f":"IF(E325=\"\",\"\",B308)","v":""},"GEN",18,{"$f":"IF(Comments!A21=\"\",\"\",CONCATENATE(Comments!A21,CHAR(10)))","v":""},0]
[null,{"$f":"IF(E326=\"\",\"\",B308)","v":""},"GEN",19,{"$f":"IF(Comments!A22=\"\",\"\",CONCATENATE(Comments!A22,CHAR(10)))","v":""},0]
[null,{"$f":"IF(E327=\"\",\"\",B308)","v":""},"GEN",20,{"$f":"IF(Comments!A23=\"\",\"\",CONCATENATE(Comments!A23,CHAR(10)))","v":""},0]
[null,{"$f":"IF(E328=\"\",\"\",B308)","v":""},"GEN",21,{"$f":"IF(Comments!A24=\"\",\"\",CONCATENATE(Comments!A24,CHAR(10)))","v":""},0]
[null,{"$f":"IF(E329=\"\",\"\",B308)","v":""},"GEN",22,{"$f":"IF(Comments!A25=\"\",\"\",CONCATENATE(Comments!A25,CHAR(10)))","v":""},0]
[null,{"$f":"IF(E330=\"\",\"\",B308)","v":""},"GEN",23,{"$f":"IF(Comments!A26=\"\",\"\",CONCATENATE(Comments!A26,CHAR(10)))","v":""},{"$f":"F329","v":0}]
[null,{"$f":"IF(E331=\"\",\"\",B308)","v":""},"GEN",24,{"$f":"IF(Comments!A27=\"\",\"\",CONCATENATE(Comments!A27,CHAR(10)))","v":""},0]
[null,{"$f":"IF(E332=\"\",\"\",B308)","v":""},"GEN",25,{"$f":"IF(Comments!A28=\"\",\"\",CONCATENATE(Comments!A28,CHAR(10)))","v":""},0]
[null,{"$f":"IF(E333=\"\",\"\",B308)","v":""},"GEN",26,{"$f":"IF(Comments!A29=\"\",\"\",CONCATENATE(Comments!A29,CHAR(10)))","v":""},0]
[null,{"$f":"IF(E334=\"\",\"\",B308)","v":""},"GEN",27,{"$f":"IF(Comments!A30=\"\",\"\",CONCATENATE(Comments!A30,CHAR(10)))","v":""},0]
[null,{"$f":"IF(E335=\"\",\"\",B308)","v":""},"GEN",28,{"$f":"IF(Comments!A31=\"\",\"\",CONCATENATE(Comments!A31,CHAR(10)))","v":""},0]
[null,{"$f":"IF(E336=\"\",\"\",B308)","v":""},"GEN",29,{"$f":"IF(Comments!A32=\"\",\"\",CONCATENATE(Comments!A32,CHAR(10)))","v":""},0]
[null,{"$f":"IF(E337=\"\",\"\",B308)","v":""},"GEN",30,{"$f":"IF(Comments!A33=\"\",\"\",CONCATENATE(Comments!A33,CHAR(10)))","v":""},0]
[null,{"$f":"IF(E338=\"\",\"\",B308)","v":""},"GEN",31,{"$f":"IF(Comments!A34=\"\",\"\",CONCATENATE(Comments!A34,CHAR(10)))","v":""},0]
[null,{"$f":"IF(E339=\"\",\"\",B308)","v":""},"GEN",32,{"$f":"IF(Comments!A35=\"\",\"\",CONCATENATE(Comments!A35,CHAR(10)))","v":""},0]
[null,{"$f":"IF(E340=\"\",\"\",B308)","v":""},"GEN",33,{"$f":"IF(Comments!A36=\"\",\"\",CONCATENATE(Comments!A36,CHAR(10)))","v":""},0]
[null,{"$f":"IF(E341=\"\",\"\",B308)","v":""},"GEN",34,{"$f":"IF(Comments!A37=\"\",\"\",CONCATENATE(Comments!A37,CHAR(10)))","v":""},0]
[null,{"$f":"IF(E342=\"\",\"\",B308)","v":""},"GEN",35,{"$f":"IF(Comments!A38=\"\",\"\",CONCATENATE(Comments!A38,CHAR(10)))","v":""},0]
[null,{"$f":"IF(E343=\"\",\"\",B308)","v":""},"GEN",36,{"$f":"IF(Comments!A39=\"\",\"\",CONCATENATE(Comments!A39,CHAR(10)))","v":""},0]
[null,{"$f":"IF(E344=\"\",\"\",B308)","v":""},"GEN",37,{"$f":"IF(Comments!A40=\"\",\"\",CONCATENATE(Comments!A40,CHAR(10)))","v":""},0]
[null,{"$f":"IF(E345=\"\",\"\",B308)","v":""},"GEN",38,{"$f":"IF(Comments!A41=\"\",\"\",CONCATENATE(Comments!A41,CHAR(10)))","v":""},0]
[null,{"$f":"IF(E346=\"\",\"\",B308)","v":""},"GEN",39,{"$f":"IF(Comments!A42=\"\",\"\",CONCATENATE(Comments!A42,CHAR(10)))","v":""},0]
[null,{"$f":"IF(E347=\"\",\"\",B308)","v":""},"GEN",40,{"$f":"IF(Comments!A43=\"\",\"\",CONCATENATE(Comments!A43,CHAR(10)))","v":""},0]
[null,{"$f":"IF(E348=\"\",\"\",B308)","v":""},"GEN",41,{"$f":"IF(Comments!A44=\"\",\"\",CONCATENATE(Comments!A44,CHAR(10)))","v":""},0]
[null,{"$f":"IF(E349=\"\",\"\",B308)","v":""},"GEN",42,{"$f":"IF(Comments!A45=\"\",\"\",CONCATENATE(Comments!A45,CHAR(10)))","v":""},0]
[null,{"$f":"IF(E350=\"\",\"\",B308)","v":""},"GEN",43,{"$f":"IF(Comments!A46=\"\",\"\",CONCATENATE(Comments!A46,CHAR(10)))","v":""},0]
[null,{"$f":"IF(E351=\"\",\"\",B308)","v":""},"GEN",44,{"$f":"IF(Comments!A47=\"\",\"\",CONCATENATE(Comments!A47,CHAR(10)))","v":""},0]
[null,{"$f":"IF(E352=\"\",\"\",B308)","v":""},"GEN",45,{"$f":"IF(Comments!A48=\"\",\"\",CONCATENATE(Comments!A48,CHAR(10)))","v":""},0]
[null,{"$f":"IF(E353=\"\",\"\",B308)","v":""},"GEN",46,{"$f":"IF(Comments!A49=\"\",\"\",CONCATENATE(Comments!A49,CHAR(10)))","v":""},0]
[null,{"$f":"IF(E354=\"\",\"\",B308)","v":""},"GEN",47,{"$f":"IF(Comments!A50=\"\",\"\",CONCATENATE(Comments!A50,CHAR(10)))","v":""},0]
[null,{"$f":"IF(E355=\"\",\"\",B308)","v":""},"GEN",48,{"$f":"IF(Comments!A51=\"\",\"\",CONCATENATE(Comments!A51,CHAR(10)))","v":""},0]
[null,{"$f":"IF(E356=\"\",\"\",B308)","v":""},"GEN",49,{"$f":"IF(Comments!A52=\"\",\"\",CONCATENATE(Comments!A52,CHAR(10)))","v":""},0]
[null,{"$f":"IF(E357=\"\",\"\",B308)","v":""},"GEN",50,{"$f":"IF(Comments!A53=\"\",\"\",CONCATENATE(Comments!A53,CHAR(10)))","v":""},0]

{"sheet":"t_smpl_tst","index":30,"n_rows":14,"n_cols":11,"rows_kept":14,"cut":false,"hidden":true,"merged":[]}
["Special Processing",null,null,null,null,"c",null,null,null,null,"d"]
["SM Table","t_smpl_tst","t_smpl_tst","t_smpl_tst","t_smpl_tst","t_smpl_tst","t_smpl_tst","t_smpl_tst","t_smpl_tst","t_smpl_tst","t_smpl_tst"]
["SM Column","smpl_id","tst_meth","smpl_tst_nbr","lab_id","chrg_amt","strt_dt","est_cmpl_dt","actl_cmpl_dt","last_modfd_uid","last_modfd_dt"]
["Logical Validation","No duplicates of key (highlighted in yellow);\n\nIF Sample ID \"blank\", THEN skip to next record","Existing on t_tst_fee_schd",null,"Existing on t_qualf_lab",null,null,"Must be >= Received Date (for the same row)","Must be >= Received Date AND Actual Start Date (for the same row)"]
["Comment","IF No Sample ID, Ignore Row.",null,null,"Lab ID","Not Used\nInitialized to 0","For QC samples, this is the Sublot Date recorded for each sublot.  \nFor QA samples, this is the Sublot Date for the corresponding QC sublot.","For QC samples, this is the Sublot Date recorded for each sublot.  \nFor QA samples, this is the Sublot Date for the corresponding QC sublot.",null,null,"Current system date"]
["Long Description","SiteManager \nSample ID ","Test Method","Test Number","SM Laboratory ID","Charge Amount","Received Date","Actual Start Date","Actual Completion Date","Last Modified User ID","Last Modified Date"]
["User Entry                                     XML Schema \nSheet Map                                   Column Name","smpl_id","tst_meth","smpl_tst_nbr","lab_id","chrg_amt","strt_dt","est_cmpl_dt","actl_cmpl_dt","last_modfd_uid","last_modfd_dt"]
["VI01",{"$f":"t_smpl!B8","v":""},"AMAMAW",1,{"$f":"'Pay Values'!I6","v":0},0,{"$f":"Superpave!I3","v":"00:00:00"},{"$f":"Superpave!I3","v":"00:00:00"},{"$f":"Superpave!I3","v":"00:00:00"},{"$f":"'Pay Values'!I9","v":"00:00:00"}]
["QC01",{"$f":"t_smpl!B9","v":""},"AMAMAW",1,{"$f":"'Pay Values'!I5","v":0},0,{"$f":"Superpave!I3","v":"00:00:00"},{"$f":"Superpave!I3","v":"00:00:00"},{"$f":"Superpave!I3","v":"00:00:00"},{"$f":"'Pay Values'!I9","v":"00:00:00"}]
[null,{"$f":"t_smpl!B10","v":""},"AMAMAW",1,{"$f":"'Pay Values'!I6","v":0},0,{"$f":"Superpave!I4","v":"00:00:00"},{"$f":"Superpave!I4","v":"00:00:00"},{"$f":"Superpave!I4","v":"00:00:00"},{"$f":"'Pay Values'!I9","v":"00:00:00"}]
[null,{"$f":"t_smpl!B11","v":""},"AMAMAW",1,{"$f":"'Pay Values'!I6","v":0},0,{"$f":"Superpave!I5","v":"00:00:00"},{"$f":"Superpave!I5","v":"00:00:00"},{"$f":"Superpave!I5","v":"00:00:00"},{"$f":"'Pay Values'!I9","v":"00:00:00"}]
["QC04",{"$f":"t_smpl!B12","v":""},"AMAMAW",1,{"$f":"'Pay Values'!I6","v":0},0,{"$f":"Superpave!I6","v":"00:00:00"},{"$f":"Superpave!I6","v":"00:00:00"},{"$f":"Superpave!I6","v":"00:00:00"},{"$f":"'Pay Values'!I9","v":"00:00:00"}]
["QA01",{"$f":"t_smpl!B13","v":""},"AMAMAW",1,{"$f":"IF(Calculations!M1,'Pay Values'!I6,'Pay Values'!I5)","v":0},0,{"$f":"INDIRECT(\"G\"&'Super Verify'!B5+8)","v":{"$error":"#VALUE!"}},{"$f":"INDIRECT(\"G\"&'Super Verify'!B5+8)","v":{"$error":"#VALUE!"}},{"$f":"INDIRECT(\"G\"&'Super Verify'!B5+8)","v":{"$error":"#VALUE!"}},{"$f":"'Pay Values'!I9","v":"00:00:00"}]
["IQ01",{"$f":"t_smpl!B14","v":""},"AMAMAW",1,{"$f":"IF(Calculations!M2,'Pay Values'!I6,'Pay Values'!I5)","v":0},0,{"$f":"INDIRECT(\"G\"&'Super Verify'!B12+8)","v":{"$error":"#VALUE!"}},{"$f":"INDIRECT(\"G\"&'Super Verify'!B12+8)","v":{"$error":"#VALUE!"}},{"$f":"INDIRECT(\"G\"&'Super Verify'!B12+8)","v":{"$error":"#VALUE!"}},{"$f":"'Pay Values'!I9","v":"00:00:00"}]

{"sheet":"t_smpl_tstr","index":31,"n_rows":14,"n_cols":7,"rows_kept":14,"cut":false,"hidden":true,"merged":[]}
["Special Processing",null,null,null,null,null,"d"]
["SM Table","t_smpl_tstr","t_smpl_tstr","t_smpl_tstr","t_smpl_tstr","t_smpl_tstr","t_smpl_tstr"]
["SM Column","smpl_id","tst_meth","smpl_tst_nbr","tst_id","last_modfd_uid","last_modfd_dt"]
["Logical Validation","No duplicates of key (highlighted in yellow);\n\nIF Sample ID \"blank\", THEN skip to next record",null,null,"Existing on t_matl_user \nAND  t_matl_user.tstr_ind='Y\"\nAND  active tester qualification of \"Superpave Plant Tech\" \nor \"Superpave Mix Design Tech\" \n           (  I.e., At least one row returned from:\n            SELECT * FROM t_tst_prsnl_qualfn\n            WHERE tst_id = tst_id\n            AND      tst_prsnlqualfn_t = \"ASPM\"\n            AND      qualfn_lev_t = \"SPLT\"\n            AND      exp_dt >= t_smpl_tst.strt_dt (same keys as current row)\n            AND      effdt     <= t_smpl_tst.strt_dt (same keys as current row)\n          For any row above, return at least one row:\n            SELECT * FROM t_tst_prsnqualftst\n            WHERE tst_id = tst_id\n            AND      tst_prsnlqualfn_t = t_tst_prsnl_qualfn.tst_prsnlqualfn_t\n            AND      qualfn_lev_t = t_tst_prsnl_qualfn.qualfn_lev_t\n            AND      effdt = t_tst_prsnl_qualfn.effdt\n            AND      tst_meth = t_smpl_tst.tst_meth   )\n-- OR --\n           (  I.e., At least one row returned from:\n            SELECT * FROM t_tst_prsnl_qualfn\n            WHERE tst_id = tst_id\n            AND      tst_prsnlqualfn_t = \"ASMD\"\n            AND      qualfn_lev_t = \"SMDT\"\n            AND      exp_dt <= t_smpl_tst.strt_dt (same keys as current row)\n            AND      effdt     >= t_smpl_tst.strt_dt (same keys as current row)\n          For any row above, return at least one row:\n            SELECT * FROM t_tst_prsnqualftst\n            WHERE tst_id = tst_id\n            AND      tst_prsnlqualfn_t = t_tst_prsnl_qualfn.tst_prsnlqualfn_t\n            AND      qualfn_lev_t = t_tst_prsnl_qualfn.qualfn_lev_t\n            AND      effdt = t_tst_prsnl_qualfn.effdt\n            AND      tst_meth = t_smpl_tst.tst_meth   )\n        ENDCASE"]
["Comment","IF No Sample ID, Ignore Row.",null,null,null,null,"Current system date"]
["Long Description","SiteManager \nSample ID","Test Method","Test Number","Tester ID","Last Modified User ID","Last Modified Date"]
["User Entry                                     XML Schema \nSheet Map                                   Column Name","smpl_id","tst_meth","smpl_tst_nbr","tst_id","last_modfd_uid","last_modfd_dt"]
["VI01",{"$f":"t_smpl!B8","v":""},"AMAMAW",1,{"$f":"Superpave!B6","v":""},{"$f":"'Pay Values'!I9","v":0}]
["QC01",{"$f":"t_smpl!B9","v":""},"AMAMAW",1,{"$f":"Superpave!B6","v":""},{"$f":"'Pay Values'!I9","v":0}]
[null,{"$f":"t_smpl!B10","v":""},"AMAMAW",1,{"$f":"Superpave!E6","v":""},{"$f":"'Pay Values'!I9","v":0}]
[null,{"$f":"t_smpl!B11","v":""},"AMAMAW",1,{"$f":"Superpave!B8","v":""},{"$f":"'Pay Values'!I9","v":0}]
["QC04",{"$f":"t_smpl!B12","v":""},"AMAMAW",1,{"$f":"Superpave!E8","v":""},{"$f":"'Pay Values'!I9","v":0}]
["QA01",{"$f":"t_smpl!B13","v":""},"AMAMAW",1,{"$f":"'Super Verify'!E5","v":0},{"$f":"'Pay Values'!I9","v":0}]
["IQ01",{"$f":"t_smpl!B14","v":""},"AMAMAW",1,{"$f":"'Super Verify'!E12","v":0},{"$f":"'Pay Values'!I9","v":0}]

{"sheet":"t_tst_rslt_hdr","index":32,"n_rows":14,"n_cols":8,"rows_kept":14,"cut":false,"hidden":true,"merged":[]}
["Special Processing",null,null,null,"c","c","d"]
["SM Table","t_tst_rslt_hdr","t_tst_rslt_hdr","t_tst_rslt_hdr","t_tst_rslt_hdr","t_tst_rslt_hdr","t_tst_rslt_hdr","t_tst_rslt_hdr"]
["SM Column","smpl_id","tst_meth","smpl_tst_nbr","rmrks_id","effdt","last_modfd_dt","last_modfd_uid"]
["Logical Validation","No duplicates of key (highlighted in yellow);\n\nIF Sample ID \"blank\", THEN skip to next record"]
["Comment","IF No Sample ID, Ignore Row.",null,null,"Not Used\nInitialized to \" \" (i.e., space)","Test Specification Date (Not used in this discipline)\nInitialized to null (0 on SM DB)","Current system date"]
["Long Description","Sample ID","Test Method","Test Number","Remarks ID","Effective Date","Last Modified Date","Last Modified User ID"]
["User Entry                                     XML Schema \nSheet Map                                   Column Name","smpl_id","tst_meth","smpl_tst_nbr","rmrks_id","effdt","last_modfd_dt","last_modfd_uid"]
["VI01",{"$f":"t_smpl!B8","v":""},"AMAMAW",1," ",null,null,{"$f":"'Pay Values'!I9","v":"00:00:00"}]
["QC01",{"$f":"t_smpl!B9","v":""},"AMAMAW",1," ",null,null,{"$f":"'Pay Values'!I9","v":"00:00:00"}]
[null,{"$f":"t_smpl!B10","v":""},"AMAMAW",1," ",null,null,{"$f":"'Pay Values'!I9","v":"00:00:00"}]
[null,{"$f":"t_smpl!B11","v":""},"AMAMAW",1," ",null,null,{"$f":"'Pay Values'!I9","v":"00:00:00"}]
["QC04",{"$f":"t_smpl!B12","v":""},"AMAMAW",1," ",null,null,{"$f":"'Pay Values'!I9","v":"00:00:00"}]
["QA01",{"$f":"t_smpl!B13","v":""},"AMAMAW",1," ",null,null,{"$f":"'Pay Values'!I9","v":"00:00:00"}]
["IQ01",{"$f":"t_smpl!B14","v":""},"AMAMAW",1," ",null,null,{"$f":"'Pay Values'!I9","v":"00:00:00"}]

{"sheet":"t_tst_rslt_dtl","index":33,"n_rows":917,"n_cols":11,"rows_kept":917,"cut":false,"hidden":true,"merged":[]}
["Special Processing",null,null,null,null,null,null,null,"d"]
["SM Table","t_tst_rslt_dtl","t_tst_rslt_dtl","t_tst_rslt_dtl","t_tst_rslt_dtl","t_tst_rslt_dtl","t_tst_rslt_dtl","t_tst_rslt_dtl","t_tst_rslt_dtl"]
["SM Column","smpl_id","tst_meth","smpl_tst_nbr","tst_fld_sn","tst_strg_fld_val","tst_numrc_fld_val","last_modfd_uid","last_modfd_dt"]
["Logical Validation","No duplicates of key (highlighted in yellow);\n\nIF Sample ID \"blank\", THEN skip to next record",null,null,null,"Type & Size   AND\nCHOOSE CASE tst_fld_sn\n      CASE 2 [Code Table check]\n            Existing on t_cd_tbl_dtl (cd_id)\n            AND t_cd_tbl_dtl.tbl_id='TEMPSTAT'\n      ENDCASE\n      CASE 11,12,13,14,15,16 (P/S Code)\n            Exists on t_prod_supp\n      ENDCASE\n      CASE 17,18,19,20,21,22 (P/S Material)\n            NOTE: Cannot do edit since no Matl Code\n      ENDCASE","Type & Size   AND\nCHOOSE CASE tst_fld_sn\n      CASE 36 (DATE)\n            Format on SM as MMDDYYYY\n      ENDCASE\n      CASE 37 (TIME)\n            Format on SM as HHMM (24-Hr)\n      ENDCASE"]
["Comment","IF No Sample ID, Ignore Row.",null,null,null,"IF Not Used,\nInitialize to \" \" \n(i.e., space)","IF Not Used\nInitialize to 0",null,"Current system date",null,"COMMENT COLUMN\n|\n|\nV"]
["Long Description","Sample ID","Test Method","Test Number","Test Field Sequence Number","Test Field String Value","Test Field Numeric Value","Last Modified User ID","Last Modified Date"]
["User Entry                                     XML Schema \nSheet Map                                   Column Name","smpl_id","tst_meth","smpl_tst_nbr","tst_fld_sn","tst_strg_fld_val","tst_numrc_fld_val","last_modfd_uid","last_modfd_dt"]
["VI01 - Comment  (NOT CURRENTLY USED)",{"$f":"t_smpl!B8","v":""},"AMAMAW",1,1," ",0,{"$f":"'Pay Values'!I9","v":0}]
["VI01 - Template Status (TEMPSTAT)",{"$f":"B8","v":""},"AMAMAW",1,2,{"$f":"IF(t_smpl!Z8=\"COMP\",\"ISPC\",\"OSPC\")","v":"ISPC"},0,{"$f":"H8","v":0}]
["VI01 - GenericString2  (NOT CURRENTLY USED)","","AMAMAW",1,3," ",0,0]
["VI01 - GenericNum1  (NOT CURRENTLY USED)","","AMAMAW",1,4," ",0,0]
["VI01 - GenericNum2  (NOT CURRENTLY USED)","","AMAMAW",1,5," ",0,0]
["VI01 - GenericNum3  (NOT CURRENTLY USED)","","AMAMAW",1,6," ",0,0]
["VI01 - GenericNum4  (NOT CURRENTLY USED)","","AMAMAW",1,7," ",0,0]
["VI01 - County","","AMAMAW",1,8,{"$f":"'Pay Values'!I3","v":0},0,0]
["VI01 - LABEL: Sublot Aggregate Data",{"$f":"B15","v":""},"AMAMAW",1,9," ",0,0]
["VI01 - Gsb =","","AMAMAW",1,10," ",{"$f":"Superpave!R9","v":""},0]
["VI01 - Aggr. Pro. Codes","","AMAMAW",1,11,{"$f":"Superpave!N3","v":""},0,0]
["VI01 - Aggr. Pro. Codes #2","","AMAMAW",1,12,{"$f":"Superpave!N4","v":""},0,0]
["VI01 - Aggr. Pro. Codes #3","","AMAMAW",1,13,{"$f":"Superpave!N5","v":""},0,0]
["VI01 - Aggr. Pro. Codes #4","","AMAMAW",1,14,{"$f":"Superpave!N6","v":""},0,0]
["VI01 - Aggr. Pro. Codes #5","","AMAMAW",1,15,{"$f":"Superpave!N7","v":""},0,0]
["VI01 - Aggr. Pro. Codes #6","","AMAMAW",1,16,{"$f":"Superpave!N8","v":""},0,0]
["VI01 - Type & Size","","AMAMAW",1,17,{"$f":"Superpave!O3","v":""},0,0]
["VI01 - Type & Size #2","","AMAMAW",1,18,{"$f":"Superpave!O4","v":""},0,0]
["VI01 - Type & Size #3","","AMAMAW",1,19,{"$f":"Superpave!O5","v":""},0,0]
["VI01 - Type & Size #4","","AMAMAW",1,20,{"$f":"Superpave!O6","v":""},0,0]
["VI01 - Type & Size #5","","AMAMAW",1,21,{"$f":"Superpave!O7","v":""},0,0]
["VI01 - Type & Size #6","","AMAMAW",1,22,{"$f":"Superpave!O8","v":""},0,0]
["VI01 - %","","AMAMAW",1,23," ",{"$f":"Superpave!R3","v":0},0]
["VI01 - % #2","","AMAMAW",1,24," ",{"$f":"Superpave!R4","v":0},0]
["VI01 - % #3","","AMAMAW",1,25," ",{"$f":"Superpave!R5","v":0},0]
["VI01 - % #4","","AMAMAW",1,26," ",{"$f":"Superpave!R6","v":0},0]
["VI01 - % #5","","AMAMAW",1,27," ",{"$f":"Superpave!R7","v":0},0]
["VI01 - % #6","","AMAMAW",1,28," ",{"$f":"Superpave!R8","v":0},0]
["VI01 - B.O.D. Sp. Gravity","","AMAMAW",1,29," ",{"$f":"Superpave!Q3","v":0},0]
["VI01 - B.O.D. Sp. Gravity #2","","AMAMAW",1,30," ",{"$f":"Superpave!Q4","v":0},0]
["VI01 - B.O.D. Sp. Gravity #3","","AMAMAW",1,31," ",{"$f":"Superpave!Q5","v":0},0]
["VI01 - B.O.D. Sp. Gravity #4","","AMAMAW",1,32," ",{"$f":"Superpave!Q6","v":0},0]
["VI01 - B.O.D. Sp. Gravity #5","","AMAMAW",1,33," ",{"$f":"Superpave!Q7","v":0},0]
["VI01 - B.O.D. Sp. Gravity #6","","AMAMAW",1,34," ",{"$f":"Superpave!Q8","v":0},0]
["VI01 - LABEL: Sample Info","","AMAMAW",1,35," ",0,0]
["VI01 - Date","","AMAMAW",1,36," ",{"$f":"Superpave!I3","v":"00:00:00"},0]
["VI01 - Time ","","AMAMAW",1,37," ",{"$f":"Superpave!J3","v":"00:00:00"},0]
["VI01 - Truck #","","AMAMAW",1,38,{"$f":"Superpave!K3","v":0},0,0]
["VI01 - Tons","","AMAMAW",1,39," ",{"$f":"Superpave!L3","v":0},0]
["VI01 - LABEL: Volumetric Results","","AMAMAW",1,40," ",0,0]
["VI01 - Acceptance Method","","AMAMAW",1,41,{"$f":"Calculations!AU35","v":""},0,0]
["VI01 - % Binder in Mix","","AMAMAW",1,42," ",{"$f":"Superpave!B14","v":""},0]
["VI01 - Unit Weight","","AMAMAW",1,43," ",{"$f":"Superpave!H14","v":""},0]
["VI01 - Max. Sp. Gravity","","AMAMAW",1,44," ",{"$f":"Superpave!I14","v":""},0]
["VI01 - Air Voids","","AMAMAW",1,45," ",{"$f":"Superpave!J14","v":""},0]
["VI01 - % Eff. Binder","","AMAMAW",1,46," ",{"$f":"Superpave!L14","v":""},0]
["VI01 - VMA","","AMAMAW",1,47," ",{"$f":"Superpave!M14","v":""},0]
["VI01 - VFA","","AMAMAW",1,48," ",{"$f":"Superpave!N14","v":""},0]
["VI01 - D/A Ratio","","AMAMAW",1,49," ",{"$f":"Superpave!O14","v":""},0]
["VI01 - Hand Mixed % Binder ","","AMAMAW",1,50," ",{"$f":"Superpave!N43","v":0},0]
["VI01 - H. M. Max. Sp. Gravity","","AMAMAW",1,51," ",{"$f":"Superpave!N42","v":""},0]
["VI01 - LABEL: Gradation Test Results % Passing","","AMAMAW",1,52," ",0,0]
["VI01 - 2 \"","","AMAMAW",1,53," ",{"$f":"Gradation!D10","v":""},0]
["VI01 - 1 1/2 \"","","AMAMAW",1,54," ",{"$f":"Gradation!D11","v":""},0]
["VI01 - 1 \"","","AMAMAW",1,55," ",{"$f":"Gradation!D12","v":""},0]
["VI01 - 3/4 \"","","AMAMAW",1,56," ",{"$f":"Gradation!D13","v":""},0]
["VI01 - 1/2 \"","","AMAMAW",1,57," ",{"$f":"Gradation!D14","v":""},0]
["VI01 - 3/8 \"","","AMAMAW",1,58," ",{"$f":"Gradation!D15","v":""},0]
["VI01 - 1/4 \"","","AMAMAW",1,59," ",{"$f":"Gradation!D16","v":""},0]
["VI01 - # 4","","AMAMAW",1,60," ",{"$f":"Gradation!D17","v":""},0]
["VI01 - # 8","","AMAMAW",1,61," ",{"$f":"Gradation!D18","v":""},0]
["VI01 - # 16","","AMAMAW",1,62," ",{"$f":"Gradation!D19","v":""},0]
["VI01 - # 30","","AMAMAW",1,63," ",{"$f":"Gradation!D20","v":""},0]
["VI01 - # 50","","AMAMAW",1,64," ",{"$f":"Gradation!D21","v":""},0]
["VI01 - # 100","","AMAMAW",1,65," ",{"$f":"Gradation!D22","v":""},0]
["VI01 - # 200","","AMAMAW",1,66," ",{"$f":"Gradation!D23","v":""},{"$f":"H72","v":0}]
["VI01 - LABEL: Core Data","","AMAMAW",1,67," ",0,0]
["VI01 - Core #","","AMAMAW",1,68,{"$f":"Cores!A10","v":"0-1-A"},0,0]
["VI01 - Core #2","","AMAMAW",1,69,{"$f":"Cores!A11","v":"0-1-B"},0,0]
["VI01 - Core #3","","AMAMAW",1,70,{"$f":"Cores!A12","v":"0-1-C"},0,0]
["VI01 - Core #4","","AMAMAW",1,71,{"$f":"Cores!A13","v":"0-1-D"},0,0]
["VI01 - Core #5","","AMAMAW",1,72,{"$f":"Cores!A33","v":"0-1-J1"},0,0]
["VI01 - Core #6",{"$f":"B79","v":""},"AMAMAW",1,73,{"$f":"Cores!A34","v":"0-1-J2"},0,0]
["VI01 - Sta,# / Offset","","AMAMAW",1,74,{"$f":"Cores!B10","v":0},0,0]
["VI01 - Sta,# / Offset #2","","AMAMAW",1,75,{"$f":"Cores!B11","v":0},0,0]
["VI01 - Sta,# / Offset #3","","AMAMAW",1,76,{"$f":"Cores!B12","v":0},0,0]
["VI01 - Sta,# / Offset #4","","AMAMAW",1,77,{"$f":"Cores!B13","v":0},0,0]
["VI01 - Sta,# / Offset #5","","AMAMAW",1,78,{"$f":"Cores!B33","v":0},0,0]
["VI01 - Sta,# / Offset #6","","AMAMAW",1,79,{"$f":"Cores!B34","v":0},0,0]
["VI01 - Core Density","","AMAMAW",1,80," ",{"$f":"Cores!H10","v":""},0]
["VI01 - Core Density #2","","AMAMAW",1,81," ",{"$f":"Cores!H11","v":""},0]
["VI01 - Core Density #3","","AMAMAW",1,82," ",{"$f":"Cores!H12","v":""},0]
["VI01 - Core Density #4","","AMAMAW",1,83," ",{"$f":"Cores!H13","v":""},0]
["VI01 - Core Density #5","","AMAMAW",1,84," ",{"$f":"Cores!H33","v":""},0]
["VI01 - Core Density #6","","AMAMAW",1,85," ",{"$f":"Cores!H34","v":""},0]
["VI01 - % Sol. Den.","","AMAMAW",1,86," ",{"$f":"Cores!I10","v":""},0]
["VI01 - % Sol. Den. #2","","AMAMAW",1,87," ",{"$f":"Cores!I11","v":""},0]
["VI01 - % Sol. Den. #3","","AMAMAW",1,88," ",{"$f":"Cores!I12","v":""},0]
["VI01 - % Sol. Den. #4","","AMAMAW",1,89," ",{"$f":"Cores!I13","v":""},0]
["VI01 - % Sol. Den. #5","","AMAMAW",1,90," ",{"$f":"Cores!I33","v":""},0]
["VI01 - % Sol. Den. #6",{"$f":"B97","v":""},"AMAMAW",1,91," ",{"$f":"Cores!I34","v":""},{"$f":"H97","v":0}]
["VI01 - ESAL Class",{"$f":"B98","v":""},"AMAMAW",1,"92",null,{"$f":"Calculations!$D$15","v":0},{"$f":"H98","v":0}]
["VI01 - Acceptance Method",{"$f":"B99","v":""},"AMAMAW",1,"93",{"$f":"Calculations!H20","v":0},null,{"$f":"H99","v":0}]
["VI01 - Density Option","","AMAMAW",1,"94",{"$f":"IF(Calculations!H12=1,\"A\",IF(Calculations!H12=2,\"B\",\" \"))","v":" "},null,0]
["VI01 - JMF %AC","","AMAMAW",1,"95",null,{"$f":"'Pay Values'!A13","v":0},0]
["VI01 - AC Pay Value","","AMAMAW",1,"96",null,{"$f":"'Pay Values'!D13","v":""},0]
["VI01 - Target %AV","","AMAMAW",1,"97",null,{"$f":"'Pay Values'!E13","v":""},0]
["VI01 - AV Pay Value","","AMAMAW",1,"98",null,{"$f":"'Pay Values'!G13","v":""},0]
["VI01 - Min. %VMA","","AMAMAW",1,"99",null,{"$f":"'Pay Values'!H13","v":0},0]
["VI01 - VMA Pay Value","","AMAMAW",1,"100",null,{"$f":"'Pay Values'!K13","v":""},0]
["VI01 - JD Pay Value","","AMAMAW",1,"101",null,{"$f":"'Pay Values'!B21","v":""},0]
["VI01 - LD Pay Value","","AMAMAW",1,"102",null,{"$f":"'Pay Values'!B22","v":""},0]
["VI01 - Pavement Wedge Tons","","AMAMAW",1,"103",null,{"$f":"ROUND('Pay Values'!J20,2)","v":0},0]
["VI01 - Final Pay Value Mainline","","AMAMAW",1,"104",null,{"$f":"'Pay Values'!J21","v":""},0]
["VI01 - Lot Pay Adjustment","","AMAMAW",1,"105",null,{"$f":"'Pay Values'!J24","v":""},0]
["VI01 - Gradation Target JMF","","AMAMAW",1,"106",{"$f":"'Pay Values'!B37","v":""},null,0]
["VI01 - Gradation Test Result","","AMAMAW",1,"107",{"$f":"'Pay Values'!C37","v":""},null,0]
["VI01 - Gradation Pay Value","","AMAMAW",1,"108",null,{"$f":"'Pay Values'!E37","v":""},0]
["VI01 - PG Binder Lot Number","","AMAMAW",1,"109",{"$f":"'Pay Values'!B43","v":0},null,0]
["VI01 - Tack Oil Lot Number","","AMAMAW",1,"110",{"$f":"'Pay Values'!B44","v":0},null,0]
["VI01 - PG Binder Grade","","AMAMAW",1,"111",{"$f":"VLOOKUP(Calculations!$D$147,Calculations!$A$147:$B$161,2,FALSE)","v":{"$error":"#N/A"}},null,0]
["VI01 - PG Binder Producer","","AMAMAW",1,"112",{"$f":"'Pay Values'!B46","v":""},null,0]
["VI01 - % and Type of Additive","","AMAMAW",1,"113",{"$f":"'Pay Values'!C46","v":0},null,0]
["VI01 - First Sublot Verified Same Equipment","","AMAMAW",1,"114",{"$f":"IF(Calculations!O1=1,\"Yes\", \"No\")","v":"No"},null,0]
["VI01 - Second Sublot Verified Same Equipment","","AMAMAW",1,"115",{"$f":"IF(Calculations!O2=1,\"Yes\", \"No\")","v":"No"},null,0]
["VI01 - JMF-2 \"","","AMAMAW",1,"116",null,{"$f":"Gradation!$N$10","v":0},0]
["VI01 - JMF-1 1/2 \"","","AMAMAW",1,"117",null,{"$f":"Gradation!$N$11","v":0},0]
["VI01 - JMF-1 \"","","AMAMAW",1,"118",null,{"$f":"Gradation!$N$12","v":0},0]
["VI01 - JMF-3/4 \"","","AMAMAW",1,"119",null,{"$f":"Gradation!$N$13","v":0},0]
["VI01 - JMF-1/2 \"","","AMAMAW",1,"120",null,{"$f":"Gradation!$N$14","v":0},0]
["VI01 - JMF-3/8 \"","","AMAMAW",1,"121",null,{"$f":"Gradation!$N$15","v":0},0]
["VI01 - JMF-1/4 \"","","AMAMAW",1,"122",null,{"$f":"Gradation!$N$16","v":0},0]
["VI01 - JMF-# 4","","AMAMAW",1,"123",null,{"$f":"Gradation!$N$17","v":0},0]
["VI01 - JMF-# 8","","AMAMAW",1,"124",null,{"$f":"Gradation!$N$18","v":0},0]
["VI01 - JMF-# 16","","AMAMAW",1,"125",null,{"$f":"Gradation!$N$19","v":0},0]
["VI01 - JMF-# 30","","AMAMAW",1,"126",null,{"$f":"Gradation!$N$20","v":0},0]
["VI01 - JMF-# 50","","AMAMAW",1,"127",null,{"$f":"Gradation!$N$21","v":0},0]
["VI01 - JMF-# 100","","AMAMAW",1,"128",null,{"$f":"Gradation!$N$22","v":0},0]
["VI01 - JMF-# 200","","AMAMAW",1,"129",null,{"$f":"Gradation!$N$23","v":0},0]
["VI01 - Test Charges",{"$f":"B98","v":""},"AMAMAW",1,"253"," ",0,{"$f":"H122","v":0},null,null,"Only used on QC01"]
["QC01 - Comment  (NOT CURRENTLY USED)",{"$f":"t_smpl!B9","v":""},"AMAMAW",1,1," ",0,0]
["QC01 - Template Status (TEMPSTAT)",{"$f":"B138","v":""},"AMAMAW",1,2,{"$f":"IF(t_smpl!Z9=\"COMP\",\"ISPC\",\"OSPC\")","v":"ISPC"},0,0]
["QC01 - GenericString2  (NOT CURRENTLY USED)","","AMAMAW",1,3," ",0,0]
["QC01 - GenericNum1  (NOT CURRENTLY USED)","","AMAMAW",1,4," ",0,0]
["QC01 - GenericNum2  (NOT CURRENTLY USED)","","AMAMAW",1,5," ",0,0]
["QC01 - GenericNum3  (NOT CURRENTLY USED)","","AMAMAW",1,6," ",0,0]
["QC01 - GenericNum4  (NOT CURRENTLY USED)","","AMAMAW",1,7," ",0,0]
["QC01 - County","","AMAMAW",1,8,{"$f":"'Pay Values'!I3","v":0},0,0]
["QC01 - LABEL: Sublot Aggregate Data",{"$f":"B145","v":""},"AMAMAW",1,9," ",0,0]
["QC01 - Gsb =","","AMAMAW",1,10," ",{"$f":"Superpave!R9","v":""},0]
["QC01 - Aggr. Pro. Codes","","AMAMAW",1,11,{"$f":"Superpave!N3","v":""},0,0]
["QC01 - Aggr. Pro. Codes #2","","AMAMAW",1,12,{"$f":"Superpave!N4","v":""},0,0]
["QC01 - Aggr. Pro. Codes #3","","AMAMAW",1,13,{"$f":"Superpave!N5","v":""},0,0]
["QC01 - Aggr. Pro. Codes #4","","AMAMAW",1,14,{"$f":"Superpave!N6","v":""},0,0]
["QC01 - Aggr. Pro. Codes #5","","AMAMAW",1,15,{"$f":"Superpave!N7","v":""},0,0]
["QC01 - Aggr. Pro. Codes #6","","AMAMAW",1,16,{"$f":"Superpave!N8","v":""},0,0]
["QC01 - Type & Size","","AMAMAW",1,17,{"$f":"Superpave!O3","v":""},0,0]
["QC01 - Type & Size #2","","AMAMAW",1,18,{"$f":"Superpave!O4","v":""},0,0]
["QC01 - Type & Size #3","","AMAMAW",1,19,{"$f":"Superpave!O5","v":""},0,0]
["QC01 - Type & Size #4","","AMAMAW",1,20,{"$f":"Superpave!O6","v":""},0,0]
["QC01 - Type & Size #5","","AMAMAW",1,21,{"$f":"Superpave!O7","v":""},0,0]
["QC01 - Type & Size #6","","AMAMAW",1,22,{"$f":"Superpave!O8","v":""},0,0]
["QC01 - %","","AMAMAW",1,23," ",{"$f":"Superpave!R3","v":0},0]
["QC01 - % #2","","AMAMAW",1,24," ",{"$f":"Superpave!R4","v":0},0]
["QC01 - % #3","","AMAMAW",1,25," ",{"$f":"Superpave!R5","v":0},0]
["QC01 - % #4","","AMAMAW",1,26," ",{"$f":"Superpave!R6","v":0},0]
["QC01 - % #5","","AMAMAW",1,27," ",{"$f":"Superpave!R7","v":0},0]
["QC01 - % #6","","AMAMAW",1,28," ",{"$f":"Superpave!R8","v":0},0]
["QC01 - B.O.D. Sp. Gravity","","AMAMAW",1,29," ",{"$f":"Superpave!Q3","v":0},0]
["QC01 - B.O.D. Sp. Gravity #2","","AMAMAW",1,30," ",{"$f":"Superpave!Q4","v":0},0]
["QC01 - B.O.D. Sp. Gravity #3","","AMAMAW",1,31," ",{"$f":"Superpave!Q5","v":0},0]
["QC01 - B.O.D. Sp. Gravity #4","","AMAMAW",1,32," ",{"$f":"Superpave!Q6","v":0},0]
["QC01 - B.O.D. Sp. Gravity #5","","AMAMAW",1,33," ",{"$f":"Superpave!Q7","v":0},0]
["QC01 - B.O.D. Sp. Gravity #6","","AMAMAW",1,34," ",{"$f":"Superpave!Q8","v":0},0]
["QC01 - LABEL: Sample Info","","AMAMAW",1,35," ",0,0]
["QC01 - Date","","AMAMAW",1,36," ",{"$f":"Superpave!I3","v":"00:00:00"},0]
["QC01 - Time ","","AMAMAW",1,37," ",{"$f":"Superpave!J3","v":"00:00:00"},0]
["QC01 - Truck #","","AMAMAW",1,38,{"$f":"Superpave!K3","v":0},0,{"$f":"H174","v":0}]
["QC01 - Tons","","AMAMAW",1,39," ",{"$f":"Superpave!L3","v":0},0]
["QC01 - LABEL: Volumetric Results","","AMAMAW",1,40," ",0,0]
["QC01 - Acceptance Method","","AMAMAW",1,41,{"$f":"Calculations!AU35","v":""},0,0]
["QC01 - % Binder in Mix","","AMAMAW",1,42," ",{"$f":"Superpave!B14","v":""},0]
["QC01 - Unit Weight","","AMAMAW",1,43," ",{"$f":"Superpave!H14","v":""},0]
["QC01 - Max. Sp. Gravity","","AMAMAW",1,44," ",{"$f":"Superpave!I14","v":""},0]
["QC01 - Air Voids","","AMAMAW",1,45," ",{"$f":"Superpave!J14","v":""},0]
["QC01 - % Eff. Binder","","AMAMAW",1,46," ",{"$f":"Superpave!L14","v":""},0]
["QC01 - VMA","","AMAMAW",1,47," ",{"$f":"Superpave!M14","v":""},0]
["QC01 - VFA","","AMAMAW",1,48," ",{"$f":"Superpave!N14","v":""},0]
["QC01 - D/A Ratio","","AMAMAW",1,49," ",{"$f":"Superpave!O14","v":""},0]
["QC01 - Hand Mixed % Binder ","","AMAMAW",1,50," ",{"$f":"Superpave!N43","v":0},0]
["QC01 - H. M. Max. Sp. Gravity","","AMAMAW",1,51," ",{"$f":"Superpave!N42","v":""},0]
["QC01 - LABEL: Gradation Test Results % Passing","","AMAMAW",1,52," ",0,0]
["QC01 - 2 \"","","AMAMAW",1,53," ",{"$f":"Gradation!D10","v":""},0]
["QC01 - 1 1/2 \"","","AMAMAW",1,54," ",{"$f":"Gradation!D11","v":""},0]
["QC01 - 1 \"","","AMAMAW",1,55," ",{"$f":"Gradation!D12","v":""},0]
["QC01 - 3/4 \"","","AMAMAW",1,56," ",{"$f":"Gradation!D13","v":""},0]
["QC01 - 1/2 \"","","AMAMAW",1,57," ",{"$f":"Gradation!D14","v":""},0]
["QC01 - 3/8 \"","","AMAMAW",1,58," ",{"$f":"Gradation!D15","v":""},0]
["QC01 - 1/4 \"","","AMAMAW",1,59," ",{"$f":"Gradation!D16","v":""},0]
["QC01 - # 4","","AMAMAW",1,60," ",{"$f":"Gradation!D17","v":""},0]
["QC01 - # 8","","AMAMAW",1,61," ",{"$f":"Gradation!D18","v":""},0]
["QC01 - # 16","","AMAMAW",1,62," ",{"$f":"Gradation!D19","v":""},0]
["QC01 - # 30","","AMAMAW",1,63," ",{"$f":"Gradation!D20","v":""},0]
["QC01 - # 50","","AMAMAW",1,64," ",{"$f":"Gradation!D21","v":""},0]
["QC01 - # 100","","AMAMAW",1,65," ",{"$f":"Gradation!D22","v":""},0]
["QC01 - # 200","","AMAMAW",1,66," ",{"$f":"Gradation!D23","v":""},0]
["QC01 - LABEL: Core Data","","AMAMAW",1,67," ",0,0]
["QC01 - Core #","","AMAMAW",1,68,{"$f":"Cores!A10","v":"0-1-A"},0,0]
["QC01 - Core #2","","AMAMAW",1,69,{"$f":"Cores!A11","v":"0-1-B"},0,0]
["QC01 - Core #3","","AMAMAW",1,70,{"$f":"Cores!A12","v":"0-1-C"},0,0]
["QC01 - Core #4","","AMAMAW",1,71,{"$f":"Cores!A13","v":"0-1-D"},0,0]
["QC01 - Core #5","","AMAMAW",1,72,{"$f":"Cores!A33","v":"0-1-J1"},0,0]
["QC01 - Core #6",{"$f":"B209","v":""},"AMAMAW",1,73,{"$f":"Cores!A34","v":"0-1-J2"},0,0]
["QC01 - Sta,# / Offset","","AMAMAW",1,74,{"$f":"Cores!B10","v":0},0,0]
["QC01 - Sta,# / Offset #2","","AMAMAW",1,75,{"$f":"Cores!B11","v":0},0,0]
["QC01 - Sta,# / Offset #3","","AMAMAW",1,76,{"$f":"Cores!B12","v":0},0,0]
["QC01 - Sta,# / Offset #4","","AMAMAW",1,77,{"$f":"Cores!B13","v":0},0,0]
["QC01 - Sta,# / Offset #5","","AMAMAW",1,78,{"$f":"Cores!B33","v":0},0,0]
["QC01 - Sta,# / Offset #6","","AMAMAW",1,79,{"$f":"Cores!B34","v":0},0,0]
["QC01 - Core Density","","AMAMAW",1,80," ",{"$f":"Cores!H10","v":""},0]
["QC01 - Core Density #2","","AMAMAW",1,81," ",{"$f":"Cores!H11","v":""},0]
["QC01 - Core Density #3","","AMAMAW",1,82," ",{"$f":"Cores!H12","v":""},0]
["QC01 - Core Density #4","","AMAMAW",1,83," ",{"$f":"Cores!H13","v":""},0]
["QC01 - Core Density #5","","AMAMAW",1,84," ",{"$f":"Cores!H33","v":""},0]
["QC01 - Core Density #6","","AMAMAW",1,85," ",{"$f":"Cores!H34","v":""},0]
["QC01 - % Sol. Den.","","AMAMAW",1,86," ",{"$f":"Cores!I10","v":""},0]
["QC01 - % Sol. Den. #2","","AMAMAW",1,87," ",{"$f":"Cores!I11","v":""},0]
["QC01 - % Sol. Den. #3","","AMAMAW",1,88," ",{"$f":"Cores!I12","v":""},0]
["QC01 - % Sol. Den. #4","","AMAMAW",1,89," ",{"$f":"Cores!I13","v":""},0]
["QC01 - % Sol. Den. #5","","AMAMAW",1,90," ",{"$f":"Cores!I33","v":""},0]
["QC01 - % Sol. Den. #6","","AMAMAW",1,91," ",{"$f":"Cores!I34","v":""},0]
["QC01 - ESAL Class",{"$f":"B228","v":""},"AMAMAW",1,"92",null,{"$f":"Calculations!$D$15","v":0},{"$f":"H228","v":0}]
["QC01 - Acceptance Method",{"$f":"B229","v":""},"AMAMAW",1,"93",{"$f":"Calculations!$H$20","v":0},null,{"$f":"H229","v":0}]
["QC01 - Density Option","","AMAMAW",1,"94",{"$f":"IF(Calculations!$H$12=1,\"A\",IF(Calculations!$H$12=2,\"B\",\" \"))","v":" "},null,0]
["QC01 - JMF %AC","","AMAMAW",1,"95",null,{"$f":"'Pay Values'!$A$13","v":0},0]
["QC01 - AC Pay Value","","AMAMAW",1,"96",null,{"$f":"'Pay Values'!$D$13","v":""},0]
["QC01 - Target %AV","","AMAMAW",1,"97",null,{"$f":"'Pay Values'!$E$13","v":""},0]
["QC01 - AV Pay Value","","AMAMAW",1,"98",null,{"$f":"'Pay Values'!$G$13","v":""},0]
["QC01 - Min. %VMA","","AMAMAW",1,"99",null,{"$f":"'Pay Values'!$H$13","v":0},0]
["QC01 - VMA Pay Value","","AMAMAW",1,"100",null,{"$f":"'Pay Values'!$K$13","v":""},0]
["QC01 - JD Pay Value","","AMAMAW",1,"101",null,{"$f":"'Pay Values'!$B$21","v":""},0]
["QC01 - LD Pay Value","","AMAMAW",1,"102",null,{"$f":"'Pay Values'!$B$22","v":""},0]
["QC01 - Pavement Wedge Tons","","AMAMAW",1,"103",null,{"$f":"ROUND('Pay Values'!$J$20,2)","v":0},0]
["QC01 - Final Pay Value Mainline","","AMAMAW",1,"104",null,{"$f":"'Pay Values'!$J$21","v":""},0]
["QC01 - Lot Pay Adjustment","","AMAMAW",1,"105",null,{"$f":"'Pay Values'!$J$24","v":""},0]
["QC01 - Gradation Target JMF","","AMAMAW",1,"106",{"$f":"'Pay Values'!$B$37","v":""},null,0]
["QC01 - Gradation Test Result","","AMAMAW",1,"107",{"$f":"'Pay Values'!$C$37","v":""},null,0]
["QC01 - Gradation Pay Value","","AMAMAW",1,"108",null,{"$f":"'Pay Values'!$E$37","v":""},0]
["QC01 - PG Binder Lot Number","","AMAMAW",1,"109",{"$f":"'Pay Values'!$B$43","v":0},null,0]
["QC01 - Tack Oil Lot Number","","AMAMAW",1,"110",{"$f":"'Pay Values'!$B$44","v":0},null,0]
["QC01 - PG Binder Grade","","AMAMAW",1,"111",{"$f":"VLOOKUP(Calculations!$D$147,Calculations!$A$147:$B$161,2,FALSE)","v":{"$error":"#N/A"}},null,0]
["QC01 - PG Binder Producer","","AMAMAW",1,"112",{"$f":"'Pay Values'!$B$46","v":""},null,0]
["QC01 - % and Type of Additive","","AMAMAW",1,"113",{"$f":"'Pay Values'!$C$46","v":0},null,0]
["QC01 - First Sublot Verified Same Equipment","","AMAMAW",1,"114",{"$f":"IF(Calculations!$O$1=1,\"Yes\", \"No\")","v":"No"},null,0]
["QC01 - Second Sublot Verified Same Equipment","","AMAMAW",1,"115",{"$f":"IF(Calculations!$O$2=1,\"Yes\", \"No\")","v":"No"},null,0]
["QC01 - JMF-2 \"","","AMAMAW",1,"116",null,{"$f":"Gradation!$N$10","v":0},0]
["QC01 - JMF-1 1/2 \"","","AMAMAW",1,"117",null,{"$f":"Gradation!$N$11","v":0},0]
["QC01 - JMF-1 \"","","AMAMAW",1,"118",null,{"$f":"Gradation!$N$12","v":0},0]
["QC01 - JMF-3/4 \"","","AMAMAW",1,"119",null,{"$f":"Gradation!$N$13","v":0},0]
["QC01 - JMF-1/2 \"","","AMAMAW",1,"120",null,{"$f":"Gradation!$N$14","v":0},0]
["QC01 - JMF-3/8 \"","","AMAMAW",1,"121",null,{"$f":"Gradation!$N$15","v":0},0]
["QC01 - JMF-1/4 \"","","AMAMAW",1,"122",null,{"$f":"Gradation!$N$16","v":0},0]
["QC01 - JMF-# 4","","AMAMAW",1,"123",null,{"$f":"Gradation!$N$17","v":0},0]
["QC01 - JMF-# 8","","AMAMAW",1,"124",null,{"$f":"Gradation!$N$18","v":0},0]
["QC01 - JMF-# 16","","AMAMAW",1,"125",null,{"$f":"Gradation!$N$19","v":0},0]
["QC01 - JMF-# 30","","AMAMAW",1,"126",null,{"$f":"Gradation!$N$20","v":0},0]
["QC01 - JMF-# 50","","AMAMAW",1,"127",null,{"$f":"Gradation!$N$21","v":0},0]
["QC01 - JMF-# 100","","AMAMAW",1,"128",null,{"$f":"Gradation!$N$22","v":0},0]
["QC01 - JMF-# 200","","AMAMAW",1,"129",null,{"$f":"Gradation!$N$23","v":0},0]
["QC01 - Test Charges",{"$f":"B228","v":""},"AMAMAW",1,"253"," ",{"$f":"Calculations!P84","v":0},{"$f":"H228","v":0},null,null,"Only used on QC01"]
["QC02 - Comment  (NOT CURRENTLY USED)",{"$f":"t_smpl!B10","v":""},"AMAMAW",1,1," ",0,0]
["QC02 - Template Status (TEMPSTAT)",{"$f":"B268","v":""},"AMAMAW",1,2,{"$f":"IF(t_smpl!Z10=\"COMP\",\"ISPC\",\"OSPC\")","v":"ISPC"},0,0]
["QC02 - GenericString2  (NOT CURRENTLY USED)","","AMAMAW",1,3," ",0,0]
["QC02 - GenericNum1  (NOT CURRENTLY USED)","","AMAMAW",1,4," ",0,0]
["QC02 - GenericNum2  (NOT CURRENTLY USED)","","AMAMAW",1,5," ",0,0]
["QC02 - GenericNum3  (NOT CURRENTLY USED)","","AMAMAW",1,6," ",0,0]
["QC02 - GenericNum4  (NOT CURRENTLY USED)","","AMAMAW",1,7," ",0,0]
["QC02 - County","","AMAMAW",1,8,{"$f":"'Pay Values'!I3","v":0},0,0]
["QC02 - LABEL: Sublot Aggregate Data",{"$f":"B275","v":""},"AMAMAW",1,9," ",0,0]
["QC02 - Gsb =","","AMAMAW",1,10," ",{"$f":"Superpave!S9","v":""},{"$f":"H276","v":0}]
["QC02 - Aggr. Pro. Codes","","AMAMAW",1,11,{"$f":"Superpave!N3","v":""},0,0]
["QC02 - Aggr. Pro. Codes #2","","AMAMAW",1,12,{"$f":"Superpave!N4","v":""},0,0]
["QC02 - Aggr. Pro. Codes #3","","AMAMAW",1,13,{"$f":"Superpave!N5","v":""},0,0]
["QC02 - Aggr. Pro. Codes #4","","AMAMAW",1,14,{"$f":"Superpave!N6","v":""},0,0]
["QC02 - Aggr. Pro. Codes #5","","AMAMAW",1,15,{"$f":"Superpave!N7","v":""},0,0]
["QC02 - Aggr. Pro. Codes #6","","AMAMAW",1,16,{"$f":"Superpave!N8","v":""},0,0]
["QC02 - Type & Size","","AMAMAW",1,17,{"$f":"Superpave!O3","v":""},0,0]
["QC02 - Type & Size #2","","AMAMAW",1,18,{"$f":"Superpave!O4","v":""},0,0]
["QC02 - Type & Size #3","","AMAMAW",1,19,{"$f":"Superpave!O5","v":""},0,0]
["QC02 - Type & Size #4","","AMAMAW",1,20,{"$f":"Superpave!O6","v":""},0,0]
["QC02 - Type & Size #5","","AMAMAW",1,21,{"$f":"Superpave!O7","v":""},0,0]
["QC02 - Type & Size #6","","AMAMAW",1,22,{"$f":"Superpave!O8","v":""},0,0]
["QC02 - %","","AMAMAW",1,23," ",{"$f":"Superpave!S3","v":0},0]
["QC02 - % #2","","AMAMAW",1,24," ",{"$f":"Superpave!S4","v":0},0]
["QC02 - % #3","","AMAMAW",1,25," ",{"$f":"Superpave!S5","v":0},0]
["QC02 - % #4","","AMAMAW",1,26," ",{"$f":"Superpave!S6","v":0},0]
["QC02 - % #5","","AMAMAW",1,27," ",{"$f":"Superpave!S7","v":0},0]
["QC02 - % #6","","AMAMAW",1,28," ",{"$f":"Superpave!S8","v":0},0]
["QC02 - B.O.D. Sp. Gravity","","AMAMAW",1,29," ",{"$f":"Superpave!Q3","v":0},0]
["QC02 - B.O.D. Sp. Gravity #2","","AMAMAW",1,30," ",{"$f":"Superpave!Q4","v":0},0]
["QC02 - B.O.D. Sp. Gravity #3","","AMAMAW",1,31," ",{"$f":"Superpave!Q5","v":0},0]
["QC02 - B.O.D. Sp. Gravity #4","","AMAMAW",1,32," ",{"$f":"Superpave!Q6","v":0},0]
["QC02 - B.O.D. Sp. Gravity #5","","AMAMAW",1,33," ",{"$f":"Superpave!Q7","v":0},0]
["QC02 - B.O.D. Sp. Gravity #6","","AMAMAW",1,34," ",{"$f":"Superpave!Q8","v":0},0]
["QC02 - LABEL: Sample Info","","AMAMAW",1,35," ",0,0]
["QC02 - Date","","AMAMAW",1,36," ",{"$f":"Superpave!I4","v":"00:00:00"},0]
["QC02 - Time ","","AMAMAW",1,37," ",{"$f":"Superpave!J4","v":"00:00:00"},0]
["QC02 - Truck #","","AMAMAW",1,38,{"$f":"Superpave!K4","v":0},0,0]
["QC02 - Tons","","AMAMAW",1,39," ",{"$f":"Superpave!L4","v":0},0]
["QC02 - LABEL: Volumetric Results","","AMAMAW",1,40," ",0,0]
["QC02 - Acceptance Method","","AMAMAW",1,41,{"$f":"Calculations!AU36","v":""},0,0]
["QC02 - % Binder in Mix","","AMAMAW",1,42," ",{"$f":"Superpave!B20","v":""},0]
["QC02 - Unit Weight","","AMAMAW",1,43," ",{"$f":"Superpave!H20","v":""},0]
["QC02 - Max. Sp. Gravity","","AMAMAW",1,44," ",{"$f":"Superpave!I20","v":""},0]
["QC02 - Air Voids","","AMAMAW",1,45," ",{"$f":"Superpave!J20","v":""},0]
["QC02 - % Eff. Binder","","AMAMAW",1,46," ",{"$f":"Superpave!L20","v":""},0]
["QC02 - VMA","","AMAMAW",1,47," ",{"$f":"Superpave!M20","v":""},0]
["QC02 - VFA","","AMAMAW",1,48," ",{"$f":"Superpave!N20","v":""},0]
["QC02 - D/A Ratio","","AMAMAW",1,49," ",{"$f":"Superpave!O20","v":""},0]
["QC02 - Hand Mixed % Binder ","","AMAMAW",1,50," ",{"$f":"Superpave!N43","v":0},0]
["QC02 - H. M. Max. Sp. Gravity","","AMAMAW",1,51," ",{"$f":"Superpave!N42","v":""},0]
["QC02 - LABEL: Gradation Test Results % Passing","","AMAMAW",1,52," ",0,0]
["QC02 - 2 \"","","AMAMAW",1,53," ",{"$f":"Gradation!G10","v":""},0]
["QC02 - 1 1/2 \"","","AMAMAW",1,54," ",{"$f":"Gradation!G11","v":""},0]
["QC02 - 1 \"","","AMAMAW",1,55," ",{"$f":"Gradation!G12","v":""},0]
["QC02 - 3/4 \"","","AMAMAW",1,56," ",{"$f":"Gradation!G13","v":""},0]
["QC02 - 1/2 \"","","AMAMAW",1,57," ",{"$f":"Gradation!G14","v":""},0]
["QC02 - 3/8 \"","","AMAMAW",1,58," ",{"$f":"Gradation!G15","v":""},0]
["QC02 - 1/4 \"","","AMAMAW",1,59," ",{"$f":"Gradation!G16","v":""},0]
["QC02 - # 4","","AMAMAW",1,60," ",{"$f":"Gradation!G17","v":""},0]
["QC02 - # 8","","AMAMAW",1,61," ",{"$f":"Gradation!G18","v":""},0]
["QC02 - # 16","","AMAMAW",1,62," ",{"$f":"Gradation!G19","v":""},0]
["QC02 - # 30","","AMAMAW",1,63," ",{"$f":"Gradation!G20","v":""},0]
["QC02 - # 50","","AMAMAW",1,64," ",{"$f":"Gradation!G21","v":""},0]
["QC02 - # 100","","AMAMAW",1,65," ",{"$f":"Gradation!G22","v":""},0]
["QC02 - # 200","","AMAMAW",1,66," ",{"$f":"Gradation!G23","v":""},0]
["QC02 - LABEL: Core Data","","AMAMAW",1,67," ",0,0]
["QC02 - Core #","","AMAMAW",1,68,{"$f":"Cores!A15","v":"0-2-A"},0,0]
["QC02 - Core #2","","AMAMAW",1,69,{"$f":"Cores!A16","v":"0-2-B"},0,0]
["QC02 - Core #3","","AMAMAW",1,70,{"$f":"Cores!A17","v":"0-2-C"},0,0]
["QC02 - Core #4","","AMAMAW",1,71,{"$f":"Cores!A18","v":"0-2-D"},0,0]
["QC02 - Core #5","","AMAMAW",1,72,{"$f":"Cores!A36","v":"0-2-J1"},0,0]
["QC02 - Core #6",{"$f":"B339","v":""},"AMAMAW",1,73,{"$f":"Cores!A37","v":"0-2-J2"},0,0]
["QC02 - Sta,# / Offset","","AMAMAW",1,74,{"$f":"Cores!B15","v":0},0,{"$f":"H340","v":0}]
["QC02 - Sta,# / Offset #2","","AMAMAW",1,75,{"$f":"Cores!B16","v":0},0,0]
["QC02 - Sta,# / Offset #3","","AMAMAW",1,76,{"$f":"Cores!B17","v":0},0,0]
["QC02 - Sta,# / Offset #4","","AMAMAW",1,77,{"$f":"Cores!B18","v":0},0,0]
["QC02 - Sta,# / Offset #5","","AMAMAW",1,78,{"$f":"Cores!B36","v":0},0,0]
["QC02 - Sta,# / Offset #6","","AMAMAW",1,79,{"$f":"Cores!B37","v":0},0,0]
["QC02 - Core Density","","AMAMAW",1,80," ",{"$f":"Cores!H15","v":""},0]
["QC02 - Core Density #2","","AMAMAW",1,81," ",{"$f":"Cores!H16","v":""},0]
["QC02 - Core Density #3","","AMAMAW",1,82," ",{"$f":"Cores!H17","v":""},0]
["QC02 - Core Density #4","","AMAMAW",1,83," ",{"$f":"Cores!H18","v":""},0]
["QC02 - Core Density #5","","AMAMAW",1,84," ",{"$f":"Cores!H36","v":""},0]
["QC02 - Core Density #6","","AMAMAW",1,85," ",{"$f":"Cores!H37","v":""},0]
["QC02 - % Sol. Den.","","AMAMAW",1,86," ",{"$f":"Cores!I15","v":""},0]
["QC02 - % Sol. Den. #2","","AMAMAW",1,87," ",{"$f":"Cores!I16","v":""},0]
["QC02 - % Sol. Den. #3","","AMAMAW",1,88," ",{"$f":"Cores!I17","v":""},0]
["QC02 - % Sol. Den. #4","","AMAMAW",1,89," ",{"$f":"Cores!I18","v":""},0]
["QC02 - % Sol. Den. #5","","AMAMAW",1,90," ",{"$f":"Cores!I36","v":""},0]
["QC02 - % Sol. Den. #6","","AMAMAW",1,91," ",{"$f":"Cores!I37","v":""},0]
["QC02 - ESAL Class",{"$f":"B358","v":""},"AMAMAW",1,"92",null,{"$f":"Calculations!$D$15","v":0},{"$f":"H358","v":0}]
["QC02 - Acceptance Method",{"$f":"B359","v":""},"AMAMAW",1,"93",{"$f":"Calculations!$H$20","v":0},null,{"$f":"H359","v":0}]
["QC02 - Density Option","","AMAMAW",1,"94",{"$f":"IF(Calculations!$H$12=1,\"A\",IF(Calculations!$H$12=2,\"B\",\" \"))","v":" "},null,0]
["QC02 - JMF %AC","","AMAMAW",1,"95",null,{"$f":"'Pay Values'!$A$14","v":0},0]
["QC02 - AC Pay Value","","AMAMAW",1,"96",null,{"$f":"'Pay Values'!$D$14","v":""},0]
["QC02 - Target %AV","","AMAMAW",1,"97",null,{"$f":"'Pay Values'!$E$14","v":""},0]
["QC02 - AV Pay Value","","AMAMAW",1,"98",null,{"$f":"'Pay Values'!$G$14","v":""},0]
["QC02 - Min. %VMA","","AMAMAW",1,"99",null,{"$f":"'Pay Values'!$H$14","v":0},0]
["QC02 - VMA Pay Value","","AMAMAW",1,"100",null,{"$f":"'Pay Values'!$K$14","v":""},0]
["QC02 - JD Pay Value","","AMAMAW",1,"101",null,{"$f":"'Pay Values'!$B$21","v":""},0]
["QC02 - LD Pay Value","","AMAMAW",1,"102",null,{"$f":"'Pay Values'!$B$22","v":""},0]
["QC02 - Pavement Wedge Tons","","AMAMAW",1,"103",null,{"$f":"ROUND('Pay Values'!$J$20,2)","v":0},0]
["QC02 - Final Pay Value Mainline","","AMAMAW",1,"104",null,{"$f":"'Pay Values'!$J$21","v":""},0]
["QC02 - Lot Pay Adjustment","","AMAMAW",1,"105",null,{"$f":"'Pay Values'!$J$24","v":""},0]
["QC02 - Gradation Target JMF","","AMAMAW",1,"106",{"$f":"'Pay Values'!$B$38","v":""},null,0]
["QC02 - Gradation Test Result","","AMAMAW",1,"107",{"$f":"'Pay Values'!$C$38","v":""},null,0]
["QC02 - Gradation Pay Value","","AMAMAW",1,"108",null,{"$f":"'Pay Values'!$E$38","v":""},0]
["QC02 - PG Binder Lot Number","","AMAMAW",1,"109",{"$f":"'Pay Values'!$C$43","v":0},null,0]
["QC02 - Tack Oil Lot Number","","AMAMAW",1,"110",{"$f":"'Pay Values'!$C$44","v":0},null,0]
["QC02 - PG Binder Grade","","AMAMAW",1,"111",{"$f":"VLOOKUP(Calculations!$D$147,Calculations!$A$147:$B$161,2,FALSE)","v":{"$error":"#N/A"}},null,0]
["QC02 - PG Binder Producer","","AMAMAW",1,"112",{"$f":"'Pay Values'!$B$46","v":""},null,0]
["QC02 - % and Type of Additive","","AMAMAW",1,"113",{"$f":"'Pay Values'!$C$46","v":0},null,0]
["QC02 - First Sublot Verified Same Equipment","","AMAMAW",1,"114",{"$f":"IF(Calculations!$O$1=1,\"Yes\", \"No\")","v":"No"},null,0]
["QC02 - Second Sublot Verified Same Equipment","","AMAMAW",1,"115",{"$f":"IF(Calculations!$O$2=1,\"Yes\", \"No\")","v":"No"},null,0]
["QC02 - JMF-2 \"","","AMAMAW",1,"116",null,{"$f":"Gradation!$N$10","v":0},0]
["QC02 - JMF-1 1/2 \"","","AMAMAW",1,"117",null,{"$f":"Gradation!$N$11","v":0},0]
["QC02 - JMF-1 \"","","AMAMAW",1,"118",null,{"$f":"Gradation!$N$12","v":0},0]
["QC02 - JMF-3/4 \"","","AMAMAW",1,"119",null,{"$f":"Gradation!$N$13","v":0},0]
["QC02 - JMF-1/2 \"","","AMAMAW",1,"120",null,{"$f":"Gradation!$N$14","v":0},0]
["QC02 - JMF-3/8 \"","","AMAMAW",1,"121",null,{"$f":"Gradation!$N$15","v":0},0]
["QC02 - JMF-1/4 \"","","AMAMAW",1,"122",null,{"$f":"Gradation!$N$16","v":0},0]
["QC02 - JMF-# 4","","AMAMAW",1,"123",null,{"$f":"Gradation!$N$17","v":0},0]
["QC02 - JMF-# 8","","AMAMAW",1,"124",null,{"$f":"Gradation!$N$18","v":0},0]
["QC02 - JMF-# 16","","AMAMAW",1,"125",null,{"$f":"Gradation!$N$19","v":0},0]
["QC02 - JMF-# 30","","AMAMAW",1,"126",null,{"$f":"Gradation!$N$20","v":0},0]
["QC02 - JMF-# 50","","AMAMAW",1,"127",null,{"$f":"Gradation!$N$21","v":0},0]
["QC02 - JMF-# 100","","AMAMAW",1,"128",null,{"$f":"Gradation!$N$22","v":0},0]
["QC02 - JMF-# 200","","AMAMAW",1,"129",null,{"$f":"Gradation!$N$23","v":0},0]
["QC02 - Test Charges",{"$f":"B358","v":""},"AMAMAW",1,"253"," ",0,{"$f":"H358","v":0},null,null,"Only used on QC01"]
["QC03 - Comment  (NOT CURRENTLY USED)",{"$f":"t_smpl!B11","v":""},"AMAMAW",1,1," ",0,0]
["QC03 - Template Status (TEMPSTAT)",{"$f":"B398","v":""},"AMAMAW",1,2,{"$f":"IF(t_smpl!Z11=\"COMP\",\"ISPC\",\"OSPC\")","v":"ISPC"},0,0]
["QC03 - GenericString2  (NOT CURRENTLY USED)","","AMAMAW",1,3," ",0,0]
["QC03 - GenericNum1  (NOT CURRENTLY USED)","","AMAMAW",1,4," ",0,0]
["QC03 - GenericNum2  (NOT CURRENTLY USED)","","AMAMAW",1,5," ",0,0]
["QC03 - GenericNum3  (NOT CURRENTLY USED)","","AMAMAW",1,6," ",0,0]
["QC03 - GenericNum4  (NOT CURRENTLY USED)","","AMAMAW",1,7," ",0,0]
["QC03 - County","","AMAMAW",1,8,{"$f":"'Pay Values'!I3","v":0},0,0]
["QC03 - LABEL: Sublot Aggregate Data",{"$f":"B405","v":""},"AMAMAW",1,9," ",0,0]
["QC03 - Gsb =","","AMAMAW",1,10," ",{"$f":"Superpave!T9","v":""},0]
["QC03 - Aggr. Pro. Codes","","AMAMAW",1,11,{"$f":"Superpave!N3","v":""},0,0]
["QC03 - Aggr. Pro. Codes #2","","AMAMAW",1,12,{"$f":"Superpave!N4","v":""},0,0]
["QC03 - Aggr. Pro. Codes #3","","AMAMAW",1,13,{"$f":"Superpave!N5","v":""},0,0]
["QC03 - Aggr. Pro. Codes #4","","AMAMAW",1,14,{"$f":"Superpave!N6","v":""},0,0]
["QC03 - Aggr. Pro. Codes #5","","AMAMAW",1,15,{"$f":"Superpave!N7","v":""},0,0]
["QC03 - Aggr. Pro. Codes #6","","AMAMAW",1,16,{"$f":"Superpave!N8","v":""},0,0]
["QC03 - Type & Size","","AMAMAW",1,17,{"$f":"Superpave!O3","v":""},0,0]
["QC03 - Type & Size #2","","AMAMAW",1,18,{"$f":"Superpave!O4","v":""},0,0]
["QC03 - Type & Size #3","","AMAMAW",1,19,{"$f":"Superpave!O5","v":""},0,0]
["QC03 - Type & Size #4","","AMAMAW",1,20,{"$f":"Superpave!O6","v":""},0,0]
["QC03 - Type & Size #5","","AMAMAW",1,21,{"$f":"Superpave!O7","v":""},0,0]
["QC03 - Type & Size #6","","AMAMAW",1,22,{"$f":"Superpave!O8","v":""},0,0]
["QC03 - %","","AMAMAW",1,23," ",{"$f":"Superpave!T3","v":0},0]
["QC03 - % #2","","AMAMAW",1,24," ",{"$f":"Superpave!T4","v":0},0]
["QC03 - % #3","","AMAMAW",1,25," ",{"$f":"Superpave!T5","v":0},0]
["QC03 - % #4","","AMAMAW",1,26," ",{"$f":"Superpave!T6","v":0},0]
["QC03 - % #5","","AMAMAW",1,27," ",{"$f":"Superpave!T7","v":0},0]
["QC03 - % #6","","AMAMAW",1,28," ",{"$f":"Superpave!T8","v":0},0]
["QC03 - B.O.D. Sp. Gravity","","AMAMAW",1,29," ",{"$f":"Superpave!Q3","v":0},0]
["QC03 - B.O.D. Sp. Gravity #2","","AMAMAW",1,30," ",{"$f":"Superpave!Q4","v":0},0]
["QC03 - B.O.D. Sp. Gravity #3","","AMAMAW",1,31," ",{"$f":"Superpave!Q5","v":0},0]
["QC03 - B.O.D. Sp. Gravity #4","","AMAMAW",1,32," ",{"$f":"Superpave!Q6","v":0},0]
["QC03 - B.O.D. Sp. Gravity #5","","AMAMAW",1,33," ",{"$f":"Superpave!Q7","v":0},0]
["QC03 - B.O.D. Sp. Gravity #6","","AMAMAW",1,34," ",{"$f":"Superpave!Q8","v":0},0]
["QC03 - LABEL: Sample Info","","AMAMAW",1,35," ",0,0]
["QC03 - Date","","AMAMAW",1,36," ",{"$f":"Superpave!I5","v":"00:00:00"},0]
["QC03 - Time ","","AMAMAW",1,37," ",{"$f":"Superpave!J5","v":"00:00:00"},0]
["QC03 - Truck #","","AMAMAW",1,38,{"$f":"Superpave!K5","v":0},0,0]
["QC03 - Tons","","AMAMAW",1,39," ",{"$f":"Superpave!L5","v":0},0]
["QC03 - LABEL: Volumetric Results","","AMAMAW",1,40," ",0,0]
["QC03 - Acceptance Method","","AMAMAW",1,41,{"$f":"Calculations!AU37","v":""},0,0]
["QC03 - % Binder in Mix","","AMAMAW",1,42," ",{"$f":"Superpave!B26","v":""},0]
["QC03 - Unit Weight","","AMAMAW",1,43," ",{"$f":"Superpave!H26","v":""},0]
["QC03 - Max. Sp. Gravity","","AMAMAW",1,44," ",{"$f":"Superpave!I26","v":""},0]
["QC03 - Air Voids","","AMAMAW",1,45," ",{"$f":"Superpave!J26","v":""},0]
["QC03 - % Eff. Binder","","AMAMAW",1,46," ",{"$f":"Superpave!L26","v":""},{"$f":"H442","v":0}]
["QC03 - VMA","","AMAMAW",1,47," ",{"$f":"Superpave!M26","v":""},0]
["QC03 - VFA","","AMAMAW",1,48," ",{"$f":"Superpave!N26","v":""},0]
["QC03 - D/A Ratio","","AMAMAW",1,49," ",{"$f":"Superpave!O26","v":""},0]
["QC03 - Hand Mixed % Binder ","","AMAMAW",1,50," ",{"$f":"Superpave!N43","v":0},0]
["QC03 - H. M. Max. Sp. Gravity","","AMAMAW",1,51," ",{"$f":"Superpave!N42","v":""},0]
["QC03 - LABEL: Gradation Test Results % Passing","","AMAMAW",1,52," ",0,0]
["QC03 - 2 \"","","AMAMAW",1,53," ",{"$f":"Gradation!J10","v":""},0]
["QC03 - 1 1/2 \"","","AMAMAW",1,54," ",{"$f":"Gradation!J11","v":""},0]
["QC03 - 1 \"","","AMAMAW",1,55," ",{"$f":"Gradation!J12","v":""},0]
["QC03 - 3/4 \"","","AMAMAW",1,56," ",{"$f":"Gradation!J13","v":""},0]
["QC03 - 1/2 \"","","AMAMAW",1,57," ",{"$f":"Gradation!J14","v":""},0]
["QC03 - 3/8 \"","","AMAMAW",1,58," ",{"$f":"Gradation!J15","v":""},0]
["QC03 - 1/4 \"","","AMAMAW",1,59," ",{"$f":"Gradation!J16","v":""},0]
["QC03 - # 4","","AMAMAW",1,60," ",{"$f":"Gradation!J17","v":""},0]
["QC03 - # 8","","AMAMAW",1,61," ",{"$f":"Gradation!J18","v":""},0]
["QC03 - # 16","","AMAMAW",1,62," ",{"$f":"Gradation!J19","v":""},0]
["QC03 - # 30","","AMAMAW",1,63," ",{"$f":"Gradation!J20","v":""},0]
["QC03 - # 50","","AMAMAW",1,64," ",{"$f":"Gradation!J21","v":""},0]
["QC03 - # 100","","AMAMAW",1,65," ",{"$f":"Gradation!J22","v":""},0]
["QC03 - # 200","","AMAMAW",1,66," ",{"$f":"Gradation!J23","v":""},0]
["QC03 - LABEL: Core Data","","AMAMAW",1,67," ",0,0]
["QC03 - Core #","","AMAMAW",1,68,{"$f":"Cores!A20","v":"0-3-A"},0,0]
["QC03 - Core #2","","AMAMAW",1,69,{"$f":"Cores!A21","v":"0-3-B"},0,0]
["QC03 - Core #3","","AMAMAW",1,70,{"$f":"Cores!A22","v":"0-3-C"},0,0]
["QC03 - Core #4","","AMAMAW",1,71,{"$f":"Cores!A23","v":"0-3-D"},0,0]
["QC03 - Core #5","","AMAMAW",1,72,{"$f":"Cores!A39","v":"0-3-J1"},0,0]
["QC03 - Core #6",{"$f":"B469","v":""},"AMAMAW",1,73,{"$f":"Cores!A40","v":"0-3-J2"},0,0]
["QC03 - Sta,# / Offset","","AMAMAW",1,74,{"$f":"Cores!B20","v":0},0,0]
["QC03 - Sta,# / Offset #2","","AMAMAW",1,75,{"$f":"Cores!B21","v":0},0,0]
["QC03 - Sta,# / Offset #3","","AMAMAW",1,76,{"$f":"Cores!B22","v":0},0,0]
["QC03 - Sta,# / Offset #4","","AMAMAW",1,77,{"$f":"Cores!B23","v":0},0,0]
["QC03 - Sta,# / Offset #5","","AMAMAW",1,78,{"$f":"Cores!B39","v":0},0,0]
["QC03 - Sta,# / Offset #6","","AMAMAW",1,79,{"$f":"Cores!B40","v":0},0,0]
["QC03 - Core Density","","AMAMAW",1,80," ",{"$f":"Cores!H20","v":""},0]
["QC03 - Core Density #2","","AMAMAW",1,81," ",{"$f":"Cores!H21","v":""},0]
["QC03 - Core Density #3","","AMAMAW",1,82," ",{"$f":"Cores!H22","v":""},0]
["QC03 - Core Density #4","","AMAMAW",1,83," ",{"$f":"Cores!H23","v":""},0]
["QC03 - Core Density #5","","AMAMAW",1,84," ",{"$f":"Cores!H39","v":""},0]
["QC03 - Core Density #6","","AMAMAW",1,85," ",{"$f":"Cores!H40","v":""},0]
["QC03 - % Sol. Den.","","AMAMAW",1,86," ",{"$f":"Cores!I20","v":""},0]
["QC03 - % Sol. Den. #2","","AMAMAW",1,87," ",{"$f":"Cores!I21","v":""},0]
["QC03 - % Sol. Den. #3","","AMAMAW",1,88," ",{"$f":"Cores!I22","v":""},0]
["QC03 - % Sol. Den. #4","","AMAMAW",1,89," ",{"$f":"Cores!I23","v":""},0]
["QC03 - % Sol. Den. #5","","AMAMAW",1,90," ",{"$f":"Cores!I39","v":""},0]
["QC03 - % Sol. Den. #6","","AMAMAW",1,91," ",{"$f":"Cores!I40","v":""},0]
["QC03 - ESAL Class",{"$f":"B488","v":""},"AMAMAW",1,"92",null,{"$f":"Calculations!$D$15","v":0},{"$f":"H488","v":0}]
["QC03 - Acceptance Method",{"$f":"B489","v":""},"AMAMAW",1,"93",{"$f":"Calculations!$H$20","v":0},null,{"$f":"H489","v":0}]
["QC03 - Density Option","","AMAMAW",1,"94",{"$f":"IF(Calculations!$H$12=1,\"A\",IF(Calculations!$H$12=2,\"B\",\" \"))","v":" "},null,0]
["QC03 - JMF %AC","","AMAMAW",1,"95",null,{"$f":"'Pay Values'!$A$15","v":0},0]
["QC03 - AC Pay Value","","AMAMAW",1,"96",null,{"$f":"'Pay Values'!$D$15","v":""},0]
["QC03 - Target %AV","","AMAMAW",1,"97",null,{"$f":"'Pay Values'!$E$15","v":""},0]
["QC03 - AV Pay Value","","AMAMAW",1,"98",null,{"$f":"'Pay Values'!$G$15","v":""},0]
["QC03 - Min. %VMA","","AMAMAW",1,"99",null,{"$f":"'Pay Values'!$H$15","v":0},0]
["QC03 - VMA Pay Value","","AMAMAW",1,"100",null,{"$f":"'Pay Values'!$K$15","v":""},0]
["QC03 - JD Pay Value","","AMAMAW",1,"101",null,{"$f":"'Pay Values'!$B$21","v":""},0]
["QC03 - LD Pay Value","","AMAMAW",1,"102",null,{"$f":"'Pay Values'!$B$22","v":""},0]
["QC03 - Pavement Wedge Tons","","AMAMAW",1,"103",null,{"$f":"ROUND('Pay Values'!$J$20,2)","v":0},0]
["QC03 - Final Pay Value Mainline","","AMAMAW",1,"104",null,{"$f":"'Pay Values'!$J$21","v":""},0]
["QC03 - Lot Pay Adjustment","","AMAMAW",1,"105",null,{"$f":"'Pay Values'!$J$24","v":""},0]
["QC03 - Gradation Target JMF","","AMAMAW",1,"106",{"$f":"'Pay Values'!$B$39","v":""},null,0]
["QC03 - Gradation Test Result","","AMAMAW",1,"107",{"$f":"'Pay Values'!$C$39","v":""},null,0]
["QC03 - Gradation Pay Value","","AMAMAW",1,"108",null,{"$f":"'Pay Values'!$E$39","v":""},0]
["QC03 - PG Binder Lot Number","","AMAMAW",1,"109",{"$f":"'Pay Values'!$D$43","v":0},null,0]
["QC03 - Tack Oil Lot Number","","AMAMAW",1,"110",{"$f":"'Pay Values'!$D$44","v":0},null,0]
["QC03 - PG Binder Grade","","AMAMAW",1,"111",{"$f":"VLOOKUP(Calculations!$D$147,Calculations!$A$147:$B$161,2,FALSE)","v":{"$error":"#N/A"}},null,0]
["QC03 - PG Binder Producer","","AMAMAW",1,"112",{"$f":"'Pay Values'!$B$46","v":""},null,0]
["QC03 - % and Type of Additive","","AMAMAW",1,"113",{"$f":"'Pay Values'!$C$46","v":0},null,0]
["QC03 - First Sublot Verified Same Equipment","","AMAMAW",1,"114",{"$f":"IF(Calculations!$O$1=1,\"Yes\", \"No\")","v":"No"},null,0]
["QC03 - Second Sublot Verified Same Equipment","","AMAMAW",1,"115",{"$f":"IF(Calculations!$O$2=1,\"Yes\", \"No\")","v":"No"},null,0]
["QC03 - JMF-2 \"","","AMAMAW",1,"116",null,{"$f":"Gradation!$N$10","v":0},0]
["QC03 - JMF-1 1/2 \"","","AMAMAW",1,"117",null,{"$f":"Gradation!$N$11","v":0},0]
["QC03 - JMF-1 \"","","AMAMAW",1,"118",null,{"$f":"Gradation!$N$12","v":0},0]
["QC03 - JMF-3/4 \"","","AMAMAW",1,"119",null,{"$f":"Gradation!$N$13","v":0},0]
["QC03 - JMF-1/2 \"","","AMAMAW",1,"120",null,{"$f":"Gradation!$N$14","v":0},0]
["QC03 - JMF-3/8 \"","","AMAMAW",1,"121",null,{"$f":"Gradation!$N$15","v":0},0]
["QC03 - JMF-1/4 \"","","AMAMAW",1,"122",null,{"$f":"Gradation!$N$16","v":0},0]
["QC03 - JMF-# 4","","AMAMAW",1,"123",null,{"$f":"Gradation!$N$17","v":0},0]
["QC03 - JMF-# 8","","AMAMAW",1,"124",null,{"$f":"Gradation!$N$18","v":0},0]
["QC03 - JMF-# 16","","AMAMAW",1,"125",null,{"$f":"Gradation!$N$19","v":0},0]
["QC03 - JMF-# 30","","AMAMAW",1,"126",null,{"$f":"Gradation!$N$20","v":0},0]
["QC03 - JMF-# 50","","AMAMAW",1,"127",null,{"$f":"Gradation!$N$21","v":0},0]
["QC03 - JMF-# 100","","AMAMAW",1,"128",null,{"$f":"Gradation!$N$22","v":0},0]
["QC03 - JMF-# 200","","AMAMAW",1,"129",null,{"$f":"Gradation!$N$23","v":0},0]
["QC03 - Test Charges",{"$f":"B488","v":""},"AMAMAW",1,"253"," ",0,{"$f":"H488","v":0},null,null,"Only used on QC01"]
["QC04 - Comment  (NOT CURRENTLY USED)",{"$f":"t_smpl!B12","v":""},"AMAMAW",1,1," ",0,0]
["QC04 - Template Status (TEMPSTAT)",{"$f":"B528","v":""},"AMAMAW",1,2,{"$f":"IF(t_smpl!Z12=\"COMP\",\"ISPC\",\"OSPC\")","v":"ISPC"},0,0]
["QC04 - GenericString2  (NOT CURRENTLY USED)","","AMAMAW",1,3," ",0,0]
["QC04 - GenericNum1  (NOT CURRENTLY USED)","","AMAMAW",1,4," ",0,0]
["QC04 - GenericNum2  (NOT CURRENTLY USED)","","AMAMAW",1,5," ",0,0]
["QC04 - GenericNum3  (NOT CURRENTLY USED)","","AMAMAW",1,6," ",0,0]
["QC04 - GenericNum4  (NOT CURRENTLY USED)","","AMAMAW",1,7," ",0,0]
["QC04 - County","","AMAMAW",1,8,{"$f":"'Pay Values'!I3","v":0},0,0]
["QC04 - LABEL: Sublot Aggregate Data",{"$f":"B535","v":""},"AMAMAW",1,9," ",0,0]
["QC04 - Gsb =","","AMAMAW",1,10," ",{"$f":"Superpave!U9","v":""},0]
["QC04 - Aggr. Pro. Codes","","AMAMAW",1,11,{"$f":"Superpave!N3","v":""},0,0]
["QC04 - Aggr. Pro. Codes #2","","AMAMAW",1,12,{"$f":"Superpave!N4","v":""},0,0]
["QC04 - Aggr. Pro. Codes #3","","AMAMAW",1,13,{"$f":"Superpave!N5","v":""},0,0]
["QC04 - Aggr. Pro. Codes #4","","AMAMAW",1,14,{"$f":"Superpave!N6","v":""},0,0]
["QC04 - Aggr. Pro. Codes #5","","AMAMAW",1,15,{"$f":"Superpave!N7","v":""},0,0]
["QC04 - Aggr. Pro. Codes #6","","AMAMAW",1,16,{"$f":"Superpave!N8","v":""},0,0]
["QC04 - Type & Size","","AMAMAW",1,17,{"$f":"Superpave!O3","v":""},0,0]
["QC04 - Type & Size #2","","AMAMAW",1,18,{"$f":"Superpave!O4","v":""},0,{"$f":"H544","v":0}]
["QC04 - Type & Size #3","","AMAMAW",1,19,{"$f":"Superpave!O5","v":""},0,0]
["QC04 - Type & Size #4","","AMAMAW",1,20,{"$f":"Superpave!O6","v":""},0,0]
["QC04 - Type & Size #5","","AMAMAW",1,21,{"$f":"Superpave!O7","v":""},0,0]
["QC04 - Type & Size #6","","AMAMAW",1,22,{"$f":"Superpave!O8","v":""},0,0]
["QC04 - %","","AMAMAW",1,23," ",{"$f":"Superpave!U3","v":0},0]
["QC04 - % #2","","AMAMAW",1,24," ",{"$f":"Superpave!U4","v":0},0]
["QC04 - % #3","","AMAMAW",1,25," ",{"$f":"Superpave!U5","v":0},0]
["QC04 - % #4","","AMAMAW",1,26," ",{"$f":"Superpave!U6","v":0},0]
["QC04 - % #5","","AMAMAW",1,27," ",{"$f":"Superpave!U7","v":0},0]
["QC04 - % #6","","AMAMAW",1,28," ",{"$f":"Superpave!U8","v":0},0]
["QC04 - B.O.D. Sp. Gravity","","AMAMAW",1,29," ",{"$f":"Superpave!Q3","v":0},0]
["QC04 - B.O.D. Sp. Gravity #2","","AMAMAW",1,30," ",{"$f":"Superpave!Q4","v":0},0]
["QC04 - B.O.D. Sp. Gravity #3","","AMAMAW",1,31," ",{"$f":"Superpave!Q5","v":0},0]
["QC04 - B.O.D. Sp. Gravity #4","","AMAMAW",1,32," ",{"$f":"Superpave!Q6","v":0},0]
["QC04 - B.O.D. Sp. Gravity #5","","AMAMAW",1,33," ",{"$f":"Superpave!Q7","v":0},0]
["QC04 - B.O.D. Sp. Gravity #6","","AMAMAW",1,34," ",{"$f":"Superpave!Q8","v":0},0]
["QC04 - LABEL: Sample Info","","AMAMAW",1,35," ",0,0]
["QC04 - Date","","AMAMAW",1,36," ",{"$f":"Superpave!I6","v":"00:00:00"},0]
["QC04 - Time ","","AMAMAW",1,37," ",{"$f":"Superpave!J6","v":"00:00:00"},0]
["QC04 - Truck #","","AMAMAW",1,38,{"$f":"Superpave!K6","v":0},0,0]
["QC04 - Tons","","AMAMAW",1,39," ",{"$f":"Superpave!L6","v":0},0]
["QC04 - LABEL: Volumetric Results","","AMAMAW",1,40," ",0,0]
["QC04 - Acceptance Method","","AMAMAW",1,41,{"$f":"Calculations!AU38","v":""},0,0]
["QC04 - % Binder in Mix","","AMAMAW",1,42," ",{"$f":"Superpave!B32","v":""},0]
["QC04 - Unit Weight","","AMAMAW",1,43," ",{"$f":"Superpave!H32","v":""},0]
["QC04 - Max. Sp. Gravity","","AMAMAW",1,44," ",{"$f":"Superpave!I32","v":""},0]
["QC04 - Air Voids","","AMAMAW",1,45," ",{"$f":"Superpave!J32","v":""},0]
["QC04 - % Eff. Binder","","AMAMAW",1,46," ",{"$f":"Superpave!L32","v":""},0]
["QC04 - VMA","","AMAMAW",1,47," ",{"$f":"Superpave!M32","v":""},0]
["QC04 - VFA","","AMAMAW",1,48," ",{"$f":"Superpave!N32","v":""},0]
["QC04 - D/A Ratio","","AMAMAW",1,49," ",{"$f":"Superpave!O32","v":""},0]
["QC04 - Hand Mixed % Binder ","","AMAMAW",1,50," ",{"$f":"Superpave!N43","v":0},0]
["QC04 - H. M. Max. Sp. Gravity","","AMAMAW",1,51," ",{"$f":"Superpave!N42","v":""},0]
["QC04 - LABEL: Gradation Test Results % Passing","","AMAMAW",1,52," ",0,0]
["QC04 - 2 \"","","AMAMAW",1,53," ",{"$f":"Gradation!M10","v":""},0]
["QC04 - 1 1/2 \"","","AMAMAW",1,54," ",{"$f":"Gradation!M11","v":""},0]
["QC04 - 1 \"","","AMAMAW",1,55," ",{"$f":"Gradation!M12","v":""},0]
["QC04 - 3/4 \"","","AMAMAW",1,56," ",{"$f":"Gradation!M13","v":""},0]
["QC04 - 1/2 \"","","AMAMAW",1,57," ",{"$f":"Gradation!M14","v":""},0]
["QC04 - 3/8 \"","","AMAMAW",1,58," ",{"$f":"Gradation!M15","v":""},0]
["QC04 - 1/4 \"","","AMAMAW",1,59," ",{"$f":"Gradation!M16","v":""},0]
["QC04 - # 4","","AMAMAW",1,60," ",{"$f":"Gradation!M17","v":""},0]
["QC04 - # 8","","AMAMAW",1,61," ",{"$f":"Gradation!M18","v":""},0]
["QC04 - # 16","","AMAMAW",1,62," ",{"$f":"Gradation!M19","v":""},0]
["QC04 - # 30","","AMAMAW",1,63," ",{"$f":"Gradation!M20","v":""},0]
["QC04 - # 50","","AMAMAW",1,64," ",{"$f":"Gradation!M21","v":""},0]
["QC04 - # 100","","AMAMAW",1,65," ",{"$f":"Gradation!M22","v":""},0]
["QC04 - # 200","","AMAMAW",1,66," ",{"$f":"Gradation!M23","v":""},0]
["QC04 - LABEL: Core Data","","AMAMAW",1,67," ",0,0]
["QC04 - Core #","","AMAMAW",1,68,{"$f":"Cores!A25","v":"0-4-A"},0,0]
["QC04 - Core #2","","AMAMAW",1,69,{"$f":"Cores!A26","v":"0-4-B"},0,0]
["QC04 - Core #3","","AMAMAW",1,70,{"$f":"Cores!A27","v":"0-4-C"},0,0]
["QC04 - Core #4","","AMAMAW",1,71,{"$f":"Cores!A28","v":"0-4-D"},0,0]
["QC04 - Core #5","","AMAMAW",1,72,{"$f":"Cores!A42","v":"0-4-J1"},0,0]
["QC04 - Core #6",{"$f":"B599","v":""},"AMAMAW",1,73,{"$f":"Cores!A43","v":"0-4-J2"},0,0]
["QC04 - Sta,# / Offset","","AMAMAW",1,74,{"$f":"Cores!B25","v":0},0,0]
["QC04 - Sta,# / Offset #2","","AMAMAW",1,75,{"$f":"Cores!B26","v":0},0,0]
["QC04 - Sta,# / Offset #3","","AMAMAW",1,76,{"$f":"Cores!B27","v":0},0,0]
["QC04 - Sta,# / Offset #4","","AMAMAW",1,77,{"$f":"Cores!B28","v":0},0,0]
["QC04 - Sta,# / Offset #5","","AMAMAW",1,78,{"$f":"Cores!B42","v":0},0,0]
["QC04 - Sta,# / Offset #6","","AMAMAW",1,79,{"$f":"Cores!B43","v":0},0,0]
["QC04 - Core Density","","AMAMAW",1,80," ",{"$f":"Cores!H25","v":""},0]
["QC04 - Core Density #2","","AMAMAW",1,81," ",{"$f":"Cores!H26","v":""},0]
["QC04 - Core Density #3","","AMAMAW",1,82," ",{"$f":"Cores!H27","v":""},{"$f":"H608","v":0}]
["QC04 - Core Density #4","","AMAMAW",1,83," ",{"$f":"Cores!H28","v":""},0]
["QC04 - Core Density #5","","AMAMAW",1,84," ",{"$f":"Cores!H42","v":""},0]
["QC04 - Core Density #6","","AMAMAW",1,85," ",{"$f":"Cores!H43","v":""},0]
["QC04 - % Sol. Den.","","AMAMAW",1,86," ",{"$f":"Cores!I25","v":""},0]
["QC04 - % Sol. Den. #2","","AMAMAW",1,87," ",{"$f":"Cores!I26","v":""},0]
["QC04 - % Sol. Den. #3","","AMAMAW",1,88," ",{"$f":"Cores!I27","v":""},0]
["QC04 - % Sol. Den. #4","","AMAMAW",1,89," ",{"$f":"Cores!I28","v":""},0]
["QC04 - % Sol. Den. #5","","AMAMAW",1,90," ",{"$f":"Cores!I42","v":""},0]
["QC04 - % Sol. Den. #6","","AMAMAW",1,91," ",{"$f":"Cores!I43","v":""},0]
["QC04 - ESAL Class",{"$f":"B618","v":""},"AMAMAW",1,"92",null,{"$f":"Calculations!$D$15","v":0},{"$f":"H618","v":0}]
["QC04 - Acceptance Method",{"$f":"B619","v":""},"AMAMAW",1,"93",{"$f":"Calculations!$H$20","v":0},null,{"$f":"H619","v":0}]
["QC04 - Density Option","","AMAMAW",1,"94",{"$f":"IF(Calculations!$H$12=1,\"A\",IF(Calculations!$H$12=2,\"B\",\" \"))","v":" "},null,0]
["QC04 - JMF %AC","","AMAMAW",1,"95",null,{"$f":"'Pay Values'!$A$16","v":0},0]
["QC04 - AC Pay Value","","AMAMAW",1,"96",null,{"$f":"'Pay Values'!$D$16","v":""},0]
["QC04 - Target %AV","","AMAMAW",1,"97",null,{"$f":"'Pay Values'!$E$16","v":""},0]
["QC04 - AV Pay Value","","AMAMAW",1,"98",null,{"$f":"'Pay Values'!$G$16","v":""},0]
["QC04 - Min. %VMA","","AMAMAW",1,"99",null,{"$f":"'Pay Values'!$H$16","v":0},0]
["QC04 - VMA Pay Value","","AMAMAW",1,"100",null,{"$f":"'Pay Values'!$K$16","v":""},0]
["QC04 - JD Pay Value","","AMAMAW",1,"101",null,{"$f":"'Pay Values'!$B$21","v":""},0]
["QC04 - LD Pay Value","","AMAMAW",1,"102",null,{"$f":"'Pay Values'!$B$22","v":""},0]
["QC04 - Pavement Wedge Tons","","AMAMAW",1,"103",null,{"$f":"ROUND('Pay Values'!$J$20,2)","v":0},0]
["QC04 - Final Pay Value Mainline","","AMAMAW",1,"104",null,{"$f":"'Pay Values'!$J$21","v":""},0]
["QC04 - Lot Pay Adjustment","","AMAMAW",1,"105",null,{"$f":"'Pay Values'!$J$24","v":""},0]
["QC04 - Gradation Target JMF","","AMAMAW",1,"106",{"$f":"'Pay Values'!$B$40","v":""},null,0]
["QC04 - Gradation Test Result","","AMAMAW",1,"107",{"$f":"'Pay Values'!$C$40","v":""},null,0]
["QC04 - Gradation Pay Value","","AMAMAW",1,"108",null,{"$f":"'Pay Values'!$E$40","v":""},0]
["QC04 - PG Binder Lot Number","","AMAMAW",1,"109",{"$f":"'Pay Values'!$E$43","v":0},null,0]
["QC04 - Tack Oil Lot Number","","AMAMAW",1,"110",{"$f":"'Pay Values'!$E$44","v":0},null,0]
["QC04 - PG Binder Grade","","AMAMAW",1,"111",{"$f":"VLOOKUP(Calculations!$D$147,Calculations!$A$147:$B$161,2,FALSE)","v":{"$error":"#N/A"}},null,0]
["QC04 - PG Binder Producer","","AMAMAW",1,"112",{"$f":"'Pay Values'!$B$46","v":""},null,0]
["QC04 - % and Type of Additive","","AMAMAW",1,"113",{"$f":"'Pay Values'!$C$46","v":0},null,0]
["QC04 - First Sublot Verified Same Equipment","","AMAMAW",1,"114",{"$f":"IF(Calculations!$O$1=1,\"Yes\", \"No\")","v":"No"},null,0]
["QC04 - Second Sublot Verified Same Equipment","","AMAMAW",1,"115",{"$f":"IF(Calculations!$O$2=1,\"Yes\", \"No\")","v":"No"},null,0]
["QC04 - JMF-2 \"","","AMAMAW",1,"116",null,{"$f":"Gradation!$N$10","v":0},0]
["QC04 - JMF-1 1/2 \"","","AMAMAW",1,"117",null,{"$f":"Gradation!$N$11","v":0},0]
["QC04 - JMF-1 \"","","AMAMAW",1,"118",null,{"$f":"Gradation!$N$12","v":0},0]
["QC04 - JMF-3/4 \"","","AMAMAW",1,"119",null,{"$f":"Gradation!$N$13","v":0},0]
["QC04 - JMF-1/2 \"","","AMAMAW",1,"120",null,{"$f":"Gradation!$N$14","v":0},0]
["QC04 - JMF-3/8 \"","","AMAMAW",1,"121",null,{"$f":"Gradation!$N$15","v":0},0]
["QC04 - JMF-1/4 \"","","AMAMAW",1,"122",null,{"$f":"Gradation!$N$16","v":0},0]
["QC04 - JMF-# 4","","AMAMAW",1,"123",null,{"$f":"Gradation!$N$17","v":0},0]
["QC04 - JMF-# 8","","AMAMAW",1,"124",null,{"$f":"Gradation!$N$18","v":0},0]
["QC04 - JMF-# 16","","AMAMAW",1,"125",null,{"$f":"Gradation!$N$19","v":0},0]
["QC04 - JMF-# 30","","AMAMAW",1,"126",null,{"$f":"Gradation!$N$20","v":0},0]
["QC04 - JMF-# 50","","AMAMAW",1,"127",null,{"$f":"Gradation!$N$21","v":0},0]
["QC04 - JMF-# 100","","AMAMAW",1,"128",null,{"$f":"Gradation!$N$22","v":0},0]
["QC04 - JMF-# 200","","AMAMAW",1,"129",null,{"$f":"Gradation!$N$23","v":0},0]
["QC04 - Test Charges",{"$f":"B618","v":""},"AMAMAW",1,"253"," ",0,{"$f":"H618","v":0},null,null,"Only used on QC01"]
["QA01 - Comment  (NOT CURRENTLY USED)",{"$f":"t_smpl!B13","v":""},"AMAMAW",1,1," ",0,0]
["QA01 - Template Status (TEMPSTAT)",{"$f":"B658","v":""},"AMAMAW",1,2,{"$f":"IF(t_smpl!Z13=\"COMP\",\"ISPC\",\"OSPC\")","v":"ISPC"},0,0]
["QA01 - GenericString2  (NOT CURRENTLY USED)","","AMAMAW",1,3," ",0,0]
["QA01 - GenericNum1  (NOT CURRENTLY USED)","","AMAMAW",1,4," ",0,0]
["QA01 - GenericNum2  (NOT CURRENTLY USED)","","AMAMAW",1,5," ",0,0]
["QA01 - GenericNum3  (NOT CURRENTLY USED)","","AMAMAW",1,6," ",0,0]
["QA01 - GenericNum4  (NOT CURRENTLY USED)","","AMAMAW",1,7," ",0,0]
["QA01 - County","","AMAMAW",1,8,{"$f":"'Pay Values'!I3","v":0},0,0]
["QA01 - LABEL: Sublot Aggregate Data",{"$f":"B665","v":""},"AMAMAW",1,9," ",0,0]
["QA01 - Gsb =","","AMAMAW",1,10," ",{"$f":"INDIRECT(\"'Superpave'!\"&CHAR(81+'Super Verify'!B5)&\"9\")","v":{"$error":"#VALUE!"}},0,null,null,"MAP TO ASSOC. QC SAMPLE"]
["QA01 - Aggr. Pro. Codes","","AMAMAW",1,11,{"$f":"Superpave!N3","v":""},0,0]
["QA01 - Aggr. Pro. Codes #2","","AMAMAW",1,12,{"$f":"Superpave!N4","v":""},0,0]
["QA01 - Aggr. Pro. Codes #3","","AMAMAW",1,13,{"$f":"Superpave!N5","v":""},0,0]
["QA01 - Aggr. Pro. Codes #4","","AMAMAW",1,14,{"$f":"Superpave!N6","v":""},0,0]
["QA01 - Aggr. Pro. Codes #5","","AMAMAW",1,15,{"$f":"Superpave!N7","v":""},0,0]
["QA01 - Aggr. Pro. Codes #6","","AMAMAW",1,16,{"$f":"Superpave!N8","v":""},0,0]
["QA01 - Type & Size","","AMAMAW",1,17,{"$f":"Superpave!O3","v":""},0,0]
["QA01 - Type & Size #2","","AMAMAW",1,18,{"$f":"Superpave!O4","v":""},0,0]
["QA01 - Type & Size #3","","AMAMAW",1,19,{"$f":"Superpave!O5","v":""},0,0]
["QA01 - Type & Size #4","","AMAMAW",1,20,{"$f":"Superpave!O6","v":""},0,0]
["QA01 - Type & Size #5","","AMAMAW",1,21,{"$f":"Superpave!O7","v":""},0,0]
["QA01 - Type & Size #6","","AMAMAW",1,22,{"$f":"Superpave!O8","v":""},0,0]
["QA01 - %","","AMAMAW",1,23," ",{"$f":"INDIRECT(\"'Superpave'!\"&CHAR(81+'Super Verify'!B5)&\"3\")","v":{"$error":"#VALUE!"}},0,null,null,"MAP TO ASSOC. QC SAMPLE"]
["QA01 - % #2","","AMAMAW",1,24," ",{"$f":"INDIRECT(\"'Superpave'!\"&CHAR(81+'Super Verify'!B5)&\"4\")","v":{"$error":"#VALUE!"}},0,null,null,"MAP TO ASSOC. QC SAMPLE"]
["QA01 - % #3","","AMAMAW",1,25," ",{"$f":"INDIRECT(\"'Superpave'!\"&CHAR(81+'Super Verify'!B5)&\"5\")","v":{"$error":"#VALUE!"}},0,null,null,"MAP TO ASSOC. QC SAMPLE"]
["QA01 - % #4","","AMAMAW",1,26," ",{"$f":"INDIRECT(\"'Superpave'!\"&CHAR(81+'Super Verify'!B5)&\"6\")","v":{"$error":"#VALUE!"}},0,null,null,"MAP TO ASSOC. QC SAMPLE"]
["QA01 - % #5","","AMAMAW",1,27," ",{"$f":"INDIRECT(\"'Superpave'!\"&CHAR(81+'Super Verify'!B5)&\"7\")","v":{"$error":"#VALUE!"}},0,null,null,"MAP TO ASSOC. QC SAMPLE"]
["QA01 - % #6","","AMAMAW",1,28," ",{"$f":"INDIRECT(\"'Superpave'!\"&CHAR(81+'Super Verify'!B5)&\"8\")","v":{"$error":"#VALUE!"}},0,null,null,"MAP TO ASSOC. QC SAMPLE"]
["QA01 - B.O.D. Sp. Gravity","","AMAMAW",1,29," ",{"$f":"Superpave!Q3","v":0},0,null,null,"MAP TO ASSOC. QC SAMPLE"]
["QA01 - B.O.D. Sp. Gravity #2","","AMAMAW",1,30," ",{"$f":"Superpave!Q4","v":0},0,null,null,"MAP TO ASSOC. QC SAMPLE"]
["QA01 - B.O.D. Sp. Gravity #3","","AMAMAW",1,31," ",{"$f":"Superpave!Q5","v":0},0,null,null,"MAP TO ASSOC. QC SAMPLE"]
["QA01 - B.O.D. Sp. Gravity #4","","AMAMAW",1,32," ",{"$f":"Superpave!Q6","v":0},0,null,null,"MAP TO ASSOC. QC SAMPLE"]
["QA01 - B.O.D. Sp. Gravity #5","","AMAMAW",1,33," ",{"$f":"Superpave!Q7","v":0},0,null,null,"MAP TO ASSOC. QC SAMPLE"]
["QA01 - B.O.D. Sp. Gravity #6","","AMAMAW",1,34," ",{"$f":"Superpave!Q8","v":0},0,null,null,"MAP TO ASSOC. QC SAMPLE"]
["QA01 - LABEL: Sample Info","","AMAMAW",1,35," ",0,0]
["QA01 - Date","","AMAMAW",1,36," ",{"$f":"INDIRECT(\"'Superpave'!I\"&'Super Verify'!B5+2)","v":{"$error":"#VALUE!"}},0,null,null,"MAP TO ASSOC. QC SAMPLE"]
["QA01 - Time ","","AMAMAW",1,37," ",{"$f":"INDIRECT(\"'Superpave'!J\"&'Super Verify'!B5+2)","v":{"$error":"#VALUE!"}},0,null,null,"MAP TO ASSOC. QC SAMPLE"]
["QA01 - Truck #","","AMAMAW",1,38,{"$f":"INDIRECT(\"'Superpave'!K\"&'Super Verify'!B5+2)","v":{"$error":"#VALUE!"}},0,0,null,null,"MAP TO ASSOC. QC SAMPLE"]
["QA01 - Tons","","AMAMAW",1,39," ",{"$f":"INDIRECT(\"'Superpave'!L\"&'Super Verify'!B5+2)","v":{"$error":"#VALUE!"}},0,null,null,"MAP TO ASSOC. QC SAMPLE"]
["QA01 - LABEL: Volumetric Results","","AMAMAW",1,40," ",0,0]
["QA01 - Acceptance Method","","AMAMAW",1,41,{"$f":"Calculations!AU33","v":""},0,0]
["QA01 - % Binder in Mix","","AMAMAW",1,42," ",{"$f":"'Super Verify'!B10","v":""},0]
["QA01 - Unit Weight","","AMAMAW",1,43," ",{"$f":"'Super Verify'!H10","v":""},0]
["QA01 - Max. Sp. Gravity","","AMAMAW",1,44," ",{"$f":"'Super Verify'!I10","v":""},0]
["QA01 - Air Voids","","AMAMAW",1,45," ",{"$f":"'Super Verify'!J10","v":""},0]
["QA01 - % Eff. Binder","","AMAMAW",1,46," ",{"$f":"'Super Verify'!K10","v":""},0]
["QA01 - VMA","","AMAMAW",1,47," ",{"$f":"'Super Verify'!L10","v":""},0]
["QA01 - VFA","","AMAMAW",1,48," ",{"$f":"'Super Verify'!M10","v":""},0]
["QA01 - D/A Ratio","","AMAMAW",1,49," ",{"$f":"'Super Verify'!N10","v":""},0]
["QA01 - Hand Mixed % Binder ","","AMAMAW",1,50," ",{"$f":"Superpave!N43","v":0},0]
["QA01 - H. M. Max. Sp. Gravity","","AMAMAW",1,51," ",{"$f":"Superpave!N42","v":""},0]
["QA01 - LABEL: Gradation Test Results % Passing","","AMAMAW",1,52," ",0,0]
["QA01 - 2 \"","","AMAMAW",1,53," ",{"$f":"'Super Verify'!D33","v":""},0]
["QA01 - 1 1/2 \"","","AMAMAW",1,54," ",{"$f":"'Super Verify'!D34","v":""},{"$f":"H710","v":0}]
["QA01 - 1 \"","","AMAMAW",1,55," ",{"$f":"'Super Verify'!D35","v":""},0]
["QA01 - 3/4 \"","","AMAMAW",1,56," ",{"$f":"'Super Verify'!D36","v":""},0]
["QA01 - 1/2 \"","","AMAMAW",1,57," ",{"$f":"'Super Verify'!D37","v":""},0]
["QA01 - 3/8 \"","","AMAMAW",1,58," ",{"$f":"'Super Verify'!D38","v":""},0]
["QA01 - 1/4 \"","","AMAMAW",1,59," ",{"$f":"'Super Verify'!D39","v":""},0]
["QA01 - # 4","","AMAMAW",1,60," ",{"$f":"'Super Verify'!D40","v":""},0]
["QA01 - # 8","","AMAMAW",1,61," ",{"$f":"'Super Verify'!D41","v":""},0]
["QA01 - # 16","","AMAMAW",1,62," ",{"$f":"'Super Verify'!D42","v":""},0]
["QA01 - # 30","","AMAMAW",1,63," ",{"$f":"'Super Verify'!D43","v":""},0]
["QA01 - # 50","","AMAMAW",1,64," ",{"$f":"'Super Verify'!D44","v":""},0]
["QA01 - # 100","","AMAMAW",1,65," ",{"$f":"'Super Verify'!D45","v":""},0]
["QA01 - # 200","","AMAMAW",1,66," ",{"$f":"'Super Verify'!D46","v":""},0]
["QA01 - LABEL: Core Data","","AMAMAW",1,67," ",0,0]
["QA01 - Core #","","AMAMAW",1,68," ",0,0,null,null,"NO MAP; LEAVE BLANK."]
["QA01 - Core #2","","AMAMAW",1,69," ",0,0,null,null,"NO MAP; LEAVE BLANK."]
["QA01 - Core #3","","AMAMAW",1,70," ",0,0,null,null,"NO MAP; LEAVE BLANK."]
["QA01 - Core #4","","AMAMAW",1,71," ",0,0,null,null,"NO MAP; LEAVE BLANK."]
["QA01 - Core #5","","AMAMAW",1,72," ",0,0,null,null,"NO MAP; LEAVE BLANK."]
["QA01 - Core #6",{"$f":"B729","v":""},"AMAMAW",1,73," ",0,0,null,null,"NO MAP; LEAVE BLANK."]
["QA01 - Sta,# / Offset","","AMAMAW",1,74," ",0,0,null,null,"NO MAP; LEAVE BLANK."]
["QA01 - Sta,# / Offset #2","","AMAMAW",1,75," ",0,0,null,null,"NO MAP; LEAVE BLANK."]
["QA01 - Sta,# / Offset #3","","AMAMAW",1,76," ",0,0,null,null,"NO MAP; LEAVE BLANK."]
["QA01 - Sta,# / Offset #4","","AMAMAW",1,77," ",0,0,null,null,"NO MAP; LEAVE BLANK."]
["QA01 - Sta,# / Offset #5","","AMAMAW",1,78," ",0,0,null,null,"NO MAP; LEAVE BLANK."]
["QA01 - Sta,# / Offset #6","","AMAMAW",1,79," ",0,0,null,null,"NO MAP; LEAVE BLANK."]
["QA01 - Core Density","","AMAMAW",1,80," ",0,0,null,null,"NO MAP; LEAVE BLANK."]
["QA01 - Core Density #2","","AMAMAW",1,81," ",0,0,null,null,"NO MAP; LEAVE BLANK."]
["QA01 - Core Density #3","","AMAMAW",1,82," ",0,0,null,null,"NO MAP; LEAVE BLANK."]
["QA01 - Core Density #4","","AMAMAW",1,83," ",0,0,null,null,"NO MAP; LEAVE BLANK."]
["QA01 - Core Density #5","","AMAMAW",1,84," ",0,0,null,null,"NO MAP; LEAVE BLANK."]
["QA01 - Core Density #6","","AMAMAW",1,85," ",0,0,null,null,"NO MAP; LEAVE BLANK."]
["QA01 - % Sol. Den.","","AMAMAW",1,86," ",0,0,null,null,"NO MAP; LEAVE BLANK."]
["QA01 - % Sol. Den. #2","","AMAMAW",1,87," ",0,0,null,null,"NO MAP; LEAVE BLANK."]
["QA01 - % Sol. Den. #3","","AMAMAW",1,88," ",0,0,null,null,"NO MAP; LEAVE BLANK."]
["QA01 - % Sol. Den. #4","","AMAMAW",1,89," ",0,0,null,null,"NO MAP; LEAVE BLANK."]
["QA01 - % Sol. Den. #5","","AMAMAW",1,90," ",0,0,null,null,"NO MAP; LEAVE BLANK."]
["QA01 - % Sol. Den. #6","","AMAMAW",1,91," ",0,0,null,null,"NO MAP; LEAVE BLANK."]
["QA01 - ESAL Class",{"$f":"B748","v":""},"AMAMAW",1,"92",null,{"$f":"Calculations!$D$15","v":0},{"$f":"H748","v":0}]
["QA01 - Acceptance Method",{"$f":"B749","v":""},"AMAMAW",1,"93",{"$f":"Calculations!$H$20","v":0},null,{"$f":"H749","v":0}]
["QA01 - Density Option","","AMAMAW",1,"94",{"$f":"IF(Calculations!$H$12=1,\"A\",IF(Calculations!$H$12=2,\"B\",\" \"))","v":" "},null,0]
["QA01 - JMF %AC","","AMAMAW",1,"95",null,{"$f":"'Pay Values'!$A$16","v":0},0]
["QA01 - AC Pay Value","","AMAMAW",1,"96",null,0,0]
["QA01 - Target %AV","","AMAMAW",1,"97",null,0,0]
["QA01 - AV Pay Value","","AMAMAW",1,"98",null,0,0]
["QA01 - Min. %VMA","","AMAMAW",1,"99",null,0,0]
["QA01 - VMA Pay Value","","AMAMAW",1,"100",null,0,0]
["QA01 - JD Pay Value","","AMAMAW",1,"101",null,0,0]
["QA01 - LD Pay Value","","AMAMAW",1,"102",null,0,0]
["QA01 - Pavement Wedge Tons","","AMAMAW",1,"103",null,0,0]
["QA01 - Final Pay Value Mainline","","AMAMAW",1,"104",null,0,0]
["QA01 - Lot Pay Adjustment","","AMAMAW",1,"105",null,{"$f":"'Pay Values'!$J$24","v":""},0]
["QA01 - Gradation Target JMF","","AMAMAW",1,"106",null,null,0]
["QA01 - Gradation Test Result","","AMAMAW",1,"107",null,null,0]
["QA01 - Gradation Pay Value","","AMAMAW",1,"108",null,null,0]
["QA01 - PG Binder Lot Number","","AMAMAW",1,"109",null,null,0]
["QA01 - Tack Oil Lot Number","","AMAMAW",1,"110",null,null,0]
["QA01 - PG Binder Grade","","AMAMAW",1,"111",{"$f":"VLOOKUP(Calculations!$D$147,Calculations!$A$147:$B$161,2,FALSE)","v":{"$error":"#N/A"}},null,0]
["QA01 - PG Binder Producer","","AMAMAW",1,"112",{"$f":"'Pay Values'!$B$46","v":""},null,0]
["QA01 - % and Type of Additive","","AMAMAW",1,"113",{"$f":"'Pay Values'!$C$46","v":0},null,0]
["QA01 - First Sublot Verified Same Equipment","","AMAMAW",1,"114",{"$f":"IF(Calculations!$O$1=1,\"Yes\", \"No\")","v":"No"},null,0]
["QA01 - Second Sublot Verified Same Equipment","","AMAMAW",1,"115",{"$f":"IF(Calculations!$O$2=1,\"Yes\", \"No\")","v":"No"},null,0]
["QA01 - JMF-2 \"","","AMAMAW",1,"116",null,{"$f":"Gradation!$N$10","v":0},0]
["QA01 - JMF-1 1/2 \"","","AMAMAW",1,"117",null,{"$f":"Gradation!$N$11","v":0},0]
["QA01 - JMF-1 \"","","AMAMAW",1,"118",null,{"$f":"Gradation!$N$12","v":0},0]
["QA01 - JMF-3/4 \"","","AMAMAW",1,"119",null,{"$f":"Gradation!$N$13","v":0},0]
["QA01 - JMF-1/2 \"","","AMAMAW",1,"120",null,{"$f":"Gradation!$N$14","v":0},0]
["QA01 - JMF-3/8 \"","","AMAMAW",1,"121",null,{"$f":"Gradation!$N$15","v":0},0]
["QA01 - JMF-1/4 \"","","AMAMAW",1,"122",null,{"$f":"Gradation!$N$16","v":0},0]
["QA01 - JMF-# 4","","AMAMAW",1,"123",null,{"$f":"Gradation!$N$17","v":0},0]
["QA01 - JMF-# 8","","AMAMAW",1,"124",null,{"$f":"Gradation!$N$18","v":0},0]
["QA01 - JMF-# 16","","AMAMAW",1,"125",null,{"$f":"Gradation!$N$19","v":0},0]
["QA01 - JMF-# 30","","AMAMAW",1,"126",null,{"$f":"Gradation!$N$20","v":0},0]
["QA01 - JMF-# 50","","AMAMAW",1,"127",null,{"$f":"Gradation!$N$21","v":0},0]
["QA01 - JMF-# 100","","AMAMAW",1,"128",null,{"$f":"Gradation!$N$22","v":0},0]
["QA01 - JMF-# 200","","AMAMAW",1,"129",null,{"$f":"Gradation!$N$23","v":0},0]
["QA01 - Test Charges",{"$f":"B748","v":""},"AMAMAW",1,"253"," ",0,{"$f":"H748","v":0},null,null,"Only used on QC01"]
["IQ01 - Comment  (NOT CURRENTLY USED)",{"$f":"t_smpl!B14","v":""},"AMAMAW",1,1," ",0,0]
["IQ01 - Template Status (TEMPSTAT)",{"$f":"B788","v":""},"AMAMAW",1,2,{"$f":"IF(t_smpl!Z14=\"COMP\",\"ISPC\",\"OSPC\")","v":"ISPC"},0,0]
["IQ01 - GenericString2  (NOT CURRENTLY USED)","","AMAMAW",1,3," ",0,0]
["IQ01 - GenericNum1  (NOT CURRENTLY USED)","","AMAMAW",1,4," ",0,0]
["IQ01 - GenericNum2  (NOT CURRENTLY USED)","","AMAMAW",1,5," ",0,0]
["IQ01 - GenericNum3  (NOT CURRENTLY USED)","","AMAMAW",1,6," ",0,0]
["IQ01 - GenericNum4  (NOT CURRENTLY USED)","","AMAMAW",1,7," ",0,0]
["IQ01 - County","","AMAMAW",1,8,{"$f":"'Pay Values'!I3","v":0},0,0]
["IQ01 - LABEL: Sublot Aggregate Data","","AMAMAW",1,9," ",0,0]
["IQ01 - Gsb =","","AMAMAW",1,10," ",{"$f":"INDIRECT(\"'Superpave'!\"&CHAR(81+'Super Verify'!B12)&\"9\")","v":{"$error":"#VALUE!"}},0,null,null,"MAP TO ASSOC. QC SAMPLE"]
["IQ01 - Aggr. Pro. Codes","","AMAMAW",1,11,{"$f":"Superpave!N3","v":""},0,0]
["IQ01 - Aggr. Pro. Codes #2","","AMAMAW",1,12,{"$f":"Superpave!N4","v":""},0,0]
["IQ01 - Aggr. Pro. Codes #3","","AMAMAW",1,13,{"$f":"Superpave!N5","v":""},0,0]
["IQ01 - Aggr. Pro. Codes #4","","AMAMAW",1,14,{"$f":"Superpave!N6","v":""},0,0]
["IQ01 - Aggr. Pro. Codes #5","","AMAMAW",1,15,{"$f":"Superpave!N7","v":""},0,0]
["IQ01 - Aggr. Pro. Codes #6","","AMAMAW",1,16,{"$f":"Superpave!N8","v":""},0,0]
["IQ01 - Type & Size","","AMAMAW",1,17,{"$f":"Superpave!O3","v":""},0,0]
["IQ01 - Type & Size #2","","AMAMAW",1,18,{"$f":"Superpave!O4","v":""},0,0]
["IQ01 - Type & Size #3","","AMAMAW",1,19,{"$f":"Superpave!O5","v":""},0,0]
["IQ01 - Type & Size #4","","AMAMAW",1,20,{"$f":"Superpave!O6","v":""},0,0]
["IQ01 - Type & Size #5","","AMAMAW",1,21,{"$f":"Superpave!O7","v":""},0,0]
["IQ01 - Type & Size #6","","AMAMAW",1,22,{"$f":"Superpave!O8","v":""},0,0]
["IQ01 - %","","AMAMAW",1,23," ",{"$f":"INDIRECT(\"'Superpave'!\"&CHAR(81+'Super Verify'!B12)&\"3\")","v":{"$error":"#VALUE!"}},0,null,null,"MAP TO ASSOC. QC SAMPLE"]
["IQ01 - % #2","","AMAMAW",1,24," ",{"$f":"INDIRECT(\"'Superpave'!\"&CHAR(81+'Super Verify'!B12)&\"4\")","v":{"$error":"#VALUE!"}},0,null,null,"MAP TO ASSOC. QC SAMPLE"]
["IQ01 - % #3","","AMAMAW",1,25," ",{"$f":"INDIRECT(\"'Superpave'!\"&CHAR(81+'Super Verify'!B12)&\"5\")","v":{"$error":"#VALUE!"}},0,null,null,"MAP TO ASSOC. QC SAMPLE"]
["IQ01 - % #4","","AMAMAW",1,26," ",{"$f":"INDIRECT(\"'Superpave'!\"&CHAR(81+'Super Verify'!B12)&\"6\")","v":{"$error":"#VALUE!"}},{"$f":"H812","v":0},null,null,"MAP TO ASSOC. QC SAMPLE"]
["IQ01 - % #5","","AMAMAW",1,27," ",{"$f":"INDIRECT(\"'Superpave'!\"&CHAR(81+'Super Verify'!B12)&\"7\")","v":{"$error":"#VALUE!"}},0,null,null,"MAP TO ASSOC. QC SAMPLE"]
["IQ01 - % #6","","AMAMAW",1,28," ",{"$f":"INDIRECT(\"'Superpave'!\"&CHAR(81+'Super Verify'!B12)&\"8\")","v":{"$error":"#VALUE!"}},0,null,null,"MAP TO ASSOC. QC SAMPLE"]
["IQ01 - B.O.D. Sp. Gravity","","AMAMAW",1,29," ",{"$f":"Superpave!Q3","v":0},0,null,null,"MAP TO ASSOC. QC SAMPLE"]
["IQ01 - B.O.D. Sp. Gravity #2","","AMAMAW",1,30," ",{"$f":"Superpave!Q4","v":0},0,null,null,"MAP TO ASSOC. QC SAMPLE"]
["IQ01 - B.O.D. Sp. Gravity #3","","AMAMAW",1,31," ",{"$f":"Superpave!Q5","v":0},0,null,null,"MAP TO ASSOC. QC SAMPLE"]
["IQ01 - B.O.D. Sp. Gravity #4","","AMAMAW",1,32," ",{"$f":"Superpave!Q6","v":0},0,null,null,"MAP TO ASSOC. QC SAMPLE"]
["IQ01 - B.O.D. Sp. Gravity #5","","AMAMAW",1,33," ",{"$f":"Superpave!Q7","v":0},0,null,null,"MAP TO ASSOC. QC SAMPLE"]
["IQ01 - B.O.D. Sp. Gravity #6","","AMAMAW",1,34," ",{"$f":"Superpave!Q8","v":0},0,null,null,"MAP TO ASSOC. QC SAMPLE"]
["IQ01 - LABEL: Sample Info","","AMAMAW",1,35," ",0,0]
["IQ01 - Date","","AMAMAW",1,36," ",{"$f":"INDIRECT(\"'Superpave'!I\"&'Super Verify'!B12+2)","v":{"$error":"#VALUE!"}},0,null,null,"MAP TO ASSOC. QC SAMPLE"]
["IQ01 - Time ","","AMAMAW",1,37," ",{"$f":"INDIRECT(\"'Superpave'!J\"&'Super Verify'!B12+2)","v":{"$error":"#VALUE!"}},0,null,null,"MAP TO ASSOC. QC SAMPLE"]
["IQ01 - Truck #","","AMAMAW",1,38,{"$f":"INDIRECT(\"'Superpave'!K\"&'Super Verify'!B12+2)","v":{"$error":"#VALUE!"}},0,0,null,null,"MAP TO ASSOC. QC SAMPLE"]
["IQ01 - Tons","","AMAMAW",1,39," ",{"$f":"INDIRECT(\"'Superpave'!L\"&'Super Verify'!B12+2)","v":{"$error":"#VALUE!"}},0,null,null,"MAP TO ASSOC. QC SAMPLE"]
["IQ01 - LABEL: Volumetric Results","","AMAMAW",1,40," ",0,0]
["IQ01 - Acceptance Method","","AMAMAW",1,41,{"$f":"Calculations!AU34","v":""},0,0]
["IQ01 - % Binder in Mix","","AMAMAW",1,42," ",{"$f":"'Super Verify'!B17","v":""},0]
["IQ01 - Unit Weight","","AMAMAW",1,43," ",{"$f":"'Super Verify'!H17","v":""},0]
["IQ01 - Max. Sp. Gravity","","AMAMAW",1,44," ",{"$f":"'Super Verify'!I17","v":""},0]
["IQ01 - Air Voids","","AMAMAW",1,45," ",{"$f":"'Super Verify'!J17","v":""},0]
["IQ01 - % Eff. Binder","","AMAMAW",1,46," ",{"$f":"'Super Verify'!K17","v":""},0]
["IQ01 - VMA","","AMAMAW",1,47," ",{"$f":"'Super Verify'!L17","v":""},0]
["IQ01 - VFA","","AMAMAW",1,48," ",{"$f":"'Super Verify'!M17","v":""},0]
["IQ01 - D/A Ratio","","AMAMAW",1,49," ",{"$f":"'Super Verify'!N17","v":""},0]
["IQ01 - Hand Mixed % Binder ","","AMAMAW",1,50," ",{"$f":"Superpave!N43","v":0},0]
["IQ01 - H. M. Max. Sp. Gravity","","AMAMAW",1,51," ",{"$f":"Superpave!N42","v":""},0]
["IQ01 - LABEL: Gradation Test Results % Passing","","AMAMAW",1,52," ",0,0]
["IQ01 - 2 \"","","AMAMAW",1,53," ",{"$f":"'Super Verify'!G33","v":""},0]
["IQ01 - 1 1/2 \"","","AMAMAW",1,54," ",{"$f":"'Super Verify'!G34","v":""},0]
["IQ01 - 1 \"","","AMAMAW",1,55," ",{"$f":"'Super Verify'!G35","v":""},0]
["IQ01 - 3/4 \"","","AMAMAW",1,56," ",{"$f":"'Super Verify'!G36","v":""},0]
["IQ01 - 1/2 \"","","AMAMAW",1,57," ",{"$f":"'Super Verify'!G37","v":""},0]
["IQ01 - 3/8 \"","","AMAMAW",1,58," ",{"$f":"'Super Verify'!G38","v":""},0]
["IQ01 - 1/4 \"","","AMAMAW",1,59," ",{"$f":"'Super Verify'!G39","v":""},0]
["IQ01 - # 4","","AMAMAW",1,60," ",{"$f":"'Super Verify'!G40","v":""},0]
["IQ01 - # 8","","AMAMAW",1,61," ",{"$f":"'Super Verify'!G41","v":""},0]
["IQ01 - # 16","","AMAMAW",1,62," ",{"$f":"'Super Verify'!G42","v":""},0]
["IQ01 - # 30","","AMAMAW",1,63," ",{"$f":"'Super Verify'!G43","v":""},0]
["IQ01 - # 50","","AMAMAW",1,64," ",{"$f":"'Super Verify'!G44","v":""},0]
["IQ01 - # 100","","AMAMAW",1,65," ",{"$f":"'Super Verify'!G45","v":""},0]
["IQ01 - # 200",{"$f":"B852","v":""},"AMAMAW",1,66," ",{"$f":"'Super Verify'!G46","v":""},0]
["IQ01 - LABEL: Core Data","","AMAMAW",1,67," ",0,0]
["IQ01 - Core #","","AMAMAW",1,68," ",0,0,null,null,"NO MAP; LEAVE BLANK."]
["IQ01 - Core #2","","AMAMAW",1,69," ",0,0,null,null,"NO MAP; LEAVE BLANK."]
["IQ01 - Core #3","","AMAMAW",1,70," ",0,0,null,null,"NO MAP; LEAVE BLANK."]
["IQ01 - Core #4","","AMAMAW",1,71," ",0,0,null,null,"NO MAP; LEAVE BLANK."]
["IQ01 - Core #5","","AMAMAW",1,72," ",0,0,null,null,"NO MAP; LEAVE BLANK."]
["IQ01 - Core #6","","AMAMAW",1,73," ",0,0,null,null,"NO MAP; LEAVE BLANK."]
["IQ01 - Sta,# / Offset","","AMAMAW",1,74," ",0,0,null,null,"NO MAP; LEAVE BLANK."]
["IQ01 - Sta,# / Offset #2","","AMAMAW",1,75," ",0,0,null,null,"NO MAP; LEAVE BLANK."]
["IQ01 - Sta,# / Offset #3","","AMAMAW",1,76," ",0,0,null,null,"NO MAP; LEAVE BLANK."]
["IQ01 - Sta,# / Offset #4","","AMAMAW",1,77," ",0,0,null,null,"NO MAP; LEAVE BLANK."]
["IQ01 - Sta,# / Offset #5","","AMAMAW",1,78," ",0,0,null,null,"NO MAP; LEAVE BLANK."]
["IQ01 - Sta,# / Offset #6","","AMAMAW",1,79," ",0,0,null,null,"NO MAP; LEAVE BLANK."]
["IQ01 - Core Density","","AMAMAW",1,80," ",0,0,null,null,"NO MAP; LEAVE BLANK."]
["IQ01 - Core Density #2","","AMAMAW",1,81," ",0,0,null,null,"NO MAP; LEAVE BLANK."]
["IQ01 - Core Density #3","","AMAMAW",1,82," ",0,0,null,null,"NO MAP; LEAVE BLANK."]
["IQ01 - Core Density #4","","AMAMAW",1,83," ",0,0,null,null,"NO MAP; LEAVE BLANK."]
["IQ01 - Core Density #5","","AMAMAW",1,84," ",0,0,null,null,"NO MAP; LEAVE BLANK."]
["IQ01 - Core Density #6","","AMAMAW",1,85," ",0,0,null,null,"NO MAP; LEAVE BLANK."]
["IQ01 - % Sol. Den.","","AMAMAW",1,86," ",0,0,null,null,"NO MAP; LEAVE BLANK."]
["IQ01 - % Sol. Den. #2","","AMAMAW",1,87," ",0,0,null,null,"NO MAP; LEAVE BLANK."]
["IQ01 - % Sol. Den. #3","","AMAMAW",1,88," ",0,0,null,null,"NO MAP; LEAVE BLANK."]
["IQ01 - % Sol. Den. #4","","AMAMAW",1,89," ",0,0,null,null,"NO MAP; LEAVE BLANK."]
["IQ01 - % Sol. Den. #5","","AMAMAW",1,90," ",0,{"$f":"H876","v":0},null,null,"NO MAP; LEAVE BLANK."]
["IQ01 - % Sol. Den. #6","","AMAMAW",1,"91"," ",0,{"$f":"H877","v":0},null,null,"NO MAP; LEAVE BLANK."]
["IQ01 - ESAL Class",{"$f":"B878","v":""},"AMAMAW",1,"92",null,{"$f":"Calculations!$D$15","v":0},{"$f":"H878","v":0}]
["IQ01 - Acceptance Method",{"$f":"B879","v":""},"AMAMAW",1,"93",{"$f":"Calculations!$H$20","v":0},null,{"$f":"H879","v":0}]
["IQ01 - Density Option","","AMAMAW",1,"94",{"$f":"IF(Calculations!$H$12=1,\"A\",IF(Calculations!$H$12=2,\"B\",\" \"))","v":" "},null,0]
["IQ01 - JMF %AC","","AMAMAW",1,"95",null,{"$f":"'Pay Values'!$A$16","v":0},0]
["IQ01 - AC Pay Value","","AMAMAW",1,"96",null,0,0]
["IQ01 - Target %AV","","AMAMAW",1,"97",null,0,0]
["IQ01 - AV Pay Value","","AMAMAW",1,"98",null,0,0]
["IQ01 - Min. %VMA","","AMAMAW",1,"99",null,0,0]
["IQ01 - VMA Pay Value","","AMAMAW",1,"100",null,0,0]
["IQ01 - JD Pay Value","","AMAMAW",1,"101",null,0,0]
["IQ01 - LD Pay Value","","AMAMAW",1,"102",null,0,0]
["IQ01 - Pavement Wedge Tons","","AMAMAW",1,"103",null,0,0]
["IQ01 - Final Pay Value Mainline","","AMAMAW",1,"104",null,0,0]
["IQ01 - Lot Pay Adjustment","","AMAMAW",1,"105",null,{"$f":"'Pay Values'!$J$24","v":""},0]
["IQ01 - Gradation Target JMF","","AMAMAW",1,"106",null,null,0]
["IQ01 - Gradation Test Result","","AMAMAW",1,"107",null,null,0]
["IQ01 - Gradation Pay Value","","AMAMAW",1,"108",null,null,0]
["IQ01 - PG Binder Lot Number","","AMAMAW",1,"109",null,null,0]
["IQ01 - Tack Oil Lot Number","","AMAMAW",1,"110",null,null,0]
["IQ01 - PG Binder Grade","","AMAMAW",1,"111",{"$f":"VLOOKUP(Calculations!$D$147,Calculations!$A$147:$B$161,2,FALSE)","v":{"$error":"#N/A"}},null,0]
["IQ01 - PG Binder Producer","","AMAMAW",1,"112",{"$f":"'Pay Values'!$B$46","v":""},null,0]
["IQ01 - % and Type of Additive","","AMAMAW",1,"113",{"$f":"'Pay Values'!$C$46","v":0},null,0]
["IQ01 - First Sublot Verified Same Equipment","","AMAMAW",1,"114",{"$f":"IF(Calculations!$O$1=1,\"Yes\", \"No\")","v":"No"},null,0]
["IQ01 - Second Sublot Verified Same Equipment","","AMAMAW",1,"115",{"$f":"IF(Calculations!$O$2=1,\"Yes\", \"No\")","v":"No"},null,0]
["IQ01 - JMF-2 \"","","AMAMAW",1,"116",null,{"$f":"Gradation!$N$10","v":0},0]
["IQ01 - JMF-1 1/2 \"","","AMAMAW",1,"117",null,{"$f":"Gradation!$N$11","v":0},0]
["IQ01 - JMF-1 \"","","AMAMAW",1,"118",null,{"$f":"Gradation!$N$12","v":0},0]
["IQ01 - JMF-3/4 \"","","AMAMAW",1,"119",null,{"$f":"Gradation!$N$13","v":0},0]
["IQ01 - JMF-1/2 \"","","AMAMAW",1,"120",null,{"$f":"Gradation!$N$14","v":0},0]
["IQ01 - JMF-3/8 \"","","AMAMAW",1,"121",null,{"$f":"Gradation!$N$15","v":0},0]
["IQ01 - JMF-1/4 \"","","AMAMAW",1,"122",null,{"$f":"Gradation!$N$16","v":0},0]
["IQ01 - JMF-# 4","","AMAMAW",1,"123",null,{"$f":"Gradation!$N$17","v":0},0]
["IQ01 - JMF-# 8","","AMAMAW",1,"124",null,{"$f":"Gradation!$N$18","v":0},0]
["IQ01 - JMF-# 16","","AMAMAW",1,"125",null,{"$f":"Gradation!$N$19","v":0},0]
["IQ01 - JMF-# 30","","AMAMAW",1,"126",null,{"$f":"Gradation!$N$20","v":0},0]
["IQ01 - JMF-# 50","","AMAMAW",1,"127",null,{"$f":"Gradation!$N$21","v":0},0]
["IQ01 - JMF-# 100","","AMAMAW",1,"128",null,{"$f":"Gradation!$N$22","v":0},0]
["IQ01 - JMF-# 200","","AMAMAW",1,"129",null,{"$f":"Gradation!$N$23","v":0},0]
["IQ01 - Test Charges",{"$f":"B878","v":""},"AMAMAW",1,"253"," ",0,{"$f":"H878","v":0},null,null,"Only used on QC01"]

{"sheet":"Drop_Downs_and_Tables","index":34,"n_rows":116,"n_cols":21,"rows_kept":116,"cut":false,"hidden":true,"merged":[[80,4,80,9],[80,14,80,15],[75,4,75,9],[76,4,76,9],[77,4,77,9],[78,4,78,9],[79,14,79,15],[71,4,71,9],[72,4,72,9],[73,4,73,9],[74,4,74,9],[79,4,79,9]]}
["HOUR"]
["DAY"]
[]
[]
["P",41295]
["A",40905]
["AMOD",40960]
["AA",40980]
["AAHPC",40990]
["AAA",41040]
["AAAHPC",41045]
["B",41095]
["D",41215]
["DMOD",41235]
["M1",41255]
["M2",99999]
["JPCP 24",41310]
["JPCP 48",41320]
["JPCP 72",41330]
[]
["CUYD"]
["CU M"]
[]
["YES","no longer used"]
["NO","no longer used"]
[]
[0.2]
[0.4]
[]
["TYP1"]
["TYP2"]
["TYP3"]
["TYP4"]
["TYP5"]
["TYP6"]
[]
["in","no longer used"]
["mm","no longer used"]
[]
["F","no longer used"]
["C","no longer used"]
[]
["lbs","no longer used"]
["N","no longer used"]
[]
["psi","no longer used"]
["Mpa","no longer used"]
[]
[]
["COMP","COMPLETE"]
["FAIL","FAILED"]
["FRFP","FAILED AND REMOVED FROM PROJECT"]
[]
["57, 67, 68"]
["8, 78, 9m"]
[]
[]
[]
["CONCPVMT","Concrete Payment Spreadsheet"]
["STRCONC","Structural Concrete Spreadsheet"]
[]
[]
["TON","TONS in Lot"]
["MTON","MTON in Lot"]
["OTHER?"]
[]
[]
["4x8","4x8 Cylinders"]
["6x12","6x12 Cylinders"]
[]
[]
["Sample Status",null,null,null,"various (Sample Pass/Fail on Details)"]
["Sample Type",null,null,null,"various (see below)"]
["Acceptance Method",null,null,null,{"$f":"E91","v":"TR"}]
["Test Method",null,null,null,"various (see below)"]
["Overwrite Capable",null,null,null,"Y"]
["Contract Spec Year",null,null,null,2004]
["Sample Design Type",null,null,null,"PCC"]
["Control Type",null,null,null,{"$f":"#REF!","v":{"$error":"#REF!"}}]
["Control Number",null,null,null,{"$f":"IF(#REF!=\"\",\"\",#REF!)","v":{"$error":"#REF!"}},null,null,null,null,null,null,null,null,"Seal Number",{"$f":"IF(#REF!=\"\",\"\",#REF!)","v":{"$error":"#REF!"}}]
["Remark ID",null,null,null,{"$f":"CONCATENATE(#REF!,TEXT(NOW(),\"yyyymmddhhmmss\"))","v":{"$error":"#REF!"}},null,null,null,null,null,null,null,null,"Remark Type","GEN",null,null,null,null,"Remark SN",1]
[]
["SMPLTYPE"]
["QA",null,null,null,"QA"]
["QC",null,null,null,"QC"]
["INFORMATIONAL",null,null,null,"INFO"]
["PROJECT ACCEPTANCE",null,null,null,"PACP"]
["MIX DESIGN APPROVAL",null,null,null,"MDA"]
[]
["ACPTMETH"]
["TEST RESULTS",null,null,null,"TR"]
["MIX DESIGN APPROVAL",null,null,null,"MDA"]
[]
["SM Field \"Defaults\""]
["BLANK",null,null,null," "]
["ZERO",null,null,null,0]
[]
["MATLCATG"]
["CONCRETE MIX DESIGN",null,null,null,"CMXD"]
[]
["SMPLSTAT"]
["COMPLETE",null,null,null,"COMP"]
[]
["TST_METH"]
["Conc Plastic Tests",null,null,null,"COCONCPLAS "]
["Conc Comp Strength",null,null,null,"COCONCCOMP "]
[]
["CNTRLTYP"]
["LOT NUMBER",null,null,null,"LNBR"]
["BATCH NUMBER",null,null,null,"BNBR"]
["HEAT NUMBER",null,null,null,"HNBR"]
["CYLINDER NUMBER",null,null,null,"CNBR"]
[]
["QUALEV"]
["ACI LEVEL I",null,null,null,"ACI1"]
["KRMCA TECHNICIAN LEVEL II",null,null,null,"KRT2"]